{"text_format":"1","workbook":"xlsx","n_sheets":3,"sheets":["Resumen de Contratos  WEB","Oferta","PF por Gupo"],"not_rendered":{"charts":4,"images":1,"macros":1,"external_links":0,"defined_names":8,"comments":2,"pivot_tables":1},"unopened":[],"bounds":{"document_bytes":16777216,"sheet_cells":100000,"rows_first":2000,"rows_last":500,"rows_between":2000,"halvings":0,"cell_chars":16384,"cell_head_chars":4096},"cells_cut":0,"cells_raw":0,"read":"whole","date_system":"1900"}

{"sheet":"Resumen de Contratos  WEB","index":0,"n_rows":263,"n_cols":13,"rows_kept":263,"cut":false,"hidden":false,"merged":[[0,0,0,12]]}
[]
["Número de Contrato","Inicio","Finalización","Comprador","Vendedor","Tecno-  logía","Tipo de Contrato","Precio Potencia\n($/kW-mes)","Precio Energía\n($/kWh)","Indicador de Referencia","Ind Ref (0)","Faju","2024-03-01"]
["EDEMET"]
["No.24-11 Enmienda 1","2016-09-01","2029-12-31","EDEMET","Empresa Nacional de Energía, S.A.","H","PE",10.25,7.9699999999999993E-2,"CT",null,0,6.6669999999999998]
["No.25-11","2015-01-01","2029-12-31","EDEMET","Enel Fortuna, S.A.","HE","PE",6.7823076923076924,9.6061538461538379E-2,"CT",2.59,0,19.680980000000002]
["No.26-11","2015-01-01","2029-12-31","EDEMET","Electrogeneradora del Istmo, S.A.","H","PE",25,6.3299999999999995E-2,"CT",4.75,0,0.83338000000000001]
["No.27-11","2015-01-01","2029-12-31","EDEMET","Energía y Servicios de Panamá, S.A.","H","PE",11.576923076923077,9.0999999999999998E-2,0,4.01,0,3.6535199999999999]
["No.28-11 Enmienda 1","2015-01-01","2029-12-31","EDEMET","Generadora Pedregalito, S.A.","H","PE",30,5.4199999999999998E-2,"CT",0,0,1.0216799999999999]
["No.29-11 Enmienda 1","2015-01-01","2029-12-31","EDEMET","Generadora Río Chico, S.A.","H","PE",30,5.4199999999999998E-2,"CT",2.59,0,0.18801000000000001]
["No.30-11 Enmienda 1","2015-07-01","2030-06-30","EDEMET","Generadora Alto Valle, S.A.","H","PE",30,5.4199999999999998E-2,"CT",2.59,0,1.5320800000000001]
["No.31-11 Enmienda 3","2015-04-01","2030-03-31","EDEMET","Hidroecológica del Teribe, S.A.","H","PE",8.5,0.10224528301886805,"CT",4.01,0,6.6669999999999998]
["No.32-11 Enmienda 3","2015-11-15","2030-11-15","EDEMET","Desarrollos Hidroeléctricos Corp.","H","PE",10.35,9.6500000000000002E-2,"CT",3.76,0,1.2687299999999999]
["No.33-11 Enmienda 1","2016-08-06","2029-12-31","EDEMET","Las Perlas Norte, S.A.","H","PE",9,0.1008,"CT",3.01,0,7.9337299999999997]
["No.34-11","2015-01-01","2029-12-31","EDEMET","Hidroeléctrica San Lorenzo, S.A.","H","PE",15,8.9499999999999996E-2,"CT",2.59,0,0.88871]
["No.35-11","2015-01-01","2029-12-31","EDEMET","Caldera Energy Corp.","H","PE",25,6.3299999999999995E-2,"CT",2.59,0,2.0001000000000002]
["No.86-11","2014-01-01","2024-06-30","EDEMET","Paso Ancho Hydro Power Corporation","H","E",0,8.9899999999999994E-2,"CT",4.01,0,2.08]
["No.87-11 Enmienda 2","2015-04-01","2025-03-31","EDEMET","Hidroecológica del Teribe, S.A.","H","E",0,0.10757878787878787,"CMS / CT",30.7,0,2.6]
["No.117-12","2016-01-01","2030-12-31","EDEMET","AES Panamá, S.R.L.","HE","PE",10,9.0083333333333376E-2,0,"0 / 2,815",0,210]
["No.118-12","2016-01-01","2030-12-31","EDEMET","HidroPiedra, S.A.","H","PE",8.2742857142856767,9.4285714285714126E-2,0,0,0,1.0716000000000001]
["No.119-12","2016-01-01","2030-12-31","EDEMET","Corporación de Energía del Istmo","H","PE",8.9,0.1,0,0,0,5.2859999999999996]
["No.121-12","2016-01-01","2030-12-31","EDEMET","Saltos del Francolí, S.A.","H","PE",13.529999999999978,0.10350000000000026,"CMS",0,0,0.55300000000000005]
["No.15-12 Enmienda 4","2014-07-01","2029-06-30","EDEMET","UEP Penonomé II, S.A.","E","E",0,9.5000000000000001E-2,"IPC / CT",0,0.25,25.473700000000001]
["No.16-12 Enmienda 4","2014-07-01","2029-06-30","EDEMET","UEP Penonomé II, S.A.","E","E",0,9.8000000000000004E-2,"IPC / CT","93,5 / 12,30",0.25,20.263200000000001]
["No.17-12 Enmienda 4","2014-07-01","2029-06-30","EDEMET","UEP Penonomé II, S.A.","E","E",0,0.108,"IPC / CT","93,5 / 12,30",0.25,12.4474]
["No.18-12 Enmienda 4","2014-07-01","2029-06-30","EDEMET","UEP Penonomé II, S.A.","E","E",0,0.11,"IPC / CT","93,5 / 12,30",0.25,7.3525999999999998]
["No.02-13 Enmienda 2","2016-07-01","2027-12-31","EDEMET","Istmus Hydro Power, Corp.","H","E",0,0.12,0,"93,05 / 12,30",0,0.99299999999999999]
["No.03-13","2013-03-01","2027-12-31","EDEMET","Caldera Energy Corp.","H","E",0,0.12090909090909112,0,0,0,0]
["No.04-13","2013-03-01","2027-12-31","EDEMET","Electrogeneradora del Istmo, S.A.","H","E",0,0.12318181818181811,0,0,0,0]
["No.05-13","2013-03-01","2027-12-31","EDEMET","Fountain Intertrade Corp.","H","E",0,0.13054545454545474,0,0,0,3.3184]
["No.06-13","2013-03-01","2027-12-31","EDEMET","Generadora Hidroibérica, S.A.","H","E",0,0.109090909090909,0,0,0,0.43459999999999999]
["No.07-13 Enmienda 4   Cedido a Hidro Boquerón","2017-12-01","2027-12-31","EDEMET","Navitas Internacional, S.A.","H","E",0,0.10433884297520701,0,0,0,0.83009999999999995]
["No.08-13","2013-03-01","2027-12-31","EDEMET","Hidroecológica del Teribe, S.A.","H","E",0,0.13600000000000001,0,0,0,0]
["No.09-13","2013-03-01","2027-12-31","EDEMET","Hidronorth Corp.","H","E",0,0.14181818181818173,0,0,0,4.7699999999999999E-2]
["No.20-13 Enmienda 4","2024-10-01","2044-09-30","EDEMET","Generadora Gatún, S. A. (Panama NGP)","T","PE",18.89,8.7999999999999995E-2,"Precio Spot de EIA Gas Henry Hub en la Costa del Golfo",0,0.4]
["No.23-13","2024-07-01","2027-12-31","EDEMET","Paso Ancho Hydro Power Corporation","H","E",0,0.122,0,3.81,0,0]
["No.24-13","2014-01-01","2027-12-31","EDEMET","Empresa Nacional de Energía, S.A.","H","E",0,0.1275,0,0,0,0.1855]
["No.25-13 Enmienda 1","2016-03-01","2027-12-31","EDEMET","Fuerza Eléctrica del Istmo, S.A.","H","E",0,0.12759999999999974,0,0,0,0.39750000000000002]
["No.26-13","2013-07-01","2027-12-31","EDEMET","Café de Eleta, S.A.","H","E",0,0.12800000000000009,0,0,0,2.6499999999999999E-2]
["No.27-13 Enmienda 1","2013-07-01","2027-12-31","EDEMET","Energía y Servicios de Panamá, S.A.","H","E",0,0.1319454545454547,0,0,0,2.4314200000000001]
["No.28-13","2015-12-01","2027-12-31","EDEMET","Generadora Pedregalito, S.A.","H","E",0,0.13200000000000001,0,0,0,0]
["No.29-13","2015-12-01","2027-12-31","EDEMET","Generadora Río Chico, S.A.","H","E",0,0.13200000000000001,0,0,0,0]
["No.30-13","2015-12-01","2027-12-31","EDEMET","Generadora Alto Valle, S.A.","H","E",0,0.13250000000000001,0,0,0,0]
["No.31-13","2015-12-01","2027-12-31","EDEMET","Hydro Caisán, S.A.","H","E",0,0.13250000000000001,0,0,0,0]
["No.03-14","2019-01-01","2033-12-31","EDEMET","UEP Penonomé II, S.A.","E","E",0,9.1899999999999996E-2,"IPC",0,0.25,0]
["No.04-14","2019-01-01","2033-12-31","EDEMET","UEP Penonomé II, S.A.","E","E",0,9.4899999999999998E-2,"IPC",149.9,0.25,0]
["No.05-14 Enmieda 3","2019-01-01","2033-12-31","EDEMET","FERSA PANAMÁ, S.A.","E","E",0,9.5000000000000001E-2,"IPC",149.9,0.25,23.2]
["No.06-14","2019-01-01","2033-12-31","EDEMET","Naura Energy Corporation","E","E",0,9.7500000000000003E-2,"IPC",149.9,0.25,2.7839999999999998]
["No.11-14","2020-07-01","2040-06-30","EDEMET","Empresa de Generación Eléctrica, S.A.","HE","PE",32.06,7.2700000000000001E-2,0,149.9,0,60]
["No.14-14 Enmienda 2","2018-09-19","2033-09-18","EDEMET","Coal Power, S.A.","T","PE",10,0.1004,"CIF ARA 6000 kCal/Kg",0,0.9,90]
["No.29-14 Enmienda 2","2015-07-01","2020-06-30","EDEMET","AES Panamá, S.R.L.","T","PE",45.194999999999972,0.14799999999999999,"US Gulf Coast Waterborne No. 2 Oil azufre 1000 PPM",87.641400000000004,0.9,0]
["No.30-14 Enmienda 1","2015-10-01","2020-09-30","EDEMET","Pan-Am Generating Limited","T","PE",30,0.191,"US Gulf Coast Posting, Fuel Oil 6 (3% azufre)",2.77,0.9,0]
["No.07-15 Enmienda 2","2017-01-01","2036-12-31","EDEMET","PanamaSolar2, S.A.","F","E",0,8.5999999999999993E-2,"IPC / CT",87.65,0.25,3.67]
["No.08-15 Enmienda 4","2017-07-01","2037-06-30","EDEMET","Solpac Investment, S.A.","F","E",0,0.1048,"IPC","102,7 / 0,161",0.25,0.5]
["No.16-15 Enmienda 2","2018-09-01","2028-08-31","EDEMET","Gas Natural Atlántico, S. de R.L. ","G","PE",38.83,2.6800000000000001E-2,"Henry Hub Spot Price (midpoint) Lousiana-Onshore Platts Gas Daily",102.7,0.84,196]
["No.18-15 Enmienda No.3","2023-03-01","2038-02-28","EDEMET","Enel Fortuna, S. A.  /  Sinolam","H","PE",32.090000000000003,2.0899999999999998E-2,"Henry Hub Natural Gas Spot Price http://tonto.eia.gov/dnav/ng/hist/rngwhhdd.htm",2.8,0,196]
["01-23 ","2024-03-01","2027-03-31","EDEMET","Caldera Energy Corp.","H","SEG",null,8.5000000000000006E-2,null,null,0,0]
["02-23","2024-03-01","2027-03-31","EDEMET","Empresa Nacional de Energía, S.A.","H","SED",null,5.6500000000000002E-2,null,null,0,0]
["04-23 ","2024-03-01","2027-03-31","EDEMET","Generadora del Istmo S.A.,","H","SED",null,9.0630000000000002E-2,null,null,0,0]
["06-23  ","2024-03-01","2027-03-31","EDEMET","Generadora Hidroibérica, S.A.","H","SED",null,8.0937499999999996E-2,null,null,0,0]
["13-23","2024-03-01","2027-03-31","EDEMET","Autoridad del Canal de Panamá","T","SP",7.5,null,null,null,0,0]
["15-23 ","2024-03-01","2027-03-31","EDEMET","Generadora del Atlántico, S.A.","T","SP",7.47,null,null,null,0,0]
["16-23","2024-03-01","2027-03-31","EDEMET","Generadora del Atlántico, S.A.","T","SP",8.17,null,null,null,0,0]
["17-23 ","2024-03-01","2025-04-30","EDEMET","Pedregal Power Company, S. de R.L.","T","SP",8.7850000000000001,null,null,null,0,0]
["18-23  ","2024-03-01","2027-03-31","EDEMET","Pan-Am Generating Limited","T","SP",8.75,null,null,null,0,0]
["19-23","2024-03-01","2027-03-31","EDEMET","Pan-Am Generating Limited","T","SP",8.65,null,null,null,0,0]
["21-23 ","2024-03-01","2027-03-31","EDEMET","Tropitérmica","T","SP",8.5679999999999996,null,null,null,0,0]
["03-23","2024-03-01","2027-03-31","EDEMET","Fountain Intertrade Corp.","H","SED",null,0.10249999999999999,null,null,0,0]
["05-23  ","2024-03-01","2027-03-31","EDEMET","Hidro Boquerón, S.A.","H","SED",null,7.4499999999999997E-2,null,null,0,0]
["07-23 ","2024-03-01","2027-03-31","EDEMET","Hidroecológica del Teribe, S.A.","H","SEG",null,0.1095,null,null,0,0]
["08-23","2024-03-01","2027-03-31","EDEMET","Ideal Panamá, S.A.","H","SED",null,0.09,null,null,0,0]
["09-23 ","2024-03-01","2027-03-31","EDEMET","Istmus Hydro Power, Corp.","H","SED",null,0.11700000000000001,null,null,0,0]
["10-23  ","2024-03-01","2027-03-31","EDEMET","Las Perlas Norte, S.A.","H","SED",null,0.11700000000000001,null,null,0,0]
["11-23 ","2024-03-01","2027-03-31","EDEMET","Las Perlas Sur, S.A.","H","SED",null,9.7900000000000001E-2,null,null,0,0]
["12-23 ","2024-03-01","2027-03-31","EDEMET","Solar Boquerón, S.A.","F","SEG",null,7.85E-2,null,null,0,0]
["14-23 ","2024-03-01","2027-03-31","EDEMET","Celsia Centroamérica, S.A.","T","SP",5.97,null,null,null,0,0]
["20-23","2024-03-01","2027-03-31","EDEMET","SPARKLEPW","T","SP",5.5,null,null,null,0,0]
["50-23","2025-02-01","2027-01-31","EDEMET","HidroPiedra, S.A.","H","SED",null,0.13571]
["51-23","2025-02-01","2027-01-31","EDEMET","Pedregal Power Company, S. de R.L.","T","SED",null,0.19323000000000001]
["52-23","2025-02-01","2027-01-31","EDEMET","Celsia Centroamérica, S.A.","T","SP",null,10.24]
["53-23","2025-02-01","2027-01-31","EDEMET","Generadora del Atlántico, S.A.","T","SP",null,8.5714285714285712]
["EDECHI"]
["No.36-11 Enmienda 1","2016-09-01","2029-12-31","EDECHI","Empresa Nacional de Energía, S.A.","H","PE",10.25,7.9699999999999993E-2,"CT",null,0,0.66600000000000004]
["No.37-11","2015-01-01","2029-12-31","EDECHI","Enel Fortuna, S.A.","HE","PE",6.7823076923076924,9.6061538461538379E-2,"CT",2.59,0,1.9660299999999999]
["No. 38-11","2015-01-01","2029-12-31","EDECHI","Electrogeneradora del Istmo, S.A.","H","PE",25,6.3299999999999995E-2,null,4.75,null,8.3250000000000005E-2]
["No.39-11","2015-01-01","2029-12-31","EDECHI","Energía y Servicios de Panamá, S.A.","H","PE",11.576923076923077,9.0999999999999998E-2,0,null,0,0.36497000000000002]
["No.40-11 Enmienda 1","2015-01-01","2029-12-31","EDECHI","Generadora Pedregalito, S.A.","H","PE",30,5.4199999999999998E-2,"CT",0,0,0.10206]
["No.41-11 Enmienda 1","2015-01-01","2029-12-31","EDECHI","Generadora Río Chico, S.A.","H","PE",30,5.4199999999999998E-2,"CT",2.59,0,1.8780000000000002E-2]
["No.42-11 Enmienda 1","2015-07-01","2030-06-30","EDECHI","Generadora Alto Valle, S.A.","H","PE",30,5.4199999999999998E-2,"CT",2.59,0,0.15305000000000002]
["No.43-11 Enmienda 3","2015-04-01","2030-03-31","EDECHI","Hidroecológica del Teribe, S.A.","H","PE",8.5,0.10224528301886805,"CT",4.01,0,0.66600000000000004]
["No.44-11 Enmienda 3","2015-11-15","2030-11-30","EDECHI","Desarrollos Hidroeléctricos Corp.","H","PE",10.35,9.6500000000000002E-2,"CT",3.76,0,0.12673999999999999]
["No.45-11 Enmienda 1","2016-08-06","2029-12-31","EDECHI","Las Perlas Norte, S.A.","H","PE",9,0.1008,"CT",3.01,0,0.79253999999999991]
["No.46-11","2015-01-01","2029-12-31","EDECHI","Hidroeléctrica San Lorenzo, S.A.","H","PE",15,8.9499999999999996E-2,"CT",2.59,0,8.8779999999999998E-2]
["No.47-11","2015-01-01","2029-12-31","EDECHI","Caldera Energy Corp.","H","PE",25,6.3299999999999995E-2,"CT",2.59,0,0.19980000000000001]
["No.88-11","2014-01-01","2024-06-30","EDECHI","Paso Ancho Hydro Power Corporation","H","E",0,8.9899999999999994E-2,"CT",4.01,0,1.44]
["No.89-11 Enmienda 2","2015-04-01","2025-03-31","EDECHI","Hidroecológica del Teribe, S.A.","H","E",0,0.107578787878788,"CMS / CT",30.7,0,1.85]
["No.122-12","2016-01-01","2030-12-31","EDECHI","AES Panamá, S.R.L.","HE","PE",10,9.0083333333333376E-2,0,"0 / 2,815",0,24.5]
["No.123-12","2016-01-01","2030-12-31","EDECHI","HidroPiedra, S.A.","H","PE",8.2742857142856767,9.4285714285714126E-2,0,0,0,0.125]
["No.124-12","2016-01-01","2030-12-31","EDECHI","Corporación de Energía del Istmo ","H","PE",8.9,0.1,0,0,0,0.61670000000000003]
["No.126-12","2016-01-01","2030-12-31","EDECHI","Saltos del Francolí, S.A.","H","PE",13.529999999999978,0.10350000000000026,"CMS",0,0,6.4500000000000002E-2]
["No.137-12 Enmienda 1","2014-01-01","2023-12-31","EDECHI","Sistemas de Generación, S.A.","T","PE",23.72,5.11E-2,"Precio de Paridad SNE / Pecomb",0,0,0]
["No.19-12 Enmienda 4","2014-07-01","2029-06-30","EDECHI","UEP Penonomé II, S.A.","E","E",0,9.5000000000000001E-2,"IPC / CT","133,366 / 0,2579",0.25,7.7192999999999996]
["No.20-12 Enmienda 4","2014-07-01","2029-06-30","EDECHI","UEP Penonomé II, S.A.","E","E",0,9.8000000000000004E-2,"IPC / CT","93,5 / 12,30",0.25,6.1402999999999999]
["No.21-12 Enmienda 4","2014-07-01","2029-06-30","EDECHI","UEP Penonomé II, S.A.","E","E",0,0.108,"IPC / CT","93,5 / 12,30",0.25,3.7719]
["No.22-12 Enmienda 4","2014-07-01","2029-06-30","EDECHI","UEP Penonomé II, S.A.","E","E",0,0.11,"IPC / CT","93,5 / 12,30",0.25,2.2281]
["No.10-13 Enmienda 2","2016-07-01","2027-12-31","EDECHI","Istmus Hydro Power, Corp.","H","E",0,0.12,0,"93,05 / 12,30",0,0.33729999999999999]
["No.11-13","2013-03-01","2027-12-31","EDECHI","Caldera Energy Corp.","H","E",0,0.12090909090909112,0,0,0,0]
["No.12-13","2013-03-01","2027-12-31","EDECHI","Electrogeneradora del Istmo, S.A.","H","E",0,0.12318181818181811,0,0,0,0]
["No.13-13","2013-03-01","2027-12-31","EDECHI","Fountain Intertrade Corp.","H","E",0,0.13054545454545474,0,0,0,1.1271]
["No.14-13","2013-03-01","2027-12-31","EDECHI","Generadora Hidroibérica, S.A.","H","E",0,0.109090909090909,0,0,0,0.14760000000000001]
["No.15-13 Enmienda 4 Cedido  a Hidro Boquerón","2017-12-01","2027-12-31","EDECHI","Navitas Internacional, S.A.","H","E",0,0.10433884297520701,0,0,0,0.28199999999999997]
["No.16-13","2013-03-01","2027-12-31","EDECHI","Hidroecológica del Teribe, S.A.","H","E",0,0.13600000000000001,0,0,0,0]
["No.17-13","2013-03-01","2027-12-31","EDECHI","Hidronorth Corp.","H","E",0,0.14181818181818173,0,0,0,1.6199999999999999E-2]
["No.21-13 Enmienda 4","2024-10-01","2044-09-30","EDECHI","Generadora Gatún, S. A. (Panama NGP)","T","PE",18.89,8.7999999999999995E-2,"Precio Spot de EIA del Gas Natural Henry Hub en la Costa del Golfo",0,0.4]
["No.32-13","2024-07-01","2027-12-31","EDECHI","Paso Ancho Hydro Power Corporation","H","E",0,0.122,0,3.81,0,0]
["No.33-13","2014-01-01","2027-12-31","EDECHI","Empresa Nacional de Energía, S.A.","H","E",0,0.1275,0,0,0,6.3E-2]
["No.34-13 Enmienda 1","2016-03-01","2027-12-31","EDECHI","Fuerza Eléctrica del Istmo, S.A.","H","E",0,0.12759999999999999,0,0,0,0.13500000000000001]
["No.35-13","2013-07-01","2027-12-31","EDECHI","Café de Eleta, S.A.","H","E",0,0.12800000000000009,0,0,0,8.9999999999999993E-3]
["No.36-13","2013-07-01","2027-12-31","EDECHI","Energía y Servicios de Panamá, S.A.","H","E",0,0.1319454545454547,0,0,0,0.82577999999999996]
["No.37-13","2015-12-01","2027-12-31","EDECHI","Generadora Pedregalito, S.A.","H","E",0,0.13200000000000001,0,0,0,0]
["No.38-13","2015-12-01","2027-12-31","EDECHI","Generadora Río Chico, S.A.","H","E",0,0.13200000000000001,0,0,0,0]
["No.39-13","2015-12-01","2027-12-31","EDECHI","Generadora Alto Valle, S.A.","H","E",0,0.13250000000000001,0,0,0,0]
["No.40-13","2015-12-01","2027-12-31","EDECHI","Hydro Caisán, S.A.","H","E",0,0.13250000000000001,0,0,0,0]
["No.07-14","2019-01-01","2033-12-31","EDECHI","UEP Penonomé II, S.A.","E","E",0,9.1899999999999996E-2,"IPC",0,0.25,0]
["No.08-14","2019-01-01","2033-12-31","EDECHI","UEP Penonomé II, S.A.","E","E",0,9.4899999999999998E-2,"IPC",149.9,0.25,0]
["No.09-14 Enmienda 3","2019-01-01","2033-12-31","EDECHI","FERSA PANAMÁ, S.A.","E","E",0,9.5000000000000001E-2,"IPC",149.9,0.25,12.76]
["No.10-14","2019-01-01","2033-12-31","EDECHI","Naura Energy Corporation","E","E",0,9.7500000000000003E-2,"IPC",149.9,0.25,1.5311999999999999]
["No.12-14","2020-07-01","2040-06-30","EDECHI","Empresa de Generación Eléctrica, S.A.","HE","PE",32.06,7.2700000000000001E-2,0,149.9,0,12]
["No.15-14 Enmienda 2","2018-09-19","2033-09-18","EDECHI","Coal Power, S.A.","T","PE",10,0.1004,"CIF ARA 6000 kCal/Kg",0,0.9,10.050000000000001]
["No.33-14 Enmienda 2","2015-07-01","2020-06-30","EDECHI","AES Panamá, S.R.L.","T","PE",45.194999999999972,0.14799999999999999,"US Gulf Coast Waterborne No. 2 Oil azufre 1000 PPM",87.641400000000004,0.9,0]
["No.34-14 Enmienda 1","2015-10-01","2020-09-30","EDECHI","Pan-Am Generating Limited","T","PE",30,0.191,"US Gulf Coast Posting, Fuel Oil 6 (3% azufre)",2.77,0.9,0]
["No.10-15 Enmienda 2","2017-01-01","2036-12-31","EDECHI","PanamaSolar2, S.A.","F","E",0,8.5999999999999993E-2,"IPC / CT",87.65,0.25,0.83]
["No.11-15 Enmienda 3","2017-07-01","2037-06-30","EDECHI","Solpac Investment, S.A.","F","E",0,0.1048,"IPC","102,7 / 0,161",0.25,0.11]
["No.17-15 Enmienda 2","2018-09-01","2028-08-31","EDECHI","Gas Natural Atlántico, S. de R.L. ","G","PE",38.83,2.6800000000000001E-2,"Henry Hub Spot Price (midpoint) Lousiana-Onshore Platts Gas Daily",102.7,0.84,28]
["No.19-15 Enmienda No.3","2023-03-01","2038-02-28","EDECHI","Enel Fortuna, S. A.  /  Sinolam","H","PE",32.090000000000003,2.0899999999999998E-2,"Henry Hub Natural Gas Spot Price http://tonto.eia.gov/dnav/ng/hist/rngwhhdd.htm",2.8,0,28]
["No.33-13","2017-01-01","2027-12-31","EDECHI","Empresa Nacional de Energía, S.A.","H","E",null,null,null,2.39,null,6.3E-2]
["22-23 ","2024-03-01","2027-03-31","EDECHI","Caldera Energy Corp.","H","SEG",null,8.5000000000000006E-2,null,null,0,0]
["23-23 ","2024-03-01","2027-03-31","EDECHI","Empresa Nacional de Energía, S.A.","H","SED",null,0.08,null,null,0,0]
["25-23","2024-03-01","2027-03-31","EDECHI","Generadora del Istmo S.A.,","H","SED",null,9.0630000000000002E-2,null,null,0,0]
["27-23 ","2024-03-01","2027-03-31","EDECHI","Hidroibérica, S.A.","H","SED",null,8.0434779999999997E-2,null,null,0,0]
["34-23 ","2024-03-01","2027-03-31","EDECHI","Autoridad del Canal de Panamá","T","SP",7.5,null,null,null,0,0]
["36-23 ","2024-03-01","2027-03-31","EDECHI","Generadora del Atlántico, S.A.","T","SP",6.4180000000000001,null,null,null,0,0]
["37-23 ","2024-03-01","2027-03-31","EDECHI","Generadora del Atlántico, S.A.","T","SP",7.9550000000000001,null,null,null,0,0]
["38-23 ","2024-03-01","2027-03-31","EDECHI","Pedregal Power Company, S. de R.L.","T","SP",8.3930000000000007,null,null,null,0,0]
["39-23","2024-03-01","2027-03-31","EDECHI","Pan-Am Generating Limited","T","SP",8.7309999999999999,null,null,null,0,0]
["40-23 ","2024-03-01","2027-03-31","EDECHI","Pan-Am Generating Limited","T","SP",8.65,null,null,null,0,0]
[" 42-23 ","2024-03-01","2027-03-31","EDECHI","Tropitérmica","T","SP",7.2982500000000003,null,null,null,0,0]
["24-23 ","2024-03-01","2027-03-31","EDECHI","Fountain Intertrade Corp.","H","SED",null,0.10249999999999999,null,null,0,0]
["26-23 ","2024-03-01","2027-03-31","EDECHI","Hidro Boquerón, S.A.","H","SED",null,7.4499999999999997E-2,null,null,0,0]
["28-23 ","2024-03-01","2027-03-31","EDECHI","Hidroecológica del Teribe, S.A.","H","SEG",null,0.1095,null,null,0,0]
["29-23  ","2024-03-01","2027-03-31","EDECHI","Ideal Panamá, S.A.","H","SED",null,0.08,null,null,0,0]
["30-23 ","2024-03-01","2027-03-31","EDECHI","Istmus Hydro Power, Corp.","H","SED",null,0.11700000000000001,null,null,0,0]
["31-23 ","2024-03-01","2027-03-31","EDECHI","Las Perlas Norte, S.A.","H","SED",null,0.11700000000000001,null,null,0,0]
["32-23","2024-03-01","2027-03-31","EDECHI","Las Perlas Sur, S.A.","H","SED",null,9.5157143E-2,null,null,0,0]
["33-23 ","2024-03-01","2027-03-31","EDECHI","Solar Boquerón, S.A.","F","SEG",null,7.85E-2,null,null,0,0]
["35-23 ","2024-03-01","2027-03-31","EDECHI","Celsia Centroamérica, S.A.","T","SP",5.97,null,null,null,0,0]
["41-23  ","2024-03-01","2027-03-31","EDECHI","SPARKLEPW","T","SP",5.5,null,null,null,0,0]
["54-23 ","2025-02-01","2027-01-31","EDECHI","Caldera Energy Corp.","H","SEG",null,8.5000000000000006E-2]
["55-23 ","2025-02-01","2027-01-31","EDECHI","Electron Investment, S.A.","H","SEG",null,8.8999999999999996E-2]
["56-23 ","2025-02-01","2027-01-31","EDECHI","Empresa Nacional de Energía, S.A.","H","SED",null,0.11275]
["58-23  ","2025-02-01","2027-01-31","EDECHI","Generadora del Istmo S.A.,","H","SED",null,9.4320000000000001E-2]
["59-23 ","2025-02-01","2027-01-31","EDECHI","GENA SOLAR, S.A.","F","SEG",null,9.2000000000000012E-2]
["60-23 ","2025-02-01","2027-01-31","EDECHI","Hydro Caisán, S.A.","H","SED",null,9.7650000000000001E-2]
["61-23 ","2025-02-01","2027-01-31","EDECHI","HidroPiedra, S.A.","H","SED",null,0.13126749999999998]
["62-23","2025-02-01","2027-01-31","EDECHI","Istmus Hydro Power, Corp.","H","SED",null,0.12008333333333332]
["63-23","2025-02-01","2027-01-31","EDECHI","Las Perlas Norte, S.A.","H","SED",null,0.11127000000000001]
["64-23","2025-02-01","2027-01-31","EDECHI","Las Perlas Sur, S.A.","H","SED",null,0.12008333333333332]
["65-23","2025-02-01","2027-01-31","EDECHI","Pedregal Power Company, S. de R.L.","T","SED",null,0.19323000000000001]
["66-23","2025-02-01","2027-01-31","EDECHI","SPARKLEPW","T","SED",null,0.13]
["67-23","2025-02-01","2027-01-31","EDECHI","TECNISOL4","F","SEG",null,0.13100000000000001]
["68-23","2025-02-01","2027-01-31","EDECHI","UEP Penonomé II, S.A.","E","SEG",null,0.13485]
["69-23","2025-02-01","2027-01-31","EDECHI","Celsia Centroamérica, S.A.","T","SP",null,7.196666666666669]
["70-23","2025-02-01","2027-01-31","EDECHI","Generadora del Atlántico, S.A.","T","SED",null,6.1999999999999984]
["ENSA"]
[" DME-016-11","2016-09-01","2036-03-31","ENSA","Enel Fortuna, S.A.","HE","PE",6.56,9.4200000000000006E-2,"-",null,"-",7.8729800000000001]
["DME-027-11","2015-01-01","2036-03-31","ENSA","Electrogeneradora del Istmo, S.A.","H","PE",25,6.3299999999999995E-2,"-","-","-",0.33338000000000001]
["DME-020-11","2015-01-01","2036-03-31","ENSA","Energía y Servicios de Panamá, S.A.","H","PE",11.5,9.0999999999999998E-2,"-","-","-",1.4615]
["DME-021-11 Enmienda 2","2015-01-01","2036-03-31","ENSA","Generadora Pedregalito, S.A.","H","PE",0,0.10976,"-","-","-",1.05026]
["DME-023-11","2015-01-01","2036-03-31","ENSA","Generadora Río Chico, S.A.","H","PE",30,5.4199999999999998E-2,"-","-","-",0.64407999999999999]
["DME-024-11","2015-01-01","2036-03-31","ENSA","Generadora Alto Valle, S.A.","H","PE",30,5.4199999999999998E-2,"-","-","-",0.61287999999999998]
["DME-018-11","2015-07-01","2036-03-31","ENSA","Hidroecológica del Teribe, S.A.","H","PE",8.5,0.1009,"-","-","-",2.6669999999999998]
["DME-025-11 Enmienda 2","2015-04-01","2036-03-31","ENSA","Desarrollos Hidroeléctricos Corp.","H","PE",10.35,9.6500000000000002E-2,"-","-","-",0.50700000000000001]
[" DME-026-11","2015-11-15","2036-03-31","ENSA","Hidroeléctrica San Lorenzo, S.A.","H","PE",15,8.9499999999999996E-2,"-","-","-",0.35549999999999998]
["DME-022-11","2016-08-06","2036-03-31","ENSA","Caldera Energy Corp.","H","PE",25,6.3299999999999995E-2,"-","-","-",0.80010000000000003]
["DME-63-12","2016-01-01","2036-03-31","ENSA","Hidro Piedra, S.A.","H","PE",8.36,9.4280000000000003E-2,"-","-","-",0.50009999999999999]
["DME-006-14","2016-01-01","2039-12-31","ENSA","Coal Power, S.A.","T","PE",10,0.1004,"CIF ARA 6000 kCal/Kg","-",0.9,0]
["DME-66-12","2016-01-01","2036-03-31","ENSA","Saltos del Francolí, S.A.","H","PE",11.6,0.10349999999999999,"-",86.22,0,0]
["SIGSA-16-08","2016-01-01","2036-03-31","ENSA","Sistemas de Generación, S.A.","T","PE",12,"0.11312 (fijo) 0.37844 (variable) ",null,0,null,29.1]
["DME-012-14  Cesión Erryl y Enmienda 2","2014-07-01","2029-06-30","ENSA","AES Panamá, S.R.L.","T","PE",45.27,0.14799999999999999,"US Gulf Coast Waterbome No.2 Oil azufre de 1000 PPM  Publicación Platss.",87.641400000000004,0.9,32]
["DME-13-14 Enmienda 1","2014-07-01","2029-06-30","ENSA","Pan-Am Generating Limited","T","PE",30,0.191,"US Gulf Coast Posting, fuel oil #6 (3% azufre) Platts Latin American Wire",2.77,0.9,12.8]
["DME-62-12","2014-07-01","2036-12-30","ENSA","AES Panamá, S.R.L.","H","PE",10,9.01E-2,"-",87.65,"-",0]
[" DME 004-15 Enmienda 2","2018-09-01","2028-08-31","ENSA","Gas Natural Atlántico, S. de R.L. ","G","PE",38.83,2.6800000000000001E-2,"Henry Hub Spot Price (midpoint) Lousiana-Onshore South. Platts Gas Daily","-",0.84,126]
[" DME 005-15 Enmienta 3","2024-03-01","2039-03-01","ENSA","Martano","H","PE",32.090000000000003,2.0899999999999998E-2,"Henry Hub Spot Price (midpoint) Lousiana-Onshore South. Platts Gas Daily",2.8,0,126]
[" DME 10-13 Enmienda 2","2024-10-01","2044-09-30","ENSA","Generadora Gatún, S. A. (Panama NGP)","G","PE",18.89,8.7999999999999995E-2,"Henry Hub Costa del Golf",2.39,0]
["DME-64-12","2013-03-01","2027-12-31","ENSA","Corporación de Energía del Istmo","T","PE",8.9,0.1,"-",null,"-",2.4668000000000001]
[" DME-005-14","2013-03-01","2042-12-31","ENSA","Empresa de Generación Eléctrica, S.A.","H","PE",32.06,7.2700000000000001E-2,"-","-","-"]
["DME-047-11 Enmienda 2","2013-03-01","2027-12-31","ENSA","Hidroecológica del Teribe, S.A.","H","E",null,0.1089,null,"-","-",0.6]
["DME-048-11",null,null,"ENSA","Paso Ancho Hydro Power Corporation","H","E",null,9.9900000000000003E-2,null,"-"]
["DME-001-13","2024-11-01","2033-12-31","ENSA","Hidroeléctrica Tizingal, S.A.","H","E",null,0.12,null,null,"-"]
["DME-002-13","2024-11-01","2033-12-31","ENSA","Caldera Energy Corp.","H","E",null,0.12089999999999999,null,"-","-"]
["DME-003-13","2024-11-01","2033-12-31","ENSA","Electrogeneradora del Istmo, S.A.","H","E",null,0.1232,null,"-","-"]
["DME-004-13","2024-11-01","2033-12-31","ENSA","Fountain Intertrade Corp.","H","E",null,0.1305,null,"-","-"]
["DME-005-13 Enmienda 1","2024-11-01","2033-12-31","ENSA","Hidroibérica, S.A.","H","E",null,0.1091,null,"-","-"]
["DME-006-13 Enmienda 2  ","2024-11-01","2033-12-31","ENSA","Navitas Internacional, S.A.","H","E",null,0.1086,null,"-","-"]
["DME-007-13","2024-11-01","2033-12-31","ENSA","Hidroecológica del Teribe, S.A.","H","E",null,0.13600000000000001,null,"-","-"]
["DME-008-13","2024-11-01","2033-12-31","ENSA","Hidronorth Corp.","H","E",null,0.14180000000000001,null,"-","-"]
["DME-011-13","2024-11-01","2033-12-31","ENSA","Generadora Alto Valle, S.A.","H","E",null,0.13250000000000001,null,"-","-"]
["DME-012-13","2024-11-01","2033-12-31","ENSA","Café de Eleta, S.A.","H","E",null,0.128,null,"-","-"]
["DME-13-13","2024-11-01","2033-12-31","ENSA","Empresa Nacional de Energía, S.A.","H","E",null,0.1275,null,"-","-"]
["DME-014-13","2024-11-01","2033-12-31","ENSA","Energía y Servicios de Panamá, S.A.","H","E",null,0.13189999999999999,null,"-","-"]
["DME-015-13","2024-11-01","2033-12-31","ENSA","Fuerza Eléctrica del Istmo, S.A.","H","E",null,0.12759999999999999,null,"-","-"]
["DME-016-13","2024-11-01","2033-12-31","ENSA","Hydro Caisán, S.A.","H","E",null,0.13250000000000001,null,"-","-"]
["DME-017-13","2024-11-01","2033-12-31","ENSA","Paso Ancho Hydro Power Corporation","H","E",null,0.122,null,"-","-"]
["DME-018-13","2024-11-01","2033-12-31","ENSA","Generadora Pedregalito, S.A.","H","E",null,0.13200000000000001,null,"-","-"]
["DME-019-13","2024-11-01","2033-12-31","ENSA","Generadora Río Chico, S.A.","H","E",null,0.13200000000000001,null,"-","-"]
["DME-08-12 ","2024-11-01","2035-06-30","ENSA","UEP Penonomé II, S.A.","E","E",null,9.5000000000000001E-2,null,"-",0.25]
["DME-09-12 ","2024-11-01","2035-06-30","ENSA","UEP Penonomé II, S.A.","E","E",null,9.8000000000000004E-2,null,137.80000000000001,0.25]
["DME-10-12 ","2024-11-01","2035-06-30","ENSA","UEP Penonomé II, S.A.","E","E",null,0.108,null,137.80000000000001,0.25]
["DME-11-12 ","2024-11-01","2035-06-30","ENSA","UEP Penonomé II, S.A.","E","E",null,0.11,null,137.80000000000001,0.25]
["DME-03 -14  ","2024-11-01","2039-06-30","ENSA","UEP Penonomé II, S.A.","E","E",null,2.76E-2,null,137.80000000000001,0.25]
["DME-01 -14  ","2024-11-01","2039-06-30","ENSA","UEP Penonomé II, S.A.","E","E",null,9.4899999999999998E-2,null,149.9,0.25]
["DME-002-14  Enmienda 1","2024-11-01","2039-06-30","ENSA","FERSA PANAMÁ, S.A.","E","E",null,9.5000000000000001E-2,null,149.9,0.25]
["DME-004-14","2024-11-01","2039-06-30","ENSA","Naura Energy Corporation","E","E",null,9.7500000000000003E-2,null,149.9,0.25]
["DME-002-15 Enmienda 1","2024-11-01","2039-06-30","ENSA","PanamaSolar2, S.A.","F","E",null,8.5999999999999993E-2,null,149.9,0.25]
["DME-003-15","2024-11-01","2039-06-30","ENSA","Solpac Investment, S.A.","F","E",null,0.1048,null,152.5,0.25]
["DME-001-23","2024-05-01","2027-03-31","ENSA","Caldera Energy Corp.","H","SEG",null,8.5000000000000006E-2,null,null,0,0]
["DME-002-23","2024-05-01","2027-03-31","ENSA","Empresa Nacional de Energía, S.A.","H","SED",null,8.1521428571428592E-2,null,null,0,0]
["DME-003-23","2024-05-01","2027-03-31","ENSA","Fountain Intertrade Corp.","H","SED",null,0.1,null,null,0,0]
["DME-004-23","2024-05-01","2027-03-31","ENSA","Generadora del Istmo S.A.,","H","SED",null,9.0630000000000002E-2,null,null,0,0]
["DME-006-23","2024-05-01","2027-03-31","ENSA","Hidro Boquerón, S.A.","H","SED",null,7.4499999999999997E-2,null,null,0,0]
["DME-007-23","2024-04-01","2027-03-31","ENSA","Hidroibérica, S.A.","H","SED",null,8.043478260869566E-2,null,null,0,0]
["DME-008-23","2024-05-01","2027-03-31","ENSA","Hidroecológica del Teribe, S.A.","H","SEG",null,0.1095,null,null,0,0]
["DME-009-23","2024-05-01","2027-03-31","ENSA","Ideal Panamá, S.A.","H","SED",null,8.1111000000000003E-2,null,null,0,0]
["DME-013-23","2024-05-01","2027-03-31","ENSA","Solar Boquerón, S.A.","F","SEG",null,7.85E-2,null,null,0,0]
["DME-014-23","2024-05-01","2027-03-31","ENSA","Autoridad del Canal de Panamá","T","SP",7.5,null,null,null,0,0]
["DME-015-23","2024-05-01","2027-03-31","ENSA","Celsia Centroamérica, S.A.","T","SP",5.97,null,null,null,0,0]
["DME-016-23","2024-05-01","2027-03-31","ENSA","Generadora del Atlántico, S.A.","T","SP",6.4181250000000043,null,null,null,0,0]
["DME-017-23","2024-05-01","2027-03-31","ENSA","Generadora del Atlántico, S.A.","T","SP",7.9552631578947386,null,null,null,0,0]
["DME-018-23","2024-05-01","2027-03-31","ENSA","Pedregal Power Company, S. de R.L.","T","SP",8.3931999999999967,null,null,null,0,0]
["DME-019-23","2024-05-01","2027-03-31","ENSA","Pan-Am Generating Limited","T","SP",8.7312499999999993,null,null,null,0,0]
["DME-020-23","2024-05-01","2027-03-31","ENSA","Pan-Am Generating Limited","T","SP",8.65,null,null,null,0,0]
["DME-021-23","2024-05-01","2027-03-31","ENSA","SPARKLEPW","T","SP",5.5,null,null,null,0,0]
["DME-022-23","2024-05-01","2027-03-31","ENSA","Tropitérmica","T","SP",7.2982500000000003,null,null,null,0,0]
["DME-005-23","2024-05-01","2027-03-31","ENSA","GENA SOLAR, S.A.","F","SEG"]
["DME-010-23","2024-05-01","2027-03-31","ENSA","Istmus Hydro Power, Corp.","H","SED",null,0.11700000000000001,null,null,0,0]
["DME-011-23","2024-05-01","2027-03-31","ENSA","Istmus Hydro Power, Corp.","H","SED",null,9.9000000000000005E-2,null,null,0,0]
["DME-012-23","2024-05-01","2027-03-31","ENSA","Istmus Hydro Power, Corp.","H","SED",null,9.2887499999999998E-2,null,null,0,0]
["DME-023-23 ","2025-02-01","2027-01-31","ENSA","Caldera Energy Corp.","H","SEG",null,8.3749999999999991E-2]
["DME-024-23","2025-02-01","2027-01-31","ENSA","Electron Investment, S.A.","H","SEG",null,8.7999999999999995E-2]
["DME-025-23","2025-02-01","2027-01-31","ENSA","Empresa Nacional de Energía, S.A.","H","SED",null,8.9890000000000012E-2]
["DME-026-23","2025-02-01","2027-01-31","ENSA","Fountain Intertrade Corp.","H","SED",null,0.13500000000000001]
["DME-027-23","2025-02-01","2027-01-31","ENSA","Generadora del Istmo S.A.,","H","SED",null,9.2159999999999992E-2]
["DME-028-23","2025-02-01","2027-01-31","ENSA","GENA SOLAR, S.A.","F","SEG",null,8.6545454545454523E-2]
["DME-029-23","2025-02-01","2027-01-31","ENSA","Hydro Caisán, S.A.","H","SED",null,8.8458333333333319E-2]
["DME-030-23","2025-02-01","2027-01-31","ENSA","HidroPiedra, S.A.","H","SED",null,0.11430458333333332]
["DME-031-23","2025-02-01","2027-01-31","ENSA","Istmus Hydro Power, Corp.","H","SED",null,0.10479076923076924]
["DME-032-23","2025-02-01","2027-01-31","ENSA","Las Perlas Norte, S.A.","H","SED",null,0.10250444444444444]
["DME-033-23","2025-02-01","2027-01-31","ENSA","Las Perlas Sur, S.A.","H","SED",null,0.10519000000000001]
["DME-034-23","2025-02-01","2027-01-31","ENSA","Pedregal Power Company, S. de R.L.","T","SED",null,0.19323000000000001]
["DME-035-23","2025-02-01","2027-01-31","ENSA","SPARKLEPW","T","SED",null,0.12999999999999995]
["DME-036-23","2025-02-01","2027-01-31","ENSA","TECNISOL4","F","SEG",null,0.13100000000000001]
["DME-037-23","2025-02-01","2027-01-31","ENSA","UEP Penonomé II, S.A.","E","SEG",null,0.13485]
["DME-038-23","2025-02-01","2027-01-31","ENSA","Celsia Centroamérica, S.A.","T","SP",null,7.6417391304347788]
["DME-039-23","2025-02-01","2027-01-31","ENSA","Generadora del Atlántico, S.A.","T","SP",null,6.3419999999999987]

{"sheet":"Oferta","index":1,"n_rows":208,"n_cols":313,"rows_kept":208,"cut":false,"hidden":true,"merged":[]}
["Tipo de Contrato","(Varios elementos)"]
["Tecnología","(Todas)"]
[1,2,3,4,5,6,7,8,9,10,11,12,13,14,15,16,17,18,19,20,21,22,23,24,25,26,27,28,29,30,31,32,33,34,35,36,37,38,39,40,41,42,43,44,45,46,47,48,49,50,51,52,53,54,55,56,57,58,59,60,61]
["Etiquetas de fila","Suma de ene-19","Suma de feb-19","Suma de mar-19","Suma de abr-19","Suma de may-19","Suma de jun-19","Suma de jul-19","Suma de ago-19","Suma de sep-19","Suma de oct-19","Suma de nov-19","Suma de dic-19","Suma de ene-20","Suma de feb-20","Suma de mar-20","Suma de abr-20","Suma de may-20","Suma de jun-20","Suma de jul-20","Suma de ago-20","Suma de sep-20","Suma de oct-20","Suma de nov-20","Suma de dic-20","Suma de ene-21","Suma de feb-21","Suma de mar-21","Suma de abr-21","Suma de may-21","Suma de jun-21","Suma de jul-21","Suma de ago-21","Suma de sep-21","Suma de oct-21","Suma de nov-21","Suma de dic-21","Suma de ene-22","Suma de feb-22","Suma de mar-22","Suma de abr-22","Suma de may-22","Suma de jun-22","Suma de jul-22","Suma de ago-22","Suma de sep-22","Suma de oct-22","Suma de nov-22","Suma de dic-22","Suma de ene-23","Suma de feb-23","Suma de mar-23","Suma de abr-23","Suma de may-23","Suma de jun-23","Suma de jul-23","Suma de ago-23","Suma de sep-23","Suma de oct-23","Suma de nov-23","Suma de dic-23"]
["AES Panamá, S.R.L.",429.99999999999994,429.99999999999994,429.99999999999994,429.99999999999994,429.99999999999994,429.99999999999994,429.99999999999994,429.99999999999994,429.99999999999994,429.99999999999994,429.99999999999994,429.99999999999994,429.99999999999994,429.99999999999994,429.99999999999994,429.99999999999994,429.99999999999994,429.99999999999994,350,350,350,350,350,350,350,350,350,350,350,350,350,350,350,350,350,350,350,350,350,350,350,350,350,350,350,350,350,350,350,350,350,350,350,350,350,350,350,350,350,350]
["Alternegy, S.A.",100.69,100.69,110.80000000000001,110.80000000000001,100.69,101.17000000000002,110.80000000000001,106.85,110.80000000000001,110.80000000000001,110.80000000000001,110.80000000000001,80,80,80,80,80,80,80,80,80,80,80,80,80,80,80,80,80,80,80,80,80,80,80,80,80,80,80,80,80,80,80,80,80,80,80,80,0,0,0,0,0,0,0,0,0,0,0,0]
["Autoridad del Canal de Panamá",30,30,30,30,30,30,30,30,30,30,30,30,0,0,0,0,0,0,0,0,0,0,0,0,0,0,0,0,0,0,0,0,0,0,0,0,0,0,0,0,0,0,0,0,0,0,0,0,0,0,0,0,0,0,0,0,0,0,0,0]
["Bahía Las Minas Corp.,"]
["Bontex, S.A.",20,20,20,20,20,20,20,20,20,20,20,20,20,20,20,20,20,20,20,20,20,20,20,20,20,20,20,20,20,20,20,20,20,20,20,20,20,20,20,20,20,20,20,20,20,20,20,20,0,0,0,0,0,0,0,0,0,0,0,0]
["Caldera Energy Corp.",3.0000000000000004,3.0000000000000004,3.0000000000000004,3.0000000000000004,3.0000000000000004,3.0000000000000004,3.0000000000000004,3.0000000000000004,3.0000000000000004,3.0000000000000004,3.0000000000000004,3.0000000000000004,3.0000000000000004,3.0000000000000004,3.0000000000000004,3.0000000000000004,3.0000000000000004,3.0000000000000004,3.0000000000000004,3.0000000000000004,3.0000000000000004,3.0000000000000004,3.0000000000000004,3.0000000000000004,3.0000000000000004,3.0000000000000004,3.0000000000000004,3.0000000000000004,3.0000000000000004,3.0000000000000004,3.0000000000000004,3.0000000000000004,3.0000000000000004,3.0000000000000004,3.0000000000000004,3.0000000000000004,3.0000000000000004,3.0000000000000004,3.0000000000000004,3.0000000000000004,3.0000000000000004,3.0000000000000004,3.0000000000000004,3.0000000000000004,3.0000000000000004,3.0000000000000004,3.0000000000000004,3.0000000000000004,3.0000000000000004,3.0000000000000004,3.0000000000000004,3.0000000000000004,3.0000000000000004,3.0000000000000004,3.0000000000000004,3.0000000000000004,3.0000000000000004,3.0000000000000004,3.0000000000000004,3.0000000000000004]
["Consorcio Energyst - International",20,20,20,20,20,20,20,20,20,20,20,20,0,0,0,0,0,0,0,0,0,0,0,0,0,0,0,0,0,0,0,0,0,0,0,0,0,0,0,0,0,0,0,0,0,0,0,0,0,0,0,0,0,0,0,0,0,0,0,0]
["Corporación de Energía del Istmo LTD, S.A.",8.81,8.81,8.81,8.81,8.81,8.81,8.81,8.81,8.81,8.81,8.81,8.81,8.81,8.81,8.81,8.81,8.81,8.81,8.81,8.81,8.81,8.81,8.81,8.81,8.81,8.81,8.81,8.81,8.81,8.81,8.81,8.81,8.81,8.81,8.81,8.81,8.81,8.81,8.81,8.81,8.81,8.81,8.81,8.81,8.81,8.81,8.81,8.81,8.81,8.81,8.81,8.81,8.81,8.81,8.81,8.81,8.81,8.81,8.81,8.81]
["Desarrollos Hidroeléctricos Corp.",1.9024700000000001,1.9024700000000001,1.9024700000000001,1.9024700000000001,1.9024700000000001,1.9024700000000001,1.9024700000000001,1.9024700000000001,1.9024700000000001,1.9024700000000001,1.9024700000000001,1.9024700000000001,1.9024700000000001,1.9024700000000001,1.9024700000000001,1.9024700000000001,1.9024700000000001,1.9024700000000001,1.9024700000000001,1.9024700000000001,1.9024700000000001,1.9024700000000001,1.9024700000000001,1.9024700000000001,1.9024700000000001,1.9024700000000001,1.9024700000000001,1.9024700000000001,1.9024700000000001,1.9024700000000001,1.9024700000000001,1.9024700000000001,1.9024700000000001,1.9024700000000001,1.9024700000000001,1.9024700000000001,1.9024700000000001,1.9024700000000001,1.9024700000000001,1.9024700000000001,1.9024700000000001,1.9024700000000001,1.9024700000000001,1.9024700000000001,1.9024700000000001,1.9024700000000001,1.9024700000000001,1.9024700000000001,1.9024700000000001,1.9024700000000001,1.9024700000000001,1.9024700000000001,1.9024700000000001,1.9024700000000001,1.9024700000000001,1.9024700000000001,1.9024700000000001,1.9024700000000001,1.9024700000000001,1.9024700000000001]
["Electrogeneradora del Istmo, S.A.",1.2500100000000001,1.2500100000000001,1.2500100000000001,1.2500100000000001,1.2500100000000001,1.2500100000000001,1.2500100000000001,1.2500100000000001,1.2500100000000001,1.2500100000000001,1.2500100000000001,1.2500100000000001,1.2500100000000001,1.2500100000000001,1.2500100000000001,1.2500100000000001,1.2500100000000001,1.2500100000000001,1.2500100000000001,1.2500100000000001,1.2500100000000001,1.2500100000000001,1.2500100000000001,1.2500100000000001,1.2500100000000001,1.2500100000000001,1.2500100000000001,1.2500100000000001,1.2500100000000001,1.2500100000000001,1.2500100000000001,1.2500100000000001,1.2500100000000001,1.2500100000000001,1.2500100000000001,1.2500100000000001,1.2500100000000001,1.2500100000000001,1.2500100000000001,1.2500100000000001,1.2500100000000001,1.2500100000000001,1.2500100000000001,1.2500100000000001,1.2500100000000001,1.2500100000000001,1.2500100000000001,1.2500100000000001,1.2500100000000001,1.2500100000000001,1.2500100000000001,1.2500100000000001,1.2500100000000001,1.2500100000000001,1.2500100000000001,1.2500100000000001,1.2500100000000001,1.2500100000000001,1.2500100000000001,1.2500100000000001]
["Electron Investment, S.A.",57,57,57,57,53.999999999999993,54,57,57.000000000000007,57,57,57,57,45,45,45,45,45,45,45,45,45,45,45,45,45,45,45,45,45,45,45,45,45,45,45,45,45,45,45,45,45,45,45,45,45,45,45,45,45,45,45,45,45,45,45,45,45,45,45,45]
["Empresa Nacional de Energía, S.A.",8.6929999999999996,8.6929999999999996,8.6930000000000014,8.6930000000000014,8.6929999999999996,8.6929999999999996,8.6930000000000014,8.6929999999999996,8.6930000000000014,8.6930000000000014,8.6930000000000014,8.6930000000000014,7.3330000000000002,7.3330000000000002,7.3330000000000002,7.3330000000000002,7.3330000000000002,7.3330000000000002,7.3330000000000002,7.3330000000000002,7.3330000000000002,7.3330000000000002,7.3330000000000002,7.3330000000000002,7.3330000000000002,7.3330000000000002,7.3330000000000002,7.3330000000000002,7.3330000000000002,7.3330000000000002,7.3330000000000002,7.3330000000000002,7.3330000000000002,7.3330000000000002,7.3330000000000002,7.3330000000000002,7.3330000000000002,7.3330000000000002,7.3330000000000002,7.3330000000000002,7.3330000000000002,7.3330000000000002,7.3330000000000002,7.3330000000000002,7.3330000000000002,7.3330000000000002,7.3330000000000002,7.3330000000000002,7.3330000000000002,7.3330000000000002,7.3330000000000002,7.3330000000000002,7.3330000000000002,7.3330000000000002,7.3330000000000002,7.3330000000000002,7.3330000000000002,7.3330000000000002,7.3330000000000002,7.3330000000000002]
["Enel Fortuna, S.A.",254.54999000000001,254.54999000000001,254.54999000000001,254.54999000000001,254.54998999999998,250.68999000000002,254.54999000000001,254.54998999999998,254.54999000000001,254.54999000000001,254.54999000000001,254.54998999999998,236.94039000000001,236.94039000000004,236.94039000000001,236.94038999999998,236.94039000000001,236.94039000000001,146.72039000000001,146.72039000000001,146.72038999999998,146.72039000000001,146.72038999999998,146.72039000000001,64.519989999999993,64.519989999999993,64.519989999999993,64.519989999999993,64.519989999999993,64.519989999999993,64.519989999999993,64.519989999999993,64.519989999999993,64.519989999999993,64.519989999999993,64.519989999999993,64.519989999999993,64.519989999999993,64.519989999999993,64.519989999999993,64.519989999999993,64.519989999999993,64.519989999999993,64.519989999999993,64.519989999999993,64.519989999999993,64.519989999999993,64.519989999999993,29.51999,29.51999,29.51999,29.51999,29.51999,29.51999,29.51999,29.51999,29.51999,29.51999,29.51999,29.51999]
["Enel Green Power, S.A.",29.252300000000002,27.497199999999999,32.762599999999999,32.177500000000002,33.3476,30.4224,28.667300000000001,28.667300000000001,31.007400000000001,34.517699999999998,31.592500000000001,28.0822]
["Energía y Servicios de Panamá, S.A.",5.4799899999999999,5.4799899999999999,5.4799899999999999,5.4799899999999999,5.4799899999999999,5.4799899999999999,5.4799899999999999,5.4799899999999999,5.4799899999999999,5.4799899999999999,5.4799899999999999,5.4799899999999999,5.4799899999999999,5.4799899999999999,5.4799899999999999,5.4799899999999999,5.4799899999999999,5.4799899999999999,5.4799899999999999,5.4799899999999999,5.4799899999999999,5.4799899999999999,5.4799899999999999,5.4799899999999999,5.4799899999999999,5.4799899999999999,5.4799899999999999,5.4799899999999999,5.4799899999999999,5.4799899999999999,5.4799899999999999,5.4799899999999999,5.4799899999999999,5.4799899999999999,5.4799899999999999,5.4799899999999999,5.4799899999999999,5.4799899999999999,5.4799899999999999,5.4799899999999999,5.4799899999999999,5.4799899999999999,5.4799899999999999,5.4799899999999999,5.4799899999999999,5.4799899999999999,5.4799899999999999,5.4799899999999999,5.4799899999999999,5.4799899999999999,5.4799899999999999,5.4799899999999999,5.4799899999999999,5.4799899999999999,5.4799899999999999,5.4799899999999999,5.4799899999999999,5.4799899999999999,5.4799899999999999,5.4799899999999999]
["Fountain Intertrade Corp.",14.25,14.25,14.249999999999998,14.249999999999998,18.38,18.39,18.39,18.38,18.39,18.39,18.39,18.39,15.54,15.54,15.54,15.54,15.540000000000001,15.54,0,0,0,0,0,0,0,0,0,0,0,0,0,0,0,0,0,0,0,0,0,0,0,0,0,0,0,0,0,0,0,0,0,0,0,0,0,0,0,0,0,0,279195.91382199997,261573.55646700002,294037.37240700005,294033.30622299999,302533.40077899996,277422.53777299996,291659.30465200002,291935.89032800001,265420.37711,278427.13617000001,261754.48077999998,276207.56364000001,292015.40741482202,272299.18270346697,305525.65058640699,305552.78521422297,314115.03432977904,287791.893324773,302313.51708665199,302376.433426328,274645.71298210998,287876.25911017001,270497.60331177997,284533.93705864,301029.71107923682,275397.8320101705,318917.3118389934,311492.88227443723,316110.9059531088,298950.97395609773,306739.10360473866,304399.47259575437,284577.4939170921,296846.15312128019,283492.14989609178,307513.65555669862,309789.4688153161,283411.58638718067,328197.66116483236,320557.25340371166,325309.58964906191,307650.00366705388,315664.70520634338,313257.32483635005,292858.63891500916,305484.16220340144,291741.99553298787,316461.91413425532,318499.39262313134,291379.75083456782,337425.21556399728,329570.05960211536,334455.94341771095,316299.54545772093,324539.52989154973,322064.78514818643,301092.67297592422,314073.03035660484,299944.90922252089,325359.2677913896,327395.70150275453,299518.42635240237,346850.23103656125,338775.73086971743,343798.02025912871,325134.17932817864,333604.26766044128,331060.71653133462,309502.90809990017,322845.69258096145,308323.35696474335,334447.01652818098,336398.40345425729,307754.43494075479,356387.96358259779,348091.49520658719,353251.8221733878,334074.46827850683,342777.41351310175,340164.23398586595,318013.72328700003,331723.26987654238,316802.00575970812,343643.44734470913,345502.11747771152,316082.85359969555,366032.71120218036,357511.78561279381,362811.69716056116,343115.07030878536,352053.48344961484,349369.89351185178,326620.03153728705,340700.45524341892,325375.7866074678,352943.06424105389,355419.18257318926,325155.35432929522,376539.14689538255,367773.70908840658,373225.67822072172,352963.38241909409,362158.30147006444,359398.01310936367,335995.25185082434,350479.6866816624,334715.57450807531,363073.53321729496,365342.05674076237,334233.17112962453,387051.73766227794,378041.64563349501,383645.75935394247,362817.46460951323,372269.03957453452,369432.00677847303,345375.96422767511,360264.64719134406,344060.83246158337,373209.93727351219,375184.67298050318,343237.56400075415,397479.30050294026,388226.53324812849,393981.56256029638,372591.84488012275,382297.99976310908,379384.8435192515,354680.80366790283,369970.46477253537,353330.50546804495,383264.35640978575,384927.17829248367,352150.37194275489,407800.80241744319,398307.8269323766,404212.23583985667,382266.80823100283,392224.95403587219,389236.44833177078,363891.00117157074,379577.56242530793,362505.89352751302,393216.50962619553,394549.45267677616,360953.18795569765,417994.92840586061,408264.70968630898,414316.65519269655,391822.37466223387,402029.40039290802,398966.4752161025,372987.53673874232,389066.10114973324,371568.05064004054,403045.84592282173,404031.18713345291,369627.43303965335,428040.1624682665,418076.16550999531,424273.49361888925,401238.37517389609,411690.64783430088,408554.38917231862,381951.21236948104,398416.05294588296,380497.84780568059,412731.61729974451,413268.46666258638,378078.042194693,437826.41260473471,427634.66440350527,433973.62611850817,410411.61576607003,421102.81136013521,417895.11020049098,390683.78806385054,407524.94681382884,389197.41902448621,422167.67375704431,422240.830264249,386286.29642088769,447332.00381533947,436919.03636690881,443395.56969162665,419321.777438836,430245.04397049535,426967.94930069143,399165.92282191437,416372.60775364272,397647.49529651069,431333.11329480133,430927.86193851323,394233.51771830855,456535.30510015483,445908.15340027568,452517.88333831826,427948.58619227487,439096.5436654659,435752.26047299214,407378.31564373628,424938.90176539635,405828.84862180718,440207.08191309607,439392.76568545174,401977.52808702691,465503.27745925495,454667.41750367597,461406.93905865663,436354.80602646718,447721.7094451313,444311.95671746513,415380.71552938002,433286.15484916174,413801.00300042902,448854.14261200925,447615.46150513721,409499.95952711388,474214.64789271425,463176.05267717969,470041.65085271525,444520.49894149363,456100.0833095765,452626.73303418257,423154.14347890939,441394.56800501089,421545.05043242947,457253.78339162125,455576.16839764232,416782.71203864104,482648.45940060692,471413.58592085686,478401.245720568,452426.01793743513,464211.50725888601,460676.58542321681,430679.8944923883,449244.63123301591,429042.35691786191,465385.79725201288,463255.48236303998,423808.03662167967,490784.15398300753,479359.94223477773,486465.34766228852,460052.09501437255,472036.21029314492,468441.89488463994,437939.62756988069,456817.21353324893,436274.65045677975,473230.36319326487]
["Gas Natural Atlántico, S. de R.L. ",350,350,350,350,350,350,350,350,350,350,350,350,350,350,350,350,350,350,350,350,350,350,350,350,350,350,350,350,350,350,350,350,350,350,350,350,350,350,350,350,350,350,350,350,350,350,350,350,350,350,350,350,350,350,350,350,350,350,350,350,78356.222601470028,74101.075318553005,83436.357539523116,78592.467999200948,80648.531504280239,76996.02558524553,78086.050711660049,77020.164657461108,74349.511243818939,75772.550564668636,71100.724965263769,78249.279388603754,79957.736037621464,75746.812576179713,84529.074721113895,79472.114760977056,80867.366575095119,77391.535118797881,78762.563790589615,78797.625114364433,76130.157980865857,77684.084753962452,74069.733280666624,80530.021964809159,81977.834853602792,78074.035537471296,86217.042853313222,81058.857438621388,82417.906302936113,78824.056418817665,80366.397471602875,79937.002190328873,77363.4756313783,78967.664107062476,74827.595682419866,81443.456168329925,84098.050910339502,80157.109111113488,87893.347538938891,82261.207519660544,84205.481936334036,80131.840022899356,81707.005916623413,81075.862535765904,78836.174099016614,80516.03349664378,75712.947899528284,82932.639780687401,84648.243145382148,80603.680636695848,89037.79668646495,84384.84777908893,86310.766282328754,82261.304317540009,83690.38635244903,83086.423026004602,80331.911264474737,81922.651412969921,77098.84902007776,84466.678404113045,86516.566629061141,82160.858624368484,91130.024383605298,85772.71132255171,87607.632199583284,83624.060899924341,85105.356383832695,84535.6105474551,81807.535796904078,83467.261938516385,78805.607789160335,86164.315002057236,88004.233967586741,83901.735805651319,92797.452556919525,87329.187557303696,89118.155375650298,85062.805589417621,86627.502239708643,86162.425857814553,83420.998482748502,85131.514095636405,80469.944453842822,87876.35617617589,90040.195244204137,85627.002213658532,94546.783972014222,88991.492746994219,90863.737385421584,86685.799327550267,88291.465178549013,87720.616789350519,84963.526296661177,86707.170855828575,81824.099699222963,89430.655675935093,91728.969119015412,87259.36998264541,96347.076036703234,90705.53758658751,92687.108594683639,88383.918641833894,90003.627457073628,89402.623198314817,86605.588476297751,88379.438078318068,83337.210948831635,91156.420919023803,93413.76671552383,88828.948656196604,98209.651242178908,92561.864483828642,94552.827802359825,90197.789039344134,91828.151232711185,91233.074459064694,88315.925398414882,90111.013857279919,85014.348901541234,92966.392877206556,95072.248255571772,90666.761030689464,100258.06857779823,94393.42053906669,96400.287647857243,91975.850259093073,93650.607531070142,93056.781301793744,90102.058775516198,91942.367810916272,86782.449133233036,94866.77441560931,97296.50735279826,92517.501715378763,102245.7109276422,96270.438580720671,98314.808498067185,93794.588572277091,95511.239056853272,94911.998586912174,91907.682044726942,93787.239030124154,88518.984789994429,96761.373600260835,99296.185649644889,94426.632901022545,104339.99690500987,98251.916969649348,100352.27287833471,95729.454704779055,97479.849908237709,96851.612711815804,93788.885860641662,95705.956011861301,90304.353598593865,98731.343984534731,101358.74187680132,96387.532531156801,106521.58046285687,100314.41539342108,102465.2669158299,97743.458458743975,99526.296073793972,98885.258402241729,95754.634000469756,97710.404418759223,92193.410567845378,100802.8606736986,103199.79376474096,98440.512578017646,108808.83141665568,102474.18220971573,104663.52620347662,99847.219204472669,101666.81523483394,101016.5213159736,97811.323751320597,99808.04953478348,94183.69509696764,102971.18159211894,105790.03674268854,100596.28603684249,111186.39780663876,104698.46906007537,106932.48251875542,102012.61576951519,103874.52352276877,103211.7509554142,99941.664240400438,101983.53928240792,96240.585786554497,105215.70951342373,108237.48537371698,102926.73507916882,113752.25680221243,107117.67968860795,109404.86270509609,104368.92827547295,106274.68824489646,105595.80922856742,102251.54877082472,104340.7307302316,98461.284275553407,107645.37311585317,110759.58265079737,105326.17158018655,116404.59330202751,109617.84393413545,111960.80495323973,106806.10060501331,108755.51306522539,108058.46070892953,104635.86866881383,106773.39918856071,100753.34478937701,110154.28909251094,113038.28474416141,107830.67232976192,119176.50927608942,112229.16208658765,114627.86670822243,109350.92113053726,111346.10647238603,110633.18966143629,107127.99682494676,109316.19642392578,103153.96283911163,112778.68528264645,116020.60642673211,110330.34490524474,121940.85552823023,114831.83325153169,117284.70816182507,111886.47612636849,113928.04469691266,113199.41031323343,109612.4067061337,111851.37789475291,105548.15919803851,115394.68672119407,118815.8505395114,112988.15943619232,124876.42807405579,117594.38050460561,120106.1716200029,114577.85960077291,116669.02926144373,115922.88124643828,112250.48652981779,114543.59968456833,108088.6261553362,118171.9072646345]
["Generadora Alto Valle, S.A.",2.2980100000000001,2.2980100000000001,2.2980100000000001,2.2980100000000001,2.2980100000000001,2.2980100000000001,2.2980100000000001,2.2980100000000001,2.2980100000000001,2.2980100000000001,2.2980100000000001,2.2980100000000001,2.2980100000000001,2.2980100000000001,2.2980100000000001,2.2980100000000001,2.2980100000000001,2.2980100000000001,2.2980100000000001,2.2980100000000001,2.2980100000000001,2.2980100000000001,2.2980100000000001,2.2980100000000001,2.2980100000000001,2.2980100000000001,2.2980100000000001,2.2980100000000001,2.2980100000000001,2.2980100000000001,2.2980100000000001,2.2980100000000001,2.2980100000000001,2.2980100000000001,2.2980100000000001,2.2980100000000001,2.2980100000000001,2.2980100000000001,2.2980100000000001,2.2980100000000001,2.2980100000000001,2.2980100000000001,2.2980100000000001,2.2980100000000001,2.2980100000000001,2.2980100000000001,2.2980100000000001,2.2980100000000001,2.2980100000000001,2.2980100000000001,2.2980100000000001,2.2980100000000001,2.2980100000000001,2.2980100000000001,2.2980100000000001,2.2980100000000001,2.2980100000000001,2.2980100000000001,2.2980100000000001,2.2980100000000001,279195.91382199997,261573.55646700002,294037.37240700005,294033.30622299999,302533.40077899996,277422.53777299996,291659.30465200002,291935.89032800001,265420.37711,278427.13617000001,261754.48077999998,276207.56364000001,292015.40741482202,272299.18270346697,305525.65058640699,305552.78521422297,314115.03432977904,287791.893324773,302313.51708665199,302376.433426328,274645.71298210998,287876.25911017001,270497.60331177997,284533.93705864,301029.71107923682,275397.8320101705,318917.3118389934,311492.88227443723,316110.9059531088,298950.97395609773,306739.10360473866,304399.47259575437,284577.4939170921,296846.15312128019,283492.14989609178,307513.65555669862,309789.4688153161,283411.58638718067,328197.66116483236,320557.25340371166,325309.58964906191,307650.00366705388,315664.70520634338,313257.32483635005,292858.63891500916,305484.16220340144,291741.99553298787,316461.91413425532,318499.39262313134,291379.75083456782,337425.21556399728,329570.05960211536,334455.94341771095,316299.54545772093,324539.52989154973,322064.78514818643,301092.67297592422,314073.03035660484,299944.90922252089,325359.2677913896,327395.70150275453,299518.42635240237,346850.23103656125,338775.73086971743,343798.02025912871,325134.17932817864,333604.26766044128,331060.71653133462,309502.90809990017,322845.69258096145,308323.35696474335,334447.01652818098,336398.40345425729,307754.43494075479,356387.96358259779,348091.49520658719,353251.8221733878,334074.46827850683,342777.41351310175,340164.23398586595,318013.72328700003,331723.26987654238,316802.00575970812,343643.44734470913,345502.11747771152,316082.85359969555,366032.71120218036,357511.78561279381,362811.69716056116,343115.07030878536,352053.48344961484,349369.89351185178,326620.03153728705,340700.45524341892,325375.7866074678,352943.06424105389,355419.18257318926,325155.35432929522,376539.14689538255,367773.70908840658,373225.67822072172,352963.38241909409,362158.30147006444,359398.01310936367,335995.25185082434,350479.6866816624,334715.57450807531,363073.53321729496,365342.05674076237,334233.17112962453,387051.73766227794,378041.64563349501,383645.75935394247,362817.46460951323,372269.03957453452,369432.00677847303,345375.96422767511,360264.64719134406,344060.83246158337,373209.93727351219,375184.67298050318,343237.56400075415,397479.30050294026,388226.53324812849,393981.56256029638,372591.84488012275,382297.99976310908,379384.8435192515,354680.80366790283,369970.46477253537,353330.50546804495,383264.35640978575,384927.17829248367,352150.37194275489,407800.80241744319,398307.8269323766,404212.23583985667,382266.80823100283,392224.95403587219,389236.44833177078,363891.00117157074,379577.56242530793,362505.89352751302,393216.50962619553,394549.45267677616,360953.18795569765,417994.92840586061,408264.70968630898,414316.65519269655,391822.37466223387,402029.40039290802,398966.4752161025,372987.53673874232,389066.10114973324,371568.05064004054,403045.84592282173,404031.18713345291,369627.43303965335,428040.1624682665,418076.16550999531,424273.49361888925,401238.37517389609,411690.64783430088,408554.38917231862,381951.21236948104,398416.05294588296,380497.84780568059,412731.61729974451,413268.46666258638,378078.042194693,437826.41260473471,427634.66440350527,433973.62611850817,410411.61576607003,421102.81136013521,417895.11020049098,390683.78806385054,407524.94681382884,389197.41902448621,422167.67375704431,422240.830264249,386286.29642088769,447332.00381533947,436919.03636690881,443395.56969162665,419321.777438836,430245.04397049535,426967.94930069143,399165.92282191437,416372.60775364272,397647.49529651069,431333.11329480133,430927.86193851323,394233.51771830855,456535.30510015483,445908.15340027568,452517.88333831826,427948.58619227487,439096.5436654659,435752.26047299214,407378.31564373628,424938.90176539635,405828.84862180718,440207.08191309607,439392.76568545174,401977.52808702691,465503.27745925495,454667.41750367597,461406.93905865663,436354.80602646718,447721.7094451313,444311.95671746513,415380.71552938002,433286.15484916174,413801.00300042902,448854.14261200925,447615.46150513721,409499.95952711388,474214.64789271425,463176.05267717969,470041.65085271525,444520.49894149363,456100.0833095765,452626.73303418257,423154.14347890939,441394.56800501089,421545.05043242947,457253.78339162125,455576.16839764232,416782.71203864104,482648.45940060692,471413.58592085686,478401.245720568,452426.01793743513,464211.50725888601,460676.58542321681,430679.8944923883,449244.63123301591,429042.35691786191,465385.79725201288,463255.48236303998,423808.03662167967,490784.15398300753,479359.94223477773,486465.34766228852,460052.09501437255,472036.21029314492,468441.89488463994,437939.62756988069,456817.21353324893,436274.65045677975,473230.36319326487]
["Generadora del Atlántico, S.A.",7,7,37.72,26.72,7.0000000000000009,7,14.479999999999999,7,14.479999999999999,14.48,14.479999999999999,14.469999999999999,5.6,5.6,5.6,5.6000000000000005,5.6,5.6000000000000005,5.6,5.6,5.6000000000000005,5.6000000000000005,5.6000000000000005,5.6,0,0,0,0,0,0,0,0,0,0,0,0,0,0,0,0,0,0,0,0,0,0,0,0,0,0,0,0,0,0,0,0,0,0,0,0]
["Generadora Pedregalito, S.A.",1.53244,1.53244,1.53244,1.53244,3.9379900000000001,3.9379900000000001,3.9379900000000001,3.9379900000000001,3.9379900000000001,3.9379900000000001,3.9379900000000001,3.9379900000000001,1.53244,1.53244,1.53244,1.53244,3.9379900000000001,3.9379900000000001,3.9379900000000001,3.9379900000000001,3.9379900000000001,3.9379900000000001,3.9379900000000001,3.9379900000000001,1.53244,1.53244,1.53244,1.53244,3.9379900000000001,3.9379900000000001,3.9379900000000001,3.9379900000000001,3.9379900000000001,3.9379900000000001,3.9379900000000001,3.9379900000000001,1.53244,1.53244,1.53244,1.53244,3.9379900000000001,3.9379900000000001,3.9379900000000001,3.9379900000000001,3.9379900000000001,3.9379900000000001,3.9379900000000001,3.9379900000000001,1.53244,1.53244,1.53244,1.53244,3.9379900000000001,3.9379900000000001,3.9379900000000001,3.9379900000000001,3.9379900000000001,3.9379900000000001,3.9379900000000001,3.9379900000000001]
["Generadora Río Chico, S.A.",0.28200000000000003,0.28200000000000003,0.28200000000000003,0.28200000000000003,2.415,2.415,2.415,2.415,2.415,2.415,2.415,2.415,0.28200000000000003,0.28200000000000003,0.28200000000000003,0.28200000000000003,2.415,2.415,2.415,2.415,2.415,2.415,2.415,2.415,0.28200000000000003,0.28200000000000003,0.28200000000000003,0.28200000000000003,2.415,2.415,2.415,2.415,2.415,2.415,2.415,2.415,0.28200000000000003,0.28200000000000003,0.28200000000000003,0.28200000000000003,2.415,2.415,2.415,2.415,2.415,2.415,2.415,2.415,0.28200000000000003,0.28200000000000003,0.28200000000000003,0.28200000000000003,2.415,2.415,2.415,2.415,2.415,2.415,2.415,2.415]
["Hidro Panamá, S.A.",0.48,0.48,0,0,0.62,0.74,0.74,0.74,0.74,0.74,0.74,0.74,0,0,0,0,0,0,0,0,0,0,0,0,0,0,0,0,0,0,0,0,0,0,0,0,0,0,0,0,0,0,0,0,0,0,0,0,0,0,0,0,0,0,0,0,0,0,0,0]
["Hidroecológica del Teribe, S.A.",11.5,11.5,11.5,11.5,11.5,11.499999999999998,11.499999999999998,11.5,11.5,11.5,11.5,11.5,11.200000000000001,11.2,11.2,11.2,11.200000000000001,11.2,11.2,11.2,11.2,11.2,11.2,11.2,10,10,10,10,10,10,10,10,10,10,10,10,10,10,10,10,10,10,10,10,10,10,10,10,10,10,10,10,10,10,10,10,10,10,10,10]
["Hidroeléctrica Bajos del Totuma, S.A.",1.91,1.46,1.46,1.46,1.46,1.46,1.46,1.46,1.46,1.46,1.46,1.46,0,0,0,0,0,0,0,0,0,0,0,0,0,0,0,0,0,0,0,0,0,0,0,0,0,0,0,0,0,0,0,0,0,0,0,0,0,0,0,0,0,0,0,0,0,0,0,0]
["Hidroeléctrica San Lorenzo, S.A.",1.3329899999999999,1.3329899999999999,1.3329899999999999,1.3329899999999999,1.3329899999999999,1.3329899999999999,1.3329899999999999,1.3329899999999999,1.3329899999999999,1.3329899999999999,1.3329899999999999,1.3329899999999999,1.3329899999999999,1.3329899999999999,1.3329899999999999,1.3329899999999999,1.3329899999999999,1.3329899999999999,1.3329899999999999,1.3329899999999999,1.3329899999999999,1.3329899999999999,1.3329899999999999,1.3329899999999999,1.3329899999999999,1.3329899999999999,1.3329899999999999,1.3329899999999999,1.3329899999999999,1.3329899999999999,1.3329899999999999,1.3329899999999999,1.3329899999999999,1.3329899999999999,1.3329899999999999,1.3329899999999999,1.3329899999999999,1.3329899999999999,1.3329899999999999,1.3329899999999999,1.3329899999999999,1.3329899999999999,1.3329899999999999,1.3329899999999999,1.3329899999999999,1.3329899999999999,1.3329899999999999,1.3329899999999999,1.3329899999999999,1.3329899999999999,1.3329899999999999,1.3329899999999999,1.3329899999999999,1.3329899999999999,1.3329899999999999,1.3329899999999999,1.3329899999999999,1.3329899999999999,1.3329899999999999,1.3329899999999999]
["Hidroibérica, S.A.",1.49,1.49,1.49,1.49,1.25,1.1200000000000001,1.49,1.4899999999999998,1.49,1.49,1.49,1.49,1.19,1.19,1.19,1.19,1.19,1.19,0,0,0,0,0,0,0,0,0,0,0,0,0,0,0,0,0,0,0,0,0,0,0,0,0,0,0,0,0,0,0,0,0,0,0,0,0,0,0,0,0,0]
["HidroPiedra, S.A.",3.0960000000000001,3.0960000000000001,3.0959999999999996,3.0960000000000001,3.0960000000000001,3.0960000000000001,3.0960000000000001,3.0960000000000001,3.0960000000000001,3.0960000000000001,3.0960000000000001,3.0960000000000001,1.786,1.786,1.786,1.786,1.786,1.786,1.786,1.786,1.786,1.786,1.786,1.786,1.786,1.786,1.786,1.786,1.786,1.786,1.786,1.786,1.786,1.786,1.786,1.786,1.786,1.786,1.786,1.786,1.786,1.786,1.786,1.786,1.786,1.786,1.786,1.786,1.786,1.786,1.786,1.786,1.786,1.786,1.786,1.786,1.786,1.786,1.786,1.786]
["Hydro Caisán, S.A.",22.139999999999997,22.139999999999997,22.139999999999997,22.139999999999997,22.139999999999997,22.139999999999997,22.139999999999997,22.139999999999997,22.139999999999997,22.139999999999997,22.139999999999997,22.139999999999997,22.139999999999997,22.139999999999997,22.139999999999997,22.139999999999997,22.139999999999997,22.139999999999997,22.139999999999997,22.139999999999997,22.139999999999997,22.139999999999997,22.139999999999997,22.139999999999997,22.139999999999997,22.139999999999997,22.139999999999997,22.139999999999997,22.139999999999997,22.139999999999997,22.139999999999997,22.139999999999997,22.139999999999997,22.139999999999997,22.139999999999997,22.139999999999997,22.139999999999997,22.139999999999997,22.139999999999997,22.139999999999997,22.139999999999997,22.139999999999997,22.139999999999997,22.139999999999997,22.139999999999997,22.139999999999997,22.139999999999997,22.139999999999997,22.139999999999997,22.139999999999997,22.139999999999997,22.139999999999997,22.139999999999997,22.139999999999997,22.139999999999997,22.139999999999997,22.139999999999997,22.139999999999997,22.139999999999997,22.139999999999997]
["Ideal Panamá, S.A.",20,20,20,20,20,20,20,20,20,20,20,20,0,0,0,0,0,0,0,0,0,0,0,0,0,0,0,0,0,0,0,0,0,0,0,0,0,0,0,0,0,0,0,0,0,0,0,0,0,0,0,0,0,0,0,0,0,0,0,0]
["Istmus Hydro Power, Corp.",0.01,0.01,0.01,0.01,0.01,0.01,0.01,0.01,0.01,0.01,0.01,0.01,0,0,0,0,0,0,0,0,0,0,0,0,0,0,0,0,0,0,0,0,0,0,0,0,0,0,0,0,0,0,0,0,0,0,0,0,0,0,0,0,0,0,0,0,0,0,0,0]
["Jinro Corp",50,50,50,50,50,50,50,50,50,50,50,50,50,50,50,50,50,50,50,50,50,50,50,50,50,50,0,0,0,0,0,0,0,0,0,0,0,0,0,0,0,0,0,0,0,0,0,0,0,0,0,0,0,0,0,0,0,0,0,0]
["Kanan Overseas I, Inc",86,86,86,86,86,86,86,86,86,86,86,86,86,86,86,86,86,86,86,86,86,86,86,86,0,0,0,0,0,0,0,0,0,0,0,0,0,0,0,0,0,0,0,0,0,0,0,0,0,0,0,0,0,0,0,0,0,0,0,0]
["Las Perlas Norte, S.A.",8.7362699999999993,8.7362699999999993,8.7362699999999993,8.7362699999999993,8.7362699999999993,8.7362699999999993,8.7362699999999993,8.7362699999999993,8.7362699999999993,8.7362699999999993,8.7362699999999993,8.7362699999999993,8.7262699999999995,8.7262699999999995,8.7262699999999995,8.7262699999999995,8.7262699999999995,8.7262699999999995,8.7262699999999995,8.7262699999999995,8.7262699999999995,8.7262699999999995,8.7262699999999995,8.7262699999999995,8.7262699999999995,8.7262699999999995,8.7262699999999995,8.7262699999999995,8.7262699999999995,8.7262699999999995,8.7262699999999995,8.7262699999999995,8.7262699999999995,8.7262699999999995,8.7262699999999995,8.7262699999999995,8.7262699999999995,8.7262699999999995,8.7262699999999995,8.7262699999999995,8.7262699999999995,8.7262699999999995,8.7262699999999995,8.7262699999999995,8.7262699999999995,8.7262699999999995,8.7262699999999995,8.7262699999999995,8.7262699999999995,8.7262699999999995,8.7262699999999995,8.7262699999999995,8.7262699999999995,8.7262699999999995,8.7262699999999995,8.7262699999999995,8.7262699999999995,8.7262699999999995,8.7262699999999995,8.7262699999999995]
["Las Perlas Sur, S.A.",0.01,0.01,0.01,0.01,0.01,0.01,0.01,0.01,0.01,0.01,0.01,0.01,0,0,0,0,0,0,0,0,0,0,0,0,0,0,0,0,0,0,0,0,0,0,0,0,0,0,0,0,0,0,0,0,0,0,0,0,0,0,0,0,0,0,0,0,0,0,0,0]
["Martano, Inc",0,0,0,0,0,0,0,0,0,0,0,0,0,0,0,0,0,0,0,0,0,0,null,null,null,null,null,null,null,null,null,null,null,null,null,null,null,null,null,null,null,null,null,null,null,null,null,null,null,null,350,350,350,350,350,350,350,350,350,350]
["Pan-Am Generating Limited",112,112,112,112,112,112,112,112,112,112,112,112,92,92,92,92,92,92,92,92,92,60,60,60,0,0,0,0,0,0,0,0,0,0,0,0,0,0,0,0,0,0,0,0,0,0,0,0,0,0,0,0,0,0,0,0,0,0,0,0]
["Panama NG Power, S.A."]
["Paso Ancho Hydro Power Corporation",1.1299999999999999,1.1299999999999999,0,0,0,0,1.1299999999999999,1.1300000000000001,1.1299999999999999,1.1299999999999999,1.1299999999999999,1.1299999999999999,0,0,0,0,0,0,0,0,0,0,0,0,0,0,0,0,0,0,0,0,0,0,0,0,0,0,0,0,0,0,0,0,0,0,0,0,0,0,0,0,0,0,0,0,0,0,0,0]
["Pedregal Power Company, S. de R.L.",44.74,41.74,49.11,49.11,47.83,48.230000000000004,49.11,49.11,49.11,49.11,49.11,49.11,39.809999999999995,39.81,39.81,39.81,39.809999999999995,39.81,0,0,0,0,0,0,0,0,0,0,0,0,0,0,0,0,0,0,0,0,0,0,0,0,0,0,0,0,0,0,0,0,0,0,0,0,0,0,0,0,0,0]
["Saltos del Francolí, S.A.",0.99500000000000011,0.99500000000000011,0.99500000000000011,0.99500000000000011,0.99500000000000011,0.99500000000000011,0.99500000000000011,0.28250000000000003,0.28250000000000003,0.28250000000000003,0.28250000000000003,0.28250000000000003,0.92170000000000007,0.92170000000000007,0.92170000000000007,0.92170000000000007,0.92170000000000007,0.92170000000000007,0.92170000000000007,0.92170000000000007,0.92170000000000007,0.92170000000000007,0.92170000000000007,0.92170000000000007,0.92170000000000007,0.92170000000000007,0.92170000000000007,0.92170000000000007,0.92170000000000007,0.92170000000000007,0.92170000000000007,0.92170000000000007,0.92170000000000007,0.92170000000000007,0.92170000000000007,0.92170000000000007,0.92170000000000007,0.92170000000000007,0.92170000000000007,0.92170000000000007,0.92170000000000007,0.92170000000000007,0.92170000000000007,0.92170000000000007,0.92170000000000007,0.92170000000000007,0.92170000000000007,0.92170000000000007,0.92170000000000007,0.92170000000000007,0.92170000000000007,0.92170000000000007,0.92170000000000007,0.92170000000000007,0.92170000000000007,0.92170000000000007,0.92170000000000007,0.92170000000000007,0.92170000000000007,0.92170000000000007]
["Valley Rise Investment Corp.",12.5,12.5,12.5,12.5,12.5,12.499999999999998,12.5,12.5,12.499999999999998,12.5,12.5,12.5,0,0,0,0,0,0,0,0,0,0,0,0,0,0,0,0,0,0,0,0,0,0,0,0,0,0,0,0,0,0,0,0,0,0,0,0,0,0,0,0,0,0,0,0,0,0,0,0]
["Celsia Centroamérica, S.A.",27.43,27.43,33.36,33.36,27.43,26.950000000000003,33.36,24.79,33.36,33.36,33.36,33.36,0,0,0,0,0,0,0,0,0,0,0,0,0,0,0,0,0,0,0,0,0,0,0,0,0,0,0,0,0,0,0,0,0,0,0,0,0,0,0,0,0,0,0,0,0,0,0,0]
["Generadora Fotovoltaica Chiriquí, S.A.",29.252400000000002,31.0075,25.742100000000001,26.327200000000001,25.1571,28.0823,29.837400000000002,29.837399999999999,27.497300000000003,23.987000000000002,26.912199999999999,30.422499999999999]
["Total general",1780.7428700000003,1777.2928700000002,1829.8128699999997,1818.8128699999997,1787.8214199999998,1784.36142,1817.1214199999999,1796.3989199999999,1816.4089199999999,1816.4089200000001,1816.4089200000001,1816.3989200000001,1530.07527,1530.07527,1530.07527,1530.07527,1534.6138199999998,1534.6138199999998,1307.85382,1307.85382,1307.85382,1275.85382,1275.85382,1275.85382,1036.3148699999999,1036.3148699999999,986.31486999999993,986.31486999999993,990.85341999999991,990.85341999999991,990.85341999999991,990.85341999999991,990.85341999999991,990.85341999999991,990.85341999999991,990.85341999999991,986.31486999999993,986.31486999999993,986.31486999999993,986.31486999999993,990.85341999999991,990.85341999999991,990.85341999999991,990.85341999999991,990.85341999999991,990.85341999999991,990.85341999999991,990.85341999999991,851.31486999999993,851.31486999999993,1201.3148699999999,1201.3148699999999,1205.8534200000001,1205.8534200000001,1205.8534200000001,1205.8534200000001,1205.8534200000001,1205.8534200000001,1205.8534200000001,1205.8534200000001]
[]
[]
[]
["Hidro Boquerón, S.A.",0,0,0,0,0,0,0,0,0,0,0,0,0,0,0,0,0,0,0,0,0,0,0,0,0,0,0,0,0,0,0,0,0,0,0,0,0,0,0,0,0,0,0,0,0,0,0,0,0,0,0,0,0,0,0,0,0,0,0,0]
["Generadora del Istmo S.A.,",0,0,0,0,0,0,0,0,0,0,0,0,0,0,0,0,0,0,0,0,0,0,0,0,0,0,0,0,0,0,0,0,0,0,0,0,0,0,0,0,0,0,0,0,0,0,0,0,0,0,0,0,0,0,0,0,0,0,0,0]
["HIDRO CANDELA",0,0,0,0,0,0,0,0,0,0,0,0,0,0,0,0,0,0,0,0,0,0,0,0,0,0,0,0,0,0,0,0,0,0,0,0,0,0,0,0,0,0,0,0,0,0,0,0,0,0,0,0,0,0,0,0,0,0,0,0]
["TROPITERMICA",0,0,0,0,0,0,0,0,0,0,0,0,0,0,0,0,0,0,0,0,0,0,0,0,0,0,0,0,0,0,0,0,0,0,0,0,0,0,0,0,0,0,0,0,0,0,0,0,0,0,0,0,0,0,0,0,0,0,0,0]
[]
[]
[]
[]
[]
[]
[]
[]
[]
[]
[]
[]
[]
[]
[]
[]
[]
[]
[]
[]
[]
[]
[]
[]
[]
[]
[]
[]
[]
["Oferta Disponible ",null,null,null,null,null,null,null,null,null,null,null,"tecnología","2020-01-01","2020-02-01","2020-03-01","2020-04-01","2020-05-01","2020-06-01","2020-07-01","2020-08-01","2020-09-01","2020-10-01","2020-11-01","2020-12-01","2021-01-01","2021-02-01","2021-03-01","2021-04-01","2021-05-01","2021-06-01","2021-07-01","2021-08-01","2021-09-01","2021-10-01","2021-11-01","2021-12-01","2022-01-01","2022-02-01","2022-03-01","2022-04-01","2022-05-01","2022-06-01","2022-07-01","2022-08-01","2022-09-01","2022-10-01","2022-11-01","2022-12-01","2023-01-01","2023-02-01","2023-03-01","2023-04-01","2023-05-01","2023-06-01","2023-07-01","2023-08-01","2023-09-01","2023-10-01","2023-11-01","2023-12-01"]
["AES Panamá, S.R.L.",null,null,null,null,null,null,null,null,null,null,null,{"$f":"VLOOKUP($A86,#REF!,3,0)","v":{"$error":"#REF!"}},{"$f":"VLOOKUP($A86,#REF!,2,0)-VLOOKUP($A86,$A$4:$BI$82,N$3,0)","v":{"$error":"#REF!"}},{"$f":"VLOOKUP($A86,#REF!,2,0)-VLOOKUP($A86,$A$4:$BI$82,O$3,0)","v":{"$error":"#REF!"}},{"$f":"VLOOKUP($A86,#REF!,2,0)-VLOOKUP($A86,$A$4:$BI$82,P$3,0)","v":{"$error":"#REF!"}},{"$f":"VLOOKUP($A86,#REF!,2,0)-VLOOKUP($A86,$A$4:$BI$82,Q$3,0)","v":{"$error":"#REF!"}},{"$f":"VLOOKUP($A86,#REF!,2,0)-VLOOKUP($A86,$A$4:$BI$82,R$3,0)","v":{"$error":"#REF!"}},{"$f":"VLOOKUP($A86,#REF!,2,0)-VLOOKUP($A86,$A$4:$BI$82,S$3,0)","v":{"$error":"#REF!"}},{"$f":"VLOOKUP($A86,#REF!,2,0)-VLOOKUP($A86,$A$4:$BI$82,T$3,0)","v":{"$error":"#REF!"}},{"$f":"VLOOKUP($A86,#REF!,2,0)-VLOOKUP($A86,$A$4:$BI$82,U$3,0)","v":{"$error":"#REF!"}},{"$f":"VLOOKUP($A86,#REF!,2,0)-VLOOKUP($A86,$A$4:$BI$82,V$3,0)","v":{"$error":"#REF!"}},{"$f":"VLOOKUP($A86,#REF!,2,0)-VLOOKUP($A86,$A$4:$BI$82,W$3,0)","v":{"$error":"#REF!"}},{"$f":"VLOOKUP($A86,#REF!,2,0)-VLOOKUP($A86,$A$4:$BI$82,X$3,0)","v":{"$error":"#REF!"}},{"$f":"VLOOKUP($A86,#REF!,2,0)-VLOOKUP($A86,$A$4:$BI$82,Y$3,0)","v":{"$error":"#REF!"}},{"$f":"VLOOKUP($A86,#REF!,2,0)-VLOOKUP($A86,$A$4:$BI$82,Z$3,0)","v":{"$error":"#REF!"}},{"$f":"VLOOKUP($A86,#REF!,2,0)-VLOOKUP($A86,$A$4:$BI$82,AA$3,0)","v":{"$error":"#REF!"}},{"$f":"VLOOKUP($A86,#REF!,2,0)-VLOOKUP($A86,$A$4:$BI$82,AB$3,0)","v":{"$error":"#REF!"}},{"$f":"VLOOKUP($A86,#REF!,2,0)-VLOOKUP($A86,$A$4:$BI$82,AC$3,0)","v":{"$error":"#REF!"}},{"$f":"VLOOKUP($A86,#REF!,2,0)-VLOOKUP($A86,$A$4:$BI$82,AD$3,0)","v":{"$error":"#REF!"}},{"$f":"VLOOKUP($A86,#REF!,2,0)-VLOOKUP($A86,$A$4:$BI$82,AE$3,0)","v":{"$error":"#REF!"}},{"$f":"VLOOKUP($A86,#REF!,2,0)-VLOOKUP($A86,$A$4:$BI$82,AF$3,0)","v":{"$error":"#REF!"}},{"$f":"VLOOKUP($A86,#REF!,2,0)-VLOOKUP($A86,$A$4:$BI$82,AG$3,0)","v":{"$error":"#REF!"}},{"$f":"VLOOKUP($A86,#REF!,2,0)-VLOOKUP($A86,$A$4:$BI$82,AH$3,0)","v":{"$error":"#REF!"}},{"$f":"VLOOKUP($A86,#REF!,2,0)-VLOOKUP($A86,$A$4:$BI$82,AI$3,0)","v":{"$error":"#REF!"}},{"$f":"VLOOKUP($A86,#REF!,2,0)-VLOOKUP($A86,$A$4:$BI$82,AJ$3,0)","v":{"$error":"#REF!"}},{"$f":"VLOOKUP($A86,#REF!,2,0)-VLOOKUP($A86,$A$4:$BI$82,AK$3,0)","v":{"$error":"#REF!"}},{"$f":"VLOOKUP($A86,#REF!,2,0)-VLOOKUP($A86,$A$4:$BI$82,AL$3,0)","v":{"$error":"#REF!"}},{"$f":"VLOOKUP($A86,#REF!,2,0)-VLOOKUP($A86,$A$4:$BI$82,AM$3,0)","v":{"$error":"#REF!"}},{"$f":"VLOOKUP($A86,#REF!,2,0)-VLOOKUP($A86,$A$4:$BI$82,AN$3,0)","v":{"$error":"#REF!"}},{"$f":"VLOOKUP($A86,#REF!,2,0)-VLOOKUP($A86,$A$4:$BI$82,AO$3,0)","v":{"$error":"#REF!"}},{"$f":"VLOOKUP($A86,#REF!,2,0)-VLOOKUP($A86,$A$4:$BI$82,AP$3,0)","v":{"$error":"#REF!"}},{"$f":"VLOOKUP($A86,#REF!,2,0)-VLOOKUP($A86,$A$4:$BI$82,AQ$3,0)","v":{"$error":"#REF!"}},{"$f":"VLOOKUP($A86,#REF!,2,0)-VLOOKUP($A86,$A$4:$BI$82,AR$3,0)","v":{"$error":"#REF!"}},{"$f":"VLOOKUP($A86,#REF!,2,0)-VLOOKUP($A86,$A$4:$BI$82,AS$3,0)","v":{"$error":"#REF!"}},{"$f":"VLOOKUP($A86,#REF!,2,0)-VLOOKUP($A86,$A$4:$BI$82,AT$3,0)","v":{"$error":"#REF!"}},{"$f":"VLOOKUP($A86,#REF!,2,0)-VLOOKUP($A86,$A$4:$BI$82,AU$3,0)","v":{"$error":"#REF!"}},{"$f":"VLOOKUP($A86,#REF!,2,0)-VLOOKUP($A86,$A$4:$BI$82,AV$3,0)","v":{"$error":"#REF!"}},{"$f":"VLOOKUP($A86,#REF!,2,0)-VLOOKUP($A86,$A$4:$BI$82,AW$3,0)","v":{"$error":"#REF!"}},{"$f":"VLOOKUP($A86,#REF!,2,0)-VLOOKUP($A86,$A$4:$BI$82,AX$3,0)","v":{"$error":"#REF!"}},{"$f":"VLOOKUP($A86,#REF!,2,0)-VLOOKUP($A86,$A$4:$BI$82,AY$3,0)","v":{"$error":"#REF!"}},{"$f":"VLOOKUP($A86,#REF!,2,0)-VLOOKUP($A86,$A$4:$BI$82,AZ$3,0)","v":{"$error":"#REF!"}},{"$f":"VLOOKUP($A86,#REF!,2,0)-VLOOKUP($A86,$A$4:$BI$82,BA$3,0)","v":{"$error":"#REF!"}},{"$f":"VLOOKUP($A86,#REF!,2,0)-VLOOKUP($A86,$A$4:$BI$82,BB$3,0)","v":{"$error":"#REF!"}},{"$f":"VLOOKUP($A86,#REF!,2,0)-VLOOKUP($A86,$A$4:$BI$82,BC$3,0)","v":{"$error":"#REF!"}},{"$f":"VLOOKUP($A86,#REF!,2,0)-VLOOKUP($A86,$A$4:$BI$82,BD$3,0)","v":{"$error":"#REF!"}},{"$f":"VLOOKUP($A86,#REF!,2,0)-VLOOKUP($A86,$A$4:$BI$82,BE$3,0)","v":{"$error":"#REF!"}},{"$f":"VLOOKUP($A86,#REF!,2,0)-VLOOKUP($A86,$A$4:$BI$82,BF$3,0)","v":{"$error":"#REF!"}},{"$f":"VLOOKUP($A86,#REF!,2,0)-VLOOKUP($A86,$A$4:$BI$82,BG$3,0)","v":{"$error":"#REF!"}},{"$f":"VLOOKUP($A86,#REF!,2,0)-VLOOKUP($A86,$A$4:$BI$82,BH$3,0)","v":{"$error":"#REF!"}},{"$f":"VLOOKUP($A86,#REF!,2,0)-VLOOKUP($A86,$A$4:$BI$82,BI$3,0)","v":{"$error":"#REF!"}}]
["Alternegy, S.A.",null,null,null,null,null,null,null,null,null,null,null,{"$f":"VLOOKUP($A87,#REF!,3,0)","v":{"$error":"#REF!"}},{"$f":"VLOOKUP($A87,#REF!,2,0)-VLOOKUP($A87,$A$4:$BI$82,N$3,0)","v":{"$error":"#REF!"}},{"$f":"VLOOKUP($A87,#REF!,2,0)-VLOOKUP($A87,$A$4:$BI$82,O$3,0)","v":{"$error":"#REF!"}},{"$f":"VLOOKUP($A87,#REF!,2,0)-VLOOKUP($A87,$A$4:$BI$82,P$3,0)","v":{"$error":"#REF!"}},{"$f":"VLOOKUP($A87,#REF!,2,0)-VLOOKUP($A87,$A$4:$BI$82,Q$3,0)","v":{"$error":"#REF!"}},{"$f":"VLOOKUP($A87,#REF!,2,0)-VLOOKUP($A87,$A$4:$BI$82,R$3,0)","v":{"$error":"#REF!"}},{"$f":"VLOOKUP($A87,#REF!,2,0)-VLOOKUP($A87,$A$4:$BI$82,S$3,0)","v":{"$error":"#REF!"}},{"$f":"VLOOKUP($A87,#REF!,2,0)-VLOOKUP($A87,$A$4:$BI$82,T$3,0)","v":{"$error":"#REF!"}},{"$f":"VLOOKUP($A87,#REF!,2,0)-VLOOKUP($A87,$A$4:$BI$82,U$3,0)","v":{"$error":"#REF!"}},{"$f":"VLOOKUP($A87,#REF!,2,0)-VLOOKUP($A87,$A$4:$BI$82,V$3,0)","v":{"$error":"#REF!"}},{"$f":"VLOOKUP($A87,#REF!,2,0)-VLOOKUP($A87,$A$4:$BI$82,W$3,0)","v":{"$error":"#REF!"}},{"$f":"VLOOKUP($A87,#REF!,2,0)-VLOOKUP($A87,$A$4:$BI$82,X$3,0)","v":{"$error":"#REF!"}},{"$f":"VLOOKUP($A87,#REF!,2,0)-VLOOKUP($A87,$A$4:$BI$82,Y$3,0)","v":{"$error":"#REF!"}},{"$f":"VLOOKUP($A87,#REF!,2,0)-VLOOKUP($A87,$A$4:$BI$82,Z$3,0)","v":{"$error":"#REF!"}},{"$f":"VLOOKUP($A87,#REF!,2,0)-VLOOKUP($A87,$A$4:$BI$82,AA$3,0)","v":{"$error":"#REF!"}},{"$f":"VLOOKUP($A87,#REF!,2,0)-VLOOKUP($A87,$A$4:$BI$82,AB$3,0)","v":{"$error":"#REF!"}},{"$f":"VLOOKUP($A87,#REF!,2,0)-VLOOKUP($A87,$A$4:$BI$82,AC$3,0)","v":{"$error":"#REF!"}},{"$f":"VLOOKUP($A87,#REF!,2,0)-VLOOKUP($A87,$A$4:$BI$82,AD$3,0)","v":{"$error":"#REF!"}},{"$f":"VLOOKUP($A87,#REF!,2,0)-VLOOKUP($A87,$A$4:$BI$82,AE$3,0)","v":{"$error":"#REF!"}},{"$f":"VLOOKUP($A87,#REF!,2,0)-VLOOKUP($A87,$A$4:$BI$82,AF$3,0)","v":{"$error":"#REF!"}},{"$f":"VLOOKUP($A87,#REF!,2,0)-VLOOKUP($A87,$A$4:$BI$82,AG$3,0)","v":{"$error":"#REF!"}},{"$f":"VLOOKUP($A87,#REF!,2,0)-VLOOKUP($A87,$A$4:$BI$82,AH$3,0)","v":{"$error":"#REF!"}},{"$f":"VLOOKUP($A87,#REF!,2,0)-VLOOKUP($A87,$A$4:$BI$82,AI$3,0)","v":{"$error":"#REF!"}},{"$f":"VLOOKUP($A87,#REF!,2,0)-VLOOKUP($A87,$A$4:$BI$82,AJ$3,0)","v":{"$error":"#REF!"}},{"$f":"VLOOKUP($A87,#REF!,2,0)-VLOOKUP($A87,$A$4:$BI$82,AK$3,0)","v":{"$error":"#REF!"}},{"$f":"VLOOKUP($A87,#REF!,2,0)-VLOOKUP($A87,$A$4:$BI$82,AL$3,0)","v":{"$error":"#REF!"}},{"$f":"VLOOKUP($A87,#REF!,2,0)-VLOOKUP($A87,$A$4:$BI$82,AM$3,0)","v":{"$error":"#REF!"}},{"$f":"VLOOKUP($A87,#REF!,2,0)-VLOOKUP($A87,$A$4:$BI$82,AN$3,0)","v":{"$error":"#REF!"}},{"$f":"VLOOKUP($A87,#REF!,2,0)-VLOOKUP($A87,$A$4:$BI$82,AO$3,0)","v":{"$error":"#REF!"}},{"$f":"VLOOKUP($A87,#REF!,2,0)-VLOOKUP($A87,$A$4:$BI$82,AP$3,0)","v":{"$error":"#REF!"}},{"$f":"VLOOKUP($A87,#REF!,2,0)-VLOOKUP($A87,$A$4:$BI$82,AQ$3,0)","v":{"$error":"#REF!"}},{"$f":"VLOOKUP($A87,#REF!,2,0)-VLOOKUP($A87,$A$4:$BI$82,AR$3,0)","v":{"$error":"#REF!"}},{"$f":"VLOOKUP($A87,#REF!,2,0)-VLOOKUP($A87,$A$4:$BI$82,AS$3,0)","v":{"$error":"#REF!"}},{"$f":"VLOOKUP($A87,#REF!,2,0)-VLOOKUP($A87,$A$4:$BI$82,AT$3,0)","v":{"$error":"#REF!"}},{"$f":"VLOOKUP($A87,#REF!,2,0)-VLOOKUP($A87,$A$4:$BI$82,AU$3,0)","v":{"$error":"#REF!"}},{"$f":"VLOOKUP($A87,#REF!,2,0)-VLOOKUP($A87,$A$4:$BI$82,AV$3,0)","v":{"$error":"#REF!"}},{"$f":"VLOOKUP($A87,#REF!,2,0)-VLOOKUP($A87,$A$4:$BI$82,AW$3,0)","v":{"$error":"#REF!"}},{"$f":"VLOOKUP($A87,#REF!,2,0)-VLOOKUP($A87,$A$4:$BI$82,AX$3,0)","v":{"$error":"#REF!"}},{"$f":"VLOOKUP($A87,#REF!,2,0)-VLOOKUP($A87,$A$4:$BI$82,AY$3,0)","v":{"$error":"#REF!"}},{"$f":"VLOOKUP($A87,#REF!,2,0)-VLOOKUP($A87,$A$4:$BI$82,AZ$3,0)","v":{"$error":"#REF!"}},{"$f":"VLOOKUP($A87,#REF!,2,0)-VLOOKUP($A87,$A$4:$BI$82,BA$3,0)","v":{"$error":"#REF!"}},{"$f":"VLOOKUP($A87,#REF!,2,0)-VLOOKUP($A87,$A$4:$BI$82,BB$3,0)","v":{"$error":"#REF!"}},{"$f":"VLOOKUP($A87,#REF!,2,0)-VLOOKUP($A87,$A$4:$BI$82,BC$3,0)","v":{"$error":"#REF!"}},{"$f":"VLOOKUP($A87,#REF!,2,0)-VLOOKUP($A87,$A$4:$BI$82,BD$3,0)","v":{"$error":"#REF!"}},{"$f":"VLOOKUP($A87,#REF!,2,0)-VLOOKUP($A87,$A$4:$BI$82,BE$3,0)","v":{"$error":"#REF!"}},{"$f":"VLOOKUP($A87,#REF!,2,0)-VLOOKUP($A87,$A$4:$BI$82,BF$3,0)","v":{"$error":"#REF!"}},{"$f":"VLOOKUP($A87,#REF!,2,0)-VLOOKUP($A87,$A$4:$BI$82,BG$3,0)","v":{"$error":"#REF!"}},{"$f":"VLOOKUP($A87,#REF!,2,0)-VLOOKUP($A87,$A$4:$BI$82,BH$3,0)","v":{"$error":"#REF!"}},{"$f":"VLOOKUP($A87,#REF!,2,0)-VLOOKUP($A87,$A$4:$BI$82,BI$3,0)","v":{"$error":"#REF!"}}]
["Autoridad del Canal de Panamá",null,null,null,null,null,null,null,null,null,null,null,{"$f":"VLOOKUP($A88,#REF!,3,0)","v":{"$error":"#REF!"}},{"$f":"VLOOKUP($A88,#REF!,2,0)-VLOOKUP($A88,$A$4:$BI$82,N$3,0)","v":{"$error":"#REF!"}},{"$f":"VLOOKUP($A88,#REF!,2,0)-VLOOKUP($A88,$A$4:$BI$82,O$3,0)","v":{"$error":"#REF!"}},{"$f":"VLOOKUP($A88,#REF!,2,0)-VLOOKUP($A88,$A$4:$BI$82,P$3,0)","v":{"$error":"#REF!"}},{"$f":"VLOOKUP($A88,#REF!,2,0)-VLOOKUP($A88,$A$4:$BI$82,Q$3,0)","v":{"$error":"#REF!"}},{"$f":"VLOOKUP($A88,#REF!,2,0)-VLOOKUP($A88,$A$4:$BI$82,R$3,0)","v":{"$error":"#REF!"}},{"$f":"VLOOKUP($A88,#REF!,2,0)-VLOOKUP($A88,$A$4:$BI$82,S$3,0)","v":{"$error":"#REF!"}},{"$f":"VLOOKUP($A88,#REF!,2,0)-VLOOKUP($A88,$A$4:$BI$82,T$3,0)","v":{"$error":"#REF!"}},{"$f":"VLOOKUP($A88,#REF!,2,0)-VLOOKUP($A88,$A$4:$BI$82,U$3,0)","v":{"$error":"#REF!"}},{"$f":"VLOOKUP($A88,#REF!,2,0)-VLOOKUP($A88,$A$4:$BI$82,V$3,0)","v":{"$error":"#REF!"}},{"$f":"VLOOKUP($A88,#REF!,2,0)-VLOOKUP($A88,$A$4:$BI$82,W$3,0)","v":{"$error":"#REF!"}},{"$f":"VLOOKUP($A88,#REF!,2,0)-VLOOKUP($A88,$A$4:$BI$82,X$3,0)","v":{"$error":"#REF!"}},{"$f":"VLOOKUP($A88,#REF!,2,0)-VLOOKUP($A88,$A$4:$BI$82,Y$3,0)","v":{"$error":"#REF!"}},{"$f":"VLOOKUP($A88,#REF!,2,0)-VLOOKUP($A88,$A$4:$BI$82,Z$3,0)","v":{"$error":"#REF!"}},{"$f":"VLOOKUP($A88,#REF!,2,0)-VLOOKUP($A88,$A$4:$BI$82,AA$3,0)","v":{"$error":"#REF!"}},{"$f":"VLOOKUP($A88,#REF!,2,0)-VLOOKUP($A88,$A$4:$BI$82,AB$3,0)","v":{"$error":"#REF!"}},{"$f":"VLOOKUP($A88,#REF!,2,0)-VLOOKUP($A88,$A$4:$BI$82,AC$3,0)","v":{"$error":"#REF!"}},{"$f":"VLOOKUP($A88,#REF!,2,0)-VLOOKUP($A88,$A$4:$BI$82,AD$3,0)","v":{"$error":"#REF!"}},{"$f":"VLOOKUP($A88,#REF!,2,0)-VLOOKUP($A88,$A$4:$BI$82,AE$3,0)","v":{"$error":"#REF!"}},{"$f":"VLOOKUP($A88,#REF!,2,0)-VLOOKUP($A88,$A$4:$BI$82,AF$3,0)","v":{"$error":"#REF!"}},{"$f":"VLOOKUP($A88,#REF!,2,0)-VLOOKUP($A88,$A$4:$BI$82,AG$3,0)","v":{"$error":"#REF!"}},{"$f":"VLOOKUP($A88,#REF!,2,0)-VLOOKUP($A88,$A$4:$BI$82,AH$3,0)","v":{"$error":"#REF!"}},{"$f":"VLOOKUP($A88,#REF!,2,0)-VLOOKUP($A88,$A$4:$BI$82,AI$3,0)","v":{"$error":"#REF!"}},{"$f":"VLOOKUP($A88,#REF!,2,0)-VLOOKUP($A88,$A$4:$BI$82,AJ$3,0)","v":{"$error":"#REF!"}},{"$f":"VLOOKUP($A88,#REF!,2,0)-VLOOKUP($A88,$A$4:$BI$82,AK$3,0)","v":{"$error":"#REF!"}},{"$f":"VLOOKUP($A88,#REF!,2,0)-VLOOKUP($A88,$A$4:$BI$82,AL$3,0)","v":{"$error":"#REF!"}},{"$f":"VLOOKUP($A88,#REF!,2,0)-VLOOKUP($A88,$A$4:$BI$82,AM$3,0)","v":{"$error":"#REF!"}},{"$f":"VLOOKUP($A88,#REF!,2,0)-VLOOKUP($A88,$A$4:$BI$82,AN$3,0)","v":{"$error":"#REF!"}},{"$f":"VLOOKUP($A88,#REF!,2,0)-VLOOKUP($A88,$A$4:$BI$82,AO$3,0)","v":{"$error":"#REF!"}},{"$f":"VLOOKUP($A88,#REF!,2,0)-VLOOKUP($A88,$A$4:$BI$82,AP$3,0)","v":{"$error":"#REF!"}},{"$f":"VLOOKUP($A88,#REF!,2,0)-VLOOKUP($A88,$A$4:$BI$82,AQ$3,0)","v":{"$error":"#REF!"}},{"$f":"VLOOKUP($A88,#REF!,2,0)-VLOOKUP($A88,$A$4:$BI$82,AR$3,0)","v":{"$error":"#REF!"}},{"$f":"VLOOKUP($A88,#REF!,2,0)-VLOOKUP($A88,$A$4:$BI$82,AS$3,0)","v":{"$error":"#REF!"}},{"$f":"VLOOKUP($A88,#REF!,2,0)-VLOOKUP($A88,$A$4:$BI$82,AT$3,0)","v":{"$error":"#REF!"}},{"$f":"VLOOKUP($A88,#REF!,2,0)-VLOOKUP($A88,$A$4:$BI$82,AU$3,0)","v":{"$error":"#REF!"}},{"$f":"VLOOKUP($A88,#REF!,2,0)-VLOOKUP($A88,$A$4:$BI$82,AV$3,0)","v":{"$error":"#REF!"}},{"$f":"VLOOKUP($A88,#REF!,2,0)-VLOOKUP($A88,$A$4:$BI$82,AW$3,0)","v":{"$error":"#REF!"}},{"$f":"VLOOKUP($A88,#REF!,2,0)-VLOOKUP($A88,$A$4:$BI$82,AX$3,0)","v":{"$error":"#REF!"}},{"$f":"VLOOKUP($A88,#REF!,2,0)-VLOOKUP($A88,$A$4:$BI$82,AY$3,0)","v":{"$error":"#REF!"}},{"$f":"VLOOKUP($A88,#REF!,2,0)-VLOOKUP($A88,$A$4:$BI$82,AZ$3,0)","v":{"$error":"#REF!"}},{"$f":"VLOOKUP($A88,#REF!,2,0)-VLOOKUP($A88,$A$4:$BI$82,BA$3,0)","v":{"$error":"#REF!"}},{"$f":"VLOOKUP($A88,#REF!,2,0)-VLOOKUP($A88,$A$4:$BI$82,BB$3,0)","v":{"$error":"#REF!"}},{"$f":"VLOOKUP($A88,#REF!,2,0)-VLOOKUP($A88,$A$4:$BI$82,BC$3,0)","v":{"$error":"#REF!"}},{"$f":"VLOOKUP($A88,#REF!,2,0)-VLOOKUP($A88,$A$4:$BI$82,BD$3,0)","v":{"$error":"#REF!"}},{"$f":"VLOOKUP($A88,#REF!,2,0)-VLOOKUP($A88,$A$4:$BI$82,BE$3,0)","v":{"$error":"#REF!"}},{"$f":"VLOOKUP($A88,#REF!,2,0)-VLOOKUP($A88,$A$4:$BI$82,BF$3,0)","v":{"$error":"#REF!"}},{"$f":"VLOOKUP($A88,#REF!,2,0)-VLOOKUP($A88,$A$4:$BI$82,BG$3,0)","v":{"$error":"#REF!"}},{"$f":"VLOOKUP($A88,#REF!,2,0)-VLOOKUP($A88,$A$4:$BI$82,BH$3,0)","v":{"$error":"#REF!"}},{"$f":"VLOOKUP($A88,#REF!,2,0)-VLOOKUP($A88,$A$4:$BI$82,BI$3,0)","v":{"$error":"#REF!"}}]
["Bahía Las Minas Corp.,",null,null,null,null,null,null,null,null,null,null,null,{"$f":"VLOOKUP($A89,#REF!,3,0)","v":{"$error":"#REF!"}},{"$f":"VLOOKUP($A89,#REF!,2,0)-VLOOKUP($A89,$A$4:$BI$82,N$3,0)","v":{"$error":"#REF!"}},{"$f":"VLOOKUP($A89,#REF!,2,0)-VLOOKUP($A89,$A$4:$BI$82,O$3,0)","v":{"$error":"#REF!"}},{"$f":"VLOOKUP($A89,#REF!,2,0)-VLOOKUP($A89,$A$4:$BI$82,P$3,0)","v":{"$error":"#REF!"}},{"$f":"VLOOKUP($A89,#REF!,2,0)-VLOOKUP($A89,$A$4:$BI$82,Q$3,0)","v":{"$error":"#REF!"}},{"$f":"VLOOKUP($A89,#REF!,2,0)-VLOOKUP($A89,$A$4:$BI$82,R$3,0)","v":{"$error":"#REF!"}},{"$f":"VLOOKUP($A89,#REF!,2,0)-VLOOKUP($A89,$A$4:$BI$82,S$3,0)","v":{"$error":"#REF!"}},{"$f":"VLOOKUP($A89,#REF!,2,0)-VLOOKUP($A89,$A$4:$BI$82,T$3,0)","v":{"$error":"#REF!"}},{"$f":"VLOOKUP($A89,#REF!,2,0)-VLOOKUP($A89,$A$4:$BI$82,U$3,0)","v":{"$error":"#REF!"}},{"$f":"VLOOKUP($A89,#REF!,2,0)-VLOOKUP($A89,$A$4:$BI$82,V$3,0)","v":{"$error":"#REF!"}},{"$f":"VLOOKUP($A89,#REF!,2,0)-VLOOKUP($A89,$A$4:$BI$82,W$3,0)","v":{"$error":"#REF!"}},{"$f":"VLOOKUP($A89,#REF!,2,0)-VLOOKUP($A89,$A$4:$BI$82,X$3,0)","v":{"$error":"#REF!"}},{"$f":"VLOOKUP($A89,#REF!,2,0)-VLOOKUP($A89,$A$4:$BI$82,Y$3,0)","v":{"$error":"#REF!"}},{"$f":"VLOOKUP($A89,#REF!,2,0)-VLOOKUP($A89,$A$4:$BI$82,Z$3,0)","v":{"$error":"#REF!"}},{"$f":"VLOOKUP($A89,#REF!,2,0)-VLOOKUP($A89,$A$4:$BI$82,AA$3,0)","v":{"$error":"#REF!"}},{"$f":"VLOOKUP($A89,#REF!,2,0)-VLOOKUP($A89,$A$4:$BI$82,AB$3,0)","v":{"$error":"#REF!"}},{"$f":"VLOOKUP($A89,#REF!,2,0)-VLOOKUP($A89,$A$4:$BI$82,AC$3,0)","v":{"$error":"#REF!"}},{"$f":"VLOOKUP($A89,#REF!,2,0)-VLOOKUP($A89,$A$4:$BI$82,AD$3,0)","v":{"$error":"#REF!"}},{"$f":"VLOOKUP($A89,#REF!,2,0)-VLOOKUP($A89,$A$4:$BI$82,AE$3,0)","v":{"$error":"#REF!"}},{"$f":"VLOOKUP($A89,#REF!,2,0)-VLOOKUP($A89,$A$4:$BI$82,AF$3,0)","v":{"$error":"#REF!"}},{"$f":"VLOOKUP($A89,#REF!,2,0)-VLOOKUP($A89,$A$4:$BI$82,AG$3,0)","v":{"$error":"#REF!"}},{"$f":"VLOOKUP($A89,#REF!,2,0)-VLOOKUP($A89,$A$4:$BI$82,AH$3,0)","v":{"$error":"#REF!"}},{"$f":"VLOOKUP($A89,#REF!,2,0)-VLOOKUP($A89,$A$4:$BI$82,AI$3,0)","v":{"$error":"#REF!"}},{"$f":"VLOOKUP($A89,#REF!,2,0)-VLOOKUP($A89,$A$4:$BI$82,AJ$3,0)","v":{"$error":"#REF!"}},{"$f":"VLOOKUP($A89,#REF!,2,0)-VLOOKUP($A89,$A$4:$BI$82,AK$3,0)","v":{"$error":"#REF!"}},{"$f":"VLOOKUP($A89,#REF!,2,0)-VLOOKUP($A89,$A$4:$BI$82,AL$3,0)","v":{"$error":"#REF!"}},{"$f":"VLOOKUP($A89,#REF!,2,0)-VLOOKUP($A89,$A$4:$BI$82,AM$3,0)","v":{"$error":"#REF!"}},{"$f":"VLOOKUP($A89,#REF!,2,0)-VLOOKUP($A89,$A$4:$BI$82,AN$3,0)","v":{"$error":"#REF!"}},{"$f":"VLOOKUP($A89,#REF!,2,0)-VLOOKUP($A89,$A$4:$BI$82,AO$3,0)","v":{"$error":"#REF!"}},{"$f":"VLOOKUP($A89,#REF!,2,0)-VLOOKUP($A89,$A$4:$BI$82,AP$3,0)","v":{"$error":"#REF!"}},{"$f":"VLOOKUP($A89,#REF!,2,0)-VLOOKUP($A89,$A$4:$BI$82,AQ$3,0)","v":{"$error":"#REF!"}},{"$f":"VLOOKUP($A89,#REF!,2,0)-VLOOKUP($A89,$A$4:$BI$82,AR$3,0)","v":{"$error":"#REF!"}},{"$f":"VLOOKUP($A89,#REF!,2,0)-VLOOKUP($A89,$A$4:$BI$82,AS$3,0)","v":{"$error":"#REF!"}},{"$f":"VLOOKUP($A89,#REF!,2,0)-VLOOKUP($A89,$A$4:$BI$82,AT$3,0)","v":{"$error":"#REF!"}},{"$f":"VLOOKUP($A89,#REF!,2,0)-VLOOKUP($A89,$A$4:$BI$82,AU$3,0)","v":{"$error":"#REF!"}},{"$f":"VLOOKUP($A89,#REF!,2,0)-VLOOKUP($A89,$A$4:$BI$82,AV$3,0)","v":{"$error":"#REF!"}},{"$f":"VLOOKUP($A89,#REF!,2,0)-VLOOKUP($A89,$A$4:$BI$82,AW$3,0)","v":{"$error":"#REF!"}},{"$f":"VLOOKUP($A89,#REF!,2,0)-VLOOKUP($A89,$A$4:$BI$82,AX$3,0)","v":{"$error":"#REF!"}},{"$f":"VLOOKUP($A89,#REF!,2,0)-VLOOKUP($A89,$A$4:$BI$82,AY$3,0)","v":{"$error":"#REF!"}},{"$f":"VLOOKUP($A89,#REF!,2,0)-VLOOKUP($A89,$A$4:$BI$82,AZ$3,0)","v":{"$error":"#REF!"}},{"$f":"VLOOKUP($A89,#REF!,2,0)-VLOOKUP($A89,$A$4:$BI$82,BA$3,0)","v":{"$error":"#REF!"}},{"$f":"VLOOKUP($A89,#REF!,2,0)-VLOOKUP($A89,$A$4:$BI$82,BB$3,0)","v":{"$error":"#REF!"}},{"$f":"VLOOKUP($A89,#REF!,2,0)-VLOOKUP($A89,$A$4:$BI$82,BC$3,0)","v":{"$error":"#REF!"}},{"$f":"VLOOKUP($A89,#REF!,2,0)-VLOOKUP($A89,$A$4:$BI$82,BD$3,0)","v":{"$error":"#REF!"}},{"$f":"VLOOKUP($A89,#REF!,2,0)-VLOOKUP($A89,$A$4:$BI$82,BE$3,0)","v":{"$error":"#REF!"}},{"$f":"VLOOKUP($A89,#REF!,2,0)-VLOOKUP($A89,$A$4:$BI$82,BF$3,0)","v":{"$error":"#REF!"}},{"$f":"VLOOKUP($A89,#REF!,2,0)-VLOOKUP($A89,$A$4:$BI$82,BG$3,0)","v":{"$error":"#REF!"}},{"$f":"VLOOKUP($A89,#REF!,2,0)-VLOOKUP($A89,$A$4:$BI$82,BH$3,0)","v":{"$error":"#REF!"}},{"$f":"VLOOKUP($A89,#REF!,2,0)-VLOOKUP($A89,$A$4:$BI$82,BI$3,0)","v":{"$error":"#REF!"}}]
["Bontex, S.A.",null,null,null,null,null,null,null,null,null,null,null,{"$f":"VLOOKUP($A90,#REF!,3,0)","v":{"$error":"#REF!"}},{"$f":"VLOOKUP($A90,#REF!,2,0)-VLOOKUP($A90,$A$4:$BI$82,N$3,0)","v":{"$error":"#REF!"}},{"$f":"VLOOKUP($A90,#REF!,2,0)-VLOOKUP($A90,$A$4:$BI$82,O$3,0)","v":{"$error":"#REF!"}},{"$f":"VLOOKUP($A90,#REF!,2,0)-VLOOKUP($A90,$A$4:$BI$82,P$3,0)","v":{"$error":"#REF!"}},{"$f":"VLOOKUP($A90,#REF!,2,0)-VLOOKUP($A90,$A$4:$BI$82,Q$3,0)","v":{"$error":"#REF!"}},{"$f":"VLOOKUP($A90,#REF!,2,0)-VLOOKUP($A90,$A$4:$BI$82,R$3,0)","v":{"$error":"#REF!"}},{"$f":"VLOOKUP($A90,#REF!,2,0)-VLOOKUP($A90,$A$4:$BI$82,S$3,0)","v":{"$error":"#REF!"}},{"$f":"VLOOKUP($A90,#REF!,2,0)-VLOOKUP($A90,$A$4:$BI$82,T$3,0)","v":{"$error":"#REF!"}},{"$f":"VLOOKUP($A90,#REF!,2,0)-VLOOKUP($A90,$A$4:$BI$82,U$3,0)","v":{"$error":"#REF!"}},{"$f":"VLOOKUP($A90,#REF!,2,0)-VLOOKUP($A90,$A$4:$BI$82,V$3,0)","v":{"$error":"#REF!"}},{"$f":"VLOOKUP($A90,#REF!,2,0)-VLOOKUP($A90,$A$4:$BI$82,W$3,0)","v":{"$error":"#REF!"}},{"$f":"VLOOKUP($A90,#REF!,2,0)-VLOOKUP($A90,$A$4:$BI$82,X$3,0)","v":{"$error":"#REF!"}},{"$f":"VLOOKUP($A90,#REF!,2,0)-VLOOKUP($A90,$A$4:$BI$82,Y$3,0)","v":{"$error":"#REF!"}},{"$f":"VLOOKUP($A90,#REF!,2,0)-VLOOKUP($A90,$A$4:$BI$82,Z$3,0)","v":{"$error":"#REF!"}},{"$f":"VLOOKUP($A90,#REF!,2,0)-VLOOKUP($A90,$A$4:$BI$82,AA$3,0)","v":{"$error":"#REF!"}},{"$f":"VLOOKUP($A90,#REF!,2,0)-VLOOKUP($A90,$A$4:$BI$82,AB$3,0)","v":{"$error":"#REF!"}},{"$f":"VLOOKUP($A90,#REF!,2,0)-VLOOKUP($A90,$A$4:$BI$82,AC$3,0)","v":{"$error":"#REF!"}},{"$f":"VLOOKUP($A90,#REF!,2,0)-VLOOKUP($A90,$A$4:$BI$82,AD$3,0)","v":{"$error":"#REF!"}},{"$f":"VLOOKUP($A90,#REF!,2,0)-VLOOKUP($A90,$A$4:$BI$82,AE$3,0)","v":{"$error":"#REF!"}},{"$f":"VLOOKUP($A90,#REF!,2,0)-VLOOKUP($A90,$A$4:$BI$82,AF$3,0)","v":{"$error":"#REF!"}},{"$f":"VLOOKUP($A90,#REF!,2,0)-VLOOKUP($A90,$A$4:$BI$82,AG$3,0)","v":{"$error":"#REF!"}},{"$f":"VLOOKUP($A90,#REF!,2,0)-VLOOKUP($A90,$A$4:$BI$82,AH$3,0)","v":{"$error":"#REF!"}},{"$f":"VLOOKUP($A90,#REF!,2,0)-VLOOKUP($A90,$A$4:$BI$82,AI$3,0)","v":{"$error":"#REF!"}},{"$f":"VLOOKUP($A90,#REF!,2,0)-VLOOKUP($A90,$A$4:$BI$82,AJ$3,0)","v":{"$error":"#REF!"}},{"$f":"VLOOKUP($A90,#REF!,2,0)-VLOOKUP($A90,$A$4:$BI$82,AK$3,0)","v":{"$error":"#REF!"}},{"$f":"VLOOKUP($A90,#REF!,2,0)-VLOOKUP($A90,$A$4:$BI$82,AL$3,0)","v":{"$error":"#REF!"}},{"$f":"VLOOKUP($A90,#REF!,2,0)-VLOOKUP($A90,$A$4:$BI$82,AM$3,0)","v":{"$error":"#REF!"}},{"$f":"VLOOKUP($A90,#REF!,2,0)-VLOOKUP($A90,$A$4:$BI$82,AN$3,0)","v":{"$error":"#REF!"}},{"$f":"VLOOKUP($A90,#REF!,2,0)-VLOOKUP($A90,$A$4:$BI$82,AO$3,0)","v":{"$error":"#REF!"}},{"$f":"VLOOKUP($A90,#REF!,2,0)-VLOOKUP($A90,$A$4:$BI$82,AP$3,0)","v":{"$error":"#REF!"}},{"$f":"VLOOKUP($A90,#REF!,2,0)-VLOOKUP($A90,$A$4:$BI$82,AQ$3,0)","v":{"$error":"#REF!"}},{"$f":"VLOOKUP($A90,#REF!,2,0)-VLOOKUP($A90,$A$4:$BI$82,AR$3,0)","v":{"$error":"#REF!"}},{"$f":"VLOOKUP($A90,#REF!,2,0)-VLOOKUP($A90,$A$4:$BI$82,AS$3,0)","v":{"$error":"#REF!"}},{"$f":"VLOOKUP($A90,#REF!,2,0)-VLOOKUP($A90,$A$4:$BI$82,AT$3,0)","v":{"$error":"#REF!"}},{"$f":"VLOOKUP($A90,#REF!,2,0)-VLOOKUP($A90,$A$4:$BI$82,AU$3,0)","v":{"$error":"#REF!"}},{"$f":"VLOOKUP($A90,#REF!,2,0)-VLOOKUP($A90,$A$4:$BI$82,AV$3,0)","v":{"$error":"#REF!"}},{"$f":"VLOOKUP($A90,#REF!,2,0)-VLOOKUP($A90,$A$4:$BI$82,AW$3,0)","v":{"$error":"#REF!"}},{"$f":"VLOOKUP($A90,#REF!,2,0)-VLOOKUP($A90,$A$4:$BI$82,AX$3,0)","v":{"$error":"#REF!"}},{"$f":"VLOOKUP($A90,#REF!,2,0)-VLOOKUP($A90,$A$4:$BI$82,AY$3,0)","v":{"$error":"#REF!"}},{"$f":"VLOOKUP($A90,#REF!,2,0)-VLOOKUP($A90,$A$4:$BI$82,AZ$3,0)","v":{"$error":"#REF!"}},{"$f":"VLOOKUP($A90,#REF!,2,0)-VLOOKUP($A90,$A$4:$BI$82,BA$3,0)","v":{"$error":"#REF!"}},{"$f":"VLOOKUP($A90,#REF!,2,0)-VLOOKUP($A90,$A$4:$BI$82,BB$3,0)","v":{"$error":"#REF!"}},{"$f":"VLOOKUP($A90,#REF!,2,0)-VLOOKUP($A90,$A$4:$BI$82,BC$3,0)","v":{"$error":"#REF!"}},{"$f":"VLOOKUP($A90,#REF!,2,0)-VLOOKUP($A90,$A$4:$BI$82,BD$3,0)","v":{"$error":"#REF!"}},{"$f":"VLOOKUP($A90,#REF!,2,0)-VLOOKUP($A90,$A$4:$BI$82,BE$3,0)","v":{"$error":"#REF!"}},{"$f":"VLOOKUP($A90,#REF!,2,0)-VLOOKUP($A90,$A$4:$BI$82,BF$3,0)","v":{"$error":"#REF!"}},{"$f":"VLOOKUP($A90,#REF!,2,0)-VLOOKUP($A90,$A$4:$BI$82,BG$3,0)","v":{"$error":"#REF!"}},{"$f":"VLOOKUP($A90,#REF!,2,0)-VLOOKUP($A90,$A$4:$BI$82,BH$3,0)","v":{"$error":"#REF!"}},{"$f":"VLOOKUP($A90,#REF!,2,0)-VLOOKUP($A90,$A$4:$BI$82,BI$3,0)","v":{"$error":"#REF!"}}]
["Caldera Energy Corp.",null,null,null,null,null,null,null,null,null,null,null,{"$f":"VLOOKUP($A91,#REF!,3,0)","v":{"$error":"#REF!"}},{"$f":"VLOOKUP($A91,#REF!,2,0)-VLOOKUP($A91,$A$4:$BI$82,N$3,0)","v":{"$error":"#REF!"}},{"$f":"VLOOKUP($A91,#REF!,2,0)-VLOOKUP($A91,$A$4:$BI$82,O$3,0)","v":{"$error":"#REF!"}},{"$f":"VLOOKUP($A91,#REF!,2,0)-VLOOKUP($A91,$A$4:$BI$82,P$3,0)","v":{"$error":"#REF!"}},{"$f":"VLOOKUP($A91,#REF!,2,0)-VLOOKUP($A91,$A$4:$BI$82,Q$3,0)","v":{"$error":"#REF!"}},{"$f":"VLOOKUP($A91,#REF!,2,0)-VLOOKUP($A91,$A$4:$BI$82,R$3,0)","v":{"$error":"#REF!"}},{"$f":"VLOOKUP($A91,#REF!,2,0)-VLOOKUP($A91,$A$4:$BI$82,S$3,0)","v":{"$error":"#REF!"}},{"$f":"VLOOKUP($A91,#REF!,2,0)-VLOOKUP($A91,$A$4:$BI$82,T$3,0)","v":{"$error":"#REF!"}},{"$f":"VLOOKUP($A91,#REF!,2,0)-VLOOKUP($A91,$A$4:$BI$82,U$3,0)","v":{"$error":"#REF!"}},{"$f":"VLOOKUP($A91,#REF!,2,0)-VLOOKUP($A91,$A$4:$BI$82,V$3,0)","v":{"$error":"#REF!"}},{"$f":"VLOOKUP($A91,#REF!,2,0)-VLOOKUP($A91,$A$4:$BI$82,W$3,0)","v":{"$error":"#REF!"}},{"$f":"VLOOKUP($A91,#REF!,2,0)-VLOOKUP($A91,$A$4:$BI$82,X$3,0)","v":{"$error":"#REF!"}},{"$f":"VLOOKUP($A91,#REF!,2,0)-VLOOKUP($A91,$A$4:$BI$82,Y$3,0)","v":{"$error":"#REF!"}},{"$f":"VLOOKUP($A91,#REF!,2,0)-VLOOKUP($A91,$A$4:$BI$82,Z$3,0)","v":{"$error":"#REF!"}},{"$f":"VLOOKUP($A91,#REF!,2,0)-VLOOKUP($A91,$A$4:$BI$82,AA$3,0)","v":{"$error":"#REF!"}},{"$f":"VLOOKUP($A91,#REF!,2,0)-VLOOKUP($A91,$A$4:$BI$82,AB$3,0)","v":{"$error":"#REF!"}},{"$f":"VLOOKUP($A91,#REF!,2,0)-VLOOKUP($A91,$A$4:$BI$82,AC$3,0)","v":{"$error":"#REF!"}},{"$f":"VLOOKUP($A91,#REF!,2,0)-VLOOKUP($A91,$A$4:$BI$82,AD$3,0)","v":{"$error":"#REF!"}},{"$f":"VLOOKUP($A91,#REF!,2,0)-VLOOKUP($A91,$A$4:$BI$82,AE$3,0)","v":{"$error":"#REF!"}},{"$f":"VLOOKUP($A91,#REF!,2,0)-VLOOKUP($A91,$A$4:$BI$82,AF$3,0)","v":{"$error":"#REF!"}},{"$f":"VLOOKUP($A91,#REF!,2,0)-VLOOKUP($A91,$A$4:$BI$82,AG$3,0)","v":{"$error":"#REF!"}},{"$f":"VLOOKUP($A91,#REF!,2,0)-VLOOKUP($A91,$A$4:$BI$82,AH$3,0)","v":{"$error":"#REF!"}},{"$f":"VLOOKUP($A91,#REF!,2,0)-VLOOKUP($A91,$A$4:$BI$82,AI$3,0)","v":{"$error":"#REF!"}},{"$f":"VLOOKUP($A91,#REF!,2,0)-VLOOKUP($A91,$A$4:$BI$82,AJ$3,0)","v":{"$error":"#REF!"}},{"$f":"VLOOKUP($A91,#REF!,2,0)-VLOOKUP($A91,$A$4:$BI$82,AK$3,0)","v":{"$error":"#REF!"}},{"$f":"VLOOKUP($A91,#REF!,2,0)-VLOOKUP($A91,$A$4:$BI$82,AL$3,0)","v":{"$error":"#REF!"}},{"$f":"VLOOKUP($A91,#REF!,2,0)-VLOOKUP($A91,$A$4:$BI$82,AM$3,0)","v":{"$error":"#REF!"}},{"$f":"VLOOKUP($A91,#REF!,2,0)-VLOOKUP($A91,$A$4:$BI$82,AN$3,0)","v":{"$error":"#REF!"}},{"$f":"VLOOKUP($A91,#REF!,2,0)-VLOOKUP($A91,$A$4:$BI$82,AO$3,0)","v":{"$error":"#REF!"}},{"$f":"VLOOKUP($A91,#REF!,2,0)-VLOOKUP($A91,$A$4:$BI$82,AP$3,0)","v":{"$error":"#REF!"}},{"$f":"VLOOKUP($A91,#REF!,2,0)-VLOOKUP($A91,$A$4:$BI$82,AQ$3,0)","v":{"$error":"#REF!"}},{"$f":"VLOOKUP($A91,#REF!,2,0)-VLOOKUP($A91,$A$4:$BI$82,AR$3,0)","v":{"$error":"#REF!"}},{"$f":"VLOOKUP($A91,#REF!,2,0)-VLOOKUP($A91,$A$4:$BI$82,AS$3,0)","v":{"$error":"#REF!"}},{"$f":"VLOOKUP($A91,#REF!,2,0)-VLOOKUP($A91,$A$4:$BI$82,AT$3,0)","v":{"$error":"#REF!"}},{"$f":"VLOOKUP($A91,#REF!,2,0)-VLOOKUP($A91,$A$4:$BI$82,AU$3,0)","v":{"$error":"#REF!"}},{"$f":"VLOOKUP($A91,#REF!,2,0)-VLOOKUP($A91,$A$4:$BI$82,AV$3,0)","v":{"$error":"#REF!"}},{"$f":"VLOOKUP($A91,#REF!,2,0)-VLOOKUP($A91,$A$4:$BI$82,AW$3,0)","v":{"$error":"#REF!"}},{"$f":"VLOOKUP($A91,#REF!,2,0)-VLOOKUP($A91,$A$4:$BI$82,AX$3,0)","v":{"$error":"#REF!"}},{"$f":"VLOOKUP($A91,#REF!,2,0)-VLOOKUP($A91,$A$4:$BI$82,AY$3,0)","v":{"$error":"#REF!"}},{"$f":"VLOOKUP($A91,#REF!,2,0)-VLOOKUP($A91,$A$4:$BI$82,AZ$3,0)","v":{"$error":"#REF!"}},{"$f":"VLOOKUP($A91,#REF!,2,0)-VLOOKUP($A91,$A$4:$BI$82,BA$3,0)","v":{"$error":"#REF!"}},{"$f":"VLOOKUP($A91,#REF!,2,0)-VLOOKUP($A91,$A$4:$BI$82,BB$3,0)","v":{"$error":"#REF!"}},{"$f":"VLOOKUP($A91,#REF!,2,0)-VLOOKUP($A91,$A$4:$BI$82,BC$3,0)","v":{"$error":"#REF!"}},{"$f":"VLOOKUP($A91,#REF!,2,0)-VLOOKUP($A91,$A$4:$BI$82,BD$3,0)","v":{"$error":"#REF!"}},{"$f":"VLOOKUP($A91,#REF!,2,0)-VLOOKUP($A91,$A$4:$BI$82,BE$3,0)","v":{"$error":"#REF!"}},{"$f":"VLOOKUP($A91,#REF!,2,0)-VLOOKUP($A91,$A$4:$BI$82,BF$3,0)","v":{"$error":"#REF!"}},{"$f":"VLOOKUP($A91,#REF!,2,0)-VLOOKUP($A91,$A$4:$BI$82,BG$3,0)","v":{"$error":"#REF!"}},{"$f":"VLOOKUP($A91,#REF!,2,0)-VLOOKUP($A91,$A$4:$BI$82,BH$3,0)","v":{"$error":"#REF!"}},{"$f":"VLOOKUP($A91,#REF!,2,0)-VLOOKUP($A91,$A$4:$BI$82,BI$3,0)","v":{"$error":"#REF!"}}]
["Consorcio Energyst - International",null,null,null,null,null,null,null,null,null,null,null,{"$f":"VLOOKUP($A92,#REF!,3,0)","v":{"$error":"#REF!"}},{"$f":"VLOOKUP($A92,#REF!,2,0)-VLOOKUP($A92,$A$4:$BI$82,N$3,0)","v":{"$error":"#REF!"}},{"$f":"VLOOKUP($A92,#REF!,2,0)-VLOOKUP($A92,$A$4:$BI$82,O$3,0)","v":{"$error":"#REF!"}},{"$f":"VLOOKUP($A92,#REF!,2,0)-VLOOKUP($A92,$A$4:$BI$82,P$3,0)","v":{"$error":"#REF!"}},{"$f":"VLOOKUP($A92,#REF!,2,0)-VLOOKUP($A92,$A$4:$BI$82,Q$3,0)","v":{"$error":"#REF!"}},{"$f":"VLOOKUP($A92,#REF!,2,0)-VLOOKUP($A92,$A$4:$BI$82,R$3,0)","v":{"$error":"#REF!"}},{"$f":"VLOOKUP($A92,#REF!,2,0)-VLOOKUP($A92,$A$4:$BI$82,S$3,0)","v":{"$error":"#REF!"}},{"$f":"VLOOKUP($A92,#REF!,2,0)-VLOOKUP($A92,$A$4:$BI$82,T$3,0)","v":{"$error":"#REF!"}},{"$f":"VLOOKUP($A92,#REF!,2,0)-VLOOKUP($A92,$A$4:$BI$82,U$3,0)","v":{"$error":"#REF!"}},{"$f":"VLOOKUP($A92,#REF!,2,0)-VLOOKUP($A92,$A$4:$BI$82,V$3,0)","v":{"$error":"#REF!"}},{"$f":"VLOOKUP($A92,#REF!,2,0)-VLOOKUP($A92,$A$4:$BI$82,W$3,0)","v":{"$error":"#REF!"}},{"$f":"VLOOKUP($A92,#REF!,2,0)-VLOOKUP($A92,$A$4:$BI$82,X$3,0)","v":{"$error":"#REF!"}},{"$f":"VLOOKUP($A92,#REF!,2,0)-VLOOKUP($A92,$A$4:$BI$82,Y$3,0)","v":{"$error":"#REF!"}},{"$f":"VLOOKUP($A92,#REF!,2,0)-VLOOKUP($A92,$A$4:$BI$82,Z$3,0)","v":{"$error":"#REF!"}},{"$f":"VLOOKUP($A92,#REF!,2,0)-VLOOKUP($A92,$A$4:$BI$82,AA$3,0)","v":{"$error":"#REF!"}},{"$f":"VLOOKUP($A92,#REF!,2,0)-VLOOKUP($A92,$A$4:$BI$82,AB$3,0)","v":{"$error":"#REF!"}},{"$f":"VLOOKUP($A92,#REF!,2,0)-VLOOKUP($A92,$A$4:$BI$82,AC$3,0)","v":{"$error":"#REF!"}},{"$f":"VLOOKUP($A92,#REF!,2,0)-VLOOKUP($A92,$A$4:$BI$82,AD$3,0)","v":{"$error":"#REF!"}},{"$f":"VLOOKUP($A92,#REF!,2,0)-VLOOKUP($A92,$A$4:$BI$82,AE$3,0)","v":{"$error":"#REF!"}},{"$f":"VLOOKUP($A92,#REF!,2,0)-VLOOKUP($A92,$A$4:$BI$82,AF$3,0)","v":{"$error":"#REF!"}},{"$f":"VLOOKUP($A92,#REF!,2,0)-VLOOKUP($A92,$A$4:$BI$82,AG$3,0)","v":{"$error":"#REF!"}},{"$f":"VLOOKUP($A92,#REF!,2,0)-VLOOKUP($A92,$A$4:$BI$82,AH$3,0)","v":{"$error":"#REF!"}},{"$f":"VLOOKUP($A92,#REF!,2,0)-VLOOKUP($A92,$A$4:$BI$82,AI$3,0)","v":{"$error":"#REF!"}},{"$f":"VLOOKUP($A92,#REF!,2,0)-VLOOKUP($A92,$A$4:$BI$82,AJ$3,0)","v":{"$error":"#REF!"}},{"$f":"VLOOKUP($A92,#REF!,2,0)-VLOOKUP($A92,$A$4:$BI$82,AK$3,0)","v":{"$error":"#REF!"}},{"$f":"VLOOKUP($A92,#REF!,2,0)-VLOOKUP($A92,$A$4:$BI$82,AL$3,0)","v":{"$error":"#REF!"}},{"$f":"VLOOKUP($A92,#REF!,2,0)-VLOOKUP($A92,$A$4:$BI$82,AM$3,0)","v":{"$error":"#REF!"}},{"$f":"VLOOKUP($A92,#REF!,2,0)-VLOOKUP($A92,$A$4:$BI$82,AN$3,0)","v":{"$error":"#REF!"}},{"$f":"VLOOKUP($A92,#REF!,2,0)-VLOOKUP($A92,$A$4:$BI$82,AO$3,0)","v":{"$error":"#REF!"}},{"$f":"VLOOKUP($A92,#REF!,2,0)-VLOOKUP($A92,$A$4:$BI$82,AP$3,0)","v":{"$error":"#REF!"}},{"$f":"VLOOKUP($A92,#REF!,2,0)-VLOOKUP($A92,$A$4:$BI$82,AQ$3,0)","v":{"$error":"#REF!"}},{"$f":"VLOOKUP($A92,#REF!,2,0)-VLOOKUP($A92,$A$4:$BI$82,AR$3,0)","v":{"$error":"#REF!"}},{"$f":"VLOOKUP($A92,#REF!,2,0)-VLOOKUP($A92,$A$4:$BI$82,AS$3,0)","v":{"$error":"#REF!"}},{"$f":"VLOOKUP($A92,#REF!,2,0)-VLOOKUP($A92,$A$4:$BI$82,AT$3,0)","v":{"$error":"#REF!"}},{"$f":"VLOOKUP($A92,#REF!,2,0)-VLOOKUP($A92,$A$4:$BI$82,AU$3,0)","v":{"$error":"#REF!"}},{"$f":"VLOOKUP($A92,#REF!,2,0)-VLOOKUP($A92,$A$4:$BI$82,AV$3,0)","v":{"$error":"#REF!"}},{"$f":"VLOOKUP($A92,#REF!,2,0)-VLOOKUP($A92,$A$4:$BI$82,AW$3,0)","v":{"$error":"#REF!"}},{"$f":"VLOOKUP($A92,#REF!,2,0)-VLOOKUP($A92,$A$4:$BI$82,AX$3,0)","v":{"$error":"#REF!"}},{"$f":"VLOOKUP($A92,#REF!,2,0)-VLOOKUP($A92,$A$4:$BI$82,AY$3,0)","v":{"$error":"#REF!"}},{"$f":"VLOOKUP($A92,#REF!,2,0)-VLOOKUP($A92,$A$4:$BI$82,AZ$3,0)","v":{"$error":"#REF!"}},{"$f":"VLOOKUP($A92,#REF!,2,0)-VLOOKUP($A92,$A$4:$BI$82,BA$3,0)","v":{"$error":"#REF!"}},{"$f":"VLOOKUP($A92,#REF!,2,0)-VLOOKUP($A92,$A$4:$BI$82,BB$3,0)","v":{"$error":"#REF!"}},{"$f":"VLOOKUP($A92,#REF!,2,0)-VLOOKUP($A92,$A$4:$BI$82,BC$3,0)","v":{"$error":"#REF!"}},{"$f":"VLOOKUP($A92,#REF!,2,0)-VLOOKUP($A92,$A$4:$BI$82,BD$3,0)","v":{"$error":"#REF!"}},{"$f":"VLOOKUP($A92,#REF!,2,0)-VLOOKUP($A92,$A$4:$BI$82,BE$3,0)","v":{"$error":"#REF!"}},{"$f":"VLOOKUP($A92,#REF!,2,0)-VLOOKUP($A92,$A$4:$BI$82,BF$3,0)","v":{"$error":"#REF!"}},{"$f":"VLOOKUP($A92,#REF!,2,0)-VLOOKUP($A92,$A$4:$BI$82,BG$3,0)","v":{"$error":"#REF!"}},{"$f":"VLOOKUP($A92,#REF!,2,0)-VLOOKUP($A92,$A$4:$BI$82,BH$3,0)","v":{"$error":"#REF!"}},{"$f":"VLOOKUP($A92,#REF!,2,0)-VLOOKUP($A92,$A$4:$BI$82,BI$3,0)","v":{"$error":"#REF!"}}]
["Corporación de Energía del Istmo LTD, S.A.",null,null,null,null,null,null,null,null,null,null,null,{"$f":"VLOOKUP($A93,#REF!,3,0)","v":{"$error":"#REF!"}},{"$f":"VLOOKUP($A93,#REF!,2,0)-VLOOKUP($A93,$A$4:$BI$82,N$3,0)","v":{"$error":"#REF!"}},{"$f":"VLOOKUP($A93,#REF!,2,0)-VLOOKUP($A93,$A$4:$BI$82,O$3,0)","v":{"$error":"#REF!"}},{"$f":"VLOOKUP($A93,#REF!,2,0)-VLOOKUP($A93,$A$4:$BI$82,P$3,0)","v":{"$error":"#REF!"}},{"$f":"VLOOKUP($A93,#REF!,2,0)-VLOOKUP($A93,$A$4:$BI$82,Q$3,0)","v":{"$error":"#REF!"}},{"$f":"VLOOKUP($A93,#REF!,2,0)-VLOOKUP($A93,$A$4:$BI$82,R$3,0)","v":{"$error":"#REF!"}},{"$f":"VLOOKUP($A93,#REF!,2,0)-VLOOKUP($A93,$A$4:$BI$82,S$3,0)","v":{"$error":"#REF!"}},{"$f":"VLOOKUP($A93,#REF!,2,0)-VLOOKUP($A93,$A$4:$BI$82,T$3,0)","v":{"$error":"#REF!"}},{"$f":"VLOOKUP($A93,#REF!,2,0)-VLOOKUP($A93,$A$4:$BI$82,U$3,0)","v":{"$error":"#REF!"}},{"$f":"VLOOKUP($A93,#REF!,2,0)-VLOOKUP($A93,$A$4:$BI$82,V$3,0)","v":{"$error":"#REF!"}},{"$f":"VLOOKUP($A93,#REF!,2,0)-VLOOKUP($A93,$A$4:$BI$82,W$3,0)","v":{"$error":"#REF!"}},{"$f":"VLOOKUP($A93,#REF!,2,0)-VLOOKUP($A93,$A$4:$BI$82,X$3,0)","v":{"$error":"#REF!"}},{"$f":"VLOOKUP($A93,#REF!,2,0)-VLOOKUP($A93,$A$4:$BI$82,Y$3,0)","v":{"$error":"#REF!"}},{"$f":"VLOOKUP($A93,#REF!,2,0)-VLOOKUP($A93,$A$4:$BI$82,Z$3,0)","v":{"$error":"#REF!"}},{"$f":"VLOOKUP($A93,#REF!,2,0)-VLOOKUP($A93,$A$4:$BI$82,AA$3,0)","v":{"$error":"#REF!"}},{"$f":"VLOOKUP($A93,#REF!,2,0)-VLOOKUP($A93,$A$4:$BI$82,AB$3,0)","v":{"$error":"#REF!"}},{"$f":"VLOOKUP($A93,#REF!,2,0)-VLOOKUP($A93,$A$4:$BI$82,AC$3,0)","v":{"$error":"#REF!"}},{"$f":"VLOOKUP($A93,#REF!,2,0)-VLOOKUP($A93,$A$4:$BI$82,AD$3,0)","v":{"$error":"#REF!"}},{"$f":"VLOOKUP($A93,#REF!,2,0)-VLOOKUP($A93,$A$4:$BI$82,AE$3,0)","v":{"$error":"#REF!"}},{"$f":"VLOOKUP($A93,#REF!,2,0)-VLOOKUP($A93,$A$4:$BI$82,AF$3,0)","v":{"$error":"#REF!"}},{"$f":"VLOOKUP($A93,#REF!,2,0)-VLOOKUP($A93,$A$4:$BI$82,AG$3,0)","v":{"$error":"#REF!"}},{"$f":"VLOOKUP($A93,#REF!,2,0)-VLOOKUP($A93,$A$4:$BI$82,AH$3,0)","v":{"$error":"#REF!"}},{"$f":"VLOOKUP($A93,#REF!,2,0)-VLOOKUP($A93,$A$4:$BI$82,AI$3,0)","v":{"$error":"#REF!"}},{"$f":"VLOOKUP($A93,#REF!,2,0)-VLOOKUP($A93,$A$4:$BI$82,AJ$3,0)","v":{"$error":"#REF!"}},{"$f":"VLOOKUP($A93,#REF!,2,0)-VLOOKUP($A93,$A$4:$BI$82,AK$3,0)","v":{"$error":"#REF!"}},{"$f":"VLOOKUP($A93,#REF!,2,0)-VLOOKUP($A93,$A$4:$BI$82,AL$3,0)","v":{"$error":"#REF!"}},{"$f":"VLOOKUP($A93,#REF!,2,0)-VLOOKUP($A93,$A$4:$BI$82,AM$3,0)","v":{"$error":"#REF!"}},{"$f":"VLOOKUP($A93,#REF!,2,0)-VLOOKUP($A93,$A$4:$BI$82,AN$3,0)","v":{"$error":"#REF!"}},{"$f":"VLOOKUP($A93,#REF!,2,0)-VLOOKUP($A93,$A$4:$BI$82,AO$3,0)","v":{"$error":"#REF!"}},{"$f":"VLOOKUP($A93,#REF!,2,0)-VLOOKUP($A93,$A$4:$BI$82,AP$3,0)","v":{"$error":"#REF!"}},{"$f":"VLOOKUP($A93,#REF!,2,0)-VLOOKUP($A93,$A$4:$BI$82,AQ$3,0)","v":{"$error":"#REF!"}},{"$f":"VLOOKUP($A93,#REF!,2,0)-VLOOKUP($A93,$A$4:$BI$82,AR$3,0)","v":{"$error":"#REF!"}},{"$f":"VLOOKUP($A93,#REF!,2,0)-VLOOKUP($A93,$A$4:$BI$82,AS$3,0)","v":{"$error":"#REF!"}},{"$f":"VLOOKUP($A93,#REF!,2,0)-VLOOKUP($A93,$A$4:$BI$82,AT$3,0)","v":{"$error":"#REF!"}},{"$f":"VLOOKUP($A93,#REF!,2,0)-VLOOKUP($A93,$A$4:$BI$82,AU$3,0)","v":{"$error":"#REF!"}},{"$f":"VLOOKUP($A93,#REF!,2,0)-VLOOKUP($A93,$A$4:$BI$82,AV$3,0)","v":{"$error":"#REF!"}},{"$f":"VLOOKUP($A93,#REF!,2,0)-VLOOKUP($A93,$A$4:$BI$82,AW$3,0)","v":{"$error":"#REF!"}},{"$f":"VLOOKUP($A93,#REF!,2,0)-VLOOKUP($A93,$A$4:$BI$82,AX$3,0)","v":{"$error":"#REF!"}},{"$f":"VLOOKUP($A93,#REF!,2,0)-VLOOKUP($A93,$A$4:$BI$82,AY$3,0)","v":{"$error":"#REF!"}},{"$f":"VLOOKUP($A93,#REF!,2,0)-VLOOKUP($A93,$A$4:$BI$82,AZ$3,0)","v":{"$error":"#REF!"}},{"$f":"VLOOKUP($A93,#REF!,2,0)-VLOOKUP($A93,$A$4:$BI$82,BA$3,0)","v":{"$error":"#REF!"}},{"$f":"VLOOKUP($A93,#REF!,2,0)-VLOOKUP($A93,$A$4:$BI$82,BB$3,0)","v":{"$error":"#REF!"}},{"$f":"VLOOKUP($A93,#REF!,2,0)-VLOOKUP($A93,$A$4:$BI$82,BC$3,0)","v":{"$error":"#REF!"}},{"$f":"VLOOKUP($A93,#REF!,2,0)-VLOOKUP($A93,$A$4:$BI$82,BD$3,0)","v":{"$error":"#REF!"}},{"$f":"VLOOKUP($A93,#REF!,2,0)-VLOOKUP($A93,$A$4:$BI$82,BE$3,0)","v":{"$error":"#REF!"}},{"$f":"VLOOKUP($A93,#REF!,2,0)-VLOOKUP($A93,$A$4:$BI$82,BF$3,0)","v":{"$error":"#REF!"}},{"$f":"VLOOKUP($A93,#REF!,2,0)-VLOOKUP($A93,$A$4:$BI$82,BG$3,0)","v":{"$error":"#REF!"}},{"$f":"VLOOKUP($A93,#REF!,2,0)-VLOOKUP($A93,$A$4:$BI$82,BH$3,0)","v":{"$error":"#REF!"}},{"$f":"VLOOKUP($A93,#REF!,2,0)-VLOOKUP($A93,$A$4:$BI$82,BI$3,0)","v":{"$error":"#REF!"}}]
["Desarrollos Hidroeléctricos Corp.",null,null,null,null,null,null,null,null,null,null,null,{"$f":"VLOOKUP($A94,#REF!,3,0)","v":{"$error":"#REF!"}},{"$f":"VLOOKUP($A94,#REF!,2,0)-VLOOKUP($A94,$A$4:$BI$82,N$3,0)","v":{"$error":"#REF!"}},{"$f":"VLOOKUP($A94,#REF!,2,0)-VLOOKUP($A94,$A$4:$BI$82,O$3,0)","v":{"$error":"#REF!"}},{"$f":"VLOOKUP($A94,#REF!,2,0)-VLOOKUP($A94,$A$4:$BI$82,P$3,0)","v":{"$error":"#REF!"}},{"$f":"VLOOKUP($A94,#REF!,2,0)-VLOOKUP($A94,$A$4:$BI$82,Q$3,0)","v":{"$error":"#REF!"}},{"$f":"VLOOKUP($A94,#REF!,2,0)-VLOOKUP($A94,$A$4:$BI$82,R$3,0)","v":{"$error":"#REF!"}},{"$f":"VLOOKUP($A94,#REF!,2,0)-VLOOKUP($A94,$A$4:$BI$82,S$3,0)","v":{"$error":"#REF!"}},{"$f":"VLOOKUP($A94,#REF!,2,0)-VLOOKUP($A94,$A$4:$BI$82,T$3,0)","v":{"$error":"#REF!"}},{"$f":"VLOOKUP($A94,#REF!,2,0)-VLOOKUP($A94,$A$4:$BI$82,U$3,0)","v":{"$error":"#REF!"}},{"$f":"VLOOKUP($A94,#REF!,2,0)-VLOOKUP($A94,$A$4:$BI$82,V$3,0)","v":{"$error":"#REF!"}},{"$f":"VLOOKUP($A94,#REF!,2,0)-VLOOKUP($A94,$A$4:$BI$82,W$3,0)","v":{"$error":"#REF!"}},{"$f":"VLOOKUP($A94,#REF!,2,0)-VLOOKUP($A94,$A$4:$BI$82,X$3,0)","v":{"$error":"#REF!"}},{"$f":"VLOOKUP($A94,#REF!,2,0)-VLOOKUP($A94,$A$4:$BI$82,Y$3,0)","v":{"$error":"#REF!"}},{"$f":"VLOOKUP($A94,#REF!,2,0)-VLOOKUP($A94,$A$4:$BI$82,Z$3,0)","v":{"$error":"#REF!"}},{"$f":"VLOOKUP($A94,#REF!,2,0)-VLOOKUP($A94,$A$4:$BI$82,AA$3,0)","v":{"$error":"#REF!"}},{"$f":"VLOOKUP($A94,#REF!,2,0)-VLOOKUP($A94,$A$4:$BI$82,AB$3,0)","v":{"$error":"#REF!"}},{"$f":"VLOOKUP($A94,#REF!,2,0)-VLOOKUP($A94,$A$4:$BI$82,AC$3,0)","v":{"$error":"#REF!"}},{"$f":"VLOOKUP($A94,#REF!,2,0)-VLOOKUP($A94,$A$4:$BI$82,AD$3,0)","v":{"$error":"#REF!"}},{"$f":"VLOOKUP($A94,#REF!,2,0)-VLOOKUP($A94,$A$4:$BI$82,AE$3,0)","v":{"$error":"#REF!"}},{"$f":"VLOOKUP($A94,#REF!,2,0)-VLOOKUP($A94,$A$4:$BI$82,AF$3,0)","v":{"$error":"#REF!"}},{"$f":"VLOOKUP($A94,#REF!,2,0)-VLOOKUP($A94,$A$4:$BI$82,AG$3,0)","v":{"$error":"#REF!"}},{"$f":"VLOOKUP($A94,#REF!,2,0)-VLOOKUP($A94,$A$4:$BI$82,AH$3,0)","v":{"$error":"#REF!"}},{"$f":"VLOOKUP($A94,#REF!,2,0)-VLOOKUP($A94,$A$4:$BI$82,AI$3,0)","v":{"$error":"#REF!"}},{"$f":"VLOOKUP($A94,#REF!,2,0)-VLOOKUP($A94,$A$4:$BI$82,AJ$3,0)","v":{"$error":"#REF!"}},{"$f":"VLOOKUP($A94,#REF!,2,0)-VLOOKUP($A94,$A$4:$BI$82,AK$3,0)","v":{"$error":"#REF!"}},{"$f":"VLOOKUP($A94,#REF!,2,0)-VLOOKUP($A94,$A$4:$BI$82,AL$3,0)","v":{"$error":"#REF!"}},{"$f":"VLOOKUP($A94,#REF!,2,0)-VLOOKUP($A94,$A$4:$BI$82,AM$3,0)","v":{"$error":"#REF!"}},{"$f":"VLOOKUP($A94,#REF!,2,0)-VLOOKUP($A94,$A$4:$BI$82,AN$3,0)","v":{"$error":"#REF!"}},{"$f":"VLOOKUP($A94,#REF!,2,0)-VLOOKUP($A94,$A$4:$BI$82,AO$3,0)","v":{"$error":"#REF!"}},{"$f":"VLOOKUP($A94,#REF!,2,0)-VLOOKUP($A94,$A$4:$BI$82,AP$3,0)","v":{"$error":"#REF!"}},{"$f":"VLOOKUP($A94,#REF!,2,0)-VLOOKUP($A94,$A$4:$BI$82,AQ$3,0)","v":{"$error":"#REF!"}},{"$f":"VLOOKUP($A94,#REF!,2,0)-VLOOKUP($A94,$A$4:$BI$82,AR$3,0)","v":{"$error":"#REF!"}},{"$f":"VLOOKUP($A94,#REF!,2,0)-VLOOKUP($A94,$A$4:$BI$82,AS$3,0)","v":{"$error":"#REF!"}},{"$f":"VLOOKUP($A94,#REF!,2,0)-VLOOKUP($A94,$A$4:$BI$82,AT$3,0)","v":{"$error":"#REF!"}},{"$f":"VLOOKUP($A94,#REF!,2,0)-VLOOKUP($A94,$A$4:$BI$82,AU$3,0)","v":{"$error":"#REF!"}},{"$f":"VLOOKUP($A94,#REF!,2,0)-VLOOKUP($A94,$A$4:$BI$82,AV$3,0)","v":{"$error":"#REF!"}},{"$f":"VLOOKUP($A94,#REF!,2,0)-VLOOKUP($A94,$A$4:$BI$82,AW$3,0)","v":{"$error":"#REF!"}},{"$f":"VLOOKUP($A94,#REF!,2,0)-VLOOKUP($A94,$A$4:$BI$82,AX$3,0)","v":{"$error":"#REF!"}},{"$f":"VLOOKUP($A94,#REF!,2,0)-VLOOKUP($A94,$A$4:$BI$82,AY$3,0)","v":{"$error":"#REF!"}},{"$f":"VLOOKUP($A94,#REF!,2,0)-VLOOKUP($A94,$A$4:$BI$82,AZ$3,0)","v":{"$error":"#REF!"}},{"$f":"VLOOKUP($A94,#REF!,2,0)-VLOOKUP($A94,$A$4:$BI$82,BA$3,0)","v":{"$error":"#REF!"}},{"$f":"VLOOKUP($A94,#REF!,2,0)-VLOOKUP($A94,$A$4:$BI$82,BB$3,0)","v":{"$error":"#REF!"}},{"$f":"VLOOKUP($A94,#REF!,2,0)-VLOOKUP($A94,$A$4:$BI$82,BC$3,0)","v":{"$error":"#REF!"}},{"$f":"VLOOKUP($A94,#REF!,2,0)-VLOOKUP($A94,$A$4:$BI$82,BD$3,0)","v":{"$error":"#REF!"}},{"$f":"VLOOKUP($A94,#REF!,2,0)-VLOOKUP($A94,$A$4:$BI$82,BE$3,0)","v":{"$error":"#REF!"}},{"$f":"VLOOKUP($A94,#REF!,2,0)-VLOOKUP($A94,$A$4:$BI$82,BF$3,0)","v":{"$error":"#REF!"}},{"$f":"VLOOKUP($A94,#REF!,2,0)-VLOOKUP($A94,$A$4:$BI$82,BG$3,0)","v":{"$error":"#REF!"}},{"$f":"VLOOKUP($A94,#REF!,2,0)-VLOOKUP($A94,$A$4:$BI$82,BH$3,0)","v":{"$error":"#REF!"}},{"$f":"VLOOKUP($A94,#REF!,2,0)-VLOOKUP($A94,$A$4:$BI$82,BI$3,0)","v":{"$error":"#REF!"}}]
["Electrogeneradora del Istmo, S.A.",null,null,null,null,null,null,null,null,null,null,null,{"$f":"VLOOKUP($A95,#REF!,3,0)","v":{"$error":"#REF!"}},{"$f":"VLOOKUP($A95,#REF!,2,0)-VLOOKUP($A95,$A$4:$BI$82,N$3,0)","v":{"$error":"#REF!"}},{"$f":"VLOOKUP($A95,#REF!,2,0)-VLOOKUP($A95,$A$4:$BI$82,O$3,0)","v":{"$error":"#REF!"}},{"$f":"VLOOKUP($A95,#REF!,2,0)-VLOOKUP($A95,$A$4:$BI$82,P$3,0)","v":{"$error":"#REF!"}},{"$f":"VLOOKUP($A95,#REF!,2,0)-VLOOKUP($A95,$A$4:$BI$82,Q$3,0)","v":{"$error":"#REF!"}},{"$f":"VLOOKUP($A95,#REF!,2,0)-VLOOKUP($A95,$A$4:$BI$82,R$3,0)","v":{"$error":"#REF!"}},{"$f":"VLOOKUP($A95,#REF!,2,0)-VLOOKUP($A95,$A$4:$BI$82,S$3,0)","v":{"$error":"#REF!"}},{"$f":"VLOOKUP($A95,#REF!,2,0)-VLOOKUP($A95,$A$4:$BI$82,T$3,0)","v":{"$error":"#REF!"}},{"$f":"VLOOKUP($A95,#REF!,2,0)-VLOOKUP($A95,$A$4:$BI$82,U$3,0)","v":{"$error":"#REF!"}},{"$f":"VLOOKUP($A95,#REF!,2,0)-VLOOKUP($A95,$A$4:$BI$82,V$3,0)","v":{"$error":"#REF!"}},{"$f":"VLOOKUP($A95,#REF!,2,0)-VLOOKUP($A95,$A$4:$BI$82,W$3,0)","v":{"$error":"#REF!"}},{"$f":"VLOOKUP($A95,#REF!,2,0)-VLOOKUP($A95,$A$4:$BI$82,X$3,0)","v":{"$error":"#REF!"}},{"$f":"VLOOKUP($A95,#REF!,2,0)-VLOOKUP($A95,$A$4:$BI$82,Y$3,0)","v":{"$error":"#REF!"}},{"$f":"VLOOKUP($A95,#REF!,2,0)-VLOOKUP($A95,$A$4:$BI$82,Z$3,0)","v":{"$error":"#REF!"}},{"$f":"VLOOKUP($A95,#REF!,2,0)-VLOOKUP($A95,$A$4:$BI$82,AA$3,0)","v":{"$error":"#REF!"}},{"$f":"VLOOKUP($A95,#REF!,2,0)-VLOOKUP($A95,$A$4:$BI$82,AB$3,0)","v":{"$error":"#REF!"}},{"$f":"VLOOKUP($A95,#REF!,2,0)-VLOOKUP($A95,$A$4:$BI$82,AC$3,0)","v":{"$error":"#REF!"}},{"$f":"VLOOKUP($A95,#REF!,2,0)-VLOOKUP($A95,$A$4:$BI$82,AD$3,0)","v":{"$error":"#REF!"}},{"$f":"VLOOKUP($A95,#REF!,2,0)-VLOOKUP($A95,$A$4:$BI$82,AE$3,0)","v":{"$error":"#REF!"}},{"$f":"VLOOKUP($A95,#REF!,2,0)-VLOOKUP($A95,$A$4:$BI$82,AF$3,0)","v":{"$error":"#REF!"}},{"$f":"VLOOKUP($A95,#REF!,2,0)-VLOOKUP($A95,$A$4:$BI$82,AG$3,0)","v":{"$error":"#REF!"}},{"$f":"VLOOKUP($A95,#REF!,2,0)-VLOOKUP($A95,$A$4:$BI$82,AH$3,0)","v":{"$error":"#REF!"}},{"$f":"VLOOKUP($A95,#REF!,2,0)-VLOOKUP($A95,$A$4:$BI$82,AI$3,0)","v":{"$error":"#REF!"}},{"$f":"VLOOKUP($A95,#REF!,2,0)-VLOOKUP($A95,$A$4:$BI$82,AJ$3,0)","v":{"$error":"#REF!"}},{"$f":"VLOOKUP($A95,#REF!,2,0)-VLOOKUP($A95,$A$4:$BI$82,AK$3,0)","v":{"$error":"#REF!"}},{"$f":"VLOOKUP($A95,#REF!,2,0)-VLOOKUP($A95,$A$4:$BI$82,AL$3,0)","v":{"$error":"#REF!"}},{"$f":"VLOOKUP($A95,#REF!,2,0)-VLOOKUP($A95,$A$4:$BI$82,AM$3,0)","v":{"$error":"#REF!"}},{"$f":"VLOOKUP($A95,#REF!,2,0)-VLOOKUP($A95,$A$4:$BI$82,AN$3,0)","v":{"$error":"#REF!"}},{"$f":"VLOOKUP($A95,#REF!,2,0)-VLOOKUP($A95,$A$4:$BI$82,AO$3,0)","v":{"$error":"#REF!"}},{"$f":"VLOOKUP($A95,#REF!,2,0)-VLOOKUP($A95,$A$4:$BI$82,AP$3,0)","v":{"$error":"#REF!"}},{"$f":"VLOOKUP($A95,#REF!,2,0)-VLOOKUP($A95,$A$4:$BI$82,AQ$3,0)","v":{"$error":"#REF!"}},{"$f":"VLOOKUP($A95,#REF!,2,0)-VLOOKUP($A95,$A$4:$BI$82,AR$3,0)","v":{"$error":"#REF!"}},{"$f":"VLOOKUP($A95,#REF!,2,0)-VLOOKUP($A95,$A$4:$BI$82,AS$3,0)","v":{"$error":"#REF!"}},{"$f":"VLOOKUP($A95,#REF!,2,0)-VLOOKUP($A95,$A$4:$BI$82,AT$3,0)","v":{"$error":"#REF!"}},{"$f":"VLOOKUP($A95,#REF!,2,0)-VLOOKUP($A95,$A$4:$BI$82,AU$3,0)","v":{"$error":"#REF!"}},{"$f":"VLOOKUP($A95,#REF!,2,0)-VLOOKUP($A95,$A$4:$BI$82,AV$3,0)","v":{"$error":"#REF!"}},{"$f":"VLOOKUP($A95,#REF!,2,0)-VLOOKUP($A95,$A$4:$BI$82,AW$3,0)","v":{"$error":"#REF!"}},{"$f":"VLOOKUP($A95,#REF!,2,0)-VLOOKUP($A95,$A$4:$BI$82,AX$3,0)","v":{"$error":"#REF!"}},{"$f":"VLOOKUP($A95,#REF!,2,0)-VLOOKUP($A95,$A$4:$BI$82,AY$3,0)","v":{"$error":"#REF!"}},{"$f":"VLOOKUP($A95,#REF!,2,0)-VLOOKUP($A95,$A$4:$BI$82,AZ$3,0)","v":{"$error":"#REF!"}},{"$f":"VLOOKUP($A95,#REF!,2,0)-VLOOKUP($A95,$A$4:$BI$82,BA$3,0)","v":{"$error":"#REF!"}},{"$f":"VLOOKUP($A95,#REF!,2,0)-VLOOKUP($A95,$A$4:$BI$82,BB$3,0)","v":{"$error":"#REF!"}},{"$f":"VLOOKUP($A95,#REF!,2,0)-VLOOKUP($A95,$A$4:$BI$82,BC$3,0)","v":{"$error":"#REF!"}},{"$f":"VLOOKUP($A95,#REF!,2,0)-VLOOKUP($A95,$A$4:$BI$82,BD$3,0)","v":{"$error":"#REF!"}},{"$f":"VLOOKUP($A95,#REF!,2,0)-VLOOKUP($A95,$A$4:$BI$82,BE$3,0)","v":{"$error":"#REF!"}},{"$f":"VLOOKUP($A95,#REF!,2,0)-VLOOKUP($A95,$A$4:$BI$82,BF$3,0)","v":{"$error":"#REF!"}},{"$f":"VLOOKUP($A95,#REF!,2,0)-VLOOKUP($A95,$A$4:$BI$82,BG$3,0)","v":{"$error":"#REF!"}},{"$f":"VLOOKUP($A95,#REF!,2,0)-VLOOKUP($A95,$A$4:$BI$82,BH$3,0)","v":{"$error":"#REF!"}},{"$f":"VLOOKUP($A95,#REF!,2,0)-VLOOKUP($A95,$A$4:$BI$82,BI$3,0)","v":{"$error":"#REF!"}}]
["Electron Investment, S.A.",null,null,null,null,null,null,null,null,null,null,null,{"$f":"VLOOKUP($A96,#REF!,3,0)","v":{"$error":"#REF!"}},{"$f":"VLOOKUP($A96,#REF!,2,0)-VLOOKUP($A96,$A$4:$BI$82,N$3,0)","v":{"$error":"#REF!"}},{"$f":"VLOOKUP($A96,#REF!,2,0)-VLOOKUP($A96,$A$4:$BI$82,O$3,0)","v":{"$error":"#REF!"}},{"$f":"VLOOKUP($A96,#REF!,2,0)-VLOOKUP($A96,$A$4:$BI$82,P$3,0)","v":{"$error":"#REF!"}},{"$f":"VLOOKUP($A96,#REF!,2,0)-VLOOKUP($A96,$A$4:$BI$82,Q$3,0)","v":{"$error":"#REF!"}},{"$f":"VLOOKUP($A96,#REF!,2,0)-VLOOKUP($A96,$A$4:$BI$82,R$3,0)","v":{"$error":"#REF!"}},{"$f":"VLOOKUP($A96,#REF!,2,0)-VLOOKUP($A96,$A$4:$BI$82,S$3,0)","v":{"$error":"#REF!"}},{"$f":"VLOOKUP($A96,#REF!,2,0)-VLOOKUP($A96,$A$4:$BI$82,T$3,0)","v":{"$error":"#REF!"}},{"$f":"VLOOKUP($A96,#REF!,2,0)-VLOOKUP($A96,$A$4:$BI$82,U$3,0)","v":{"$error":"#REF!"}},{"$f":"VLOOKUP($A96,#REF!,2,0)-VLOOKUP($A96,$A$4:$BI$82,V$3,0)","v":{"$error":"#REF!"}},{"$f":"VLOOKUP($A96,#REF!,2,0)-VLOOKUP($A96,$A$4:$BI$82,W$3,0)","v":{"$error":"#REF!"}},{"$f":"VLOOKUP($A96,#REF!,2,0)-VLOOKUP($A96,$A$4:$BI$82,X$3,0)","v":{"$error":"#REF!"}},{"$f":"VLOOKUP($A96,#REF!,2,0)-VLOOKUP($A96,$A$4:$BI$82,Y$3,0)","v":{"$error":"#REF!"}},{"$f":"VLOOKUP($A96,#REF!,2,0)-VLOOKUP($A96,$A$4:$BI$82,Z$3,0)","v":{"$error":"#REF!"}},{"$f":"VLOOKUP($A96,#REF!,2,0)-VLOOKUP($A96,$A$4:$BI$82,AA$3,0)","v":{"$error":"#REF!"}},{"$f":"VLOOKUP($A96,#REF!,2,0)-VLOOKUP($A96,$A$4:$BI$82,AB$3,0)","v":{"$error":"#REF!"}},{"$f":"VLOOKUP($A96,#REF!,2,0)-VLOOKUP($A96,$A$4:$BI$82,AC$3,0)","v":{"$error":"#REF!"}},{"$f":"VLOOKUP($A96,#REF!,2,0)-VLOOKUP($A96,$A$4:$BI$82,AD$3,0)","v":{"$error":"#REF!"}},{"$f":"VLOOKUP($A96,#REF!,2,0)-VLOOKUP($A96,$A$4:$BI$82,AE$3,0)","v":{"$error":"#REF!"}},{"$f":"VLOOKUP($A96,#REF!,2,0)-VLOOKUP($A96,$A$4:$BI$82,AF$3,0)","v":{"$error":"#REF!"}},{"$f":"VLOOKUP($A96,#REF!,2,0)-VLOOKUP($A96,$A$4:$BI$82,AG$3,0)","v":{"$error":"#REF!"}},{"$f":"VLOOKUP($A96,#REF!,2,0)-VLOOKUP($A96,$A$4:$BI$82,AH$3,0)","v":{"$error":"#REF!"}},{"$f":"VLOOKUP($A96,#REF!,2,0)-VLOOKUP($A96,$A$4:$BI$82,AI$3,0)","v":{"$error":"#REF!"}},{"$f":"VLOOKUP($A96,#REF!,2,0)-VLOOKUP($A96,$A$4:$BI$82,AJ$3,0)","v":{"$error":"#REF!"}},{"$f":"VLOOKUP($A96,#REF!,2,0)-VLOOKUP($A96,$A$4:$BI$82,AK$3,0)","v":{"$error":"#REF!"}},{"$f":"VLOOKUP($A96,#REF!,2,0)-VLOOKUP($A96,$A$4:$BI$82,AL$3,0)","v":{"$error":"#REF!"}},{"$f":"VLOOKUP($A96,#REF!,2,0)-VLOOKUP($A96,$A$4:$BI$82,AM$3,0)","v":{"$error":"#REF!"}},{"$f":"VLOOKUP($A96,#REF!,2,0)-VLOOKUP($A96,$A$4:$BI$82,AN$3,0)","v":{"$error":"#REF!"}},{"$f":"VLOOKUP($A96,#REF!,2,0)-VLOOKUP($A96,$A$4:$BI$82,AO$3,0)","v":{"$error":"#REF!"}},{"$f":"VLOOKUP($A96,#REF!,2,0)-VLOOKUP($A96,$A$4:$BI$82,AP$3,0)","v":{"$error":"#REF!"}},{"$f":"VLOOKUP($A96,#REF!,2,0)-VLOOKUP($A96,$A$4:$BI$82,AQ$3,0)","v":{"$error":"#REF!"}},{"$f":"VLOOKUP($A96,#REF!,2,0)-VLOOKUP($A96,$A$4:$BI$82,AR$3,0)","v":{"$error":"#REF!"}},{"$f":"VLOOKUP($A96,#REF!,2,0)-VLOOKUP($A96,$A$4:$BI$82,AS$3,0)","v":{"$error":"#REF!"}},{"$f":"VLOOKUP($A96,#REF!,2,0)-VLOOKUP($A96,$A$4:$BI$82,AT$3,0)","v":{"$error":"#REF!"}},{"$f":"VLOOKUP($A96,#REF!,2,0)-VLOOKUP($A96,$A$4:$BI$82,AU$3,0)","v":{"$error":"#REF!"}},{"$f":"VLOOKUP($A96,#REF!,2,0)-VLOOKUP($A96,$A$4:$BI$82,AV$3,0)","v":{"$error":"#REF!"}},{"$f":"VLOOKUP($A96,#REF!,2,0)-VLOOKUP($A96,$A$4:$BI$82,AW$3,0)","v":{"$error":"#REF!"}},{"$f":"VLOOKUP($A96,#REF!,2,0)-VLOOKUP($A96,$A$4:$BI$82,AX$3,0)","v":{"$error":"#REF!"}},{"$f":"VLOOKUP($A96,#REF!,2,0)-VLOOKUP($A96,$A$4:$BI$82,AY$3,0)","v":{"$error":"#REF!"}},{"$f":"VLOOKUP($A96,#REF!,2,0)-VLOOKUP($A96,$A$4:$BI$82,AZ$3,0)","v":{"$error":"#REF!"}},{"$f":"VLOOKUP($A96,#REF!,2,0)-VLOOKUP($A96,$A$4:$BI$82,BA$3,0)","v":{"$error":"#REF!"}},{"$f":"VLOOKUP($A96,#REF!,2,0)-VLOOKUP($A96,$A$4:$BI$82,BB$3,0)","v":{"$error":"#REF!"}},{"$f":"VLOOKUP($A96,#REF!,2,0)-VLOOKUP($A96,$A$4:$BI$82,BC$3,0)","v":{"$error":"#REF!"}},{"$f":"VLOOKUP($A96,#REF!,2,0)-VLOOKUP($A96,$A$4:$BI$82,BD$3,0)","v":{"$error":"#REF!"}},{"$f":"VLOOKUP($A96,#REF!,2,0)-VLOOKUP($A96,$A$4:$BI$82,BE$3,0)","v":{"$error":"#REF!"}},{"$f":"VLOOKUP($A96,#REF!,2,0)-VLOOKUP($A96,$A$4:$BI$82,BF$3,0)","v":{"$error":"#REF!"}},{"$f":"VLOOKUP($A96,#REF!,2,0)-VLOOKUP($A96,$A$4:$BI$82,BG$3,0)","v":{"$error":"#REF!"}},{"$f":"VLOOKUP($A96,#REF!,2,0)-VLOOKUP($A96,$A$4:$BI$82,BH$3,0)","v":{"$error":"#REF!"}},{"$f":"VLOOKUP($A96,#REF!,2,0)-VLOOKUP($A96,$A$4:$BI$82,BI$3,0)","v":{"$error":"#REF!"}}]
["Empresa Nacional de Energía, S.A.",null,null,null,null,null,null,null,null,null,null,null,{"$f":"VLOOKUP($A97,#REF!,3,0)","v":{"$error":"#REF!"}},{"$f":"VLOOKUP($A97,#REF!,2,0)-VLOOKUP($A97,$A$4:$BI$82,N$3,0)","v":{"$error":"#REF!"}},{"$f":"VLOOKUP($A97,#REF!,2,0)-VLOOKUP($A97,$A$4:$BI$82,O$3,0)","v":{"$error":"#REF!"}},{"$f":"VLOOKUP($A97,#REF!,2,0)-VLOOKUP($A97,$A$4:$BI$82,P$3,0)","v":{"$error":"#REF!"}},{"$f":"VLOOKUP($A97,#REF!,2,0)-VLOOKUP($A97,$A$4:$BI$82,Q$3,0)","v":{"$error":"#REF!"}},{"$f":"VLOOKUP($A97,#REF!,2,0)-VLOOKUP($A97,$A$4:$BI$82,R$3,0)","v":{"$error":"#REF!"}},{"$f":"VLOOKUP($A97,#REF!,2,0)-VLOOKUP($A97,$A$4:$BI$82,S$3,0)","v":{"$error":"#REF!"}},{"$f":"VLOOKUP($A97,#REF!,2,0)-VLOOKUP($A97,$A$4:$BI$82,T$3,0)","v":{"$error":"#REF!"}},{"$f":"VLOOKUP($A97,#REF!,2,0)-VLOOKUP($A97,$A$4:$BI$82,U$3,0)","v":{"$error":"#REF!"}},{"$f":"VLOOKUP($A97,#REF!,2,0)-VLOOKUP($A97,$A$4:$BI$82,V$3,0)","v":{"$error":"#REF!"}},{"$f":"VLOOKUP($A97,#REF!,2,0)-VLOOKUP($A97,$A$4:$BI$82,W$3,0)","v":{"$error":"#REF!"}},{"$f":"VLOOKUP($A97,#REF!,2,0)-VLOOKUP($A97,$A$4:$BI$82,X$3,0)","v":{"$error":"#REF!"}},{"$f":"VLOOKUP($A97,#REF!,2,0)-VLOOKUP($A97,$A$4:$BI$82,Y$3,0)","v":{"$error":"#REF!"}},{"$f":"VLOOKUP($A97,#REF!,2,0)-VLOOKUP($A97,$A$4:$BI$82,Z$3,0)","v":{"$error":"#REF!"}},{"$f":"VLOOKUP($A97,#REF!,2,0)-VLOOKUP($A97,$A$4:$BI$82,AA$3,0)","v":{"$error":"#REF!"}},{"$f":"VLOOKUP($A97,#REF!,2,0)-VLOOKUP($A97,$A$4:$BI$82,AB$3,0)","v":{"$error":"#REF!"}},{"$f":"VLOOKUP($A97,#REF!,2,0)-VLOOKUP($A97,$A$4:$BI$82,AC$3,0)","v":{"$error":"#REF!"}},{"$f":"VLOOKUP($A97,#REF!,2,0)-VLOOKUP($A97,$A$4:$BI$82,AD$3,0)","v":{"$error":"#REF!"}},{"$f":"VLOOKUP($A97,#REF!,2,0)-VLOOKUP($A97,$A$4:$BI$82,AE$3,0)","v":{"$error":"#REF!"}},{"$f":"VLOOKUP($A97,#REF!,2,0)-VLOOKUP($A97,$A$4:$BI$82,AF$3,0)","v":{"$error":"#REF!"}},{"$f":"VLOOKUP($A97,#REF!,2,0)-VLOOKUP($A97,$A$4:$BI$82,AG$3,0)","v":{"$error":"#REF!"}},{"$f":"VLOOKUP($A97,#REF!,2,0)-VLOOKUP($A97,$A$4:$BI$82,AH$3,0)","v":{"$error":"#REF!"}},{"$f":"VLOOKUP($A97,#REF!,2,0)-VLOOKUP($A97,$A$4:$BI$82,AI$3,0)","v":{"$error":"#REF!"}},{"$f":"VLOOKUP($A97,#REF!,2,0)-VLOOKUP($A97,$A$4:$BI$82,AJ$3,0)","v":{"$error":"#REF!"}},{"$f":"VLOOKUP($A97,#REF!,2,0)-VLOOKUP($A97,$A$4:$BI$82,AK$3,0)","v":{"$error":"#REF!"}},{"$f":"VLOOKUP($A97,#REF!,2,0)-VLOOKUP($A97,$A$4:$BI$82,AL$3,0)","v":{"$error":"#REF!"}},{"$f":"VLOOKUP($A97,#REF!,2,0)-VLOOKUP($A97,$A$4:$BI$82,AM$3,0)","v":{"$error":"#REF!"}},{"$f":"VLOOKUP($A97,#REF!,2,0)-VLOOKUP($A97,$A$4:$BI$82,AN$3,0)","v":{"$error":"#REF!"}},{"$f":"VLOOKUP($A97,#REF!,2,0)-VLOOKUP($A97,$A$4:$BI$82,AO$3,0)","v":{"$error":"#REF!"}},{"$f":"VLOOKUP($A97,#REF!,2,0)-VLOOKUP($A97,$A$4:$BI$82,AP$3,0)","v":{"$error":"#REF!"}},{"$f":"VLOOKUP($A97,#REF!,2,0)-VLOOKUP($A97,$A$4:$BI$82,AQ$3,0)","v":{"$error":"#REF!"}},{"$f":"VLOOKUP($A97,#REF!,2,0)-VLOOKUP($A97,$A$4:$BI$82,AR$3,0)","v":{"$error":"#REF!"}},{"$f":"VLOOKUP($A97,#REF!,2,0)-VLOOKUP($A97,$A$4:$BI$82,AS$3,0)","v":{"$error":"#REF!"}},{"$f":"VLOOKUP($A97,#REF!,2,0)-VLOOKUP($A97,$A$4:$BI$82,AT$3,0)","v":{"$error":"#REF!"}},{"$f":"VLOOKUP($A97,#REF!,2,0)-VLOOKUP($A97,$A$4:$BI$82,AU$3,0)","v":{"$error":"#REF!"}},{"$f":"VLOOKUP($A97,#REF!,2,0)-VLOOKUP($A97,$A$4:$BI$82,AV$3,0)","v":{"$error":"#REF!"}},{"$f":"VLOOKUP($A97,#REF!,2,0)-VLOOKUP($A97,$A$4:$BI$82,AW$3,0)","v":{"$error":"#REF!"}},{"$f":"VLOOKUP($A97,#REF!,2,0)-VLOOKUP($A97,$A$4:$BI$82,AX$3,0)","v":{"$error":"#REF!"}},{"$f":"VLOOKUP($A97,#REF!,2,0)-VLOOKUP($A97,$A$4:$BI$82,AY$3,0)","v":{"$error":"#REF!"}},{"$f":"VLOOKUP($A97,#REF!,2,0)-VLOOKUP($A97,$A$4:$BI$82,AZ$3,0)","v":{"$error":"#REF!"}},{"$f":"VLOOKUP($A97,#REF!,2,0)-VLOOKUP($A97,$A$4:$BI$82,BA$3,0)","v":{"$error":"#REF!"}},{"$f":"VLOOKUP($A97,#REF!,2,0)-VLOOKUP($A97,$A$4:$BI$82,BB$3,0)","v":{"$error":"#REF!"}},{"$f":"VLOOKUP($A97,#REF!,2,0)-VLOOKUP($A97,$A$4:$BI$82,BC$3,0)","v":{"$error":"#REF!"}},{"$f":"VLOOKUP($A97,#REF!,2,0)-VLOOKUP($A97,$A$4:$BI$82,BD$3,0)","v":{"$error":"#REF!"}},{"$f":"VLOOKUP($A97,#REF!,2,0)-VLOOKUP($A97,$A$4:$BI$82,BE$3,0)","v":{"$error":"#REF!"}},{"$f":"VLOOKUP($A97,#REF!,2,0)-VLOOKUP($A97,$A$4:$BI$82,BF$3,0)","v":{"$error":"#REF!"}},{"$f":"VLOOKUP($A97,#REF!,2,0)-VLOOKUP($A97,$A$4:$BI$82,BG$3,0)","v":{"$error":"#REF!"}},{"$f":"VLOOKUP($A97,#REF!,2,0)-VLOOKUP($A97,$A$4:$BI$82,BH$3,0)","v":{"$error":"#REF!"}},{"$f":"VLOOKUP($A97,#REF!,2,0)-VLOOKUP($A97,$A$4:$BI$82,BI$3,0)","v":{"$error":"#REF!"}}]
["Enel Fortuna, S.A.",null,null,null,null,null,null,null,null,null,null,null,{"$f":"VLOOKUP($A98,#REF!,3,0)","v":{"$error":"#REF!"}},{"$f":"VLOOKUP($A98,#REF!,2,0)-VLOOKUP($A98,$A$4:$BI$82,N$3,0)","v":{"$error":"#REF!"}},{"$f":"VLOOKUP($A98,#REF!,2,0)-VLOOKUP($A98,$A$4:$BI$82,O$3,0)","v":{"$error":"#REF!"}},{"$f":"VLOOKUP($A98,#REF!,2,0)-VLOOKUP($A98,$A$4:$BI$82,P$3,0)","v":{"$error":"#REF!"}},{"$f":"VLOOKUP($A98,#REF!,2,0)-VLOOKUP($A98,$A$4:$BI$82,Q$3,0)","v":{"$error":"#REF!"}},{"$f":"VLOOKUP($A98,#REF!,2,0)-VLOOKUP($A98,$A$4:$BI$82,R$3,0)","v":{"$error":"#REF!"}},{"$f":"VLOOKUP($A98,#REF!,2,0)-VLOOKUP($A98,$A$4:$BI$82,S$3,0)","v":{"$error":"#REF!"}},{"$f":"VLOOKUP($A98,#REF!,2,0)-VLOOKUP($A98,$A$4:$BI$82,T$3,0)","v":{"$error":"#REF!"}},{"$f":"VLOOKUP($A98,#REF!,2,0)-VLOOKUP($A98,$A$4:$BI$82,U$3,0)","v":{"$error":"#REF!"}},{"$f":"VLOOKUP($A98,#REF!,2,0)-VLOOKUP($A98,$A$4:$BI$82,V$3,0)","v":{"$error":"#REF!"}},{"$f":"VLOOKUP($A98,#REF!,2,0)-VLOOKUP($A98,$A$4:$BI$82,W$3,0)","v":{"$error":"#REF!"}},{"$f":"VLOOKUP($A98,#REF!,2,0)-VLOOKUP($A98,$A$4:$BI$82,X$3,0)","v":{"$error":"#REF!"}},{"$f":"VLOOKUP($A98,#REF!,2,0)-VLOOKUP($A98,$A$4:$BI$82,Y$3,0)","v":{"$error":"#REF!"}},{"$f":"VLOOKUP($A98,#REF!,2,0)-VLOOKUP($A98,$A$4:$BI$82,Z$3,0)","v":{"$error":"#REF!"}},{"$f":"VLOOKUP($A98,#REF!,2,0)-VLOOKUP($A98,$A$4:$BI$82,AA$3,0)","v":{"$error":"#REF!"}},{"$f":"VLOOKUP($A98,#REF!,2,0)-VLOOKUP($A98,$A$4:$BI$82,AB$3,0)","v":{"$error":"#REF!"}},{"$f":"VLOOKUP($A98,#REF!,2,0)-VLOOKUP($A98,$A$4:$BI$82,AC$3,0)","v":{"$error":"#REF!"}},{"$f":"VLOOKUP($A98,#REF!,2,0)-VLOOKUP($A98,$A$4:$BI$82,AD$3,0)","v":{"$error":"#REF!"}},{"$f":"VLOOKUP($A98,#REF!,2,0)-VLOOKUP($A98,$A$4:$BI$82,AE$3,0)","v":{"$error":"#REF!"}},{"$f":"VLOOKUP($A98,#REF!,2,0)-VLOOKUP($A98,$A$4:$BI$82,AF$3,0)","v":{"$error":"#REF!"}},{"$f":"VLOOKUP($A98,#REF!,2,0)-VLOOKUP($A98,$A$4:$BI$82,AG$3,0)","v":{"$error":"#REF!"}},{"$f":"VLOOKUP($A98,#REF!,2,0)-VLOOKUP($A98,$A$4:$BI$82,AH$3,0)","v":{"$error":"#REF!"}},{"$f":"VLOOKUP($A98,#REF!,2,0)-VLOOKUP($A98,$A$4:$BI$82,AI$3,0)","v":{"$error":"#REF!"}},{"$f":"VLOOKUP($A98,#REF!,2,0)-VLOOKUP($A98,$A$4:$BI$82,AJ$3,0)","v":{"$error":"#REF!"}},{"$f":"VLOOKUP($A98,#REF!,2,0)-VLOOKUP($A98,$A$4:$BI$82,AK$3,0)","v":{"$error":"#REF!"}},{"$f":"VLOOKUP($A98,#REF!,2,0)-VLOOKUP($A98,$A$4:$BI$82,AL$3,0)","v":{"$error":"#REF!"}},{"$f":"VLOOKUP($A98,#REF!,2,0)-VLOOKUP($A98,$A$4:$BI$82,AM$3,0)","v":{"$error":"#REF!"}},{"$f":"VLOOKUP($A98,#REF!,2,0)-VLOOKUP($A98,$A$4:$BI$82,AN$3,0)","v":{"$error":"#REF!"}},{"$f":"VLOOKUP($A98,#REF!,2,0)-VLOOKUP($A98,$A$4:$BI$82,AO$3,0)","v":{"$error":"#REF!"}},{"$f":"VLOOKUP($A98,#REF!,2,0)-VLOOKUP($A98,$A$4:$BI$82,AP$3,0)","v":{"$error":"#REF!"}},{"$f":"VLOOKUP($A98,#REF!,2,0)-VLOOKUP($A98,$A$4:$BI$82,AQ$3,0)","v":{"$error":"#REF!"}},{"$f":"VLOOKUP($A98,#REF!,2,0)-VLOOKUP($A98,$A$4:$BI$82,AR$3,0)","v":{"$error":"#REF!"}},{"$f":"VLOOKUP($A98,#REF!,2,0)-VLOOKUP($A98,$A$4:$BI$82,AS$3,0)","v":{"$error":"#REF!"}},{"$f":"VLOOKUP($A98,#REF!,2,0)-VLOOKUP($A98,$A$4:$BI$82,AT$3,0)","v":{"$error":"#REF!"}},{"$f":"VLOOKUP($A98,#REF!,2,0)-VLOOKUP($A98,$A$4:$BI$82,AU$3,0)","v":{"$error":"#REF!"}},{"$f":"VLOOKUP($A98,#REF!,2,0)-VLOOKUP($A98,$A$4:$BI$82,AV$3,0)","v":{"$error":"#REF!"}},{"$f":"VLOOKUP($A98,#REF!,2,0)-VLOOKUP($A98,$A$4:$BI$82,AW$3,0)","v":{"$error":"#REF!"}},{"$f":"VLOOKUP($A98,#REF!,2,0)-VLOOKUP($A98,$A$4:$BI$82,AX$3,0)","v":{"$error":"#REF!"}},{"$f":"VLOOKUP($A98,#REF!,2,0)-VLOOKUP($A98,$A$4:$BI$82,AY$3,0)","v":{"$error":"#REF!"}},{"$f":"VLOOKUP($A98,#REF!,2,0)-VLOOKUP($A98,$A$4:$BI$82,AZ$3,0)","v":{"$error":"#REF!"}},{"$f":"VLOOKUP($A98,#REF!,2,0)-VLOOKUP($A98,$A$4:$BI$82,BA$3,0)","v":{"$error":"#REF!"}},{"$f":"VLOOKUP($A98,#REF!,2,0)-VLOOKUP($A98,$A$4:$BI$82,BB$3,0)","v":{"$error":"#REF!"}},{"$f":"VLOOKUP($A98,#REF!,2,0)-VLOOKUP($A98,$A$4:$BI$82,BC$3,0)","v":{"$error":"#REF!"}},{"$f":"VLOOKUP($A98,#REF!,2,0)-VLOOKUP($A98,$A$4:$BI$82,BD$3,0)","v":{"$error":"#REF!"}},{"$f":"VLOOKUP($A98,#REF!,2,0)-VLOOKUP($A98,$A$4:$BI$82,BE$3,0)","v":{"$error":"#REF!"}},{"$f":"VLOOKUP($A98,#REF!,2,0)-VLOOKUP($A98,$A$4:$BI$82,BF$3,0)","v":{"$error":"#REF!"}},{"$f":"VLOOKUP($A98,#REF!,2,0)-VLOOKUP($A98,$A$4:$BI$82,BG$3,0)","v":{"$error":"#REF!"}},{"$f":"VLOOKUP($A98,#REF!,2,0)-VLOOKUP($A98,$A$4:$BI$82,BH$3,0)","v":{"$error":"#REF!"}},{"$f":"VLOOKUP($A98,#REF!,2,0)-VLOOKUP($A98,$A$4:$BI$82,BI$3,0)","v":{"$error":"#REF!"}}]
["Enel Green Power, S.A.",null,null,null,null,null,null,null,null,null,null,null,{"$f":"VLOOKUP($A99,#REF!,3,0)","v":{"$error":"#REF!"}},{"$f":"VLOOKUP($A99,#REF!,2,0)-VLOOKUP($A99,$A$4:$BI$82,N$3,0)","v":{"$error":"#REF!"}},{"$f":"VLOOKUP($A99,#REF!,2,0)-VLOOKUP($A99,$A$4:$BI$82,O$3,0)","v":{"$error":"#REF!"}},{"$f":"VLOOKUP($A99,#REF!,2,0)-VLOOKUP($A99,$A$4:$BI$82,P$3,0)","v":{"$error":"#REF!"}},{"$f":"VLOOKUP($A99,#REF!,2,0)-VLOOKUP($A99,$A$4:$BI$82,Q$3,0)","v":{"$error":"#REF!"}},{"$f":"VLOOKUP($A99,#REF!,2,0)-VLOOKUP($A99,$A$4:$BI$82,R$3,0)","v":{"$error":"#REF!"}},{"$f":"VLOOKUP($A99,#REF!,2,0)-VLOOKUP($A99,$A$4:$BI$82,S$3,0)","v":{"$error":"#REF!"}},{"$f":"VLOOKUP($A99,#REF!,2,0)-VLOOKUP($A99,$A$4:$BI$82,T$3,0)","v":{"$error":"#REF!"}},{"$f":"VLOOKUP($A99,#REF!,2,0)-VLOOKUP($A99,$A$4:$BI$82,U$3,0)","v":{"$error":"#REF!"}},{"$f":"VLOOKUP($A99,#REF!,2,0)-VLOOKUP($A99,$A$4:$BI$82,V$3,0)","v":{"$error":"#REF!"}},{"$f":"VLOOKUP($A99,#REF!,2,0)-VLOOKUP($A99,$A$4:$BI$82,W$3,0)","v":{"$error":"#REF!"}},{"$f":"VLOOKUP($A99,#REF!,2,0)-VLOOKUP($A99,$A$4:$BI$82,X$3,0)","v":{"$error":"#REF!"}},{"$f":"VLOOKUP($A99,#REF!,2,0)-VLOOKUP($A99,$A$4:$BI$82,Y$3,0)","v":{"$error":"#REF!"}},{"$f":"VLOOKUP($A99,#REF!,2,0)-VLOOKUP($A99,$A$4:$BI$82,Z$3,0)","v":{"$error":"#REF!"}},{"$f":"VLOOKUP($A99,#REF!,2,0)-VLOOKUP($A99,$A$4:$BI$82,AA$3,0)","v":{"$error":"#REF!"}},{"$f":"VLOOKUP($A99,#REF!,2,0)-VLOOKUP($A99,$A$4:$BI$82,AB$3,0)","v":{"$error":"#REF!"}},{"$f":"VLOOKUP($A99,#REF!,2,0)-VLOOKUP($A99,$A$4:$BI$82,AC$3,0)","v":{"$error":"#REF!"}},{"$f":"VLOOKUP($A99,#REF!,2,0)-VLOOKUP($A99,$A$4:$BI$82,AD$3,0)","v":{"$error":"#REF!"}},{"$f":"VLOOKUP($A99,#REF!,2,0)-VLOOKUP($A99,$A$4:$BI$82,AE$3,0)","v":{"$error":"#REF!"}},{"$f":"VLOOKUP($A99,#REF!,2,0)-VLOOKUP($A99,$A$4:$BI$82,AF$3,0)","v":{"$error":"#REF!"}},{"$f":"VLOOKUP($A99,#REF!,2,0)-VLOOKUP($A99,$A$4:$BI$82,AG$3,0)","v":{"$error":"#REF!"}},{"$f":"VLOOKUP($A99,#REF!,2,0)-VLOOKUP($A99,$A$4:$BI$82,AH$3,0)","v":{"$error":"#REF!"}},{"$f":"VLOOKUP($A99,#REF!,2,0)-VLOOKUP($A99,$A$4:$BI$82,AI$3,0)","v":{"$error":"#REF!"}},{"$f":"VLOOKUP($A99,#REF!,2,0)-VLOOKUP($A99,$A$4:$BI$82,AJ$3,0)","v":{"$error":"#REF!"}},{"$f":"VLOOKUP($A99,#REF!,2,0)-VLOOKUP($A99,$A$4:$BI$82,AK$3,0)","v":{"$error":"#REF!"}},{"$f":"VLOOKUP($A99,#REF!,2,0)-VLOOKUP($A99,$A$4:$BI$82,AL$3,0)","v":{"$error":"#REF!"}},{"$f":"VLOOKUP($A99,#REF!,2,0)-VLOOKUP($A99,$A$4:$BI$82,AM$3,0)","v":{"$error":"#REF!"}},{"$f":"VLOOKUP($A99,#REF!,2,0)-VLOOKUP($A99,$A$4:$BI$82,AN$3,0)","v":{"$error":"#REF!"}},{"$f":"VLOOKUP($A99,#REF!,2,0)-VLOOKUP($A99,$A$4:$BI$82,AO$3,0)","v":{"$error":"#REF!"}},{"$f":"VLOOKUP($A99,#REF!,2,0)-VLOOKUP($A99,$A$4:$BI$82,AP$3,0)","v":{"$error":"#REF!"}},{"$f":"VLOOKUP($A99,#REF!,2,0)-VLOOKUP($A99,$A$4:$BI$82,AQ$3,0)","v":{"$error":"#REF!"}},{"$f":"VLOOKUP($A99,#REF!,2,0)-VLOOKUP($A99,$A$4:$BI$82,AR$3,0)","v":{"$error":"#REF!"}},{"$f":"VLOOKUP($A99,#REF!,2,0)-VLOOKUP($A99,$A$4:$BI$82,AS$3,0)","v":{"$error":"#REF!"}},{"$f":"VLOOKUP($A99,#REF!,2,0)-VLOOKUP($A99,$A$4:$BI$82,AT$3,0)","v":{"$error":"#REF!"}},{"$f":"VLOOKUP($A99,#REF!,2,0)-VLOOKUP($A99,$A$4:$BI$82,AU$3,0)","v":{"$error":"#REF!"}},{"$f":"VLOOKUP($A99,#REF!,2,0)-VLOOKUP($A99,$A$4:$BI$82,AV$3,0)","v":{"$error":"#REF!"}},{"$f":"VLOOKUP($A99,#REF!,2,0)-VLOOKUP($A99,$A$4:$BI$82,AW$3,0)","v":{"$error":"#REF!"}},{"$f":"VLOOKUP($A99,#REF!,2,0)-VLOOKUP($A99,$A$4:$BI$82,AX$3,0)","v":{"$error":"#REF!"}},{"$f":"VLOOKUP($A99,#REF!,2,0)-VLOOKUP($A99,$A$4:$BI$82,AY$3,0)","v":{"$error":"#REF!"}},{"$f":"VLOOKUP($A99,#REF!,2,0)-VLOOKUP($A99,$A$4:$BI$82,AZ$3,0)","v":{"$error":"#REF!"}},{"$f":"VLOOKUP($A99,#REF!,2,0)-VLOOKUP($A99,$A$4:$BI$82,BA$3,0)","v":{"$error":"#REF!"}},{"$f":"VLOOKUP($A99,#REF!,2,0)-VLOOKUP($A99,$A$4:$BI$82,BB$3,0)","v":{"$error":"#REF!"}},{"$f":"VLOOKUP($A99,#REF!,2,0)-VLOOKUP($A99,$A$4:$BI$82,BC$3,0)","v":{"$error":"#REF!"}},{"$f":"VLOOKUP($A99,#REF!,2,0)-VLOOKUP($A99,$A$4:$BI$82,BD$3,0)","v":{"$error":"#REF!"}},{"$f":"VLOOKUP($A99,#REF!,2,0)-VLOOKUP($A99,$A$4:$BI$82,BE$3,0)","v":{"$error":"#REF!"}},{"$f":"VLOOKUP($A99,#REF!,2,0)-VLOOKUP($A99,$A$4:$BI$82,BF$3,0)","v":{"$error":"#REF!"}},{"$f":"VLOOKUP($A99,#REF!,2,0)-VLOOKUP($A99,$A$4:$BI$82,BG$3,0)","v":{"$error":"#REF!"}},{"$f":"VLOOKUP($A99,#REF!,2,0)-VLOOKUP($A99,$A$4:$BI$82,BH$3,0)","v":{"$error":"#REF!"}},{"$f":"VLOOKUP($A99,#REF!,2,0)-VLOOKUP($A99,$A$4:$BI$82,BI$3,0)","v":{"$error":"#REF!"}}]
["Energía y Servicios de Panamá, S.A.",null,null,null,null,null,null,null,null,null,null,null,{"$f":"VLOOKUP($A100,#REF!,3,0)","v":{"$error":"#REF!"}},{"$f":"VLOOKUP($A100,#REF!,2,0)-VLOOKUP($A100,$A$4:$BI$82,N$3,0)","v":{"$error":"#REF!"}},{"$f":"VLOOKUP($A100,#REF!,2,0)-VLOOKUP($A100,$A$4:$BI$82,O$3,0)","v":{"$error":"#REF!"}},{"$f":"VLOOKUP($A100,#REF!,2,0)-VLOOKUP($A100,$A$4:$BI$82,P$3,0)","v":{"$error":"#REF!"}},{"$f":"VLOOKUP($A100,#REF!,2,0)-VLOOKUP($A100,$A$4:$BI$82,Q$3,0)","v":{"$error":"#REF!"}},{"$f":"VLOOKUP($A100,#REF!,2,0)-VLOOKUP($A100,$A$4:$BI$82,R$3,0)","v":{"$error":"#REF!"}},{"$f":"VLOOKUP($A100,#REF!,2,0)-VLOOKUP($A100,$A$4:$BI$82,S$3,0)","v":{"$error":"#REF!"}},{"$f":"VLOOKUP($A100,#REF!,2,0)-VLOOKUP($A100,$A$4:$BI$82,T$3,0)","v":{"$error":"#REF!"}},{"$f":"VLOOKUP($A100,#REF!,2,0)-VLOOKUP($A100,$A$4:$BI$82,U$3,0)","v":{"$error":"#REF!"}},{"$f":"VLOOKUP($A100,#REF!,2,0)-VLOOKUP($A100,$A$4:$BI$82,V$3,0)","v":{"$error":"#REF!"}},{"$f":"VLOOKUP($A100,#REF!,2,0)-VLOOKUP($A100,$A$4:$BI$82,W$3,0)","v":{"$error":"#REF!"}},{"$f":"VLOOKUP($A100,#REF!,2,0)-VLOOKUP($A100,$A$4:$BI$82,X$3,0)","v":{"$error":"#REF!"}},{"$f":"VLOOKUP($A100,#REF!,2,0)-VLOOKUP($A100,$A$4:$BI$82,Y$3,0)","v":{"$error":"#REF!"}},{"$f":"VLOOKUP($A100,#REF!,2,0)-VLOOKUP($A100,$A$4:$BI$82,Z$3,0)","v":{"$error":"#REF!"}},{"$f":"VLOOKUP($A100,#REF!,2,0)-VLOOKUP($A100,$A$4:$BI$82,AA$3,0)","v":{"$error":"#REF!"}},{"$f":"VLOOKUP($A100,#REF!,2,0)-VLOOKUP($A100,$A$4:$BI$82,AB$3,0)","v":{"$error":"#REF!"}},{"$f":"VLOOKUP($A100,#REF!,2,0)-VLOOKUP($A100,$A$4:$BI$82,AC$3,0)","v":{"$error":"#REF!"}},{"$f":"VLOOKUP($A100,#REF!,2,0)-VLOOKUP($A100,$A$4:$BI$82,AD$3,0)","v":{"$error":"#REF!"}},{"$f":"VLOOKUP($A100,#REF!,2,0)-VLOOKUP($A100,$A$4:$BI$82,AE$3,0)","v":{"$error":"#REF!"}},{"$f":"VLOOKUP($A100,#REF!,2,0)-VLOOKUP($A100,$A$4:$BI$82,AF$3,0)","v":{"$error":"#REF!"}},{"$f":"VLOOKUP($A100,#REF!,2,0)-VLOOKUP($A100,$A$4:$BI$82,AG$3,0)","v":{"$error":"#REF!"}},{"$f":"VLOOKUP($A100,#REF!,2,0)-VLOOKUP($A100,$A$4:$BI$82,AH$3,0)","v":{"$error":"#REF!"}},{"$f":"VLOOKUP($A100,#REF!,2,0)-VLOOKUP($A100,$A$4:$BI$82,AI$3,0)","v":{"$error":"#REF!"}},{"$f":"VLOOKUP($A100,#REF!,2,0)-VLOOKUP($A100,$A$4:$BI$82,AJ$3,0)","v":{"$error":"#REF!"}},{"$f":"VLOOKUP($A100,#REF!,2,0)-VLOOKUP($A100,$A$4:$BI$82,AK$3,0)","v":{"$error":"#REF!"}},{"$f":"VLOOKUP($A100,#REF!,2,0)-VLOOKUP($A100,$A$4:$BI$82,AL$3,0)","v":{"$error":"#REF!"}},{"$f":"VLOOKUP($A100,#REF!,2,0)-VLOOKUP($A100,$A$4:$BI$82,AM$3,0)","v":{"$error":"#REF!"}},{"$f":"VLOOKUP($A100,#REF!,2,0)-VLOOKUP($A100,$A$4:$BI$82,AN$3,0)","v":{"$error":"#REF!"}},{"$f":"VLOOKUP($A100,#REF!,2,0)-VLOOKUP($A100,$A$4:$BI$82,AO$3,0)","v":{"$error":"#REF!"}},{"$f":"VLOOKUP($A100,#REF!,2,0)-VLOOKUP($A100,$A$4:$BI$82,AP$3,0)","v":{"$error":"#REF!"}},{"$f":"VLOOKUP($A100,#REF!,2,0)-VLOOKUP($A100,$A$4:$BI$82,AQ$3,0)","v":{"$error":"#REF!"}},{"$f":"VLOOKUP($A100,#REF!,2,0)-VLOOKUP($A100,$A$4:$BI$82,AR$3,0)","v":{"$error":"#REF!"}},{"$f":"VLOOKUP($A100,#REF!,2,0)-VLOOKUP($A100,$A$4:$BI$82,AS$3,0)","v":{"$error":"#REF!"}},{"$f":"VLOOKUP($A100,#REF!,2,0)-VLOOKUP($A100,$A$4:$BI$82,AT$3,0)","v":{"$error":"#REF!"}},{"$f":"VLOOKUP($A100,#REF!,2,0)-VLOOKUP($A100,$A$4:$BI$82,AU$3,0)","v":{"$error":"#REF!"}},{"$f":"VLOOKUP($A100,#REF!,2,0)-VLOOKUP($A100,$A$4:$BI$82,AV$3,0)","v":{"$error":"#REF!"}},{"$f":"VLOOKUP($A100,#REF!,2,0)-VLOOKUP($A100,$A$4:$BI$82,AW$3,0)","v":{"$error":"#REF!"}},{"$f":"VLOOKUP($A100,#REF!,2,0)-VLOOKUP($A100,$A$4:$BI$82,AX$3,0)","v":{"$error":"#REF!"}},{"$f":"VLOOKUP($A100,#REF!,2,0)-VLOOKUP($A100,$A$4:$BI$82,AY$3,0)","v":{"$error":"#REF!"}},{"$f":"VLOOKUP($A100,#REF!,2,0)-VLOOKUP($A100,$A$4:$BI$82,AZ$3,0)","v":{"$error":"#REF!"}},{"$f":"VLOOKUP($A100,#REF!,2,0)-VLOOKUP($A100,$A$4:$BI$82,BA$3,0)","v":{"$error":"#REF!"}},{"$f":"VLOOKUP($A100,#REF!,2,0)-VLOOKUP($A100,$A$4:$BI$82,BB$3,0)","v":{"$error":"#REF!"}},{"$f":"VLOOKUP($A100,#REF!,2,0)-VLOOKUP($A100,$A$4:$BI$82,BC$3,0)","v":{"$error":"#REF!"}},{"$f":"VLOOKUP($A100,#REF!,2,0)-VLOOKUP($A100,$A$4:$BI$82,BD$3,0)","v":{"$error":"#REF!"}},{"$f":"VLOOKUP($A100,#REF!,2,0)-VLOOKUP($A100,$A$4:$BI$82,BE$3,0)","v":{"$error":"#REF!"}},{"$f":"VLOOKUP($A100,#REF!,2,0)-VLOOKUP($A100,$A$4:$BI$82,BF$3,0)","v":{"$error":"#REF!"}},{"$f":"VLOOKUP($A100,#REF!,2,0)-VLOOKUP($A100,$A$4:$BI$82,BG$3,0)","v":{"$error":"#REF!"}},{"$f":"VLOOKUP($A100,#REF!,2,0)-VLOOKUP($A100,$A$4:$BI$82,BH$3,0)","v":{"$error":"#REF!"}},{"$f":"VLOOKUP($A100,#REF!,2,0)-VLOOKUP($A100,$A$4:$BI$82,BI$3,0)","v":{"$error":"#REF!"}}]
["Fountain Intertrade Corp.",null,null,null,null,null,null,null,null,null,null,null,{"$f":"VLOOKUP($A101,#REF!,3,0)","v":{"$error":"#REF!"}},{"$f":"VLOOKUP($A101,#REF!,2,0)-VLOOKUP($A101,$A$4:$BI$82,N$3,0)","v":{"$error":"#REF!"}},{"$f":"VLOOKUP($A101,#REF!,2,0)-VLOOKUP($A101,$A$4:$BI$82,O$3,0)","v":{"$error":"#REF!"}},{"$f":"VLOOKUP($A101,#REF!,2,0)-VLOOKUP($A101,$A$4:$BI$82,P$3,0)","v":{"$error":"#REF!"}},{"$f":"VLOOKUP($A101,#REF!,2,0)-VLOOKUP($A101,$A$4:$BI$82,Q$3,0)","v":{"$error":"#REF!"}},{"$f":"VLOOKUP($A101,#REF!,2,0)-VLOOKUP($A101,$A$4:$BI$82,R$3,0)","v":{"$error":"#REF!"}},{"$f":"VLOOKUP($A101,#REF!,2,0)-VLOOKUP($A101,$A$4:$BI$82,S$3,0)","v":{"$error":"#REF!"}},{"$f":"VLOOKUP($A101,#REF!,2,0)-VLOOKUP($A101,$A$4:$BI$82,T$3,0)","v":{"$error":"#REF!"}},{"$f":"VLOOKUP($A101,#REF!,2,0)-VLOOKUP($A101,$A$4:$BI$82,U$3,0)","v":{"$error":"#REF!"}},{"$f":"VLOOKUP($A101,#REF!,2,0)-VLOOKUP($A101,$A$4:$BI$82,V$3,0)","v":{"$error":"#REF!"}},{"$f":"VLOOKUP($A101,#REF!,2,0)-VLOOKUP($A101,$A$4:$BI$82,W$3,0)","v":{"$error":"#REF!"}},{"$f":"VLOOKUP($A101,#REF!,2,0)-VLOOKUP($A101,$A$4:$BI$82,X$3,0)","v":{"$error":"#REF!"}},{"$f":"VLOOKUP($A101,#REF!,2,0)-VLOOKUP($A101,$A$4:$BI$82,Y$3,0)","v":{"$error":"#REF!"}},{"$f":"VLOOKUP($A101,#REF!,2,0)-VLOOKUP($A101,$A$4:$BI$82,Z$3,0)","v":{"$error":"#REF!"}},{"$f":"VLOOKUP($A101,#REF!,2,0)-VLOOKUP($A101,$A$4:$BI$82,AA$3,0)","v":{"$error":"#REF!"}},{"$f":"VLOOKUP($A101,#REF!,2,0)-VLOOKUP($A101,$A$4:$BI$82,AB$3,0)","v":{"$error":"#REF!"}},{"$f":"VLOOKUP($A101,#REF!,2,0)-VLOOKUP($A101,$A$4:$BI$82,AC$3,0)","v":{"$error":"#REF!"}},{"$f":"VLOOKUP($A101,#REF!,2,0)-VLOOKUP($A101,$A$4:$BI$82,AD$3,0)","v":{"$error":"#REF!"}},{"$f":"VLOOKUP($A101,#REF!,2,0)-VLOOKUP($A101,$A$4:$BI$82,AE$3,0)","v":{"$error":"#REF!"}},{"$f":"VLOOKUP($A101,#REF!,2,0)-VLOOKUP($A101,$A$4:$BI$82,AF$3,0)","v":{"$error":"#REF!"}},{"$f":"VLOOKUP($A101,#REF!,2,0)-VLOOKUP($A101,$A$4:$BI$82,AG$3,0)","v":{"$error":"#REF!"}},{"$f":"VLOOKUP($A101,#REF!,2,0)-VLOOKUP($A101,$A$4:$BI$82,AH$3,0)","v":{"$error":"#REF!"}},{"$f":"VLOOKUP($A101,#REF!,2,0)-VLOOKUP($A101,$A$4:$BI$82,AI$3,0)","v":{"$error":"#REF!"}},{"$f":"VLOOKUP($A101,#REF!,2,0)-VLOOKUP($A101,$A$4:$BI$82,AJ$3,0)","v":{"$error":"#REF!"}},{"$f":"VLOOKUP($A101,#REF!,2,0)-VLOOKUP($A101,$A$4:$BI$82,AK$3,0)","v":{"$error":"#REF!"}},{"$f":"VLOOKUP($A101,#REF!,2,0)-VLOOKUP($A101,$A$4:$BI$82,AL$3,0)","v":{"$error":"#REF!"}},{"$f":"VLOOKUP($A101,#REF!,2,0)-VLOOKUP($A101,$A$4:$BI$82,AM$3,0)","v":{"$error":"#REF!"}},{"$f":"VLOOKUP($A101,#REF!,2,0)-VLOOKUP($A101,$A$4:$BI$82,AN$3,0)","v":{"$error":"#REF!"}},{"$f":"VLOOKUP($A101,#REF!,2,0)-VLOOKUP($A101,$A$4:$BI$82,AO$3,0)","v":{"$error":"#REF!"}},{"$f":"VLOOKUP($A101,#REF!,2,0)-VLOOKUP($A101,$A$4:$BI$82,AP$3,0)","v":{"$error":"#REF!"}},{"$f":"VLOOKUP($A101,#REF!,2,0)-VLOOKUP($A101,$A$4:$BI$82,AQ$3,0)","v":{"$error":"#REF!"}},{"$f":"VLOOKUP($A101,#REF!,2,0)-VLOOKUP($A101,$A$4:$BI$82,AR$3,0)","v":{"$error":"#REF!"}},{"$f":"VLOOKUP($A101,#REF!,2,0)-VLOOKUP($A101,$A$4:$BI$82,AS$3,0)","v":{"$error":"#REF!"}},{"$f":"VLOOKUP($A101,#REF!,2,0)-VLOOKUP($A101,$A$4:$BI$82,AT$3,0)","v":{"$error":"#REF!"}},{"$f":"VLOOKUP($A101,#REF!,2,0)-VLOOKUP($A101,$A$4:$BI$82,AU$3,0)","v":{"$error":"#REF!"}},{"$f":"VLOOKUP($A101,#REF!,2,0)-VLOOKUP($A101,$A$4:$BI$82,AV$3,0)","v":{"$error":"#REF!"}},{"$f":"VLOOKUP($A101,#REF!,2,0)-VLOOKUP($A101,$A$4:$BI$82,AW$3,0)","v":{"$error":"#REF!"}},{"$f":"VLOOKUP($A101,#REF!,2,0)-VLOOKUP($A101,$A$4:$BI$82,AX$3,0)","v":{"$error":"#REF!"}},{"$f":"VLOOKUP($A101,#REF!,2,0)-VLOOKUP($A101,$A$4:$BI$82,AY$3,0)","v":{"$error":"#REF!"}},{"$f":"VLOOKUP($A101,#REF!,2,0)-VLOOKUP($A101,$A$4:$BI$82,AZ$3,0)","v":{"$error":"#REF!"}},{"$f":"VLOOKUP($A101,#REF!,2,0)-VLOOKUP($A101,$A$4:$BI$82,BA$3,0)","v":{"$error":"#REF!"}},{"$f":"VLOOKUP($A101,#REF!,2,0)-VLOOKUP($A101,$A$4:$BI$82,BB$3,0)","v":{"$error":"#REF!"}},{"$f":"VLOOKUP($A101,#REF!,2,0)-VLOOKUP($A101,$A$4:$BI$82,BC$3,0)","v":{"$error":"#REF!"}},{"$f":"VLOOKUP($A101,#REF!,2,0)-VLOOKUP($A101,$A$4:$BI$82,BD$3,0)","v":{"$error":"#REF!"}},{"$f":"VLOOKUP($A101,#REF!,2,0)-VLOOKUP($A101,$A$4:$BI$82,BE$3,0)","v":{"$error":"#REF!"}},{"$f":"VLOOKUP($A101,#REF!,2,0)-VLOOKUP($A101,$A$4:$BI$82,BF$3,0)","v":{"$error":"#REF!"}},{"$f":"VLOOKUP($A101,#REF!,2,0)-VLOOKUP($A101,$A$4:$BI$82,BG$3,0)","v":{"$error":"#REF!"}},{"$f":"VLOOKUP($A101,#REF!,2,0)-VLOOKUP($A101,$A$4:$BI$82,BH$3,0)","v":{"$error":"#REF!"}},{"$f":"VLOOKUP($A101,#REF!,2,0)-VLOOKUP($A101,$A$4:$BI$82,BI$3,0)","v":{"$error":"#REF!"}}]
["Gas Natural Atlántico, S. de R.L. ",null,null,null,null,null,null,null,null,null,null,null,{"$f":"VLOOKUP($A102,#REF!,3,0)","v":{"$error":"#REF!"}},{"$f":"VLOOKUP($A102,#REF!,2,0)-VLOOKUP($A102,$A$4:$BI$82,N$3,0)","v":{"$error":"#REF!"}},{"$f":"VLOOKUP($A102,#REF!,2,0)-VLOOKUP($A102,$A$4:$BI$82,O$3,0)","v":{"$error":"#REF!"}},{"$f":"VLOOKUP($A102,#REF!,2,0)-VLOOKUP($A102,$A$4:$BI$82,P$3,0)","v":{"$error":"#REF!"}},{"$f":"VLOOKUP($A102,#REF!,2,0)-VLOOKUP($A102,$A$4:$BI$82,Q$3,0)","v":{"$error":"#REF!"}},{"$f":"VLOOKUP($A102,#REF!,2,0)-VLOOKUP($A102,$A$4:$BI$82,R$3,0)","v":{"$error":"#REF!"}},{"$f":"VLOOKUP($A102,#REF!,2,0)-VLOOKUP($A102,$A$4:$BI$82,S$3,0)","v":{"$error":"#REF!"}},{"$f":"VLOOKUP($A102,#REF!,2,0)-VLOOKUP($A102,$A$4:$BI$82,T$3,0)","v":{"$error":"#REF!"}},{"$f":"VLOOKUP($A102,#REF!,2,0)-VLOOKUP($A102,$A$4:$BI$82,U$3,0)","v":{"$error":"#REF!"}},{"$f":"VLOOKUP($A102,#REF!,2,0)-VLOOKUP($A102,$A$4:$BI$82,V$3,0)","v":{"$error":"#REF!"}},{"$f":"VLOOKUP($A102,#REF!,2,0)-VLOOKUP($A102,$A$4:$BI$82,W$3,0)","v":{"$error":"#REF!"}},{"$f":"VLOOKUP($A102,#REF!,2,0)-VLOOKUP($A102,$A$4:$BI$82,X$3,0)","v":{"$error":"#REF!"}},{"$f":"VLOOKUP($A102,#REF!,2,0)-VLOOKUP($A102,$A$4:$BI$82,Y$3,0)","v":{"$error":"#REF!"}},{"$f":"VLOOKUP($A102,#REF!,2,0)-VLOOKUP($A102,$A$4:$BI$82,Z$3,0)","v":{"$error":"#REF!"}},{"$f":"VLOOKUP($A102,#REF!,2,0)-VLOOKUP($A102,$A$4:$BI$82,AA$3,0)","v":{"$error":"#REF!"}},{"$f":"VLOOKUP($A102,#REF!,2,0)-VLOOKUP($A102,$A$4:$BI$82,AB$3,0)","v":{"$error":"#REF!"}},{"$f":"VLOOKUP($A102,#REF!,2,0)-VLOOKUP($A102,$A$4:$BI$82,AC$3,0)","v":{"$error":"#REF!"}},{"$f":"VLOOKUP($A102,#REF!,2,0)-VLOOKUP($A102,$A$4:$BI$82,AD$3,0)","v":{"$error":"#REF!"}},{"$f":"VLOOKUP($A102,#REF!,2,0)-VLOOKUP($A102,$A$4:$BI$82,AE$3,0)","v":{"$error":"#REF!"}},{"$f":"VLOOKUP($A102,#REF!,2,0)-VLOOKUP($A102,$A$4:$BI$82,AF$3,0)","v":{"$error":"#REF!"}},{"$f":"VLOOKUP($A102,#REF!,2,0)-VLOOKUP($A102,$A$4:$BI$82,AG$3,0)","v":{"$error":"#REF!"}},{"$f":"VLOOKUP($A102,#REF!,2,0)-VLOOKUP($A102,$A$4:$BI$82,AH$3,0)","v":{"$error":"#REF!"}},{"$f":"VLOOKUP($A102,#REF!,2,0)-VLOOKUP($A102,$A$4:$BI$82,AI$3,0)","v":{"$error":"#REF!"}},{"$f":"VLOOKUP($A102,#REF!,2,0)-VLOOKUP($A102,$A$4:$BI$82,AJ$3,0)","v":{"$error":"#REF!"}},{"$f":"VLOOKUP($A102,#REF!,2,0)-VLOOKUP($A102,$A$4:$BI$82,AK$3,0)","v":{"$error":"#REF!"}},{"$f":"VLOOKUP($A102,#REF!,2,0)-VLOOKUP($A102,$A$4:$BI$82,AL$3,0)","v":{"$error":"#REF!"}},{"$f":"VLOOKUP($A102,#REF!,2,0)-VLOOKUP($A102,$A$4:$BI$82,AM$3,0)","v":{"$error":"#REF!"}},{"$f":"VLOOKUP($A102,#REF!,2,0)-VLOOKUP($A102,$A$4:$BI$82,AN$3,0)","v":{"$error":"#REF!"}},{"$f":"VLOOKUP($A102,#REF!,2,0)-VLOOKUP($A102,$A$4:$BI$82,AO$3,0)","v":{"$error":"#REF!"}},{"$f":"VLOOKUP($A102,#REF!,2,0)-VLOOKUP($A102,$A$4:$BI$82,AP$3,0)","v":{"$error":"#REF!"}},{"$f":"VLOOKUP($A102,#REF!,2,0)-VLOOKUP($A102,$A$4:$BI$82,AQ$3,0)","v":{"$error":"#REF!"}},{"$f":"VLOOKUP($A102,#REF!,2,0)-VLOOKUP($A102,$A$4:$BI$82,AR$3,0)","v":{"$error":"#REF!"}},{"$f":"VLOOKUP($A102,#REF!,2,0)-VLOOKUP($A102,$A$4:$BI$82,AS$3,0)","v":{"$error":"#REF!"}},{"$f":"VLOOKUP($A102,#REF!,2,0)-VLOOKUP($A102,$A$4:$BI$82,AT$3,0)","v":{"$error":"#REF!"}},{"$f":"VLOOKUP($A102,#REF!,2,0)-VLOOKUP($A102,$A$4:$BI$82,AU$3,0)","v":{"$error":"#REF!"}},{"$f":"VLOOKUP($A102,#REF!,2,0)-VLOOKUP($A102,$A$4:$BI$82,AV$3,0)","v":{"$error":"#REF!"}},{"$f":"VLOOKUP($A102,#REF!,2,0)-VLOOKUP($A102,$A$4:$BI$82,AW$3,0)","v":{"$error":"#REF!"}},{"$f":"VLOOKUP($A102,#REF!,2,0)-VLOOKUP($A102,$A$4:$BI$82,AX$3,0)","v":{"$error":"#REF!"}},{"$f":"VLOOKUP($A102,#REF!,2,0)-VLOOKUP($A102,$A$4:$BI$82,AY$3,0)","v":{"$error":"#REF!"}},{"$f":"VLOOKUP($A102,#REF!,2,0)-VLOOKUP($A102,$A$4:$BI$82,AZ$3,0)","v":{"$error":"#REF!"}},{"$f":"VLOOKUP($A102,#REF!,2,0)-VLOOKUP($A102,$A$4:$BI$82,BA$3,0)","v":{"$error":"#REF!"}},{"$f":"VLOOKUP($A102,#REF!,2,0)-VLOOKUP($A102,$A$4:$BI$82,BB$3,0)","v":{"$error":"#REF!"}},{"$f":"VLOOKUP($A102,#REF!,2,0)-VLOOKUP($A102,$A$4:$BI$82,BC$3,0)","v":{"$error":"#REF!"}},{"$f":"VLOOKUP($A102,#REF!,2,0)-VLOOKUP($A102,$A$4:$BI$82,BD$3,0)","v":{"$error":"#REF!"}},{"$f":"VLOOKUP($A102,#REF!,2,0)-VLOOKUP($A102,$A$4:$BI$82,BE$3,0)","v":{"$error":"#REF!"}},{"$f":"VLOOKUP($A102,#REF!,2,0)-VLOOKUP($A102,$A$4:$BI$82,BF$3,0)","v":{"$error":"#REF!"}},{"$f":"VLOOKUP($A102,#REF!,2,0)-VLOOKUP($A102,$A$4:$BI$82,BG$3,0)","v":{"$error":"#REF!"}},{"$f":"VLOOKUP($A102,#REF!,2,0)-VLOOKUP($A102,$A$4:$BI$82,BH$3,0)","v":{"$error":"#REF!"}},{"$f":"VLOOKUP($A102,#REF!,2,0)-VLOOKUP($A102,$A$4:$BI$82,BI$3,0)","v":{"$error":"#REF!"}}]
["Generadora Alto Valle, S.A.",null,null,null,null,null,null,null,null,null,null,null,{"$f":"VLOOKUP($A103,#REF!,3,0)","v":{"$error":"#REF!"}},{"$f":"VLOOKUP($A103,#REF!,2,0)-VLOOKUP($A103,$A$4:$BI$82,N$3,0)","v":{"$error":"#REF!"}},{"$f":"VLOOKUP($A103,#REF!,2,0)-VLOOKUP($A103,$A$4:$BI$82,O$3,0)","v":{"$error":"#REF!"}},{"$f":"VLOOKUP($A103,#REF!,2,0)-VLOOKUP($A103,$A$4:$BI$82,P$3,0)","v":{"$error":"#REF!"}},{"$f":"VLOOKUP($A103,#REF!,2,0)-VLOOKUP($A103,$A$4:$BI$82,Q$3,0)","v":{"$error":"#REF!"}},{"$f":"VLOOKUP($A103,#REF!,2,0)-VLOOKUP($A103,$A$4:$BI$82,R$3,0)","v":{"$error":"#REF!"}},{"$f":"VLOOKUP($A103,#REF!,2,0)-VLOOKUP($A103,$A$4:$BI$82,S$3,0)","v":{"$error":"#REF!"}},{"$f":"VLOOKUP($A103,#REF!,2,0)-VLOOKUP($A103,$A$4:$BI$82,T$3,0)","v":{"$error":"#REF!"}},{"$f":"VLOOKUP($A103,#REF!,2,0)-VLOOKUP($A103,$A$4:$BI$82,U$3,0)","v":{"$error":"#REF!"}},{"$f":"VLOOKUP($A103,#REF!,2,0)-VLOOKUP($A103,$A$4:$BI$82,V$3,0)","v":{"$error":"#REF!"}},{"$f":"VLOOKUP($A103,#REF!,2,0)-VLOOKUP($A103,$A$4:$BI$82,W$3,0)","v":{"$error":"#REF!"}},{"$f":"VLOOKUP($A103,#REF!,2,0)-VLOOKUP($A103,$A$4:$BI$82,X$3,0)","v":{"$error":"#REF!"}},{"$f":"VLOOKUP($A103,#REF!,2,0)-VLOOKUP($A103,$A$4:$BI$82,Y$3,0)","v":{"$error":"#REF!"}},{"$f":"VLOOKUP($A103,#REF!,2,0)-VLOOKUP($A103,$A$4:$BI$82,Z$3,0)","v":{"$error":"#REF!"}},{"$f":"VLOOKUP($A103,#REF!,2,0)-VLOOKUP($A103,$A$4:$BI$82,AA$3,0)","v":{"$error":"#REF!"}},{"$f":"VLOOKUP($A103,#REF!,2,0)-VLOOKUP($A103,$A$4:$BI$82,AB$3,0)","v":{"$error":"#REF!"}},{"$f":"VLOOKUP($A103,#REF!,2,0)-VLOOKUP($A103,$A$4:$BI$82,AC$3,0)","v":{"$error":"#REF!"}},{"$f":"VLOOKUP($A103,#REF!,2,0)-VLOOKUP($A103,$A$4:$BI$82,AD$3,0)","v":{"$error":"#REF!"}},{"$f":"VLOOKUP($A103,#REF!,2,0)-VLOOKUP($A103,$A$4:$BI$82,AE$3,0)","v":{"$error":"#REF!"}},{"$f":"VLOOKUP($A103,#REF!,2,0)-VLOOKUP($A103,$A$4:$BI$82,AF$3,0)","v":{"$error":"#REF!"}},{"$f":"VLOOKUP($A103,#REF!,2,0)-VLOOKUP($A103,$A$4:$BI$82,AG$3,0)","v":{"$error":"#REF!"}},{"$f":"VLOOKUP($A103,#REF!,2,0)-VLOOKUP($A103,$A$4:$BI$82,AH$3,0)","v":{"$error":"#REF!"}},{"$f":"VLOOKUP($A103,#REF!,2,0)-VLOOKUP($A103,$A$4:$BI$82,AI$3,0)","v":{"$error":"#REF!"}},{"$f":"VLOOKUP($A103,#REF!,2,0)-VLOOKUP($A103,$A$4:$BI$82,AJ$3,0)","v":{"$error":"#REF!"}},{"$f":"VLOOKUP($A103,#REF!,2,0)-VLOOKUP($A103,$A$4:$BI$82,AK$3,0)","v":{"$error":"#REF!"}},{"$f":"VLOOKUP($A103,#REF!,2,0)-VLOOKUP($A103,$A$4:$BI$82,AL$3,0)","v":{"$error":"#REF!"}},{"$f":"VLOOKUP($A103,#REF!,2,0)-VLOOKUP($A103,$A$4:$BI$82,AM$3,0)","v":{"$error":"#REF!"}},{"$f":"VLOOKUP($A103,#REF!,2,0)-VLOOKUP($A103,$A$4:$BI$82,AN$3,0)","v":{"$error":"#REF!"}},{"$f":"VLOOKUP($A103,#REF!,2,0)-VLOOKUP($A103,$A$4:$BI$82,AO$3,0)","v":{"$error":"#REF!"}},{"$f":"VLOOKUP($A103,#REF!,2,0)-VLOOKUP($A103,$A$4:$BI$82,AP$3,0)","v":{"$error":"#REF!"}},{"$f":"VLOOKUP($A103,#REF!,2,0)-VLOOKUP($A103,$A$4:$BI$82,AQ$3,0)","v":{"$error":"#REF!"}},{"$f":"VLOOKUP($A103,#REF!,2,0)-VLOOKUP($A103,$A$4:$BI$82,AR$3,0)","v":{"$error":"#REF!"}},{"$f":"VLOOKUP($A103,#REF!,2,0)-VLOOKUP($A103,$A$4:$BI$82,AS$3,0)","v":{"$error":"#REF!"}},{"$f":"VLOOKUP($A103,#REF!,2,0)-VLOOKUP($A103,$A$4:$BI$82,AT$3,0)","v":{"$error":"#REF!"}},{"$f":"VLOOKUP($A103,#REF!,2,0)-VLOOKUP($A103,$A$4:$BI$82,AU$3,0)","v":{"$error":"#REF!"}},{"$f":"VLOOKUP($A103,#REF!,2,0)-VLOOKUP($A103,$A$4:$BI$82,AV$3,0)","v":{"$error":"#REF!"}},{"$f":"VLOOKUP($A103,#REF!,2,0)-VLOOKUP($A103,$A$4:$BI$82,AW$3,0)","v":{"$error":"#REF!"}},{"$f":"VLOOKUP($A103,#REF!,2,0)-VLOOKUP($A103,$A$4:$BI$82,AX$3,0)","v":{"$error":"#REF!"}},{"$f":"VLOOKUP($A103,#REF!,2,0)-VLOOKUP($A103,$A$4:$BI$82,AY$3,0)","v":{"$error":"#REF!"}},{"$f":"VLOOKUP($A103,#REF!,2,0)-VLOOKUP($A103,$A$4:$BI$82,AZ$3,0)","v":{"$error":"#REF!"}},{"$f":"VLOOKUP($A103,#REF!,2,0)-VLOOKUP($A103,$A$4:$BI$82,BA$3,0)","v":{"$error":"#REF!"}},{"$f":"VLOOKUP($A103,#REF!,2,0)-VLOOKUP($A103,$A$4:$BI$82,BB$3,0)","v":{"$error":"#REF!"}},{"$f":"VLOOKUP($A103,#REF!,2,0)-VLOOKUP($A103,$A$4:$BI$82,BC$3,0)","v":{"$error":"#REF!"}},{"$f":"VLOOKUP($A103,#REF!,2,0)-VLOOKUP($A103,$A$4:$BI$82,BD$3,0)","v":{"$error":"#REF!"}},{"$f":"VLOOKUP($A103,#REF!,2,0)-VLOOKUP($A103,$A$4:$BI$82,BE$3,0)","v":{"$error":"#REF!"}},{"$f":"VLOOKUP($A103,#REF!,2,0)-VLOOKUP($A103,$A$4:$BI$82,BF$3,0)","v":{"$error":"#REF!"}},{"$f":"VLOOKUP($A103,#REF!,2,0)-VLOOKUP($A103,$A$4:$BI$82,BG$3,0)","v":{"$error":"#REF!"}},{"$f":"VLOOKUP($A103,#REF!,2,0)-VLOOKUP($A103,$A$4:$BI$82,BH$3,0)","v":{"$error":"#REF!"}},{"$f":"VLOOKUP($A103,#REF!,2,0)-VLOOKUP($A103,$A$4:$BI$82,BI$3,0)","v":{"$error":"#REF!"}}]
["Generadora del Atlántico, S.A.",null,null,null,null,null,null,null,null,null,null,null,{"$f":"VLOOKUP($A104,#REF!,3,0)","v":{"$error":"#REF!"}},{"$f":"VLOOKUP($A104,#REF!,2,0)-VLOOKUP($A104,$A$4:$BI$82,N$3,0)","v":{"$error":"#REF!"}},{"$f":"VLOOKUP($A104,#REF!,2,0)-VLOOKUP($A104,$A$4:$BI$82,O$3,0)","v":{"$error":"#REF!"}},{"$f":"VLOOKUP($A104,#REF!,2,0)-VLOOKUP($A104,$A$4:$BI$82,P$3,0)","v":{"$error":"#REF!"}},{"$f":"VLOOKUP($A104,#REF!,2,0)-VLOOKUP($A104,$A$4:$BI$82,Q$3,0)","v":{"$error":"#REF!"}},{"$f":"VLOOKUP($A104,#REF!,2,0)-VLOOKUP($A104,$A$4:$BI$82,R$3,0)","v":{"$error":"#REF!"}},{"$f":"VLOOKUP($A104,#REF!,2,0)-VLOOKUP($A104,$A$4:$BI$82,S$3,0)","v":{"$error":"#REF!"}},{"$f":"VLOOKUP($A104,#REF!,2,0)-VLOOKUP($A104,$A$4:$BI$82,T$3,0)","v":{"$error":"#REF!"}},{"$f":"VLOOKUP($A104,#REF!,2,0)-VLOOKUP($A104,$A$4:$BI$82,U$3,0)","v":{"$error":"#REF!"}},{"$f":"VLOOKUP($A104,#REF!,2,0)-VLOOKUP($A104,$A$4:$BI$82,V$3,0)","v":{"$error":"#REF!"}},{"$f":"VLOOKUP($A104,#REF!,2,0)-VLOOKUP($A104,$A$4:$BI$82,W$3,0)","v":{"$error":"#REF!"}},{"$f":"VLOOKUP($A104,#REF!,2,0)-VLOOKUP($A104,$A$4:$BI$82,X$3,0)","v":{"$error":"#REF!"}},{"$f":"VLOOKUP($A104,#REF!,2,0)-VLOOKUP($A104,$A$4:$BI$82,Y$3,0)","v":{"$error":"#REF!"}},{"$f":"VLOOKUP($A104,#REF!,2,0)-VLOOKUP($A104,$A$4:$BI$82,Z$3,0)","v":{"$error":"#REF!"}},{"$f":"VLOOKUP($A104,#REF!,2,0)-VLOOKUP($A104,$A$4:$BI$82,AA$3,0)","v":{"$error":"#REF!"}},{"$f":"VLOOKUP($A104,#REF!,2,0)-VLOOKUP($A104,$A$4:$BI$82,AB$3,0)","v":{"$error":"#REF!"}},{"$f":"VLOOKUP($A104,#REF!,2,0)-VLOOKUP($A104,$A$4:$BI$82,AC$3,0)","v":{"$error":"#REF!"}},{"$f":"VLOOKUP($A104,#REF!,2,0)-VLOOKUP($A104,$A$4:$BI$82,AD$3,0)","v":{"$error":"#REF!"}},{"$f":"VLOOKUP($A104,#REF!,2,0)-VLOOKUP($A104,$A$4:$BI$82,AE$3,0)","v":{"$error":"#REF!"}},{"$f":"VLOOKUP($A104,#REF!,2,0)-VLOOKUP($A104,$A$4:$BI$82,AF$3,0)","v":{"$error":"#REF!"}},{"$f":"VLOOKUP($A104,#REF!,2,0)-VLOOKUP($A104,$A$4:$BI$82,AG$3,0)","v":{"$error":"#REF!"}},{"$f":"VLOOKUP($A104,#REF!,2,0)-VLOOKUP($A104,$A$4:$BI$82,AH$3,0)","v":{"$error":"#REF!"}},{"$f":"VLOOKUP($A104,#REF!,2,0)-VLOOKUP($A104,$A$4:$BI$82,AI$3,0)","v":{"$error":"#REF!"}},{"$f":"VLOOKUP($A104,#REF!,2,0)-VLOOKUP($A104,$A$4:$BI$82,AJ$3,0)","v":{"$error":"#REF!"}},{"$f":"VLOOKUP($A104,#REF!,2,0)-VLOOKUP($A104,$A$4:$BI$82,AK$3,0)","v":{"$error":"#REF!"}},{"$f":"VLOOKUP($A104,#REF!,2,0)-VLOOKUP($A104,$A$4:$BI$82,AL$3,0)","v":{"$error":"#REF!"}},{"$f":"VLOOKUP($A104,#REF!,2,0)-VLOOKUP($A104,$A$4:$BI$82,AM$3,0)","v":{"$error":"#REF!"}},{"$f":"VLOOKUP($A104,#REF!,2,0)-VLOOKUP($A104,$A$4:$BI$82,AN$3,0)","v":{"$error":"#REF!"}},{"$f":"VLOOKUP($A104,#REF!,2,0)-VLOOKUP($A104,$A$4:$BI$82,AO$3,0)","v":{"$error":"#REF!"}},{"$f":"VLOOKUP($A104,#REF!,2,0)-VLOOKUP($A104,$A$4:$BI$82,AP$3,0)","v":{"$error":"#REF!"}},{"$f":"VLOOKUP($A104,#REF!,2,0)-VLOOKUP($A104,$A$4:$BI$82,AQ$3,0)","v":{"$error":"#REF!"}},{"$f":"VLOOKUP($A104,#REF!,2,0)-VLOOKUP($A104,$A$4:$BI$82,AR$3,0)","v":{"$error":"#REF!"}},{"$f":"VLOOKUP($A104,#REF!,2,0)-VLOOKUP($A104,$A$4:$BI$82,AS$3,0)","v":{"$error":"#REF!"}},{"$f":"VLOOKUP($A104,#REF!,2,0)-VLOOKUP($A104,$A$4:$BI$82,AT$3,0)","v":{"$error":"#REF!"}},{"$f":"VLOOKUP($A104,#REF!,2,0)-VLOOKUP($A104,$A$4:$BI$82,AU$3,0)","v":{"$error":"#REF!"}},{"$f":"VLOOKUP($A104,#REF!,2,0)-VLOOKUP($A104,$A$4:$BI$82,AV$3,0)","v":{"$error":"#REF!"}},{"$f":"VLOOKUP($A104,#REF!,2,0)-VLOOKUP($A104,$A$4:$BI$82,AW$3,0)","v":{"$error":"#REF!"}},{"$f":"VLOOKUP($A104,#REF!,2,0)-VLOOKUP($A104,$A$4:$BI$82,AX$3,0)","v":{"$error":"#REF!"}},{"$f":"VLOOKUP($A104,#REF!,2,0)-VLOOKUP($A104,$A$4:$BI$82,AY$3,0)","v":{"$error":"#REF!"}},{"$f":"VLOOKUP($A104,#REF!,2,0)-VLOOKUP($A104,$A$4:$BI$82,AZ$3,0)","v":{"$error":"#REF!"}},{"$f":"VLOOKUP($A104,#REF!,2,0)-VLOOKUP($A104,$A$4:$BI$82,BA$3,0)","v":{"$error":"#REF!"}},{"$f":"VLOOKUP($A104,#REF!,2,0)-VLOOKUP($A104,$A$4:$BI$82,BB$3,0)","v":{"$error":"#REF!"}},{"$f":"VLOOKUP($A104,#REF!,2,0)-VLOOKUP($A104,$A$4:$BI$82,BC$3,0)","v":{"$error":"#REF!"}},{"$f":"VLOOKUP($A104,#REF!,2,0)-VLOOKUP($A104,$A$4:$BI$82,BD$3,0)","v":{"$error":"#REF!"}},{"$f":"VLOOKUP($A104,#REF!,2,0)-VLOOKUP($A104,$A$4:$BI$82,BE$3,0)","v":{"$error":"#REF!"}},{"$f":"VLOOKUP($A104,#REF!,2,0)-VLOOKUP($A104,$A$4:$BI$82,BF$3,0)","v":{"$error":"#REF!"}},{"$f":"VLOOKUP($A104,#REF!,2,0)-VLOOKUP($A104,$A$4:$BI$82,BG$3,0)","v":{"$error":"#REF!"}},{"$f":"VLOOKUP($A104,#REF!,2,0)-VLOOKUP($A104,$A$4:$BI$82,BH$3,0)","v":{"$error":"#REF!"}},{"$f":"VLOOKUP($A104,#REF!,2,0)-VLOOKUP($A104,$A$4:$BI$82,BI$3,0)","v":{"$error":"#REF!"}}]
["Generadora Pedregalito, S.A.",null,null,null,null,null,null,null,null,null,null,null,{"$f":"VLOOKUP($A105,#REF!,3,0)","v":{"$error":"#REF!"}},{"$f":"VLOOKUP($A105,#REF!,2,0)-VLOOKUP($A105,$A$4:$BI$82,N$3,0)","v":{"$error":"#REF!"}},{"$f":"VLOOKUP($A105,#REF!,2,0)-VLOOKUP($A105,$A$4:$BI$82,O$3,0)","v":{"$error":"#REF!"}},{"$f":"VLOOKUP($A105,#REF!,2,0)-VLOOKUP($A105,$A$4:$BI$82,P$3,0)","v":{"$error":"#REF!"}},{"$f":"VLOOKUP($A105,#REF!,2,0)-VLOOKUP($A105,$A$4:$BI$82,Q$3,0)","v":{"$error":"#REF!"}},{"$f":"VLOOKUP($A105,#REF!,2,0)-VLOOKUP($A105,$A$4:$BI$82,R$3,0)","v":{"$error":"#REF!"}},{"$f":"VLOOKUP($A105,#REF!,2,0)-VLOOKUP($A105,$A$4:$BI$82,S$3,0)","v":{"$error":"#REF!"}},{"$f":"VLOOKUP($A105,#REF!,2,0)-VLOOKUP($A105,$A$4:$BI$82,T$3,0)","v":{"$error":"#REF!"}},{"$f":"VLOOKUP($A105,#REF!,2,0)-VLOOKUP($A105,$A$4:$BI$82,U$3,0)","v":{"$error":"#REF!"}},{"$f":"VLOOKUP($A105,#REF!,2,0)-VLOOKUP($A105,$A$4:$BI$82,V$3,0)","v":{"$error":"#REF!"}},{"$f":"VLOOKUP($A105,#REF!,2,0)-VLOOKUP($A105,$A$4:$BI$82,W$3,0)","v":{"$error":"#REF!"}},{"$f":"VLOOKUP($A105,#REF!,2,0)-VLOOKUP($A105,$A$4:$BI$82,X$3,0)","v":{"$error":"#REF!"}},{"$f":"VLOOKUP($A105,#REF!,2,0)-VLOOKUP($A105,$A$4:$BI$82,Y$3,0)","v":{"$error":"#REF!"}},{"$f":"VLOOKUP($A105,#REF!,2,0)-VLOOKUP($A105,$A$4:$BI$82,Z$3,0)","v":{"$error":"#REF!"}},{"$f":"VLOOKUP($A105,#REF!,2,0)-VLOOKUP($A105,$A$4:$BI$82,AA$3,0)","v":{"$error":"#REF!"}},{"$f":"VLOOKUP($A105,#REF!,2,0)-VLOOKUP($A105,$A$4:$BI$82,AB$3,0)","v":{"$error":"#REF!"}},{"$f":"VLOOKUP($A105,#REF!,2,0)-VLOOKUP($A105,$A$4:$BI$82,AC$3,0)","v":{"$error":"#REF!"}},{"$f":"VLOOKUP($A105,#REF!,2,0)-VLOOKUP($A105,$A$4:$BI$82,AD$3,0)","v":{"$error":"#REF!"}},{"$f":"VLOOKUP($A105,#REF!,2,0)-VLOOKUP($A105,$A$4:$BI$82,AE$3,0)","v":{"$error":"#REF!"}},{"$f":"VLOOKUP($A105,#REF!,2,0)-VLOOKUP($A105,$A$4:$BI$82,AF$3,0)","v":{"$error":"#REF!"}},{"$f":"VLOOKUP($A105,#REF!,2,0)-VLOOKUP($A105,$A$4:$BI$82,AG$3,0)","v":{"$error":"#REF!"}},{"$f":"VLOOKUP($A105,#REF!,2,0)-VLOOKUP($A105,$A$4:$BI$82,AH$3,0)","v":{"$error":"#REF!"}},{"$f":"VLOOKUP($A105,#REF!,2,0)-VLOOKUP($A105,$A$4:$BI$82,AI$3,0)","v":{"$error":"#REF!"}},{"$f":"VLOOKUP($A105,#REF!,2,0)-VLOOKUP($A105,$A$4:$BI$82,AJ$3,0)","v":{"$error":"#REF!"}},{"$f":"VLOOKUP($A105,#REF!,2,0)-VLOOKUP($A105,$A$4:$BI$82,AK$3,0)","v":{"$error":"#REF!"}},{"$f":"VLOOKUP($A105,#REF!,2,0)-VLOOKUP($A105,$A$4:$BI$82,AL$3,0)","v":{"$error":"#REF!"}},{"$f":"VLOOKUP($A105,#REF!,2,0)-VLOOKUP($A105,$A$4:$BI$82,AM$3,0)","v":{"$error":"#REF!"}},{"$f":"VLOOKUP($A105,#REF!,2,0)-VLOOKUP($A105,$A$4:$BI$82,AN$3,0)","v":{"$error":"#REF!"}},{"$f":"VLOOKUP($A105,#REF!,2,0)-VLOOKUP($A105,$A$4:$BI$82,AO$3,0)","v":{"$error":"#REF!"}},{"$f":"VLOOKUP($A105,#REF!,2,0)-VLOOKUP($A105,$A$4:$BI$82,AP$3,0)","v":{"$error":"#REF!"}},{"$f":"VLOOKUP($A105,#REF!,2,0)-VLOOKUP($A105,$A$4:$BI$82,AQ$3,0)","v":{"$error":"#REF!"}},{"$f":"VLOOKUP($A105,#REF!,2,0)-VLOOKUP($A105,$A$4:$BI$82,AR$3,0)","v":{"$error":"#REF!"}},{"$f":"VLOOKUP($A105,#REF!,2,0)-VLOOKUP($A105,$A$4:$BI$82,AS$3,0)","v":{"$error":"#REF!"}},{"$f":"VLOOKUP($A105,#REF!,2,0)-VLOOKUP($A105,$A$4:$BI$82,AT$3,0)","v":{"$error":"#REF!"}},{"$f":"VLOOKUP($A105,#REF!,2,0)-VLOOKUP($A105,$A$4:$BI$82,AU$3,0)","v":{"$error":"#REF!"}},{"$f":"VLOOKUP($A105,#REF!,2,0)-VLOOKUP($A105,$A$4:$BI$82,AV$3,0)","v":{"$error":"#REF!"}},{"$f":"VLOOKUP($A105,#REF!,2,0)-VLOOKUP($A105,$A$4:$BI$82,AW$3,0)","v":{"$error":"#REF!"}},{"$f":"VLOOKUP($A105,#REF!,2,0)-VLOOKUP($A105,$A$4:$BI$82,AX$3,0)","v":{"$error":"#REF!"}},{"$f":"VLOOKUP($A105,#REF!,2,0)-VLOOKUP($A105,$A$4:$BI$82,AY$3,0)","v":{"$error":"#REF!"}},{"$f":"VLOOKUP($A105,#REF!,2,0)-VLOOKUP($A105,$A$4:$BI$82,AZ$3,0)","v":{"$error":"#REF!"}},{"$f":"VLOOKUP($A105,#REF!,2,0)-VLOOKUP($A105,$A$4:$BI$82,BA$3,0)","v":{"$error":"#REF!"}},{"$f":"VLOOKUP($A105,#REF!,2,0)-VLOOKUP($A105,$A$4:$BI$82,BB$3,0)","v":{"$error":"#REF!"}},{"$f":"VLOOKUP($A105,#REF!,2,0)-VLOOKUP($A105,$A$4:$BI$82,BC$3,0)","v":{"$error":"#REF!"}},{"$f":"VLOOKUP($A105,#REF!,2,0)-VLOOKUP($A105,$A$4:$BI$82,BD$3,0)","v":{"$error":"#REF!"}},{"$f":"VLOOKUP($A105,#REF!,2,0)-VLOOKUP($A105,$A$4:$BI$82,BE$3,0)","v":{"$error":"#REF!"}},{"$f":"VLOOKUP($A105,#REF!,2,0)-VLOOKUP($A105,$A$4:$BI$82,BF$3,0)","v":{"$error":"#REF!"}},{"$f":"VLOOKUP($A105,#REF!,2,0)-VLOOKUP($A105,$A$4:$BI$82,BG$3,0)","v":{"$error":"#REF!"}},{"$f":"VLOOKUP($A105,#REF!,2,0)-VLOOKUP($A105,$A$4:$BI$82,BH$3,0)","v":{"$error":"#REF!"}},{"$f":"VLOOKUP($A105,#REF!,2,0)-VLOOKUP($A105,$A$4:$BI$82,BI$3,0)","v":{"$error":"#REF!"}}]
["Generadora Río Chico, S.A.",null,null,null,null,null,null,null,null,null,null,null,{"$f":"VLOOKUP($A106,#REF!,3,0)","v":{"$error":"#REF!"}},{"$f":"VLOOKUP($A106,#REF!,2,0)-VLOOKUP($A106,$A$4:$BI$82,N$3,0)","v":{"$error":"#REF!"}},{"$f":"VLOOKUP($A106,#REF!,2,0)-VLOOKUP($A106,$A$4:$BI$82,O$3,0)","v":{"$error":"#REF!"}},{"$f":"VLOOKUP($A106,#REF!,2,0)-VLOOKUP($A106,$A$4:$BI$82,P$3,0)","v":{"$error":"#REF!"}},{"$f":"VLOOKUP($A106,#REF!,2,0)-VLOOKUP($A106,$A$4:$BI$82,Q$3,0)","v":{"$error":"#REF!"}},{"$f":"VLOOKUP($A106,#REF!,2,0)-VLOOKUP($A106,$A$4:$BI$82,R$3,0)","v":{"$error":"#REF!"}},{"$f":"VLOOKUP($A106,#REF!,2,0)-VLOOKUP($A106,$A$4:$BI$82,S$3,0)","v":{"$error":"#REF!"}},{"$f":"VLOOKUP($A106,#REF!,2,0)-VLOOKUP($A106,$A$4:$BI$82,T$3,0)","v":{"$error":"#REF!"}},{"$f":"VLOOKUP($A106,#REF!,2,0)-VLOOKUP($A106,$A$4:$BI$82,U$3,0)","v":{"$error":"#REF!"}},{"$f":"VLOOKUP($A106,#REF!,2,0)-VLOOKUP($A106,$A$4:$BI$82,V$3,0)","v":{"$error":"#REF!"}},{"$f":"VLOOKUP($A106,#REF!,2,0)-VLOOKUP($A106,$A$4:$BI$82,W$3,0)","v":{"$error":"#REF!"}},{"$f":"VLOOKUP($A106,#REF!,2,0)-VLOOKUP($A106,$A$4:$BI$82,X$3,0)","v":{"$error":"#REF!"}},{"$f":"VLOOKUP($A106,#REF!,2,0)-VLOOKUP($A106,$A$4:$BI$82,Y$3,0)","v":{"$error":"#REF!"}},{"$f":"VLOOKUP($A106,#REF!,2,0)-VLOOKUP($A106,$A$4:$BI$82,Z$3,0)","v":{"$error":"#REF!"}},{"$f":"VLOOKUP($A106,#REF!,2,0)-VLOOKUP($A106,$A$4:$BI$82,AA$3,0)","v":{"$error":"#REF!"}},{"$f":"VLOOKUP($A106,#REF!,2,0)-VLOOKUP($A106,$A$4:$BI$82,AB$3,0)","v":{"$error":"#REF!"}},{"$f":"VLOOKUP($A106,#REF!,2,0)-VLOOKUP($A106,$A$4:$BI$82,AC$3,0)","v":{"$error":"#REF!"}},{"$f":"VLOOKUP($A106,#REF!,2,0)-VLOOKUP($A106,$A$4:$BI$82,AD$3,0)","v":{"$error":"#REF!"}},{"$f":"VLOOKUP($A106,#REF!,2,0)-VLOOKUP($A106,$A$4:$BI$82,AE$3,0)","v":{"$error":"#REF!"}},{"$f":"VLOOKUP($A106,#REF!,2,0)-VLOOKUP($A106,$A$4:$BI$82,AF$3,0)","v":{"$error":"#REF!"}},{"$f":"VLOOKUP($A106,#REF!,2,0)-VLOOKUP($A106,$A$4:$BI$82,AG$3,0)","v":{"$error":"#REF!"}},{"$f":"VLOOKUP($A106,#REF!,2,0)-VLOOKUP($A106,$A$4:$BI$82,AH$3,0)","v":{"$error":"#REF!"}},{"$f":"VLOOKUP($A106,#REF!,2,0)-VLOOKUP($A106,$A$4:$BI$82,AI$3,0)","v":{"$error":"#REF!"}},{"$f":"VLOOKUP($A106,#REF!,2,0)-VLOOKUP($A106,$A$4:$BI$82,AJ$3,0)","v":{"$error":"#REF!"}},{"$f":"VLOOKUP($A106,#REF!,2,0)-VLOOKUP($A106,$A$4:$BI$82,AK$3,0)","v":{"$error":"#REF!"}},{"$f":"VLOOKUP($A106,#REF!,2,0)-VLOOKUP($A106,$A$4:$BI$82,AL$3,0)","v":{"$error":"#REF!"}},{"$f":"VLOOKUP($A106,#REF!,2,0)-VLOOKUP($A106,$A$4:$BI$82,AM$3,0)","v":{"$error":"#REF!"}},{"$f":"VLOOKUP($A106,#REF!,2,0)-VLOOKUP($A106,$A$4:$BI$82,AN$3,0)","v":{"$error":"#REF!"}},{"$f":"VLOOKUP($A106,#REF!,2,0)-VLOOKUP($A106,$A$4:$BI$82,AO$3,0)","v":{"$error":"#REF!"}},{"$f":"VLOOKUP($A106,#REF!,2,0)-VLOOKUP($A106,$A$4:$BI$82,AP$3,0)","v":{"$error":"#REF!"}},{"$f":"VLOOKUP($A106,#REF!,2,0)-VLOOKUP($A106,$A$4:$BI$82,AQ$3,0)","v":{"$error":"#REF!"}},{"$f":"VLOOKUP($A106,#REF!,2,0)-VLOOKUP($A106,$A$4:$BI$82,AR$3,0)","v":{"$error":"#REF!"}},{"$f":"VLOOKUP($A106,#REF!,2,0)-VLOOKUP($A106,$A$4:$BI$82,AS$3,0)","v":{"$error":"#REF!"}},{"$f":"VLOOKUP($A106,#REF!,2,0)-VLOOKUP($A106,$A$4:$BI$82,AT$3,0)","v":{"$error":"#REF!"}},{"$f":"VLOOKUP($A106,#REF!,2,0)-VLOOKUP($A106,$A$4:$BI$82,AU$3,0)","v":{"$error":"#REF!"}},{"$f":"VLOOKUP($A106,#REF!,2,0)-VLOOKUP($A106,$A$4:$BI$82,AV$3,0)","v":{"$error":"#REF!"}},{"$f":"VLOOKUP($A106,#REF!,2,0)-VLOOKUP($A106,$A$4:$BI$82,AW$3,0)","v":{"$error":"#REF!"}},{"$f":"VLOOKUP($A106,#REF!,2,0)-VLOOKUP($A106,$A$4:$BI$82,AX$3,0)","v":{"$error":"#REF!"}},{"$f":"VLOOKUP($A106,#REF!,2,0)-VLOOKUP($A106,$A$4:$BI$82,AY$3,0)","v":{"$error":"#REF!"}},{"$f":"VLOOKUP($A106,#REF!,2,0)-VLOOKUP($A106,$A$4:$BI$82,AZ$3,0)","v":{"$error":"#REF!"}},{"$f":"VLOOKUP($A106,#REF!,2,0)-VLOOKUP($A106,$A$4:$BI$82,BA$3,0)","v":{"$error":"#REF!"}},{"$f":"VLOOKUP($A106,#REF!,2,0)-VLOOKUP($A106,$A$4:$BI$82,BB$3,0)","v":{"$error":"#REF!"}},{"$f":"VLOOKUP($A106,#REF!,2,0)-VLOOKUP($A106,$A$4:$BI$82,BC$3,0)","v":{"$error":"#REF!"}},{"$f":"VLOOKUP($A106,#REF!,2,0)-VLOOKUP($A106,$A$4:$BI$82,BD$3,0)","v":{"$error":"#REF!"}},{"$f":"VLOOKUP($A106,#REF!,2,0)-VLOOKUP($A106,$A$4:$BI$82,BE$3,0)","v":{"$error":"#REF!"}},{"$f":"VLOOKUP($A106,#REF!,2,0)-VLOOKUP($A106,$A$4:$BI$82,BF$3,0)","v":{"$error":"#REF!"}},{"$f":"VLOOKUP($A106,#REF!,2,0)-VLOOKUP($A106,$A$4:$BI$82,BG$3,0)","v":{"$error":"#REF!"}},{"$f":"VLOOKUP($A106,#REF!,2,0)-VLOOKUP($A106,$A$4:$BI$82,BH$3,0)","v":{"$error":"#REF!"}},{"$f":"VLOOKUP($A106,#REF!,2,0)-VLOOKUP($A106,$A$4:$BI$82,BI$3,0)","v":{"$error":"#REF!"}}]
["Hidro Panamá, S.A.",null,null,null,null,null,null,null,null,null,null,null,{"$f":"VLOOKUP($A107,#REF!,3,0)","v":{"$error":"#REF!"}},{"$f":"VLOOKUP($A107,#REF!,2,0)-VLOOKUP($A107,$A$4:$BI$82,N$3,0)","v":{"$error":"#REF!"}},{"$f":"VLOOKUP($A107,#REF!,2,0)-VLOOKUP($A107,$A$4:$BI$82,O$3,0)","v":{"$error":"#REF!"}},{"$f":"VLOOKUP($A107,#REF!,2,0)-VLOOKUP($A107,$A$4:$BI$82,P$3,0)","v":{"$error":"#REF!"}},{"$f":"VLOOKUP($A107,#REF!,2,0)-VLOOKUP($A107,$A$4:$BI$82,Q$3,0)","v":{"$error":"#REF!"}},{"$f":"VLOOKUP($A107,#REF!,2,0)-VLOOKUP($A107,$A$4:$BI$82,R$3,0)","v":{"$error":"#REF!"}},{"$f":"VLOOKUP($A107,#REF!,2,0)-VLOOKUP($A107,$A$4:$BI$82,S$3,0)","v":{"$error":"#REF!"}},{"$f":"VLOOKUP($A107,#REF!,2,0)-VLOOKUP($A107,$A$4:$BI$82,T$3,0)","v":{"$error":"#REF!"}},{"$f":"VLOOKUP($A107,#REF!,2,0)-VLOOKUP($A107,$A$4:$BI$82,U$3,0)","v":{"$error":"#REF!"}},{"$f":"VLOOKUP($A107,#REF!,2,0)-VLOOKUP($A107,$A$4:$BI$82,V$3,0)","v":{"$error":"#REF!"}},{"$f":"VLOOKUP($A107,#REF!,2,0)-VLOOKUP($A107,$A$4:$BI$82,W$3,0)","v":{"$error":"#REF!"}},{"$f":"VLOOKUP($A107,#REF!,2,0)-VLOOKUP($A107,$A$4:$BI$82,X$3,0)","v":{"$error":"#REF!"}},{"$f":"VLOOKUP($A107,#REF!,2,0)-VLOOKUP($A107,$A$4:$BI$82,Y$3,0)","v":{"$error":"#REF!"}},{"$f":"VLOOKUP($A107,#REF!,2,0)-VLOOKUP($A107,$A$4:$BI$82,Z$3,0)","v":{"$error":"#REF!"}},{"$f":"VLOOKUP($A107,#REF!,2,0)-VLOOKUP($A107,$A$4:$BI$82,AA$3,0)","v":{"$error":"#REF!"}},{"$f":"VLOOKUP($A107,#REF!,2,0)-VLOOKUP($A107,$A$4:$BI$82,AB$3,0)","v":{"$error":"#REF!"}},{"$f":"VLOOKUP($A107,#REF!,2,0)-VLOOKUP($A107,$A$4:$BI$82,AC$3,0)","v":{"$error":"#REF!"}},{"$f":"VLOOKUP($A107,#REF!,2,0)-VLOOKUP($A107,$A$4:$BI$82,AD$3,0)","v":{"$error":"#REF!"}},{"$f":"VLOOKUP($A107,#REF!,2,0)-VLOOKUP($A107,$A$4:$BI$82,AE$3,0)","v":{"$error":"#REF!"}},{"$f":"VLOOKUP($A107,#REF!,2,0)-VLOOKUP($A107,$A$4:$BI$82,AF$3,0)","v":{"$error":"#REF!"}},{"$f":"VLOOKUP($A107,#REF!,2,0)-VLOOKUP($A107,$A$4:$BI$82,AG$3,0)","v":{"$error":"#REF!"}},{"$f":"VLOOKUP($A107,#REF!,2,0)-VLOOKUP($A107,$A$4:$BI$82,AH$3,0)","v":{"$error":"#REF!"}},{"$f":"VLOOKUP($A107,#REF!,2,0)-VLOOKUP($A107,$A$4:$BI$82,AI$3,0)","v":{"$error":"#REF!"}},{"$f":"VLOOKUP($A107,#REF!,2,0)-VLOOKUP($A107,$A$4:$BI$82,AJ$3,0)","v":{"$error":"#REF!"}},{"$f":"VLOOKUP($A107,#REF!,2,0)-VLOOKUP($A107,$A$4:$BI$82,AK$3,0)","v":{"$error":"#REF!"}},{"$f":"VLOOKUP($A107,#REF!,2,0)-VLOOKUP($A107,$A$4:$BI$82,AL$3,0)","v":{"$error":"#REF!"}},{"$f":"VLOOKUP($A107,#REF!,2,0)-VLOOKUP($A107,$A$4:$BI$82,AM$3,0)","v":{"$error":"#REF!"}},{"$f":"VLOOKUP($A107,#REF!,2,0)-VLOOKUP($A107,$A$4:$BI$82,AN$3,0)","v":{"$error":"#REF!"}},{"$f":"VLOOKUP($A107,#REF!,2,0)-VLOOKUP($A107,$A$4:$BI$82,AO$3,0)","v":{"$error":"#REF!"}},{"$f":"VLOOKUP($A107,#REF!,2,0)-VLOOKUP($A107,$A$4:$BI$82,AP$3,0)","v":{"$error":"#REF!"}},{"$f":"VLOOKUP($A107,#REF!,2,0)-VLOOKUP($A107,$A$4:$BI$82,AQ$3,0)","v":{"$error":"#REF!"}},{"$f":"VLOOKUP($A107,#REF!,2,0)-VLOOKUP($A107,$A$4:$BI$82,AR$3,0)","v":{"$error":"#REF!"}},{"$f":"VLOOKUP($A107,#REF!,2,0)-VLOOKUP($A107,$A$4:$BI$82,AS$3,0)","v":{"$error":"#REF!"}},{"$f":"VLOOKUP($A107,#REF!,2,0)-VLOOKUP($A107,$A$4:$BI$82,AT$3,0)","v":{"$error":"#REF!"}},{"$f":"VLOOKUP($A107,#REF!,2,0)-VLOOKUP($A107,$A$4:$BI$82,AU$3,0)","v":{"$error":"#REF!"}},{"$f":"VLOOKUP($A107,#REF!,2,0)-VLOOKUP($A107,$A$4:$BI$82,AV$3,0)","v":{"$error":"#REF!"}},{"$f":"VLOOKUP($A107,#REF!,2,0)-VLOOKUP($A107,$A$4:$BI$82,AW$3,0)","v":{"$error":"#REF!"}},{"$f":"VLOOKUP($A107,#REF!,2,0)-VLOOKUP($A107,$A$4:$BI$82,AX$3,0)","v":{"$error":"#REF!"}},{"$f":"VLOOKUP($A107,#REF!,2,0)-VLOOKUP($A107,$A$4:$BI$82,AY$3,0)","v":{"$error":"#REF!"}},{"$f":"VLOOKUP($A107,#REF!,2,0)-VLOOKUP($A107,$A$4:$BI$82,AZ$3,0)","v":{"$error":"#REF!"}},{"$f":"VLOOKUP($A107,#REF!,2,0)-VLOOKUP($A107,$A$4:$BI$82,BA$3,0)","v":{"$error":"#REF!"}},{"$f":"VLOOKUP($A107,#REF!,2,0)-VLOOKUP($A107,$A$4:$BI$82,BB$3,0)","v":{"$error":"#REF!"}},{"$f":"VLOOKUP($A107,#REF!,2,0)-VLOOKUP($A107,$A$4:$BI$82,BC$3,0)","v":{"$error":"#REF!"}},{"$f":"VLOOKUP($A107,#REF!,2,0)-VLOOKUP($A107,$A$4:$BI$82,BD$3,0)","v":{"$error":"#REF!"}},{"$f":"VLOOKUP($A107,#REF!,2,0)-VLOOKUP($A107,$A$4:$BI$82,BE$3,0)","v":{"$error":"#REF!"}},{"$f":"VLOOKUP($A107,#REF!,2,0)-VLOOKUP($A107,$A$4:$BI$82,BF$3,0)","v":{"$error":"#REF!"}},{"$f":"VLOOKUP($A107,#REF!,2,0)-VLOOKUP($A107,$A$4:$BI$82,BG$3,0)","v":{"$error":"#REF!"}},{"$f":"VLOOKUP($A107,#REF!,2,0)-VLOOKUP($A107,$A$4:$BI$82,BH$3,0)","v":{"$error":"#REF!"}},{"$f":"VLOOKUP($A107,#REF!,2,0)-VLOOKUP($A107,$A$4:$BI$82,BI$3,0)","v":{"$error":"#REF!"}}]
["Hidroecológica del Teribe, S.A.",null,null,null,null,null,null,null,null,null,null,null,{"$f":"VLOOKUP($A108,#REF!,3,0)","v":{"$error":"#REF!"}},{"$f":"VLOOKUP($A108,#REF!,2,0)-VLOOKUP($A108,$A$4:$BI$82,N$3,0)","v":{"$error":"#REF!"}},{"$f":"VLOOKUP($A108,#REF!,2,0)-VLOOKUP($A108,$A$4:$BI$82,O$3,0)","v":{"$error":"#REF!"}},{"$f":"VLOOKUP($A108,#REF!,2,0)-VLOOKUP($A108,$A$4:$BI$82,P$3,0)","v":{"$error":"#REF!"}},{"$f":"VLOOKUP($A108,#REF!,2,0)-VLOOKUP($A108,$A$4:$BI$82,Q$3,0)","v":{"$error":"#REF!"}},{"$f":"VLOOKUP($A108,#REF!,2,0)-VLOOKUP($A108,$A$4:$BI$82,R$3,0)","v":{"$error":"#REF!"}},{"$f":"VLOOKUP($A108,#REF!,2,0)-VLOOKUP($A108,$A$4:$BI$82,S$3,0)","v":{"$error":"#REF!"}},{"$f":"VLOOKUP($A108,#REF!,2,0)-VLOOKUP($A108,$A$4:$BI$82,T$3,0)","v":{"$error":"#REF!"}},{"$f":"VLOOKUP($A108,#REF!,2,0)-VLOOKUP($A108,$A$4:$BI$82,U$3,0)","v":{"$error":"#REF!"}},{"$f":"VLOOKUP($A108,#REF!,2,0)-VLOOKUP($A108,$A$4:$BI$82,V$3,0)","v":{"$error":"#REF!"}},{"$f":"VLOOKUP($A108,#REF!,2,0)-VLOOKUP($A108,$A$4:$BI$82,W$3,0)","v":{"$error":"#REF!"}},{"$f":"VLOOKUP($A108,#REF!,2,0)-VLOOKUP($A108,$A$4:$BI$82,X$3,0)","v":{"$error":"#REF!"}},{"$f":"VLOOKUP($A108,#REF!,2,0)-VLOOKUP($A108,$A$4:$BI$82,Y$3,0)","v":{"$error":"#REF!"}},{"$f":"VLOOKUP($A108,#REF!,2,0)-VLOOKUP($A108,$A$4:$BI$82,Z$3,0)","v":{"$error":"#REF!"}},{"$f":"VLOOKUP($A108,#REF!,2,0)-VLOOKUP($A108,$A$4:$BI$82,AA$3,0)","v":{"$error":"#REF!"}},{"$f":"VLOOKUP($A108,#REF!,2,0)-VLOOKUP($A108,$A$4:$BI$82,AB$3,0)","v":{"$error":"#REF!"}},{"$f":"VLOOKUP($A108,#REF!,2,0)-VLOOKUP($A108,$A$4:$BI$82,AC$3,0)","v":{"$error":"#REF!"}},{"$f":"VLOOKUP($A108,#REF!,2,0)-VLOOKUP($A108,$A$4:$BI$82,AD$3,0)","v":{"$error":"#REF!"}},{"$f":"VLOOKUP($A108,#REF!,2,0)-VLOOKUP($A108,$A$4:$BI$82,AE$3,0)","v":{"$error":"#REF!"}},{"$f":"VLOOKUP($A108,#REF!,2,0)-VLOOKUP($A108,$A$4:$BI$82,AF$3,0)","v":{"$error":"#REF!"}},{"$f":"VLOOKUP($A108,#REF!,2,0)-VLOOKUP($A108,$A$4:$BI$82,AG$3,0)","v":{"$error":"#REF!"}},{"$f":"VLOOKUP($A108,#REF!,2,0)-VLOOKUP($A108,$A$4:$BI$82,AH$3,0)","v":{"$error":"#REF!"}},{"$f":"VLOOKUP($A108,#REF!,2,0)-VLOOKUP($A108,$A$4:$BI$82,AI$3,0)","v":{"$error":"#REF!"}},{"$f":"VLOOKUP($A108,#REF!,2,0)-VLOOKUP($A108,$A$4:$BI$82,AJ$3,0)","v":{"$error":"#REF!"}},{"$f":"VLOOKUP($A108,#REF!,2,0)-VLOOKUP($A108,$A$4:$BI$82,AK$3,0)","v":{"$error":"#REF!"}},{"$f":"VLOOKUP($A108,#REF!,2,0)-VLOOKUP($A108,$A$4:$BI$82,AL$3,0)","v":{"$error":"#REF!"}},{"$f":"VLOOKUP($A108,#REF!,2,0)-VLOOKUP($A108,$A$4:$BI$82,AM$3,0)","v":{"$error":"#REF!"}},{"$f":"VLOOKUP($A108,#REF!,2,0)-VLOOKUP($A108,$A$4:$BI$82,AN$3,0)","v":{"$error":"#REF!"}},{"$f":"VLOOKUP($A108,#REF!,2,0)-VLOOKUP($A108,$A$4:$BI$82,AO$3,0)","v":{"$error":"#REF!"}},{"$f":"VLOOKUP($A108,#REF!,2,0)-VLOOKUP($A108,$A$4:$BI$82,AP$3,0)","v":{"$error":"#REF!"}},{"$f":"VLOOKUP($A108,#REF!,2,0)-VLOOKUP($A108,$A$4:$BI$82,AQ$3,0)","v":{"$error":"#REF!"}},{"$f":"VLOOKUP($A108,#REF!,2,0)-VLOOKUP($A108,$A$4:$BI$82,AR$3,0)","v":{"$error":"#REF!"}},{"$f":"VLOOKUP($A108,#REF!,2,0)-VLOOKUP($A108,$A$4:$BI$82,AS$3,0)","v":{"$error":"#REF!"}},{"$f":"VLOOKUP($A108,#REF!,2,0)-VLOOKUP($A108,$A$4:$BI$82,AT$3,0)","v":{"$error":"#REF!"}},{"$f":"VLOOKUP($A108,#REF!,2,0)-VLOOKUP($A108,$A$4:$BI$82,AU$3,0)","v":{"$error":"#REF!"}},{"$f":"VLOOKUP($A108,#REF!,2,0)-VLOOKUP($A108,$A$4:$BI$82,AV$3,0)","v":{"$error":"#REF!"}},{"$f":"VLOOKUP($A108,#REF!,2,0)-VLOOKUP($A108,$A$4:$BI$82,AW$3,0)","v":{"$error":"#REF!"}},{"$f":"VLOOKUP($A108,#REF!,2,0)-VLOOKUP($A108,$A$4:$BI$82,AX$3,0)","v":{"$error":"#REF!"}},{"$f":"VLOOKUP($A108,#REF!,2,0)-VLOOKUP($A108,$A$4:$BI$82,AY$3,0)","v":{"$error":"#REF!"}},{"$f":"VLOOKUP($A108,#REF!,2,0)-VLOOKUP($A108,$A$4:$BI$82,AZ$3,0)","v":{"$error":"#REF!"}},{"$f":"VLOOKUP($A108,#REF!,2,0)-VLOOKUP($A108,$A$4:$BI$82,BA$3,0)","v":{"$error":"#REF!"}},{"$f":"VLOOKUP($A108,#REF!,2,0)-VLOOKUP($A108,$A$4:$BI$82,BB$3,0)","v":{"$error":"#REF!"}},{"$f":"VLOOKUP($A108,#REF!,2,0)-VLOOKUP($A108,$A$4:$BI$82,BC$3,0)","v":{"$error":"#REF!"}},{"$f":"VLOOKUP($A108,#REF!,2,0)-VLOOKUP($A108,$A$4:$BI$82,BD$3,0)","v":{"$error":"#REF!"}},{"$f":"VLOOKUP($A108,#REF!,2,0)-VLOOKUP($A108,$A$4:$BI$82,BE$3,0)","v":{"$error":"#REF!"}},{"$f":"VLOOKUP($A108,#REF!,2,0)-VLOOKUP($A108,$A$4:$BI$82,BF$3,0)","v":{"$error":"#REF!"}},{"$f":"VLOOKUP($A108,#REF!,2,0)-VLOOKUP($A108,$A$4:$BI$82,BG$3,0)","v":{"$error":"#REF!"}},{"$f":"VLOOKUP($A108,#REF!,2,0)-VLOOKUP($A108,$A$4:$BI$82,BH$3,0)","v":{"$error":"#REF!"}},{"$f":"VLOOKUP($A108,#REF!,2,0)-VLOOKUP($A108,$A$4:$BI$82,BI$3,0)","v":{"$error":"#REF!"}}]
["Hidroeléctrica Bajos del Totuma, S.A.",null,null,null,null,null,null,null,null,null,null,null,{"$f":"VLOOKUP($A109,#REF!,3,0)","v":{"$error":"#REF!"}},{"$f":"VLOOKUP($A109,#REF!,2,0)-VLOOKUP($A109,$A$4:$BI$82,N$3,0)","v":{"$error":"#REF!"}},{"$f":"VLOOKUP($A109,#REF!,2,0)-VLOOKUP($A109,$A$4:$BI$82,O$3,0)","v":{"$error":"#REF!"}},{"$f":"VLOOKUP($A109,#REF!,2,0)-VLOOKUP($A109,$A$4:$BI$82,P$3,0)","v":{"$error":"#REF!"}},{"$f":"VLOOKUP($A109,#REF!,2,0)-VLOOKUP($A109,$A$4:$BI$82,Q$3,0)","v":{"$error":"#REF!"}},{"$f":"VLOOKUP($A109,#REF!,2,0)-VLOOKUP($A109,$A$4:$BI$82,R$3,0)","v":{"$error":"#REF!"}},{"$f":"VLOOKUP($A109,#REF!,2,0)-VLOOKUP($A109,$A$4:$BI$82,S$3,0)","v":{"$error":"#REF!"}},{"$f":"VLOOKUP($A109,#REF!,2,0)-VLOOKUP($A109,$A$4:$BI$82,T$3,0)","v":{"$error":"#REF!"}},{"$f":"VLOOKUP($A109,#REF!,2,0)-VLOOKUP($A109,$A$4:$BI$82,U$3,0)","v":{"$error":"#REF!"}},{"$f":"VLOOKUP($A109,#REF!,2,0)-VLOOKUP($A109,$A$4:$BI$82,V$3,0)","v":{"$error":"#REF!"}},{"$f":"VLOOKUP($A109,#REF!,2,0)-VLOOKUP($A109,$A$4:$BI$82,W$3,0)","v":{"$error":"#REF!"}},{"$f":"VLOOKUP($A109,#REF!,2,0)-VLOOKUP($A109,$A$4:$BI$82,X$3,0)","v":{"$error":"#REF!"}},{"$f":"VLOOKUP($A109,#REF!,2,0)-VLOOKUP($A109,$A$4:$BI$82,Y$3,0)","v":{"$error":"#REF!"}},{"$f":"VLOOKUP($A109,#REF!,2,0)-VLOOKUP($A109,$A$4:$BI$82,Z$3,0)","v":{"$error":"#REF!"}},{"$f":"VLOOKUP($A109,#REF!,2,0)-VLOOKUP($A109,$A$4:$BI$82,AA$3,0)","v":{"$error":"#REF!"}},{"$f":"VLOOKUP($A109,#REF!,2,0)-VLOOKUP($A109,$A$4:$BI$82,AB$3,0)","v":{"$error":"#REF!"}},{"$f":"VLOOKUP($A109,#REF!,2,0)-VLOOKUP($A109,$A$4:$BI$82,AC$3,0)","v":{"$error":"#REF!"}},{"$f":"VLOOKUP($A109,#REF!,2,0)-VLOOKUP($A109,$A$4:$BI$82,AD$3,0)","v":{"$error":"#REF!"}},{"$f":"VLOOKUP($A109,#REF!,2,0)-VLOOKUP($A109,$A$4:$BI$82,AE$3,0)","v":{"$error":"#REF!"}},{"$f":"VLOOKUP($A109,#REF!,2,0)-VLOOKUP($A109,$A$4:$BI$82,AF$3,0)","v":{"$error":"#REF!"}},{"$f":"VLOOKUP($A109,#REF!,2,0)-VLOOKUP($A109,$A$4:$BI$82,AG$3,0)","v":{"$error":"#REF!"}},{"$f":"VLOOKUP($A109,#REF!,2,0)-VLOOKUP($A109,$A$4:$BI$82,AH$3,0)","v":{"$error":"#REF!"}},{"$f":"VLOOKUP($A109,#REF!,2,0)-VLOOKUP($A109,$A$4:$BI$82,AI$3,0)","v":{"$error":"#REF!"}},{"$f":"VLOOKUP($A109,#REF!,2,0)-VLOOKUP($A109,$A$4:$BI$82,AJ$3,0)","v":{"$error":"#REF!"}},{"$f":"VLOOKUP($A109,#REF!,2,0)-VLOOKUP($A109,$A$4:$BI$82,AK$3,0)","v":{"$error":"#REF!"}},{"$f":"VLOOKUP($A109,#REF!,2,0)-VLOOKUP($A109,$A$4:$BI$82,AL$3,0)","v":{"$error":"#REF!"}},{"$f":"VLOOKUP($A109,#REF!,2,0)-VLOOKUP($A109,$A$4:$BI$82,AM$3,0)","v":{"$error":"#REF!"}},{"$f":"VLOOKUP($A109,#REF!,2,0)-VLOOKUP($A109,$A$4:$BI$82,AN$3,0)","v":{"$error":"#REF!"}},{"$f":"VLOOKUP($A109,#REF!,2,0)-VLOOKUP($A109,$A$4:$BI$82,AO$3,0)","v":{"$error":"#REF!"}},{"$f":"VLOOKUP($A109,#REF!,2,0)-VLOOKUP($A109,$A$4:$BI$82,AP$3,0)","v":{"$error":"#REF!"}},{"$f":"VLOOKUP($A109,#REF!,2,0)-VLOOKUP($A109,$A$4:$BI$82,AQ$3,0)","v":{"$error":"#REF!"}},{"$f":"VLOOKUP($A109,#REF!,2,0)-VLOOKUP($A109,$A$4:$BI$82,AR$3,0)","v":{"$error":"#REF!"}},{"$f":"VLOOKUP($A109,#REF!,2,0)-VLOOKUP($A109,$A$4:$BI$82,AS$3,0)","v":{"$error":"#REF!"}},{"$f":"VLOOKUP($A109,#REF!,2,0)-VLOOKUP($A109,$A$4:$BI$82,AT$3,0)","v":{"$error":"#REF!"}},{"$f":"VLOOKUP($A109,#REF!,2,0)-VLOOKUP($A109,$A$4:$BI$82,AU$3,0)","v":{"$error":"#REF!"}},{"$f":"VLOOKUP($A109,#REF!,2,0)-VLOOKUP($A109,$A$4:$BI$82,AV$3,0)","v":{"$error":"#REF!"}},{"$f":"VLOOKUP($A109,#REF!,2,0)-VLOOKUP($A109,$A$4:$BI$82,AW$3,0)","v":{"$error":"#REF!"}},{"$f":"VLOOKUP($A109,#REF!,2,0)-VLOOKUP($A109,$A$4:$BI$82,AX$3,0)","v":{"$error":"#REF!"}},{"$f":"VLOOKUP($A109,#REF!,2,0)-VLOOKUP($A109,$A$4:$BI$82,AY$3,0)","v":{"$error":"#REF!"}},{"$f":"VLOOKUP($A109,#REF!,2,0)-VLOOKUP($A109,$A$4:$BI$82,AZ$3,0)","v":{"$error":"#REF!"}},{"$f":"VLOOKUP($A109,#REF!,2,0)-VLOOKUP($A109,$A$4:$BI$82,BA$3,0)","v":{"$error":"#REF!"}},{"$f":"VLOOKUP($A109,#REF!,2,0)-VLOOKUP($A109,$A$4:$BI$82,BB$3,0)","v":{"$error":"#REF!"}},{"$f":"VLOOKUP($A109,#REF!,2,0)-VLOOKUP($A109,$A$4:$BI$82,BC$3,0)","v":{"$error":"#REF!"}},{"$f":"VLOOKUP($A109,#REF!,2,0)-VLOOKUP($A109,$A$4:$BI$82,BD$3,0)","v":{"$error":"#REF!"}},{"$f":"VLOOKUP($A109,#REF!,2,0)-VLOOKUP($A109,$A$4:$BI$82,BE$3,0)","v":{"$error":"#REF!"}},{"$f":"VLOOKUP($A109,#REF!,2,0)-VLOOKUP($A109,$A$4:$BI$82,BF$3,0)","v":{"$error":"#REF!"}},{"$f":"VLOOKUP($A109,#REF!,2,0)-VLOOKUP($A109,$A$4:$BI$82,BG$3,0)","v":{"$error":"#REF!"}},{"$f":"VLOOKUP($A109,#REF!,2,0)-VLOOKUP($A109,$A$4:$BI$82,BH$3,0)","v":{"$error":"#REF!"}},{"$f":"VLOOKUP($A109,#REF!,2,0)-VLOOKUP($A109,$A$4:$BI$82,BI$3,0)","v":{"$error":"#REF!"}}]
["Hidroeléctrica San Lorenzo, S.A.",null,null,null,null,null,null,null,null,null,null,null,{"$f":"VLOOKUP($A110,#REF!,3,0)","v":{"$error":"#REF!"}},{"$f":"VLOOKUP($A110,#REF!,2,0)-VLOOKUP($A110,$A$4:$BI$82,N$3,0)","v":{"$error":"#REF!"}},{"$f":"VLOOKUP($A110,#REF!,2,0)-VLOOKUP($A110,$A$4:$BI$82,O$3,0)","v":{"$error":"#REF!"}},{"$f":"VLOOKUP($A110,#REF!,2,0)-VLOOKUP($A110,$A$4:$BI$82,P$3,0)","v":{"$error":"#REF!"}},{"$f":"VLOOKUP($A110,#REF!,2,0)-VLOOKUP($A110,$A$4:$BI$82,Q$3,0)","v":{"$error":"#REF!"}},{"$f":"VLOOKUP($A110,#REF!,2,0)-VLOOKUP($A110,$A$4:$BI$82,R$3,0)","v":{"$error":"#REF!"}},{"$f":"VLOOKUP($A110,#REF!,2,0)-VLOOKUP($A110,$A$4:$BI$82,S$3,0)","v":{"$error":"#REF!"}},{"$f":"VLOOKUP($A110,#REF!,2,0)-VLOOKUP($A110,$A$4:$BI$82,T$3,0)","v":{"$error":"#REF!"}},{"$f":"VLOOKUP($A110,#REF!,2,0)-VLOOKUP($A110,$A$4:$BI$82,U$3,0)","v":{"$error":"#REF!"}},{"$f":"VLOOKUP($A110,#REF!,2,0)-VLOOKUP($A110,$A$4:$BI$82,V$3,0)","v":{"$error":"#REF!"}},{"$f":"VLOOKUP($A110,#REF!,2,0)-VLOOKUP($A110,$A$4:$BI$82,W$3,0)","v":{"$error":"#REF!"}},{"$f":"VLOOKUP($A110,#REF!,2,0)-VLOOKUP($A110,$A$4:$BI$82,X$3,0)","v":{"$error":"#REF!"}},{"$f":"VLOOKUP($A110,#REF!,2,0)-VLOOKUP($A110,$A$4:$BI$82,Y$3,0)","v":{"$error":"#REF!"}},{"$f":"VLOOKUP($A110,#REF!,2,0)-VLOOKUP($A110,$A$4:$BI$82,Z$3,0)","v":{"$error":"#REF!"}},{"$f":"VLOOKUP($A110,#REF!,2,0)-VLOOKUP($A110,$A$4:$BI$82,AA$3,0)","v":{"$error":"#REF!"}},{"$f":"VLOOKUP($A110,#REF!,2,0)-VLOOKUP($A110,$A$4:$BI$82,AB$3,0)","v":{"$error":"#REF!"}},{"$f":"VLOOKUP($A110,#REF!,2,0)-VLOOKUP($A110,$A$4:$BI$82,AC$3,0)","v":{"$error":"#REF!"}},{"$f":"VLOOKUP($A110,#REF!,2,0)-VLOOKUP($A110,$A$4:$BI$82,AD$3,0)","v":{"$error":"#REF!"}},{"$f":"VLOOKUP($A110,#REF!,2,0)-VLOOKUP($A110,$A$4:$BI$82,AE$3,0)","v":{"$error":"#REF!"}},{"$f":"VLOOKUP($A110,#REF!,2,0)-VLOOKUP($A110,$A$4:$BI$82,AF$3,0)","v":{"$error":"#REF!"}},{"$f":"VLOOKUP($A110,#REF!,2,0)-VLOOKUP($A110,$A$4:$BI$82,AG$3,0)","v":{"$error":"#REF!"}},{"$f":"VLOOKUP($A110,#REF!,2,0)-VLOOKUP($A110,$A$4:$BI$82,AH$3,0)","v":{"$error":"#REF!"}},{"$f":"VLOOKUP($A110,#REF!,2,0)-VLOOKUP($A110,$A$4:$BI$82,AI$3,0)","v":{"$error":"#REF!"}},{"$f":"VLOOKUP($A110,#REF!,2,0)-VLOOKUP($A110,$A$4:$BI$82,AJ$3,0)","v":{"$error":"#REF!"}},{"$f":"VLOOKUP($A110,#REF!,2,0)-VLOOKUP($A110,$A$4:$BI$82,AK$3,0)","v":{"$error":"#REF!"}},{"$f":"VLOOKUP($A110,#REF!,2,0)-VLOOKUP($A110,$A$4:$BI$82,AL$3,0)","v":{"$error":"#REF!"}},{"$f":"VLOOKUP($A110,#REF!,2,0)-VLOOKUP($A110,$A$4:$BI$82,AM$3,0)","v":{"$error":"#REF!"}},{"$f":"VLOOKUP($A110,#REF!,2,0)-VLOOKUP($A110,$A$4:$BI$82,AN$3,0)","v":{"$error":"#REF!"}},{"$f":"VLOOKUP($A110,#REF!,2,0)-VLOOKUP($A110,$A$4:$BI$82,AO$3,0)","v":{"$error":"#REF!"}},{"$f":"VLOOKUP($A110,#REF!,2,0)-VLOOKUP($A110,$A$4:$BI$82,AP$3,0)","v":{"$error":"#REF!"}},{"$f":"VLOOKUP($A110,#REF!,2,0)-VLOOKUP($A110,$A$4:$BI$82,AQ$3,0)","v":{"$error":"#REF!"}},{"$f":"VLOOKUP($A110,#REF!,2,0)-VLOOKUP($A110,$A$4:$BI$82,AR$3,0)","v":{"$error":"#REF!"}},{"$f":"VLOOKUP($A110,#REF!,2,0)-VLOOKUP($A110,$A$4:$BI$82,AS$3,0)","v":{"$error":"#REF!"}},{"$f":"VLOOKUP($A110,#REF!,2,0)-VLOOKUP($A110,$A$4:$BI$82,AT$3,0)","v":{"$error":"#REF!"}},{"$f":"VLOOKUP($A110,#REF!,2,0)-VLOOKUP($A110,$A$4:$BI$82,AU$3,0)","v":{"$error":"#REF!"}},{"$f":"VLOOKUP($A110,#REF!,2,0)-VLOOKUP($A110,$A$4:$BI$82,AV$3,0)","v":{"$error":"#REF!"}},{"$f":"VLOOKUP($A110,#REF!,2,0)-VLOOKUP($A110,$A$4:$BI$82,AW$3,0)","v":{"$error":"#REF!"}},{"$f":"VLOOKUP($A110,#REF!,2,0)-VLOOKUP($A110,$A$4:$BI$82,AX$3,0)","v":{"$error":"#REF!"}},{"$f":"VLOOKUP($A110,#REF!,2,0)-VLOOKUP($A110,$A$4:$BI$82,AY$3,0)","v":{"$error":"#REF!"}},{"$f":"VLOOKUP($A110,#REF!,2,0)-VLOOKUP($A110,$A$4:$BI$82,AZ$3,0)","v":{"$error":"#REF!"}},{"$f":"VLOOKUP($A110,#REF!,2,0)-VLOOKUP($A110,$A$4:$BI$82,BA$3,0)","v":{"$error":"#REF!"}},{"$f":"VLOOKUP($A110,#REF!,2,0)-VLOOKUP($A110,$A$4:$BI$82,BB$3,0)","v":{"$error":"#REF!"}},{"$f":"VLOOKUP($A110,#REF!,2,0)-VLOOKUP($A110,$A$4:$BI$82,BC$3,0)","v":{"$error":"#REF!"}},{"$f":"VLOOKUP($A110,#REF!,2,0)-VLOOKUP($A110,$A$4:$BI$82,BD$3,0)","v":{"$error":"#REF!"}},{"$f":"VLOOKUP($A110,#REF!,2,0)-VLOOKUP($A110,$A$4:$BI$82,BE$3,0)","v":{"$error":"#REF!"}},{"$f":"VLOOKUP($A110,#REF!,2,0)-VLOOKUP($A110,$A$4:$BI$82,BF$3,0)","v":{"$error":"#REF!"}},{"$f":"VLOOKUP($A110,#REF!,2,0)-VLOOKUP($A110,$A$4:$BI$82,BG$3,0)","v":{"$error":"#REF!"}},{"$f":"VLOOKUP($A110,#REF!,2,0)-VLOOKUP($A110,$A$4:$BI$82,BH$3,0)","v":{"$error":"#REF!"}},{"$f":"VLOOKUP($A110,#REF!,2,0)-VLOOKUP($A110,$A$4:$BI$82,BI$3,0)","v":{"$error":"#REF!"}}]
["Hidroibérica, S.A.",null,null,null,null,null,null,null,null,null,null,null,{"$f":"VLOOKUP($A111,#REF!,3,0)","v":{"$error":"#REF!"}},{"$f":"VLOOKUP($A111,#REF!,2,0)-VLOOKUP($A111,$A$4:$BI$82,N$3,0)","v":{"$error":"#REF!"}},{"$f":"VLOOKUP($A111,#REF!,2,0)-VLOOKUP($A111,$A$4:$BI$82,O$3,0)","v":{"$error":"#REF!"}},{"$f":"VLOOKUP($A111,#REF!,2,0)-VLOOKUP($A111,$A$4:$BI$82,P$3,0)","v":{"$error":"#REF!"}},{"$f":"VLOOKUP($A111,#REF!,2,0)-VLOOKUP($A111,$A$4:$BI$82,Q$3,0)","v":{"$error":"#REF!"}},{"$f":"VLOOKUP($A111,#REF!,2,0)-VLOOKUP($A111,$A$4:$BI$82,R$3,0)","v":{"$error":"#REF!"}},{"$f":"VLOOKUP($A111,#REF!,2,0)-VLOOKUP($A111,$A$4:$BI$82,S$3,0)","v":{"$error":"#REF!"}},{"$f":"VLOOKUP($A111,#REF!,2,0)-VLOOKUP($A111,$A$4:$BI$82,T$3,0)","v":{"$error":"#REF!"}},{"$f":"VLOOKUP($A111,#REF!,2,0)-VLOOKUP($A111,$A$4:$BI$82,U$3,0)","v":{"$error":"#REF!"}},{"$f":"VLOOKUP($A111,#REF!,2,0)-VLOOKUP($A111,$A$4:$BI$82,V$3,0)","v":{"$error":"#REF!"}},{"$f":"VLOOKUP($A111,#REF!,2,0)-VLOOKUP($A111,$A$4:$BI$82,W$3,0)","v":{"$error":"#REF!"}},{"$f":"VLOOKUP($A111,#REF!,2,0)-VLOOKUP($A111,$A$4:$BI$82,X$3,0)","v":{"$error":"#REF!"}},{"$f":"VLOOKUP($A111,#REF!,2,0)-VLOOKUP($A111,$A$4:$BI$82,Y$3,0)","v":{"$error":"#REF!"}},{"$f":"VLOOKUP($A111,#REF!,2,0)-VLOOKUP($A111,$A$4:$BI$82,Z$3,0)","v":{"$error":"#REF!"}},{"$f":"VLOOKUP($A111,#REF!,2,0)-VLOOKUP($A111,$A$4:$BI$82,AA$3,0)","v":{"$error":"#REF!"}},{"$f":"VLOOKUP($A111,#REF!,2,0)-VLOOKUP($A111,$A$4:$BI$82,AB$3,0)","v":{"$error":"#REF!"}},{"$f":"VLOOKUP($A111,#REF!,2,0)-VLOOKUP($A111,$A$4:$BI$82,AC$3,0)","v":{"$error":"#REF!"}},{"$f":"VLOOKUP($A111,#REF!,2,0)-VLOOKUP($A111,$A$4:$BI$82,AD$3,0)","v":{"$error":"#REF!"}},{"$f":"VLOOKUP($A111,#REF!,2,0)-VLOOKUP($A111,$A$4:$BI$82,AE$3,0)","v":{"$error":"#REF!"}},{"$f":"VLOOKUP($A111,#REF!,2,0)-VLOOKUP($A111,$A$4:$BI$82,AF$3,0)","v":{"$error":"#REF!"}},{"$f":"VLOOKUP($A111,#REF!,2,0)-VLOOKUP($A111,$A$4:$BI$82,AG$3,0)","v":{"$error":"#REF!"}},{"$f":"VLOOKUP($A111,#REF!,2,0)-VLOOKUP($A111,$A$4:$BI$82,AH$3,0)","v":{"$error":"#REF!"}},{"$f":"VLOOKUP($A111,#REF!,2,0)-VLOOKUP($A111,$A$4:$BI$82,AI$3,0)","v":{"$error":"#REF!"}},{"$f":"VLOOKUP($A111,#REF!,2,0)-VLOOKUP($A111,$A$4:$BI$82,AJ$3,0)","v":{"$error":"#REF!"}},{"$f":"VLOOKUP($A111,#REF!,2,0)-VLOOKUP($A111,$A$4:$BI$82,AK$3,0)","v":{"$error":"#REF!"}},{"$f":"VLOOKUP($A111,#REF!,2,0)-VLOOKUP($A111,$A$4:$BI$82,AL$3,0)","v":{"$error":"#REF!"}},{"$f":"VLOOKUP($A111,#REF!,2,0)-VLOOKUP($A111,$A$4:$BI$82,AM$3,0)","v":{"$error":"#REF!"}},{"$f":"VLOOKUP($A111,#REF!,2,0)-VLOOKUP($A111,$A$4:$BI$82,AN$3,0)","v":{"$error":"#REF!"}},{"$f":"VLOOKUP($A111,#REF!,2,0)-VLOOKUP($A111,$A$4:$BI$82,AO$3,0)","v":{"$error":"#REF!"}},{"$f":"VLOOKUP($A111,#REF!,2,0)-VLOOKUP($A111,$A$4:$BI$82,AP$3,0)","v":{"$error":"#REF!"}},{"$f":"VLOOKUP($A111,#REF!,2,0)-VLOOKUP($A111,$A$4:$BI$82,AQ$3,0)","v":{"$error":"#REF!"}},{"$f":"VLOOKUP($A111,#REF!,2,0)-VLOOKUP($A111,$A$4:$BI$82,AR$3,0)","v":{"$error":"#REF!"}},{"$f":"VLOOKUP($A111,#REF!,2,0)-VLOOKUP($A111,$A$4:$BI$82,AS$3,0)","v":{"$error":"#REF!"}},{"$f":"VLOOKUP($A111,#REF!,2,0)-VLOOKUP($A111,$A$4:$BI$82,AT$3,0)","v":{"$error":"#REF!"}},{"$f":"VLOOKUP($A111,#REF!,2,0)-VLOOKUP($A111,$A$4:$BI$82,AU$3,0)","v":{"$error":"#REF!"}},{"$f":"VLOOKUP($A111,#REF!,2,0)-VLOOKUP($A111,$A$4:$BI$82,AV$3,0)","v":{"$error":"#REF!"}},{"$f":"VLOOKUP($A111,#REF!,2,0)-VLOOKUP($A111,$A$4:$BI$82,AW$3,0)","v":{"$error":"#REF!"}},{"$f":"VLOOKUP($A111,#REF!,2,0)-VLOOKUP($A111,$A$4:$BI$82,AX$3,0)","v":{"$error":"#REF!"}},{"$f":"VLOOKUP($A111,#REF!,2,0)-VLOOKUP($A111,$A$4:$BI$82,AY$3,0)","v":{"$error":"#REF!"}},{"$f":"VLOOKUP($A111,#REF!,2,0)-VLOOKUP($A111,$A$4:$BI$82,AZ$3,0)","v":{"$error":"#REF!"}},{"$f":"VLOOKUP($A111,#REF!,2,0)-VLOOKUP($A111,$A$4:$BI$82,BA$3,0)","v":{"$error":"#REF!"}},{"$f":"VLOOKUP($A111,#REF!,2,0)-VLOOKUP($A111,$A$4:$BI$82,BB$3,0)","v":{"$error":"#REF!"}},{"$f":"VLOOKUP($A111,#REF!,2,0)-VLOOKUP($A111,$A$4:$BI$82,BC$3,0)","v":{"$error":"#REF!"}},{"$f":"VLOOKUP($A111,#REF!,2,0)-VLOOKUP($A111,$A$4:$BI$82,BD$3,0)","v":{"$error":"#REF!"}},{"$f":"VLOOKUP($A111,#REF!,2,0)-VLOOKUP($A111,$A$4:$BI$82,BE$3,0)","v":{"$error":"#REF!"}},{"$f":"VLOOKUP($A111,#REF!,2,0)-VLOOKUP($A111,$A$4:$BI$82,BF$3,0)","v":{"$error":"#REF!"}},{"$f":"VLOOKUP($A111,#REF!,2,0)-VLOOKUP($A111,$A$4:$BI$82,BG$3,0)","v":{"$error":"#REF!"}},{"$f":"VLOOKUP($A111,#REF!,2,0)-VLOOKUP($A111,$A$4:$BI$82,BH$3,0)","v":{"$error":"#REF!"}},{"$f":"VLOOKUP($A111,#REF!,2,0)-VLOOKUP($A111,$A$4:$BI$82,BI$3,0)","v":{"$error":"#REF!"}}]
["HidroPiedra, S.A.",null,null,null,null,null,null,null,null,null,null,null,{"$f":"VLOOKUP($A112,#REF!,3,0)","v":{"$error":"#REF!"}},{"$f":"VLOOKUP($A112,#REF!,2,0)-VLOOKUP($A112,$A$4:$BI$82,N$3,0)","v":{"$error":"#REF!"}},{"$f":"VLOOKUP($A112,#REF!,2,0)-VLOOKUP($A112,$A$4:$BI$82,O$3,0)","v":{"$error":"#REF!"}},{"$f":"VLOOKUP($A112,#REF!,2,0)-VLOOKUP($A112,$A$4:$BI$82,P$3,0)","v":{"$error":"#REF!"}},{"$f":"VLOOKUP($A112,#REF!,2,0)-VLOOKUP($A112,$A$4:$BI$82,Q$3,0)","v":{"$error":"#REF!"}},{"$f":"VLOOKUP($A112,#REF!,2,0)-VLOOKUP($A112,$A$4:$BI$82,R$3,0)","v":{"$error":"#REF!"}},{"$f":"VLOOKUP($A112,#REF!,2,0)-VLOOKUP($A112,$A$4:$BI$82,S$3,0)","v":{"$error":"#REF!"}},{"$f":"VLOOKUP($A112,#REF!,2,0)-VLOOKUP($A112,$A$4:$BI$82,T$3,0)","v":{"$error":"#REF!"}},{"$f":"VLOOKUP($A112,#REF!,2,0)-VLOOKUP($A112,$A$4:$BI$82,U$3,0)","v":{"$error":"#REF!"}},{"$f":"VLOOKUP($A112,#REF!,2,0)-VLOOKUP($A112,$A$4:$BI$82,V$3,0)","v":{"$error":"#REF!"}},{"$f":"VLOOKUP($A112,#REF!,2,0)-VLOOKUP($A112,$A$4:$BI$82,W$3,0)","v":{"$error":"#REF!"}},{"$f":"VLOOKUP($A112,#REF!,2,0)-VLOOKUP($A112,$A$4:$BI$82,X$3,0)","v":{"$error":"#REF!"}},{"$f":"VLOOKUP($A112,#REF!,2,0)-VLOOKUP($A112,$A$4:$BI$82,Y$3,0)","v":{"$error":"#REF!"}},{"$f":"VLOOKUP($A112,#REF!,2,0)-VLOOKUP($A112,$A$4:$BI$82,Z$3,0)","v":{"$error":"#REF!"}},{"$f":"VLOOKUP($A112,#REF!,2,0)-VLOOKUP($A112,$A$4:$BI$82,AA$3,0)","v":{"$error":"#REF!"}},{"$f":"VLOOKUP($A112,#REF!,2,0)-VLOOKUP($A112,$A$4:$BI$82,AB$3,0)","v":{"$error":"#REF!"}},{"$f":"VLOOKUP($A112,#REF!,2,0)-VLOOKUP($A112,$A$4:$BI$82,AC$3,0)","v":{"$error":"#REF!"}},{"$f":"VLOOKUP($A112,#REF!,2,0)-VLOOKUP($A112,$A$4:$BI$82,AD$3,0)","v":{"$error":"#REF!"}},{"$f":"VLOOKUP($A112,#REF!,2,0)-VLOOKUP($A112,$A$4:$BI$82,AE$3,0)","v":{"$error":"#REF!"}},{"$f":"VLOOKUP($A112,#REF!,2,0)-VLOOKUP($A112,$A$4:$BI$82,AF$3,0)","v":{"$error":"#REF!"}},{"$f":"VLOOKUP($A112,#REF!,2,0)-VLOOKUP($A112,$A$4:$BI$82,AG$3,0)","v":{"$error":"#REF!"}},{"$f":"VLOOKUP($A112,#REF!,2,0)-VLOOKUP($A112,$A$4:$BI$82,AH$3,0)","v":{"$error":"#REF!"}},{"$f":"VLOOKUP($A112,#REF!,2,0)-VLOOKUP($A112,$A$4:$BI$82,AI$3,0)","v":{"$error":"#REF!"}},{"$f":"VLOOKUP($A112,#REF!,2,0)-VLOOKUP($A112,$A$4:$BI$82,AJ$3,0)","v":{"$error":"#REF!"}},{"$f":"VLOOKUP($A112,#REF!,2,0)-VLOOKUP($A112,$A$4:$BI$82,AK$3,0)","v":{"$error":"#REF!"}},{"$f":"VLOOKUP($A112,#REF!,2,0)-VLOOKUP($A112,$A$4:$BI$82,AL$3,0)","v":{"$error":"#REF!"}},{"$f":"VLOOKUP($A112,#REF!,2,0)-VLOOKUP($A112,$A$4:$BI$82,AM$3,0)","v":{"$error":"#REF!"}},{"$f":"VLOOKUP($A112,#REF!,2,0)-VLOOKUP($A112,$A$4:$BI$82,AN$3,0)","v":{"$error":"#REF!"}},{"$f":"VLOOKUP($A112,#REF!,2,0)-VLOOKUP($A112,$A$4:$BI$82,AO$3,0)","v":{"$error":"#REF!"}},{"$f":"VLOOKUP($A112,#REF!,2,0)-VLOOKUP($A112,$A$4:$BI$82,AP$3,0)","v":{"$error":"#REF!"}},{"$f":"VLOOKUP($A112,#REF!,2,0)-VLOOKUP($A112,$A$4:$BI$82,AQ$3,0)","v":{"$error":"#REF!"}},{"$f":"VLOOKUP($A112,#REF!,2,0)-VLOOKUP($A112,$A$4:$BI$82,AR$3,0)","v":{"$error":"#REF!"}},{"$f":"VLOOKUP($A112,#REF!,2,0)-VLOOKUP($A112,$A$4:$BI$82,AS$3,0)","v":{"$error":"#REF!"}},{"$f":"VLOOKUP($A112,#REF!,2,0)-VLOOKUP($A112,$A$4:$BI$82,AT$3,0)","v":{"$error":"#REF!"}},{"$f":"VLOOKUP($A112,#REF!,2,0)-VLOOKUP($A112,$A$4:$BI$82,AU$3,0)","v":{"$error":"#REF!"}},{"$f":"VLOOKUP($A112,#REF!,2,0)-VLOOKUP($A112,$A$4:$BI$82,AV$3,0)","v":{"$error":"#REF!"}},{"$f":"VLOOKUP($A112,#REF!,2,0)-VLOOKUP($A112,$A$4:$BI$82,AW$3,0)","v":{"$error":"#REF!"}},{"$f":"VLOOKUP($A112,#REF!,2,0)-VLOOKUP($A112,$A$4:$BI$82,AX$3,0)","v":{"$error":"#REF!"}},{"$f":"VLOOKUP($A112,#REF!,2,0)-VLOOKUP($A112,$A$4:$BI$82,AY$3,0)","v":{"$error":"#REF!"}},{"$f":"VLOOKUP($A112,#REF!,2,0)-VLOOKUP($A112,$A$4:$BI$82,AZ$3,0)","v":{"$error":"#REF!"}},{"$f":"VLOOKUP($A112,#REF!,2,0)-VLOOKUP($A112,$A$4:$BI$82,BA$3,0)","v":{"$error":"#REF!"}},{"$f":"VLOOKUP($A112,#REF!,2,0)-VLOOKUP($A112,$A$4:$BI$82,BB$3,0)","v":{"$error":"#REF!"}},{"$f":"VLOOKUP($A112,#REF!,2,0)-VLOOKUP($A112,$A$4:$BI$82,BC$3,0)","v":{"$error":"#REF!"}},{"$f":"VLOOKUP($A112,#REF!,2,0)-VLOOKUP($A112,$A$4:$BI$82,BD$3,0)","v":{"$error":"#REF!"}},{"$f":"VLOOKUP($A112,#REF!,2,0)-VLOOKUP($A112,$A$4:$BI$82,BE$3,0)","v":{"$error":"#REF!"}},{"$f":"VLOOKUP($A112,#REF!,2,0)-VLOOKUP($A112,$A$4:$BI$82,BF$3,0)","v":{"$error":"#REF!"}},{"$f":"VLOOKUP($A112,#REF!,2,0)-VLOOKUP($A112,$A$4:$BI$82,BG$3,0)","v":{"$error":"#REF!"}},{"$f":"VLOOKUP($A112,#REF!,2,0)-VLOOKUP($A112,$A$4:$BI$82,BH$3,0)","v":{"$error":"#REF!"}},{"$f":"VLOOKUP($A112,#REF!,2,0)-VLOOKUP($A112,$A$4:$BI$82,BI$3,0)","v":{"$error":"#REF!"}}]
["Hydro Caisán, S.A.",null,null,null,null,null,null,null,null,null,null,null,{"$f":"VLOOKUP($A113,#REF!,3,0)","v":{"$error":"#REF!"}},{"$f":"VLOOKUP($A113,#REF!,2,0)-VLOOKUP($A113,$A$4:$BI$82,N$3,0)","v":{"$error":"#REF!"}},{"$f":"VLOOKUP($A113,#REF!,2,0)-VLOOKUP($A113,$A$4:$BI$82,O$3,0)","v":{"$error":"#REF!"}},{"$f":"VLOOKUP($A113,#REF!,2,0)-VLOOKUP($A113,$A$4:$BI$82,P$3,0)","v":{"$error":"#REF!"}},{"$f":"VLOOKUP($A113,#REF!,2,0)-VLOOKUP($A113,$A$4:$BI$82,Q$3,0)","v":{"$error":"#REF!"}},{"$f":"VLOOKUP($A113,#REF!,2,0)-VLOOKUP($A113,$A$4:$BI$82,R$3,0)","v":{"$error":"#REF!"}},{"$f":"VLOOKUP($A113,#REF!,2,0)-VLOOKUP($A113,$A$4:$BI$82,S$3,0)","v":{"$error":"#REF!"}},{"$f":"VLOOKUP($A113,#REF!,2,0)-VLOOKUP($A113,$A$4:$BI$82,T$3,0)","v":{"$error":"#REF!"}},{"$f":"VLOOKUP($A113,#REF!,2,0)-VLOOKUP($A113,$A$4:$BI$82,U$3,0)","v":{"$error":"#REF!"}},{"$f":"VLOOKUP($A113,#REF!,2,0)-VLOOKUP($A113,$A$4:$BI$82,V$3,0)","v":{"$error":"#REF!"}},{"$f":"VLOOKUP($A113,#REF!,2,0)-VLOOKUP($A113,$A$4:$BI$82,W$3,0)","v":{"$error":"#REF!"}},{"$f":"VLOOKUP($A113,#REF!,2,0)-VLOOKUP($A113,$A$4:$BI$82,X$3,0)","v":{"$error":"#REF!"}},{"$f":"VLOOKUP($A113,#REF!,2,0)-VLOOKUP($A113,$A$4:$BI$82,Y$3,0)","v":{"$error":"#REF!"}},{"$f":"VLOOKUP($A113,#REF!,2,0)-VLOOKUP($A113,$A$4:$BI$82,Z$3,0)","v":{"$error":"#REF!"}},{"$f":"VLOOKUP($A113,#REF!,2,0)-VLOOKUP($A113,$A$4:$BI$82,AA$3,0)","v":{"$error":"#REF!"}},{"$f":"VLOOKUP($A113,#REF!,2,0)-VLOOKUP($A113,$A$4:$BI$82,AB$3,0)","v":{"$error":"#REF!"}},{"$f":"VLOOKUP($A113,#REF!,2,0)-VLOOKUP($A113,$A$4:$BI$82,AC$3,0)","v":{"$error":"#REF!"}},{"$f":"VLOOKUP($A113,#REF!,2,0)-VLOOKUP($A113,$A$4:$BI$82,AD$3,0)","v":{"$error":"#REF!"}},{"$f":"VLOOKUP($A113,#REF!,2,0)-VLOOKUP($A113,$A$4:$BI$82,AE$3,0)","v":{"$error":"#REF!"}},{"$f":"VLOOKUP($A113,#REF!,2,0)-VLOOKUP($A113,$A$4:$BI$82,AF$3,0)","v":{"$error":"#REF!"}},{"$f":"VLOOKUP($A113,#REF!,2,0)-VLOOKUP($A113,$A$4:$BI$82,AG$3,0)","v":{"$error":"#REF!"}},{"$f":"VLOOKUP($A113,#REF!,2,0)-VLOOKUP($A113,$A$4:$BI$82,AH$3,0)","v":{"$error":"#REF!"}},{"$f":"VLOOKUP($A113,#REF!,2,0)-VLOOKUP($A113,$A$4:$BI$82,AI$3,0)","v":{"$error":"#REF!"}},{"$f":"VLOOKUP($A113,#REF!,2,0)-VLOOKUP($A113,$A$4:$BI$82,AJ$3,0)","v":{"$error":"#REF!"}},{"$f":"VLOOKUP($A113,#REF!,2,0)-VLOOKUP($A113,$A$4:$BI$82,AK$3,0)","v":{"$error":"#REF!"}},{"$f":"VLOOKUP($A113,#REF!,2,0)-VLOOKUP($A113,$A$4:$BI$82,AL$3,0)","v":{"$error":"#REF!"}},{"$f":"VLOOKUP($A113,#REF!,2,0)-VLOOKUP($A113,$A$4:$BI$82,AM$3,0)","v":{"$error":"#REF!"}},{"$f":"VLOOKUP($A113,#REF!,2,0)-VLOOKUP($A113,$A$4:$BI$82,AN$3,0)","v":{"$error":"#REF!"}},{"$f":"VLOOKUP($A113,#REF!,2,0)-VLOOKUP($A113,$A$4:$BI$82,AO$3,0)","v":{"$error":"#REF!"}},{"$f":"VLOOKUP($A113,#REF!,2,0)-VLOOKUP($A113,$A$4:$BI$82,AP$3,0)","v":{"$error":"#REF!"}},{"$f":"VLOOKUP($A113,#REF!,2,0)-VLOOKUP($A113,$A$4:$BI$82,AQ$3,0)","v":{"$error":"#REF!"}},{"$f":"VLOOKUP($A113,#REF!,2,0)-VLOOKUP($A113,$A$4:$BI$82,AR$3,0)","v":{"$error":"#REF!"}},{"$f":"VLOOKUP($A113,#REF!,2,0)-VLOOKUP($A113,$A$4:$BI$82,AS$3,0)","v":{"$error":"#REF!"}},{"$f":"VLOOKUP($A113,#REF!,2,0)-VLOOKUP($A113,$A$4:$BI$82,AT$3,0)","v":{"$error":"#REF!"}},{"$f":"VLOOKUP($A113,#REF!,2,0)-VLOOKUP($A113,$A$4:$BI$82,AU$3,0)","v":{"$error":"#REF!"}},{"$f":"VLOOKUP($A113,#REF!,2,0)-VLOOKUP($A113,$A$4:$BI$82,AV$3,0)","v":{"$error":"#REF!"}},{"$f":"VLOOKUP($A113,#REF!,2,0)-VLOOKUP($A113,$A$4:$BI$82,AW$3,0)","v":{"$error":"#REF!"}},{"$f":"VLOOKUP($A113,#REF!,2,0)-VLOOKUP($A113,$A$4:$BI$82,AX$3,0)","v":{"$error":"#REF!"}},{"$f":"VLOOKUP($A113,#REF!,2,0)-VLOOKUP($A113,$A$4:$BI$82,AY$3,0)","v":{"$error":"#REF!"}},{"$f":"VLOOKUP($A113,#REF!,2,0)-VLOOKUP($A113,$A$4:$BI$82,AZ$3,0)","v":{"$error":"#REF!"}},{"$f":"VLOOKUP($A113,#REF!,2,0)-VLOOKUP($A113,$A$4:$BI$82,BA$3,0)","v":{"$error":"#REF!"}},{"$f":"VLOOKUP($A113,#REF!,2,0)-VLOOKUP($A113,$A$4:$BI$82,BB$3,0)","v":{"$error":"#REF!"}},{"$f":"VLOOKUP($A113,#REF!,2,0)-VLOOKUP($A113,$A$4:$BI$82,BC$3,0)","v":{"$error":"#REF!"}},{"$f":"VLOOKUP($A113,#REF!,2,0)-VLOOKUP($A113,$A$4:$BI$82,BD$3,0)","v":{"$error":"#REF!"}},{"$f":"VLOOKUP($A113,#REF!,2,0)-VLOOKUP($A113,$A$4:$BI$82,BE$3,0)","v":{"$error":"#REF!"}},{"$f":"VLOOKUP($A113,#REF!,2,0)-VLOOKUP($A113,$A$4:$BI$82,BF$3,0)","v":{"$error":"#REF!"}},{"$f":"VLOOKUP($A113,#REF!,2,0)-VLOOKUP($A113,$A$4:$BI$82,BG$3,0)","v":{"$error":"#REF!"}},{"$f":"VLOOKUP($A113,#REF!,2,0)-VLOOKUP($A113,$A$4:$BI$82,BH$3,0)","v":{"$error":"#REF!"}},{"$f":"VLOOKUP($A113,#REF!,2,0)-VLOOKUP($A113,$A$4:$BI$82,BI$3,0)","v":{"$error":"#REF!"}}]
["Ideal Panamá, S.A.",null,null,null,null,null,null,null,null,null,null,null,{"$f":"VLOOKUP($A114,#REF!,3,0)","v":{"$error":"#REF!"}},{"$f":"VLOOKUP($A114,#REF!,2,0)-VLOOKUP($A114,$A$4:$BI$82,N$3,0)","v":{"$error":"#REF!"}},{"$f":"VLOOKUP($A114,#REF!,2,0)-VLOOKUP($A114,$A$4:$BI$82,O$3,0)","v":{"$error":"#REF!"}},{"$f":"VLOOKUP($A114,#REF!,2,0)-VLOOKUP($A114,$A$4:$BI$82,P$3,0)","v":{"$error":"#REF!"}},{"$f":"VLOOKUP($A114,#REF!,2,0)-VLOOKUP($A114,$A$4:$BI$82,Q$3,0)","v":{"$error":"#REF!"}},{"$f":"VLOOKUP($A114,#REF!,2,0)-VLOOKUP($A114,$A$4:$BI$82,R$3,0)","v":{"$error":"#REF!"}},{"$f":"VLOOKUP($A114,#REF!,2,0)-VLOOKUP($A114,$A$4:$BI$82,S$3,0)","v":{"$error":"#REF!"}},{"$f":"VLOOKUP($A114,#REF!,2,0)-VLOOKUP($A114,$A$4:$BI$82,T$3,0)","v":{"$error":"#REF!"}},{"$f":"VLOOKUP($A114,#REF!,2,0)-VLOOKUP($A114,$A$4:$BI$82,U$3,0)","v":{"$error":"#REF!"}},{"$f":"VLOOKUP($A114,#REF!,2,0)-VLOOKUP($A114,$A$4:$BI$82,V$3,0)","v":{"$error":"#REF!"}},{"$f":"VLOOKUP($A114,#REF!,2,0)-VLOOKUP($A114,$A$4:$BI$82,W$3,0)","v":{"$error":"#REF!"}},{"$f":"VLOOKUP($A114,#REF!,2,0)-VLOOKUP($A114,$A$4:$BI$82,X$3,0)","v":{"$error":"#REF!"}},{"$f":"VLOOKUP($A114,#REF!,2,0)-VLOOKUP($A114,$A$4:$BI$82,Y$3,0)","v":{"$error":"#REF!"}},{"$f":"VLOOKUP($A114,#REF!,2,0)-VLOOKUP($A114,$A$4:$BI$82,Z$3,0)","v":{"$error":"#REF!"}},{"$f":"VLOOKUP($A114,#REF!,2,0)-VLOOKUP($A114,$A$4:$BI$82,AA$3,0)","v":{"$error":"#REF!"}},{"$f":"VLOOKUP($A114,#REF!,2,0)-VLOOKUP($A114,$A$4:$BI$82,AB$3,0)","v":{"$error":"#REF!"}},{"$f":"VLOOKUP($A114,#REF!,2,0)-VLOOKUP($A114,$A$4:$BI$82,AC$3,0)","v":{"$error":"#REF!"}},{"$f":"VLOOKUP($A114,#REF!,2,0)-VLOOKUP($A114,$A$4:$BI$82,AD$3,0)","v":{"$error":"#REF!"}},{"$f":"VLOOKUP($A114,#REF!,2,0)-VLOOKUP($A114,$A$4:$BI$82,AE$3,0)","v":{"$error":"#REF!"}},{"$f":"VLOOKUP($A114,#REF!,2,0)-VLOOKUP($A114,$A$4:$BI$82,AF$3,0)","v":{"$error":"#REF!"}},{"$f":"VLOOKUP($A114,#REF!,2,0)-VLOOKUP($A114,$A$4:$BI$82,AG$3,0)","v":{"$error":"#REF!"}},{"$f":"VLOOKUP($A114,#REF!,2,0)-VLOOKUP($A114,$A$4:$BI$82,AH$3,0)","v":{"$error":"#REF!"}},{"$f":"VLOOKUP($A114,#REF!,2,0)-VLOOKUP($A114,$A$4:$BI$82,AI$3,0)","v":{"$error":"#REF!"}},{"$f":"VLOOKUP($A114,#REF!,2,0)-VLOOKUP($A114,$A$4:$BI$82,AJ$3,0)","v":{"$error":"#REF!"}},{"$f":"VLOOKUP($A114,#REF!,2,0)-VLOOKUP($A114,$A$4:$BI$82,AK$3,0)","v":{"$error":"#REF!"}},{"$f":"VLOOKUP($A114,#REF!,2,0)-VLOOKUP($A114,$A$4:$BI$82,AL$3,0)","v":{"$error":"#REF!"}},{"$f":"VLOOKUP($A114,#REF!,2,0)-VLOOKUP($A114,$A$4:$BI$82,AM$3,0)","v":{"$error":"#REF!"}},{"$f":"VLOOKUP($A114,#REF!,2,0)-VLOOKUP($A114,$A$4:$BI$82,AN$3,0)","v":{"$error":"#REF!"}},{"$f":"VLOOKUP($A114,#REF!,2,0)-VLOOKUP($A114,$A$4:$BI$82,AO$3,0)","v":{"$error":"#REF!"}},{"$f":"VLOOKUP($A114,#REF!,2,0)-VLOOKUP($A114,$A$4:$BI$82,AP$3,0)","v":{"$error":"#REF!"}},{"$f":"VLOOKUP($A114,#REF!,2,0)-VLOOKUP($A114,$A$4:$BI$82,AQ$3,0)","v":{"$error":"#REF!"}},{"$f":"VLOOKUP($A114,#REF!,2,0)-VLOOKUP($A114,$A$4:$BI$82,AR$3,0)","v":{"$error":"#REF!"}},{"$f":"VLOOKUP($A114,#REF!,2,0)-VLOOKUP($A114,$A$4:$BI$82,AS$3,0)","v":{"$error":"#REF!"}},{"$f":"VLOOKUP($A114,#REF!,2,0)-VLOOKUP($A114,$A$4:$BI$82,AT$3,0)","v":{"$error":"#REF!"}},{"$f":"VLOOKUP($A114,#REF!,2,0)-VLOOKUP($A114,$A$4:$BI$82,AU$3,0)","v":{"$error":"#REF!"}},{"$f":"VLOOKUP($A114,#REF!,2,0)-VLOOKUP($A114,$A$4:$BI$82,AV$3,0)","v":{"$error":"#REF!"}},{"$f":"VLOOKUP($A114,#REF!,2,0)-VLOOKUP($A114,$A$4:$BI$82,AW$3,0)","v":{"$error":"#REF!"}},{"$f":"VLOOKUP($A114,#REF!,2,0)-VLOOKUP($A114,$A$4:$BI$82,AX$3,0)","v":{"$error":"#REF!"}},{"$f":"VLOOKUP($A114,#REF!,2,0)-VLOOKUP($A114,$A$4:$BI$82,AY$3,0)","v":{"$error":"#REF!"}},{"$f":"VLOOKUP($A114,#REF!,2,0)-VLOOKUP($A114,$A$4:$BI$82,AZ$3,0)","v":{"$error":"#REF!"}},{"$f":"VLOOKUP($A114,#REF!,2,0)-VLOOKUP($A114,$A$4:$BI$82,BA$3,0)","v":{"$error":"#REF!"}},{"$f":"VLOOKUP($A114,#REF!,2,0)-VLOOKUP($A114,$A$4:$BI$82,BB$3,0)","v":{"$error":"#REF!"}},{"$f":"VLOOKUP($A114,#REF!,2,0)-VLOOKUP($A114,$A$4:$BI$82,BC$3,0)","v":{"$error":"#REF!"}},{"$f":"VLOOKUP($A114,#REF!,2,0)-VLOOKUP($A114,$A$4:$BI$82,BD$3,0)","v":{"$error":"#REF!"}},{"$f":"VLOOKUP($A114,#REF!,2,0)-VLOOKUP($A114,$A$4:$BI$82,BE$3,0)","v":{"$error":"#REF!"}},{"$f":"VLOOKUP($A114,#REF!,2,0)-VLOOKUP($A114,$A$4:$BI$82,BF$3,0)","v":{"$error":"#REF!"}},{"$f":"VLOOKUP($A114,#REF!,2,0)-VLOOKUP($A114,$A$4:$BI$82,BG$3,0)","v":{"$error":"#REF!"}},{"$f":"VLOOKUP($A114,#REF!,2,0)-VLOOKUP($A114,$A$4:$BI$82,BH$3,0)","v":{"$error":"#REF!"}},{"$f":"VLOOKUP($A114,#REF!,2,0)-VLOOKUP($A114,$A$4:$BI$82,BI$3,0)","v":{"$error":"#REF!"}}]
["Istmus Hydro Power, Corp.",null,null,null,null,null,null,null,null,null,null,null,{"$f":"VLOOKUP($A115,#REF!,3,0)","v":{"$error":"#REF!"}},{"$f":"VLOOKUP($A115,#REF!,2,0)-VLOOKUP($A115,$A$4:$BI$82,N$3,0)","v":{"$error":"#REF!"}},{"$f":"VLOOKUP($A115,#REF!,2,0)-VLOOKUP($A115,$A$4:$BI$82,O$3,0)","v":{"$error":"#REF!"}},{"$f":"VLOOKUP($A115,#REF!,2,0)-VLOOKUP($A115,$A$4:$BI$82,P$3,0)","v":{"$error":"#REF!"}},{"$f":"VLOOKUP($A115,#REF!,2,0)-VLOOKUP($A115,$A$4:$BI$82,Q$3,0)","v":{"$error":"#REF!"}},{"$f":"VLOOKUP($A115,#REF!,2,0)-VLOOKUP($A115,$A$4:$BI$82,R$3,0)","v":{"$error":"#REF!"}},{"$f":"VLOOKUP($A115,#REF!,2,0)-VLOOKUP($A115,$A$4:$BI$82,S$3,0)","v":{"$error":"#REF!"}},{"$f":"VLOOKUP($A115,#REF!,2,0)-VLOOKUP($A115,$A$4:$BI$82,T$3,0)","v":{"$error":"#REF!"}},{"$f":"VLOOKUP($A115,#REF!,2,0)-VLOOKUP($A115,$A$4:$BI$82,U$3,0)","v":{"$error":"#REF!"}},{"$f":"VLOOKUP($A115,#REF!,2,0)-VLOOKUP($A115,$A$4:$BI$82,V$3,0)","v":{"$error":"#REF!"}},{"$f":"VLOOKUP($A115,#REF!,2,0)-VLOOKUP($A115,$A$4:$BI$82,W$3,0)","v":{"$error":"#REF!"}},{"$f":"VLOOKUP($A115,#REF!,2,0)-VLOOKUP($A115,$A$4:$BI$82,X$3,0)","v":{"$error":"#REF!"}},{"$f":"VLOOKUP($A115,#REF!,2,0)-VLOOKUP($A115,$A$4:$BI$82,Y$3,0)","v":{"$error":"#REF!"}},{"$f":"VLOOKUP($A115,#REF!,2,0)-VLOOKUP($A115,$A$4:$BI$82,Z$3,0)","v":{"$error":"#REF!"}},{"$f":"VLOOKUP($A115,#REF!,2,0)-VLOOKUP($A115,$A$4:$BI$82,AA$3,0)","v":{"$error":"#REF!"}},{"$f":"VLOOKUP($A115,#REF!,2,0)-VLOOKUP($A115,$A$4:$BI$82,AB$3,0)","v":{"$error":"#REF!"}},{"$f":"VLOOKUP($A115,#REF!,2,0)-VLOOKUP($A115,$A$4:$BI$82,AC$3,0)","v":{"$error":"#REF!"}},{"$f":"VLOOKUP($A115,#REF!,2,0)-VLOOKUP($A115,$A$4:$BI$82,AD$3,0)","v":{"$error":"#REF!"}},{"$f":"VLOOKUP($A115,#REF!,2,0)-VLOOKUP($A115,$A$4:$BI$82,AE$3,0)","v":{"$error":"#REF!"}},{"$f":"VLOOKUP($A115,#REF!,2,0)-VLOOKUP($A115,$A$4:$BI$82,AF$3,0)","v":{"$error":"#REF!"}},{"$f":"VLOOKUP($A115,#REF!,2,0)-VLOOKUP($A115,$A$4:$BI$82,AG$3,0)","v":{"$error":"#REF!"}},{"$f":"VLOOKUP($A115,#REF!,2,0)-VLOOKUP($A115,$A$4:$BI$82,AH$3,0)","v":{"$error":"#REF!"}},{"$f":"VLOOKUP($A115,#REF!,2,0)-VLOOKUP($A115,$A$4:$BI$82,AI$3,0)","v":{"$error":"#REF!"}},{"$f":"VLOOKUP($A115,#REF!,2,0)-VLOOKUP($A115,$A$4:$BI$82,AJ$3,0)","v":{"$error":"#REF!"}},{"$f":"VLOOKUP($A115,#REF!,2,0)-VLOOKUP($A115,$A$4:$BI$82,AK$3,0)","v":{"$error":"#REF!"}},{"$f":"VLOOKUP($A115,#REF!,2,0)-VLOOKUP($A115,$A$4:$BI$82,AL$3,0)","v":{"$error":"#REF!"}},{"$f":"VLOOKUP($A115,#REF!,2,0)-VLOOKUP($A115,$A$4:$BI$82,AM$3,0)","v":{"$error":"#REF!"}},{"$f":"VLOOKUP($A115,#REF!,2,0)-VLOOKUP($A115,$A$4:$BI$82,AN$3,0)","v":{"$error":"#REF!"}},{"$f":"VLOOKUP($A115,#REF!,2,0)-VLOOKUP($A115,$A$4:$BI$82,AO$3,0)","v":{"$error":"#REF!"}},{"$f":"VLOOKUP($A115,#REF!,2,0)-VLOOKUP($A115,$A$4:$BI$82,AP$3,0)","v":{"$error":"#REF!"}},{"$f":"VLOOKUP($A115,#REF!,2,0)-VLOOKUP($A115,$A$4:$BI$82,AQ$3,0)","v":{"$error":"#REF!"}},{"$f":"VLOOKUP($A115,#REF!,2,0)-VLOOKUP($A115,$A$4:$BI$82,AR$3,0)","v":{"$error":"#REF!"}},{"$f":"VLOOKUP($A115,#REF!,2,0)-VLOOKUP($A115,$A$4:$BI$82,AS$3,0)","v":{"$error":"#REF!"}},{"$f":"VLOOKUP($A115,#REF!,2,0)-VLOOKUP($A115,$A$4:$BI$82,AT$3,0)","v":{"$error":"#REF!"}},{"$f":"VLOOKUP($A115,#REF!,2,0)-VLOOKUP($A115,$A$4:$BI$82,AU$3,0)","v":{"$error":"#REF!"}},{"$f":"VLOOKUP($A115,#REF!,2,0)-VLOOKUP($A115,$A$4:$BI$82,AV$3,0)","v":{"$error":"#REF!"}},{"$f":"VLOOKUP($A115,#REF!,2,0)-VLOOKUP($A115,$A$4:$BI$82,AW$3,0)","v":{"$error":"#REF!"}},{"$f":"VLOOKUP($A115,#REF!,2,0)-VLOOKUP($A115,$A$4:$BI$82,AX$3,0)","v":{"$error":"#REF!"}},{"$f":"VLOOKUP($A115,#REF!,2,0)-VLOOKUP($A115,$A$4:$BI$82,AY$3,0)","v":{"$error":"#REF!"}},{"$f":"VLOOKUP($A115,#REF!,2,0)-VLOOKUP($A115,$A$4:$BI$82,AZ$3,0)","v":{"$error":"#REF!"}},{"$f":"VLOOKUP($A115,#REF!,2,0)-VLOOKUP($A115,$A$4:$BI$82,BA$3,0)","v":{"$error":"#REF!"}},{"$f":"VLOOKUP($A115,#REF!,2,0)-VLOOKUP($A115,$A$4:$BI$82,BB$3,0)","v":{"$error":"#REF!"}},{"$f":"VLOOKUP($A115,#REF!,2,0)-VLOOKUP($A115,$A$4:$BI$82,BC$3,0)","v":{"$error":"#REF!"}},{"$f":"VLOOKUP($A115,#REF!,2,0)-VLOOKUP($A115,$A$4:$BI$82,BD$3,0)","v":{"$error":"#REF!"}},{"$f":"VLOOKUP($A115,#REF!,2,0)-VLOOKUP($A115,$A$4:$BI$82,BE$3,0)","v":{"$error":"#REF!"}},{"$f":"VLOOKUP($A115,#REF!,2,0)-VLOOKUP($A115,$A$4:$BI$82,BF$3,0)","v":{"$error":"#REF!"}},{"$f":"VLOOKUP($A115,#REF!,2,0)-VLOOKUP($A115,$A$4:$BI$82,BG$3,0)","v":{"$error":"#REF!"}},{"$f":"VLOOKUP($A115,#REF!,2,0)-VLOOKUP($A115,$A$4:$BI$82,BH$3,0)","v":{"$error":"#REF!"}},{"$f":"VLOOKUP($A115,#REF!,2,0)-VLOOKUP($A115,$A$4:$BI$82,BI$3,0)","v":{"$error":"#REF!"}}]
["Jinro Corp",null,null,null,null,null,null,null,null,null,null,null,{"$f":"VLOOKUP($A116,#REF!,3,0)","v":{"$error":"#REF!"}},{"$f":"VLOOKUP($A116,#REF!,2,0)-VLOOKUP($A116,$A$4:$BI$82,N$3,0)","v":{"$error":"#REF!"}},{"$f":"VLOOKUP($A116,#REF!,2,0)-VLOOKUP($A116,$A$4:$BI$82,O$3,0)","v":{"$error":"#REF!"}},{"$f":"VLOOKUP($A116,#REF!,2,0)-VLOOKUP($A116,$A$4:$BI$82,P$3,0)","v":{"$error":"#REF!"}},{"$f":"VLOOKUP($A116,#REF!,2,0)-VLOOKUP($A116,$A$4:$BI$82,Q$3,0)","v":{"$error":"#REF!"}},{"$f":"VLOOKUP($A116,#REF!,2,0)-VLOOKUP($A116,$A$4:$BI$82,R$3,0)","v":{"$error":"#REF!"}},{"$f":"VLOOKUP($A116,#REF!,2,0)-VLOOKUP($A116,$A$4:$BI$82,S$3,0)","v":{"$error":"#REF!"}},{"$f":"VLOOKUP($A116,#REF!,2,0)-VLOOKUP($A116,$A$4:$BI$82,T$3,0)","v":{"$error":"#REF!"}},{"$f":"VLOOKUP($A116,#REF!,2,0)-VLOOKUP($A116,$A$4:$BI$82,U$3,0)","v":{"$error":"#REF!"}},{"$f":"VLOOKUP($A116,#REF!,2,0)-VLOOKUP($A116,$A$4:$BI$82,V$3,0)","v":{"$error":"#REF!"}},{"$f":"VLOOKUP($A116,#REF!,2,0)-VLOOKUP($A116,$A$4:$BI$82,W$3,0)","v":{"$error":"#REF!"}},{"$f":"VLOOKUP($A116,#REF!,2,0)-VLOOKUP($A116,$A$4:$BI$82,X$3,0)","v":{"$error":"#REF!"}},{"$f":"VLOOKUP($A116,#REF!,2,0)-VLOOKUP($A116,$A$4:$BI$82,Y$3,0)","v":{"$error":"#REF!"}},{"$f":"VLOOKUP($A116,#REF!,2,0)-VLOOKUP($A116,$A$4:$BI$82,Z$3,0)","v":{"$error":"#REF!"}},{"$f":"VLOOKUP($A116,#REF!,2,0)-VLOOKUP($A116,$A$4:$BI$82,AA$3,0)","v":{"$error":"#REF!"}},{"$f":"VLOOKUP($A116,#REF!,2,0)-VLOOKUP($A116,$A$4:$BI$82,AB$3,0)","v":{"$error":"#REF!"}},{"$f":"VLOOKUP($A116,#REF!,2,0)-VLOOKUP($A116,$A$4:$BI$82,AC$3,0)","v":{"$error":"#REF!"}},{"$f":"VLOOKUP($A116,#REF!,2,0)-VLOOKUP($A116,$A$4:$BI$82,AD$3,0)","v":{"$error":"#REF!"}},{"$f":"VLOOKUP($A116,#REF!,2,0)-VLOOKUP($A116,$A$4:$BI$82,AE$3,0)","v":{"$error":"#REF!"}},{"$f":"VLOOKUP($A116,#REF!,2,0)-VLOOKUP($A116,$A$4:$BI$82,AF$3,0)","v":{"$error":"#REF!"}},{"$f":"VLOOKUP($A116,#REF!,2,0)-VLOOKUP($A116,$A$4:$BI$82,AG$3,0)","v":{"$error":"#REF!"}},{"$f":"VLOOKUP($A116,#REF!,2,0)-VLOOKUP($A116,$A$4:$BI$82,AH$3,0)","v":{"$error":"#REF!"}},{"$f":"VLOOKUP($A116,#REF!,2,0)-VLOOKUP($A116,$A$4:$BI$82,AI$3,0)","v":{"$error":"#REF!"}},{"$f":"VLOOKUP($A116,#REF!,2,0)-VLOOKUP($A116,$A$4:$BI$82,AJ$3,0)","v":{"$error":"#REF!"}},{"$f":"VLOOKUP($A116,#REF!,2,0)-VLOOKUP($A116,$A$4:$BI$82,AK$3,0)","v":{"$error":"#REF!"}},{"$f":"VLOOKUP($A116,#REF!,2,0)-VLOOKUP($A116,$A$4:$BI$82,AL$3,0)","v":{"$error":"#REF!"}},{"$f":"VLOOKUP($A116,#REF!,2,0)-VLOOKUP($A116,$A$4:$BI$82,AM$3,0)","v":{"$error":"#REF!"}},{"$f":"VLOOKUP($A116,#REF!,2,0)-VLOOKUP($A116,$A$4:$BI$82,AN$3,0)","v":{"$error":"#REF!"}},{"$f":"VLOOKUP($A116,#REF!,2,0)-VLOOKUP($A116,$A$4:$BI$82,AO$3,0)","v":{"$error":"#REF!"}},{"$f":"VLOOKUP($A116,#REF!,2,0)-VLOOKUP($A116,$A$4:$BI$82,AP$3,0)","v":{"$error":"#REF!"}},{"$f":"VLOOKUP($A116,#REF!,2,0)-VLOOKUP($A116,$A$4:$BI$82,AQ$3,0)","v":{"$error":"#REF!"}},{"$f":"VLOOKUP($A116,#REF!,2,0)-VLOOKUP($A116,$A$4:$BI$82,AR$3,0)","v":{"$error":"#REF!"}},{"$f":"VLOOKUP($A116,#REF!,2,0)-VLOOKUP($A116,$A$4:$BI$82,AS$3,0)","v":{"$error":"#REF!"}},{"$f":"VLOOKUP($A116,#REF!,2,0)-VLOOKUP($A116,$A$4:$BI$82,AT$3,0)","v":{"$error":"#REF!"}},{"$f":"VLOOKUP($A116,#REF!,2,0)-VLOOKUP($A116,$A$4:$BI$82,AU$3,0)","v":{"$error":"#REF!"}},{"$f":"VLOOKUP($A116,#REF!,2,0)-VLOOKUP($A116,$A$4:$BI$82,AV$3,0)","v":{"$error":"#REF!"}},{"$f":"VLOOKUP($A116,#REF!,2,0)-VLOOKUP($A116,$A$4:$BI$82,AW$3,0)","v":{"$error":"#REF!"}},{"$f":"VLOOKUP($A116,#REF!,2,0)-VLOOKUP($A116,$A$4:$BI$82,AX$3,0)","v":{"$error":"#REF!"}},{"$f":"VLOOKUP($A116,#REF!,2,0)-VLOOKUP($A116,$A$4:$BI$82,AY$3,0)","v":{"$error":"#REF!"}},{"$f":"VLOOKUP($A116,#REF!,2,0)-VLOOKUP($A116,$A$4:$BI$82,AZ$3,0)","v":{"$error":"#REF!"}},{"$f":"VLOOKUP($A116,#REF!,2,0)-VLOOKUP($A116,$A$4:$BI$82,BA$3,0)","v":{"$error":"#REF!"}},{"$f":"VLOOKUP($A116,#REF!,2,0)-VLOOKUP($A116,$A$4:$BI$82,BB$3,0)","v":{"$error":"#REF!"}},{"$f":"VLOOKUP($A116,#REF!,2,0)-VLOOKUP($A116,$A$4:$BI$82,BC$3,0)","v":{"$error":"#REF!"}},{"$f":"VLOOKUP($A116,#REF!,2,0)-VLOOKUP($A116,$A$4:$BI$82,BD$3,0)","v":{"$error":"#REF!"}},{"$f":"VLOOKUP($A116,#REF!,2,0)-VLOOKUP($A116,$A$4:$BI$82,BE$3,0)","v":{"$error":"#REF!"}},{"$f":"VLOOKUP($A116,#REF!,2,0)-VLOOKUP($A116,$A$4:$BI$82,BF$3,0)","v":{"$error":"#REF!"}},{"$f":"VLOOKUP($A116,#REF!,2,0)-VLOOKUP($A116,$A$4:$BI$82,BG$3,0)","v":{"$error":"#REF!"}},{"$f":"VLOOKUP($A116,#REF!,2,0)-VLOOKUP($A116,$A$4:$BI$82,BH$3,0)","v":{"$error":"#REF!"}},{"$f":"VLOOKUP($A116,#REF!,2,0)-VLOOKUP($A116,$A$4:$BI$82,BI$3,0)","v":{"$error":"#REF!"}}]
["Kanan Overseas I, Inc",null,null,null,null,null,null,null,null,null,null,null,{"$f":"VLOOKUP($A117,#REF!,3,0)","v":{"$error":"#REF!"}},{"$f":"VLOOKUP($A117,#REF!,2,0)-VLOOKUP($A117,$A$4:$BI$82,N$3,0)","v":{"$error":"#REF!"}},{"$f":"VLOOKUP($A117,#REF!,2,0)-VLOOKUP($A117,$A$4:$BI$82,O$3,0)","v":{"$error":"#REF!"}},{"$f":"VLOOKUP($A117,#REF!,2,0)-VLOOKUP($A117,$A$4:$BI$82,P$3,0)","v":{"$error":"#REF!"}},{"$f":"VLOOKUP($A117,#REF!,2,0)-VLOOKUP($A117,$A$4:$BI$82,Q$3,0)","v":{"$error":"#REF!"}},{"$f":"VLOOKUP($A117,#REF!,2,0)-VLOOKUP($A117,$A$4:$BI$82,R$3,0)","v":{"$error":"#REF!"}},{"$f":"VLOOKUP($A117,#REF!,2,0)-VLOOKUP($A117,$A$4:$BI$82,S$3,0)","v":{"$error":"#REF!"}},{"$f":"VLOOKUP($A117,#REF!,2,0)-VLOOKUP($A117,$A$4:$BI$82,T$3,0)","v":{"$error":"#REF!"}},{"$f":"VLOOKUP($A117,#REF!,2,0)-VLOOKUP($A117,$A$4:$BI$82,U$3,0)","v":{"$error":"#REF!"}},{"$f":"VLOOKUP($A117,#REF!,2,0)-VLOOKUP($A117,$A$4:$BI$82,V$3,0)","v":{"$error":"#REF!"}},{"$f":"VLOOKUP($A117,#REF!,2,0)-VLOOKUP($A117,$A$4:$BI$82,W$3,0)","v":{"$error":"#REF!"}},{"$f":"VLOOKUP($A117,#REF!,2,0)-VLOOKUP($A117,$A$4:$BI$82,X$3,0)","v":{"$error":"#REF!"}},{"$f":"VLOOKUP($A117,#REF!,2,0)-VLOOKUP($A117,$A$4:$BI$82,Y$3,0)","v":{"$error":"#REF!"}},{"$f":"VLOOKUP($A117,#REF!,2,0)-VLOOKUP($A117,$A$4:$BI$82,Z$3,0)","v":{"$error":"#REF!"}},{"$f":"VLOOKUP($A117,#REF!,2,0)-VLOOKUP($A117,$A$4:$BI$82,AA$3,0)","v":{"$error":"#REF!"}},{"$f":"VLOOKUP($A117,#REF!,2,0)-VLOOKUP($A117,$A$4:$BI$82,AB$3,0)","v":{"$error":"#REF!"}},{"$f":"VLOOKUP($A117,#REF!,2,0)-VLOOKUP($A117,$A$4:$BI$82,AC$3,0)","v":{"$error":"#REF!"}},{"$f":"VLOOKUP($A117,#REF!,2,0)-VLOOKUP($A117,$A$4:$BI$82,AD$3,0)","v":{"$error":"#REF!"}},{"$f":"VLOOKUP($A117,#REF!,2,0)-VLOOKUP($A117,$A$4:$BI$82,AE$3,0)","v":{"$error":"#REF!"}},{"$f":"VLOOKUP($A117,#REF!,2,0)-VLOOKUP($A117,$A$4:$BI$82,AF$3,0)","v":{"$error":"#REF!"}},{"$f":"VLOOKUP($A117,#REF!,2,0)-VLOOKUP($A117,$A$4:$BI$82,AG$3,0)","v":{"$error":"#REF!"}},{"$f":"VLOOKUP($A117,#REF!,2,0)-VLOOKUP($A117,$A$4:$BI$82,AH$3,0)","v":{"$error":"#REF!"}},{"$f":"VLOOKUP($A117,#REF!,2,0)-VLOOKUP($A117,$A$4:$BI$82,AI$3,0)","v":{"$error":"#REF!"}},{"$f":"VLOOKUP($A117,#REF!,2,0)-VLOOKUP($A117,$A$4:$BI$82,AJ$3,0)","v":{"$error":"#REF!"}},{"$f":"VLOOKUP($A117,#REF!,2,0)-VLOOKUP($A117,$A$4:$BI$82,AK$3,0)","v":{"$error":"#REF!"}},{"$f":"VLOOKUP($A117,#REF!,2,0)-VLOOKUP($A117,$A$4:$BI$82,AL$3,0)","v":{"$error":"#REF!"}},{"$f":"VLOOKUP($A117,#REF!,2,0)-VLOOKUP($A117,$A$4:$BI$82,AM$3,0)","v":{"$error":"#REF!"}},{"$f":"VLOOKUP($A117,#REF!,2,0)-VLOOKUP($A117,$A$4:$BI$82,AN$3,0)","v":{"$error":"#REF!"}},{"$f":"VLOOKUP($A117,#REF!,2,0)-VLOOKUP($A117,$A$4:$BI$82,AO$3,0)","v":{"$error":"#REF!"}},{"$f":"VLOOKUP($A117,#REF!,2,0)-VLOOKUP($A117,$A$4:$BI$82,AP$3,0)","v":{"$error":"#REF!"}},{"$f":"VLOOKUP($A117,#REF!,2,0)-VLOOKUP($A117,$A$4:$BI$82,AQ$3,0)","v":{"$error":"#REF!"}},{"$f":"VLOOKUP($A117,#REF!,2,0)-VLOOKUP($A117,$A$4:$BI$82,AR$3,0)","v":{"$error":"#REF!"}},{"$f":"VLOOKUP($A117,#REF!,2,0)-VLOOKUP($A117,$A$4:$BI$82,AS$3,0)","v":{"$error":"#REF!"}},{"$f":"VLOOKUP($A117,#REF!,2,0)-VLOOKUP($A117,$A$4:$BI$82,AT$3,0)","v":{"$error":"#REF!"}},{"$f":"VLOOKUP($A117,#REF!,2,0)-VLOOKUP($A117,$A$4:$BI$82,AU$3,0)","v":{"$error":"#REF!"}},{"$f":"VLOOKUP($A117,#REF!,2,0)-VLOOKUP($A117,$A$4:$BI$82,AV$3,0)","v":{"$error":"#REF!"}},{"$f":"VLOOKUP($A117,#REF!,2,0)-VLOOKUP($A117,$A$4:$BI$82,AW$3,0)","v":{"$error":"#REF!"}},{"$f":"VLOOKUP($A117,#REF!,2,0)-VLOOKUP($A117,$A$4:$BI$82,AX$3,0)","v":{"$error":"#REF!"}},{"$f":"VLOOKUP($A117,#REF!,2,0)-VLOOKUP($A117,$A$4:$BI$82,AY$3,0)","v":{"$error":"#REF!"}},{"$f":"VLOOKUP($A117,#REF!,2,0)-VLOOKUP($A117,$A$4:$BI$82,AZ$3,0)","v":{"$error":"#REF!"}},{"$f":"VLOOKUP($A117,#REF!,2,0)-VLOOKUP($A117,$A$4:$BI$82,BA$3,0)","v":{"$error":"#REF!"}},{"$f":"VLOOKUP($A117,#REF!,2,0)-VLOOKUP($A117,$A$4:$BI$82,BB$3,0)","v":{"$error":"#REF!"}},{"$f":"VLOOKUP($A117,#REF!,2,0)-VLOOKUP($A117,$A$4:$BI$82,BC$3,0)","v":{"$error":"#REF!"}},{"$f":"VLOOKUP($A117,#REF!,2,0)-VLOOKUP($A117,$A$4:$BI$82,BD$3,0)","v":{"$error":"#REF!"}},{"$f":"VLOOKUP($A117,#REF!,2,0)-VLOOKUP($A117,$A$4:$BI$82,BE$3,0)","v":{"$error":"#REF!"}},{"$f":"VLOOKUP($A117,#REF!,2,0)-VLOOKUP($A117,$A$4:$BI$82,BF$3,0)","v":{"$error":"#REF!"}},{"$f":"VLOOKUP($A117,#REF!,2,0)-VLOOKUP($A117,$A$4:$BI$82,BG$3,0)","v":{"$error":"#REF!"}},{"$f":"VLOOKUP($A117,#REF!,2,0)-VLOOKUP($A117,$A$4:$BI$82,BH$3,0)","v":{"$error":"#REF!"}},{"$f":"VLOOKUP($A117,#REF!,2,0)-VLOOKUP($A117,$A$4:$BI$82,BI$3,0)","v":{"$error":"#REF!"}}]
["Las Perlas Norte, S.A.",null,null,null,null,null,null,null,null,null,null,null,{"$f":"VLOOKUP($A118,#REF!,3,0)","v":{"$error":"#REF!"}},{"$f":"VLOOKUP($A118,#REF!,2,0)-VLOOKUP($A118,$A$4:$BI$82,N$3,0)","v":{"$error":"#REF!"}},{"$f":"VLOOKUP($A118,#REF!,2,0)-VLOOKUP($A118,$A$4:$BI$82,O$3,0)","v":{"$error":"#REF!"}},{"$f":"VLOOKUP($A118,#REF!,2,0)-VLOOKUP($A118,$A$4:$BI$82,P$3,0)","v":{"$error":"#REF!"}},{"$f":"VLOOKUP($A118,#REF!,2,0)-VLOOKUP($A118,$A$4:$BI$82,Q$3,0)","v":{"$error":"#REF!"}},{"$f":"VLOOKUP($A118,#REF!,2,0)-VLOOKUP($A118,$A$4:$BI$82,R$3,0)","v":{"$error":"#REF!"}},{"$f":"VLOOKUP($A118,#REF!,2,0)-VLOOKUP($A118,$A$4:$BI$82,S$3,0)","v":{"$error":"#REF!"}},{"$f":"VLOOKUP($A118,#REF!,2,0)-VLOOKUP($A118,$A$4:$BI$82,T$3,0)","v":{"$error":"#REF!"}},{"$f":"VLOOKUP($A118,#REF!,2,0)-VLOOKUP($A118,$A$4:$BI$82,U$3,0)","v":{"$error":"#REF!"}},{"$f":"VLOOKUP($A118,#REF!,2,0)-VLOOKUP($A118,$A$4:$BI$82,V$3,0)","v":{"$error":"#REF!"}},{"$f":"VLOOKUP($A118,#REF!,2,0)-VLOOKUP($A118,$A$4:$BI$82,W$3,0)","v":{"$error":"#REF!"}},{"$f":"VLOOKUP($A118,#REF!,2,0)-VLOOKUP($A118,$A$4:$BI$82,X$3,0)","v":{"$error":"#REF!"}},{"$f":"VLOOKUP($A118,#REF!,2,0)-VLOOKUP($A118,$A$4:$BI$82,Y$3,0)","v":{"$error":"#REF!"}},{"$f":"VLOOKUP($A118,#REF!,2,0)-VLOOKUP($A118,$A$4:$BI$82,Z$3,0)","v":{"$error":"#REF!"}},{"$f":"VLOOKUP($A118,#REF!,2,0)-VLOOKUP($A118,$A$4:$BI$82,AA$3,0)","v":{"$error":"#REF!"}},{"$f":"VLOOKUP($A118,#REF!,2,0)-VLOOKUP($A118,$A$4:$BI$82,AB$3,0)","v":{"$error":"#REF!"}},{"$f":"VLOOKUP($A118,#REF!,2,0)-VLOOKUP($A118,$A$4:$BI$82,AC$3,0)","v":{"$error":"#REF!"}},{"$f":"VLOOKUP($A118,#REF!,2,0)-VLOOKUP($A118,$A$4:$BI$82,AD$3,0)","v":{"$error":"#REF!"}},{"$f":"VLOOKUP($A118,#REF!,2,0)-VLOOKUP($A118,$A$4:$BI$82,AE$3,0)","v":{"$error":"#REF!"}},{"$f":"VLOOKUP($A118,#REF!,2,0)-VLOOKUP($A118,$A$4:$BI$82,AF$3,0)","v":{"$error":"#REF!"}},{"$f":"VLOOKUP($A118,#REF!,2,0)-VLOOKUP($A118,$A$4:$BI$82,AG$3,0)","v":{"$error":"#REF!"}},{"$f":"VLOOKUP($A118,#REF!,2,0)-VLOOKUP($A118,$A$4:$BI$82,AH$3,0)","v":{"$error":"#REF!"}},{"$f":"VLOOKUP($A118,#REF!,2,0)-VLOOKUP($A118,$A$4:$BI$82,AI$3,0)","v":{"$error":"#REF!"}},{"$f":"VLOOKUP($A118,#REF!,2,0)-VLOOKUP($A118,$A$4:$BI$82,AJ$3,0)","v":{"$error":"#REF!"}},{"$f":"VLOOKUP($A118,#REF!,2,0)-VLOOKUP($A118,$A$4:$BI$82,AK$3,0)","v":{"$error":"#REF!"}},{"$f":"VLOOKUP($A118,#REF!,2,0)-VLOOKUP($A118,$A$4:$BI$82,AL$3,0)","v":{"$error":"#REF!"}},{"$f":"VLOOKUP($A118,#REF!,2,0)-VLOOKUP($A118,$A$4:$BI$82,AM$3,0)","v":{"$error":"#REF!"}},{"$f":"VLOOKUP($A118,#REF!,2,0)-VLOOKUP($A118,$A$4:$BI$82,AN$3,0)","v":{"$error":"#REF!"}},{"$f":"VLOOKUP($A118,#REF!,2,0)-VLOOKUP($A118,$A$4:$BI$82,AO$3,0)","v":{"$error":"#REF!"}},{"$f":"VLOOKUP($A118,#REF!,2,0)-VLOOKUP($A118,$A$4:$BI$82,AP$3,0)","v":{"$error":"#REF!"}},{"$f":"VLOOKUP($A118,#REF!,2,0)-VLOOKUP($A118,$A$4:$BI$82,AQ$3,0)","v":{"$error":"#REF!"}},{"$f":"VLOOKUP($A118,#REF!,2,0)-VLOOKUP($A118,$A$4:$BI$82,AR$3,0)","v":{"$error":"#REF!"}},{"$f":"VLOOKUP($A118,#REF!,2,0)-VLOOKUP($A118,$A$4:$BI$82,AS$3,0)","v":{"$error":"#REF!"}},{"$f":"VLOOKUP($A118,#REF!,2,0)-VLOOKUP($A118,$A$4:$BI$82,AT$3,0)","v":{"$error":"#REF!"}},{"$f":"VLOOKUP($A118,#REF!,2,0)-VLOOKUP($A118,$A$4:$BI$82,AU$3,0)","v":{"$error":"#REF!"}},{"$f":"VLOOKUP($A118,#REF!,2,0)-VLOOKUP($A118,$A$4:$BI$82,AV$3,0)","v":{"$error":"#REF!"}},{"$f":"VLOOKUP($A118,#REF!,2,0)-VLOOKUP($A118,$A$4:$BI$82,AW$3,0)","v":{"$error":"#REF!"}},{"$f":"VLOOKUP($A118,#REF!,2,0)-VLOOKUP($A118,$A$4:$BI$82,AX$3,0)","v":{"$error":"#REF!"}},{"$f":"VLOOKUP($A118,#REF!,2,0)-VLOOKUP($A118,$A$4:$BI$82,AY$3,0)","v":{"$error":"#REF!"}},{"$f":"VLOOKUP($A118,#REF!,2,0)-VLOOKUP($A118,$A$4:$BI$82,AZ$3,0)","v":{"$error":"#REF!"}},{"$f":"VLOOKUP($A118,#REF!,2,0)-VLOOKUP($A118,$A$4:$BI$82,BA$3,0)","v":{"$error":"#REF!"}},{"$f":"VLOOKUP($A118,#REF!,2,0)-VLOOKUP($A118,$A$4:$BI$82,BB$3,0)","v":{"$error":"#REF!"}},{"$f":"VLOOKUP($A118,#REF!,2,0)-VLOOKUP($A118,$A$4:$BI$82,BC$3,0)","v":{"$error":"#REF!"}},{"$f":"VLOOKUP($A118,#REF!,2,0)-VLOOKUP($A118,$A$4:$BI$82,BD$3,0)","v":{"$error":"#REF!"}},{"$f":"VLOOKUP($A118,#REF!,2,0)-VLOOKUP($A118,$A$4:$BI$82,BE$3,0)","v":{"$error":"#REF!"}},{"$f":"VLOOKUP($A118,#REF!,2,0)-VLOOKUP($A118,$A$4:$BI$82,BF$3,0)","v":{"$error":"#REF!"}},{"$f":"VLOOKUP($A118,#REF!,2,0)-VLOOKUP($A118,$A$4:$BI$82,BG$3,0)","v":{"$error":"#REF!"}},{"$f":"VLOOKUP($A118,#REF!,2,0)-VLOOKUP($A118,$A$4:$BI$82,BH$3,0)","v":{"$error":"#REF!"}},{"$f":"VLOOKUP($A118,#REF!,2,0)-VLOOKUP($A118,$A$4:$BI$82,BI$3,0)","v":{"$error":"#REF!"}}]
["Las Perlas Sur, S.A.",null,null,null,null,null,null,null,null,null,null,null,{"$f":"VLOOKUP($A119,#REF!,3,0)","v":{"$error":"#REF!"}},{"$f":"VLOOKUP($A119,#REF!,2,0)-VLOOKUP($A119,$A$4:$BI$82,N$3,0)","v":{"$error":"#REF!"}},{"$f":"VLOOKUP($A119,#REF!,2,0)-VLOOKUP($A119,$A$4:$BI$82,O$3,0)","v":{"$error":"#REF!"}},{"$f":"VLOOKUP($A119,#REF!,2,0)-VLOOKUP($A119,$A$4:$BI$82,P$3,0)","v":{"$error":"#REF!"}},{"$f":"VLOOKUP($A119,#REF!,2,0)-VLOOKUP($A119,$A$4:$BI$82,Q$3,0)","v":{"$error":"#REF!"}},{"$f":"VLOOKUP($A119,#REF!,2,0)-VLOOKUP($A119,$A$4:$BI$82,R$3,0)","v":{"$error":"#REF!"}},{"$f":"VLOOKUP($A119,#REF!,2,0)-VLOOKUP($A119,$A$4:$BI$82,S$3,0)","v":{"$error":"#REF!"}},{"$f":"VLOOKUP($A119,#REF!,2,0)-VLOOKUP($A119,$A$4:$BI$82,T$3,0)","v":{"$error":"#REF!"}},{"$f":"VLOOKUP($A119,#REF!,2,0)-VLOOKUP($A119,$A$4:$BI$82,U$3,0)","v":{"$error":"#REF!"}},{"$f":"VLOOKUP($A119,#REF!,2,0)-VLOOKUP($A119,$A$4:$BI$82,V$3,0)","v":{"$error":"#REF!"}},{"$f":"VLOOKUP($A119,#REF!,2,0)-VLOOKUP($A119,$A$4:$BI$82,W$3,0)","v":{"$error":"#REF!"}},{"$f":"VLOOKUP($A119,#REF!,2,0)-VLOOKUP($A119,$A$4:$BI$82,X$3,0)","v":{"$error":"#REF!"}},{"$f":"VLOOKUP($A119,#REF!,2,0)-VLOOKUP($A119,$A$4:$BI$82,Y$3,0)","v":{"$error":"#REF!"}},{"$f":"VLOOKUP($A119,#REF!,2,0)-VLOOKUP($A119,$A$4:$BI$82,Z$3,0)","v":{"$error":"#REF!"}},{"$f":"VLOOKUP($A119,#REF!,2,0)-VLOOKUP($A119,$A$4:$BI$82,AA$3,0)","v":{"$error":"#REF!"}},{"$f":"VLOOKUP($A119,#REF!,2,0)-VLOOKUP($A119,$A$4:$BI$82,AB$3,0)","v":{"$error":"#REF!"}},{"$f":"VLOOKUP($A119,#REF!,2,0)-VLOOKUP($A119,$A$4:$BI$82,AC$3,0)","v":{"$error":"#REF!"}},{"$f":"VLOOKUP($A119,#REF!,2,0)-VLOOKUP($A119,$A$4:$BI$82,AD$3,0)","v":{"$error":"#REF!"}},{"$f":"VLOOKUP($A119,#REF!,2,0)-VLOOKUP($A119,$A$4:$BI$82,AE$3,0)","v":{"$error":"#REF!"}},{"$f":"VLOOKUP($A119,#REF!,2,0)-VLOOKUP($A119,$A$4:$BI$82,AF$3,0)","v":{"$error":"#REF!"}},{"$f":"VLOOKUP($A119,#REF!,2,0)-VLOOKUP($A119,$A$4:$BI$82,AG$3,0)","v":{"$error":"#REF!"}},{"$f":"VLOOKUP($A119,#REF!,2,0)-VLOOKUP($A119,$A$4:$BI$82,AH$3,0)","v":{"$error":"#REF!"}},{"$f":"VLOOKUP($A119,#REF!,2,0)-VLOOKUP($A119,$A$4:$BI$82,AI$3,0)","v":{"$error":"#REF!"}},{"$f":"VLOOKUP($A119,#REF!,2,0)-VLOOKUP($A119,$A$4:$BI$82,AJ$3,0)","v":{"$error":"#REF!"}},{"$f":"VLOOKUP($A119,#REF!,2,0)-VLOOKUP($A119,$A$4:$BI$82,AK$3,0)","v":{"$error":"#REF!"}},{"$f":"VLOOKUP($A119,#REF!,2,0)-VLOOKUP($A119,$A$4:$BI$82,AL$3,0)","v":{"$error":"#REF!"}},{"$f":"VLOOKUP($A119,#REF!,2,0)-VLOOKUP($A119,$A$4:$BI$82,AM$3,0)","v":{"$error":"#REF!"}},{"$f":"VLOOKUP($A119,#REF!,2,0)-VLOOKUP($A119,$A$4:$BI$82,AN$3,0)","v":{"$error":"#REF!"}},{"$f":"VLOOKUP($A119,#REF!,2,0)-VLOOKUP($A119,$A$4:$BI$82,AO$3,0)","v":{"$error":"#REF!"}},{"$f":"VLOOKUP($A119,#REF!,2,0)-VLOOKUP($A119,$A$4:$BI$82,AP$3,0)","v":{"$error":"#REF!"}},{"$f":"VLOOKUP($A119,#REF!,2,0)-VLOOKUP($A119,$A$4:$BI$82,AQ$3,0)","v":{"$error":"#REF!"}},{"$f":"VLOOKUP($A119,#REF!,2,0)-VLOOKUP($A119,$A$4:$BI$82,AR$3,0)","v":{"$error":"#REF!"}},{"$f":"VLOOKUP($A119,#REF!,2,0)-VLOOKUP($A119,$A$4:$BI$82,AS$3,0)","v":{"$error":"#REF!"}},{"$f":"VLOOKUP($A119,#REF!,2,0)-VLOOKUP($A119,$A$4:$BI$82,AT$3,0)","v":{"$error":"#REF!"}},{"$f":"VLOOKUP($A119,#REF!,2,0)-VLOOKUP($A119,$A$4:$BI$82,AU$3,0)","v":{"$error":"#REF!"}},{"$f":"VLOOKUP($A119,#REF!,2,0)-VLOOKUP($A119,$A$4:$BI$82,AV$3,0)","v":{"$error":"#REF!"}},{"$f":"VLOOKUP($A119,#REF!,2,0)-VLOOKUP($A119,$A$4:$BI$82,AW$3,0)","v":{"$error":"#REF!"}},{"$f":"VLOOKUP($A119,#REF!,2,0)-VLOOKUP($A119,$A$4:$BI$82,AX$3,0)","v":{"$error":"#REF!"}},{"$f":"VLOOKUP($A119,#REF!,2,0)-VLOOKUP($A119,$A$4:$BI$82,AY$3,0)","v":{"$error":"#REF!"}},{"$f":"VLOOKUP($A119,#REF!,2,0)-VLOOKUP($A119,$A$4:$BI$82,AZ$3,0)","v":{"$error":"#REF!"}},{"$f":"VLOOKUP($A119,#REF!,2,0)-VLOOKUP($A119,$A$4:$BI$82,BA$3,0)","v":{"$error":"#REF!"}},{"$f":"VLOOKUP($A119,#REF!,2,0)-VLOOKUP($A119,$A$4:$BI$82,BB$3,0)","v":{"$error":"#REF!"}},{"$f":"VLOOKUP($A119,#REF!,2,0)-VLOOKUP($A119,$A$4:$BI$82,BC$3,0)","v":{"$error":"#REF!"}},{"$f":"VLOOKUP($A119,#REF!,2,0)-VLOOKUP($A119,$A$4:$BI$82,BD$3,0)","v":{"$error":"#REF!"}},{"$f":"VLOOKUP($A119,#REF!,2,0)-VLOOKUP($A119,$A$4:$BI$82,BE$3,0)","v":{"$error":"#REF!"}},{"$f":"VLOOKUP($A119,#REF!,2,0)-VLOOKUP($A119,$A$4:$BI$82,BF$3,0)","v":{"$error":"#REF!"}},{"$f":"VLOOKUP($A119,#REF!,2,0)-VLOOKUP($A119,$A$4:$BI$82,BG$3,0)","v":{"$error":"#REF!"}},{"$f":"VLOOKUP($A119,#REF!,2,0)-VLOOKUP($A119,$A$4:$BI$82,BH$3,0)","v":{"$error":"#REF!"}},{"$f":"VLOOKUP($A119,#REF!,2,0)-VLOOKUP($A119,$A$4:$BI$82,BI$3,0)","v":{"$error":"#REF!"}}]
["Martano, Inc",null,null,null,null,null,null,null,null,null,null,null,{"$f":"VLOOKUP($A120,#REF!,3,0)","v":{"$error":"#REF!"}},{"$f":"VLOOKUP($A120,#REF!,2,0)-VLOOKUP($A120,$A$4:$BI$82,N$3,0)","v":{"$error":"#REF!"}},{"$f":"VLOOKUP($A120,#REF!,2,0)-VLOOKUP($A120,$A$4:$BI$82,O$3,0)","v":{"$error":"#REF!"}},{"$f":"VLOOKUP($A120,#REF!,2,0)-VLOOKUP($A120,$A$4:$BI$82,P$3,0)","v":{"$error":"#REF!"}},{"$f":"VLOOKUP($A120,#REF!,2,0)-VLOOKUP($A120,$A$4:$BI$82,Q$3,0)","v":{"$error":"#REF!"}},{"$f":"VLOOKUP($A120,#REF!,2,0)-VLOOKUP($A120,$A$4:$BI$82,R$3,0)","v":{"$error":"#REF!"}},{"$f":"VLOOKUP($A120,#REF!,2,0)-VLOOKUP($A120,$A$4:$BI$82,S$3,0)","v":{"$error":"#REF!"}},{"$f":"VLOOKUP($A120,#REF!,2,0)-VLOOKUP($A120,$A$4:$BI$82,T$3,0)","v":{"$error":"#REF!"}},{"$f":"VLOOKUP($A120,#REF!,2,0)-VLOOKUP($A120,$A$4:$BI$82,U$3,0)","v":{"$error":"#REF!"}},{"$f":"VLOOKUP($A120,#REF!,2,0)-VLOOKUP($A120,$A$4:$BI$82,V$3,0)","v":{"$error":"#REF!"}},{"$f":"VLOOKUP($A120,#REF!,2,0)-VLOOKUP($A120,$A$4:$BI$82,W$3,0)","v":{"$error":"#REF!"}},{"$f":"VLOOKUP($A120,#REF!,2,0)-VLOOKUP($A120,$A$4:$BI$82,X$3,0)","v":{"$error":"#REF!"}},{"$f":"VLOOKUP($A120,#REF!,2,0)-VLOOKUP($A120,$A$4:$BI$82,Y$3,0)","v":{"$error":"#REF!"}},{"$f":"VLOOKUP($A120,#REF!,2,0)-VLOOKUP($A120,$A$4:$BI$82,Z$3,0)","v":{"$error":"#REF!"}},{"$f":"VLOOKUP($A120,#REF!,2,0)-VLOOKUP($A120,$A$4:$BI$82,AA$3,0)","v":{"$error":"#REF!"}},{"$f":"VLOOKUP($A120,#REF!,2,0)-VLOOKUP($A120,$A$4:$BI$82,AB$3,0)","v":{"$error":"#REF!"}},{"$f":"VLOOKUP($A120,#REF!,2,0)-VLOOKUP($A120,$A$4:$BI$82,AC$3,0)","v":{"$error":"#REF!"}},{"$f":"VLOOKUP($A120,#REF!,2,0)-VLOOKUP($A120,$A$4:$BI$82,AD$3,0)","v":{"$error":"#REF!"}},{"$f":"VLOOKUP($A120,#REF!,2,0)-VLOOKUP($A120,$A$4:$BI$82,AE$3,0)","v":{"$error":"#REF!"}},{"$f":"VLOOKUP($A120,#REF!,2,0)-VLOOKUP($A120,$A$4:$BI$82,AF$3,0)","v":{"$error":"#REF!"}},{"$f":"VLOOKUP($A120,#REF!,2,0)-VLOOKUP($A120,$A$4:$BI$82,AG$3,0)","v":{"$error":"#REF!"}},{"$f":"VLOOKUP($A120,#REF!,2,0)-VLOOKUP($A120,$A$4:$BI$82,AH$3,0)","v":{"$error":"#REF!"}},{"$f":"VLOOKUP($A120,#REF!,2,0)-VLOOKUP($A120,$A$4:$BI$82,AI$3,0)","v":{"$error":"#REF!"}},{"$f":"VLOOKUP($A120,#REF!,2,0)-VLOOKUP($A120,$A$4:$BI$82,AJ$3,0)","v":{"$error":"#REF!"}},{"$f":"VLOOKUP($A120,#REF!,2,0)-VLOOKUP($A120,$A$4:$BI$82,AK$3,0)","v":{"$error":"#REF!"}},{"$f":"VLOOKUP($A120,#REF!,2,0)-VLOOKUP($A120,$A$4:$BI$82,AL$3,0)","v":{"$error":"#REF!"}},{"$f":"VLOOKUP($A120,#REF!,2,0)-VLOOKUP($A120,$A$4:$BI$82,AM$3,0)","v":{"$error":"#REF!"}},{"$f":"VLOOKUP($A120,#REF!,2,0)-VLOOKUP($A120,$A$4:$BI$82,AN$3,0)","v":{"$error":"#REF!"}},{"$f":"VLOOKUP($A120,#REF!,2,0)-VLOOKUP($A120,$A$4:$BI$82,AO$3,0)","v":{"$error":"#REF!"}},{"$f":"VLOOKUP($A120,#REF!,2,0)-VLOOKUP($A120,$A$4:$BI$82,AP$3,0)","v":{"$error":"#REF!"}},{"$f":"VLOOKUP($A120,#REF!,2,0)-VLOOKUP($A120,$A$4:$BI$82,AQ$3,0)","v":{"$error":"#REF!"}},{"$f":"VLOOKUP($A120,#REF!,2,0)-VLOOKUP($A120,$A$4:$BI$82,AR$3,0)","v":{"$error":"#REF!"}},{"$f":"VLOOKUP($A120,#REF!,2,0)-VLOOKUP($A120,$A$4:$BI$82,AS$3,0)","v":{"$error":"#REF!"}},{"$f":"VLOOKUP($A120,#REF!,2,0)-VLOOKUP($A120,$A$4:$BI$82,AT$3,0)","v":{"$error":"#REF!"}},{"$f":"VLOOKUP($A120,#REF!,2,0)-VLOOKUP($A120,$A$4:$BI$82,AU$3,0)","v":{"$error":"#REF!"}},{"$f":"VLOOKUP($A120,#REF!,2,0)-VLOOKUP($A120,$A$4:$BI$82,AV$3,0)","v":{"$error":"#REF!"}},{"$f":"VLOOKUP($A120,#REF!,2,0)-VLOOKUP($A120,$A$4:$BI$82,AW$3,0)","v":{"$error":"#REF!"}},{"$f":"VLOOKUP($A120,#REF!,2,0)-VLOOKUP($A120,$A$4:$BI$82,AX$3,0)","v":{"$error":"#REF!"}},{"$f":"VLOOKUP($A120,#REF!,2,0)-VLOOKUP($A120,$A$4:$BI$82,AY$3,0)","v":{"$error":"#REF!"}},{"$f":"VLOOKUP($A120,#REF!,2,0)-VLOOKUP($A120,$A$4:$BI$82,AZ$3,0)","v":{"$error":"#REF!"}},{"$f":"VLOOKUP($A120,#REF!,2,0)-VLOOKUP($A120,$A$4:$BI$82,BA$3,0)","v":{"$error":"#REF!"}},{"$f":"VLOOKUP($A120,#REF!,2,0)-VLOOKUP($A120,$A$4:$BI$82,BB$3,0)","v":{"$error":"#REF!"}},{"$f":"VLOOKUP($A120,#REF!,2,0)-VLOOKUP($A120,$A$4:$BI$82,BC$3,0)","v":{"$error":"#REF!"}},{"$f":"VLOOKUP($A120,#REF!,2,0)-VLOOKUP($A120,$A$4:$BI$82,BD$3,0)","v":{"$error":"#REF!"}},{"$f":"VLOOKUP($A120,#REF!,2,0)-VLOOKUP($A120,$A$4:$BI$82,BE$3,0)","v":{"$error":"#REF!"}},{"$f":"VLOOKUP($A120,#REF!,2,0)-VLOOKUP($A120,$A$4:$BI$82,BF$3,0)","v":{"$error":"#REF!"}},{"$f":"VLOOKUP($A120,#REF!,2,0)-VLOOKUP($A120,$A$4:$BI$82,BG$3,0)","v":{"$error":"#REF!"}},{"$f":"VLOOKUP($A120,#REF!,2,0)-VLOOKUP($A120,$A$4:$BI$82,BH$3,0)","v":{"$error":"#REF!"}},{"$f":"VLOOKUP($A120,#REF!,2,0)-VLOOKUP($A120,$A$4:$BI$82,BI$3,0)","v":{"$error":"#REF!"}}]
["Pan-Am Generating Limited",null,null,null,null,null,null,null,null,null,null,null,{"$f":"VLOOKUP($A121,#REF!,3,0)","v":{"$error":"#REF!"}},{"$f":"VLOOKUP($A121,#REF!,2,0)-VLOOKUP($A121,$A$4:$BI$82,N$3,0)","v":{"$error":"#REF!"}},{"$f":"VLOOKUP($A121,#REF!,2,0)-VLOOKUP($A121,$A$4:$BI$82,O$3,0)","v":{"$error":"#REF!"}},{"$f":"VLOOKUP($A121,#REF!,2,0)-VLOOKUP($A121,$A$4:$BI$82,P$3,0)","v":{"$error":"#REF!"}},{"$f":"VLOOKUP($A121,#REF!,2,0)-VLOOKUP($A121,$A$4:$BI$82,Q$3,0)","v":{"$error":"#REF!"}},{"$f":"VLOOKUP($A121,#REF!,2,0)-VLOOKUP($A121,$A$4:$BI$82,R$3,0)","v":{"$error":"#REF!"}},{"$f":"VLOOKUP($A121,#REF!,2,0)-VLOOKUP($A121,$A$4:$BI$82,S$3,0)","v":{"$error":"#REF!"}},{"$f":"VLOOKUP($A121,#REF!,2,0)-VLOOKUP($A121,$A$4:$BI$82,T$3,0)","v":{"$error":"#REF!"}},{"$f":"VLOOKUP($A121,#REF!,2,0)-VLOOKUP($A121,$A$4:$BI$82,U$3,0)","v":{"$error":"#REF!"}},{"$f":"VLOOKUP($A121,#REF!,2,0)-VLOOKUP($A121,$A$4:$BI$82,V$3,0)","v":{"$error":"#REF!"}},{"$f":"VLOOKUP($A121,#REF!,2,0)-VLOOKUP($A121,$A$4:$BI$82,W$3,0)","v":{"$error":"#REF!"}},{"$f":"VLOOKUP($A121,#REF!,2,0)-VLOOKUP($A121,$A$4:$BI$82,X$3,0)","v":{"$error":"#REF!"}},{"$f":"VLOOKUP($A121,#REF!,2,0)-VLOOKUP($A121,$A$4:$BI$82,Y$3,0)","v":{"$error":"#REF!"}},{"$f":"VLOOKUP($A121,#REF!,2,0)-VLOOKUP($A121,$A$4:$BI$82,Z$3,0)","v":{"$error":"#REF!"}},{"$f":"VLOOKUP($A121,#REF!,2,0)-VLOOKUP($A121,$A$4:$BI$82,AA$3,0)","v":{"$error":"#REF!"}},{"$f":"VLOOKUP($A121,#REF!,2,0)-VLOOKUP($A121,$A$4:$BI$82,AB$3,0)","v":{"$error":"#REF!"}},{"$f":"VLOOKUP($A121,#REF!,2,0)-VLOOKUP($A121,$A$4:$BI$82,AC$3,0)","v":{"$error":"#REF!"}},{"$f":"VLOOKUP($A121,#REF!,2,0)-VLOOKUP($A121,$A$4:$BI$82,AD$3,0)","v":{"$error":"#REF!"}},{"$f":"VLOOKUP($A121,#REF!,2,0)-VLOOKUP($A121,$A$4:$BI$82,AE$3,0)","v":{"$error":"#REF!"}},{"$f":"VLOOKUP($A121,#REF!,2,0)-VLOOKUP($A121,$A$4:$BI$82,AF$3,0)","v":{"$error":"#REF!"}},{"$f":"VLOOKUP($A121,#REF!,2,0)-VLOOKUP($A121,$A$4:$BI$82,AG$3,0)","v":{"$error":"#REF!"}},{"$f":"VLOOKUP($A121,#REF!,2,0)-VLOOKUP($A121,$A$4:$BI$82,AH$3,0)","v":{"$error":"#REF!"}},{"$f":"VLOOKUP($A121,#REF!,2,0)-VLOOKUP($A121,$A$4:$BI$82,AI$3,0)","v":{"$error":"#REF!"}},{"$f":"VLOOKUP($A121,#REF!,2,0)-VLOOKUP($A121,$A$4:$BI$82,AJ$3,0)","v":{"$error":"#REF!"}},{"$f":"VLOOKUP($A121,#REF!,2,0)-VLOOKUP($A121,$A$4:$BI$82,AK$3,0)","v":{"$error":"#REF!"}},{"$f":"VLOOKUP($A121,#REF!,2,0)-VLOOKUP($A121,$A$4:$BI$82,AL$3,0)","v":{"$error":"#REF!"}},{"$f":"VLOOKUP($A121,#REF!,2,0)-VLOOKUP($A121,$A$4:$BI$82,AM$3,0)","v":{"$error":"#REF!"}},{"$f":"VLOOKUP($A121,#REF!,2,0)-VLOOKUP($A121,$A$4:$BI$82,AN$3,0)","v":{"$error":"#REF!"}},{"$f":"VLOOKUP($A121,#REF!,2,0)-VLOOKUP($A121,$A$4:$BI$82,AO$3,0)","v":{"$error":"#REF!"}},{"$f":"VLOOKUP($A121,#REF!,2,0)-VLOOKUP($A121,$A$4:$BI$82,AP$3,0)","v":{"$error":"#REF!"}},{"$f":"VLOOKUP($A121,#REF!,2,0)-VLOOKUP($A121,$A$4:$BI$82,AQ$3,0)","v":{"$error":"#REF!"}},{"$f":"VLOOKUP($A121,#REF!,2,0)-VLOOKUP($A121,$A$4:$BI$82,AR$3,0)","v":{"$error":"#REF!"}},{"$f":"VLOOKUP($A121,#REF!,2,0)-VLOOKUP($A121,$A$4:$BI$82,AS$3,0)","v":{"$error":"#REF!"}},{"$f":"VLOOKUP($A121,#REF!,2,0)-VLOOKUP($A121,$A$4:$BI$82,AT$3,0)","v":{"$error":"#REF!"}},{"$f":"VLOOKUP($A121,#REF!,2,0)-VLOOKUP($A121,$A$4:$BI$82,AU$3,0)","v":{"$error":"#REF!"}},{"$f":"VLOOKUP($A121,#REF!,2,0)-VLOOKUP($A121,$A$4:$BI$82,AV$3,0)","v":{"$error":"#REF!"}},{"$f":"VLOOKUP($A121,#REF!,2,0)-VLOOKUP($A121,$A$4:$BI$82,AW$3,0)","v":{"$error":"#REF!"}},{"$f":"VLOOKUP($A121,#REF!,2,0)-VLOOKUP($A121,$A$4:$BI$82,AX$3,0)","v":{"$error":"#REF!"}},{"$f":"VLOOKUP($A121,#REF!,2,0)-VLOOKUP($A121,$A$4:$BI$82,AY$3,0)","v":{"$error":"#REF!"}},{"$f":"VLOOKUP($A121,#REF!,2,0)-VLOOKUP($A121,$A$4:$BI$82,AZ$3,0)","v":{"$error":"#REF!"}},{"$f":"VLOOKUP($A121,#REF!,2,0)-VLOOKUP($A121,$A$4:$BI$82,BA$3,0)","v":{"$error":"#REF!"}},{"$f":"VLOOKUP($A121,#REF!,2,0)-VLOOKUP($A121,$A$4:$BI$82,BB$3,0)","v":{"$error":"#REF!"}},{"$f":"VLOOKUP($A121,#REF!,2,0)-VLOOKUP($A121,$A$4:$BI$82,BC$3,0)","v":{"$error":"#REF!"}},{"$f":"VLOOKUP($A121,#REF!,2,0)-VLOOKUP($A121,$A$4:$BI$82,BD$3,0)","v":{"$error":"#REF!"}},{"$f":"VLOOKUP($A121,#REF!,2,0)-VLOOKUP($A121,$A$4:$BI$82,BE$3,0)","v":{"$error":"#REF!"}},{"$f":"VLOOKUP($A121,#REF!,2,0)-VLOOKUP($A121,$A$4:$BI$82,BF$3,0)","v":{"$error":"#REF!"}},{"$f":"VLOOKUP($A121,#REF!,2,0)-VLOOKUP($A121,$A$4:$BI$82,BG$3,0)","v":{"$error":"#REF!"}},{"$f":"VLOOKUP($A121,#REF!,2,0)-VLOOKUP($A121,$A$4:$BI$82,BH$3,0)","v":{"$error":"#REF!"}},{"$f":"VLOOKUP($A121,#REF!,2,0)-VLOOKUP($A121,$A$4:$BI$82,BI$3,0)","v":{"$error":"#REF!"}}]
["Panama NG Power, S.A.",null,null,null,null,null,null,null,null,null,null,null,{"$f":"VLOOKUP($A122,#REF!,3,0)","v":{"$error":"#REF!"}},{"$f":"VLOOKUP($A122,#REF!,2,0)-VLOOKUP($A122,$A$4:$BI$82,N$3,0)","v":{"$error":"#REF!"}},{"$f":"VLOOKUP($A122,#REF!,2,0)-VLOOKUP($A122,$A$4:$BI$82,O$3,0)","v":{"$error":"#REF!"}},{"$f":"VLOOKUP($A122,#REF!,2,0)-VLOOKUP($A122,$A$4:$BI$82,P$3,0)","v":{"$error":"#REF!"}},{"$f":"VLOOKUP($A122,#REF!,2,0)-VLOOKUP($A122,$A$4:$BI$82,Q$3,0)","v":{"$error":"#REF!"}},{"$f":"VLOOKUP($A122,#REF!,2,0)-VLOOKUP($A122,$A$4:$BI$82,R$3,0)","v":{"$error":"#REF!"}},{"$f":"VLOOKUP($A122,#REF!,2,0)-VLOOKUP($A122,$A$4:$BI$82,S$3,0)","v":{"$error":"#REF!"}},{"$f":"VLOOKUP($A122,#REF!,2,0)-VLOOKUP($A122,$A$4:$BI$82,T$3,0)","v":{"$error":"#REF!"}},{"$f":"VLOOKUP($A122,#REF!,2,0)-VLOOKUP($A122,$A$4:$BI$82,U$3,0)","v":{"$error":"#REF!"}},{"$f":"VLOOKUP($A122,#REF!,2,0)-VLOOKUP($A122,$A$4:$BI$82,V$3,0)","v":{"$error":"#REF!"}},{"$f":"VLOOKUP($A122,#REF!,2,0)-VLOOKUP($A122,$A$4:$BI$82,W$3,0)","v":{"$error":"#REF!"}},{"$f":"VLOOKUP($A122,#REF!,2,0)-VLOOKUP($A122,$A$4:$BI$82,X$3,0)","v":{"$error":"#REF!"}},{"$f":"VLOOKUP($A122,#REF!,2,0)-VLOOKUP($A122,$A$4:$BI$82,Y$3,0)","v":{"$error":"#REF!"}},{"$f":"VLOOKUP($A122,#REF!,2,0)-VLOOKUP($A122,$A$4:$BI$82,Z$3,0)","v":{"$error":"#REF!"}},{"$f":"VLOOKUP($A122,#REF!,2,0)-VLOOKUP($A122,$A$4:$BI$82,AA$3,0)","v":{"$error":"#REF!"}},{"$f":"VLOOKUP($A122,#REF!,2,0)-VLOOKUP($A122,$A$4:$BI$82,AB$3,0)","v":{"$error":"#REF!"}},{"$f":"VLOOKUP($A122,#REF!,2,0)-VLOOKUP($A122,$A$4:$BI$82,AC$3,0)","v":{"$error":"#REF!"}},{"$f":"VLOOKUP($A122,#REF!,2,0)-VLOOKUP($A122,$A$4:$BI$82,AD$3,0)","v":{"$error":"#REF!"}},{"$f":"VLOOKUP($A122,#REF!,2,0)-VLOOKUP($A122,$A$4:$BI$82,AE$3,0)","v":{"$error":"#REF!"}},{"$f":"VLOOKUP($A122,#REF!,2,0)-VLOOKUP($A122,$A$4:$BI$82,AF$3,0)","v":{"$error":"#REF!"}},{"$f":"VLOOKUP($A122,#REF!,2,0)-VLOOKUP($A122,$A$4:$BI$82,AG$3,0)","v":{"$error":"#REF!"}},{"$f":"VLOOKUP($A122,#REF!,2,0)-VLOOKUP($A122,$A$4:$BI$82,AH$3,0)","v":{"$error":"#REF!"}},{"$f":"VLOOKUP($A122,#REF!,2,0)-VLOOKUP($A122,$A$4:$BI$82,AI$3,0)","v":{"$error":"#REF!"}},{"$f":"VLOOKUP($A122,#REF!,2,0)-VLOOKUP($A122,$A$4:$BI$82,AJ$3,0)","v":{"$error":"#REF!"}},{"$f":"VLOOKUP($A122,#REF!,2,0)-VLOOKUP($A122,$A$4:$BI$82,AK$3,0)","v":{"$error":"#REF!"}},{"$f":"VLOOKUP($A122,#REF!,2,0)-VLOOKUP($A122,$A$4:$BI$82,AL$3,0)","v":{"$error":"#REF!"}},{"$f":"VLOOKUP($A122,#REF!,2,0)-VLOOKUP($A122,$A$4:$BI$82,AM$3,0)","v":{"$error":"#REF!"}},{"$f":"VLOOKUP($A122,#REF!,2,0)-VLOOKUP($A122,$A$4:$BI$82,AN$3,0)","v":{"$error":"#REF!"}},{"$f":"VLOOKUP($A122,#REF!,2,0)-VLOOKUP($A122,$A$4:$BI$82,AO$3,0)","v":{"$error":"#REF!"}},{"$f":"VLOOKUP($A122,#REF!,2,0)-VLOOKUP($A122,$A$4:$BI$82,AP$3,0)","v":{"$error":"#REF!"}},{"$f":"VLOOKUP($A122,#REF!,2,0)-VLOOKUP($A122,$A$4:$BI$82,AQ$3,0)","v":{"$error":"#REF!"}},{"$f":"VLOOKUP($A122,#REF!,2,0)-VLOOKUP($A122,$A$4:$BI$82,AR$3,0)","v":{"$error":"#REF!"}},{"$f":"VLOOKUP($A122,#REF!,2,0)-VLOOKUP($A122,$A$4:$BI$82,AS$3,0)","v":{"$error":"#REF!"}},{"$f":"VLOOKUP($A122,#REF!,2,0)-VLOOKUP($A122,$A$4:$BI$82,AT$3,0)","v":{"$error":"#REF!"}},{"$f":"VLOOKUP($A122,#REF!,2,0)-VLOOKUP($A122,$A$4:$BI$82,AU$3,0)","v":{"$error":"#REF!"}},{"$f":"VLOOKUP($A122,#REF!,2,0)-VLOOKUP($A122,$A$4:$BI$82,AV$3,0)","v":{"$error":"#REF!"}},{"$f":"VLOOKUP($A122,#REF!,2,0)-VLOOKUP($A122,$A$4:$BI$82,AW$3,0)","v":{"$error":"#REF!"}},{"$f":"VLOOKUP($A122,#REF!,2,0)-VLOOKUP($A122,$A$4:$BI$82,AX$3,0)","v":{"$error":"#REF!"}},{"$f":"VLOOKUP($A122,#REF!,2,0)-VLOOKUP($A122,$A$4:$BI$82,AY$3,0)","v":{"$error":"#REF!"}},{"$f":"VLOOKUP($A122,#REF!,2,0)-VLOOKUP($A122,$A$4:$BI$82,AZ$3,0)","v":{"$error":"#REF!"}},{"$f":"VLOOKUP($A122,#REF!,2,0)-VLOOKUP($A122,$A$4:$BI$82,BA$3,0)","v":{"$error":"#REF!"}},{"$f":"VLOOKUP($A122,#REF!,2,0)-VLOOKUP($A122,$A$4:$BI$82,BB$3,0)","v":{"$error":"#REF!"}},{"$f":"VLOOKUP($A122,#REF!,2,0)-VLOOKUP($A122,$A$4:$BI$82,BC$3,0)","v":{"$error":"#REF!"}},{"$f":"VLOOKUP($A122,#REF!,2,0)-VLOOKUP($A122,$A$4:$BI$82,BD$3,0)","v":{"$error":"#REF!"}},{"$f":"VLOOKUP($A122,#REF!,2,0)-VLOOKUP($A122,$A$4:$BI$82,BE$3,0)","v":{"$error":"#REF!"}},{"$f":"VLOOKUP($A122,#REF!,2,0)-VLOOKUP($A122,$A$4:$BI$82,BF$3,0)","v":{"$error":"#REF!"}},{"$f":"VLOOKUP($A122,#REF!,2,0)-VLOOKUP($A122,$A$4:$BI$82,BG$3,0)","v":{"$error":"#REF!"}},{"$f":"VLOOKUP($A122,#REF!,2,0)-VLOOKUP($A122,$A$4:$BI$82,BH$3,0)","v":{"$error":"#REF!"}},{"$f":"VLOOKUP($A122,#REF!,2,0)-VLOOKUP($A122,$A$4:$BI$82,BI$3,0)","v":{"$error":"#REF!"}}]
["Paso Ancho Hydro Power Corporation",null,null,null,null,null,null,null,null,null,null,null,{"$f":"VLOOKUP($A123,#REF!,3,0)","v":{"$error":"#REF!"}},{"$f":"VLOOKUP($A123,#REF!,2,0)-VLOOKUP($A123,$A$4:$BI$82,N$3,0)","v":{"$error":"#REF!"}},{"$f":"VLOOKUP($A123,#REF!,2,0)-VLOOKUP($A123,$A$4:$BI$82,O$3,0)","v":{"$error":"#REF!"}},{"$f":"VLOOKUP($A123,#REF!,2,0)-VLOOKUP($A123,$A$4:$BI$82,P$3,0)","v":{"$error":"#REF!"}},{"$f":"VLOOKUP($A123,#REF!,2,0)-VLOOKUP($A123,$A$4:$BI$82,Q$3,0)","v":{"$error":"#REF!"}},{"$f":"VLOOKUP($A123,#REF!,2,0)-VLOOKUP($A123,$A$4:$BI$82,R$3,0)","v":{"$error":"#REF!"}},{"$f":"VLOOKUP($A123,#REF!,2,0)-VLOOKUP($A123,$A$4:$BI$82,S$3,0)","v":{"$error":"#REF!"}},{"$f":"VLOOKUP($A123,#REF!,2,0)-VLOOKUP($A123,$A$4:$BI$82,T$3,0)","v":{"$error":"#REF!"}},{"$f":"VLOOKUP($A123,#REF!,2,0)-VLOOKUP($A123,$A$4:$BI$82,U$3,0)","v":{"$error":"#REF!"}},{"$f":"VLOOKUP($A123,#REF!,2,0)-VLOOKUP($A123,$A$4:$BI$82,V$3,0)","v":{"$error":"#REF!"}},{"$f":"VLOOKUP($A123,#REF!,2,0)-VLOOKUP($A123,$A$4:$BI$82,W$3,0)","v":{"$error":"#REF!"}},{"$f":"VLOOKUP($A123,#REF!,2,0)-VLOOKUP($A123,$A$4:$BI$82,X$3,0)","v":{"$error":"#REF!"}},{"$f":"VLOOKUP($A123,#REF!,2,0)-VLOOKUP($A123,$A$4:$BI$82,Y$3,0)","v":{"$error":"#REF!"}},{"$f":"VLOOKUP($A123,#REF!,2,0)-VLOOKUP($A123,$A$4:$BI$82,Z$3,0)","v":{"$error":"#REF!"}},{"$f":"VLOOKUP($A123,#REF!,2,0)-VLOOKUP($A123,$A$4:$BI$82,AA$3,0)","v":{"$error":"#REF!"}},{"$f":"VLOOKUP($A123,#REF!,2,0)-VLOOKUP($A123,$A$4:$BI$82,AB$3,0)","v":{"$error":"#REF!"}},{"$f":"VLOOKUP($A123,#REF!,2,0)-VLOOKUP($A123,$A$4:$BI$82,AC$3,0)","v":{"$error":"#REF!"}},{"$f":"VLOOKUP($A123,#REF!,2,0)-VLOOKUP($A123,$A$4:$BI$82,AD$3,0)","v":{"$error":"#REF!"}},{"$f":"VLOOKUP($A123,#REF!,2,0)-VLOOKUP($A123,$A$4:$BI$82,AE$3,0)","v":{"$error":"#REF!"}},{"$f":"VLOOKUP($A123,#REF!,2,0)-VLOOKUP($A123,$A$4:$BI$82,AF$3,0)","v":{"$error":"#REF!"}},{"$f":"VLOOKUP($A123,#REF!,2,0)-VLOOKUP($A123,$A$4:$BI$82,AG$3,0)","v":{"$error":"#REF!"}},{"$f":"VLOOKUP($A123,#REF!,2,0)-VLOOKUP($A123,$A$4:$BI$82,AH$3,0)","v":{"$error":"#REF!"}},{"$f":"VLOOKUP($A123,#REF!,2,0)-VLOOKUP($A123,$A$4:$BI$82,AI$3,0)","v":{"$error":"#REF!"}},{"$f":"VLOOKUP($A123,#REF!,2,0)-VLOOKUP($A123,$A$4:$BI$82,AJ$3,0)","v":{"$error":"#REF!"}},{"$f":"VLOOKUP($A123,#REF!,2,0)-VLOOKUP($A123,$A$4:$BI$82,AK$3,0)","v":{"$error":"#REF!"}},{"$f":"VLOOKUP($A123,#REF!,2,0)-VLOOKUP($A123,$A$4:$BI$82,AL$3,0)","v":{"$error":"#REF!"}},{"$f":"VLOOKUP($A123,#REF!,2,0)-VLOOKUP($A123,$A$4:$BI$82,AM$3,0)","v":{"$error":"#REF!"}},{"$f":"VLOOKUP($A123,#REF!,2,0)-VLOOKUP($A123,$A$4:$BI$82,AN$3,0)","v":{"$error":"#REF!"}},{"$f":"VLOOKUP($A123,#REF!,2,0)-VLOOKUP($A123,$A$4:$BI$82,AO$3,0)","v":{"$error":"#REF!"}},{"$f":"VLOOKUP($A123,#REF!,2,0)-VLOOKUP($A123,$A$4:$BI$82,AP$3,0)","v":{"$error":"#REF!"}},{"$f":"VLOOKUP($A123,#REF!,2,0)-VLOOKUP($A123,$A$4:$BI$82,AQ$3,0)","v":{"$error":"#REF!"}},{"$f":"VLOOKUP($A123,#REF!,2,0)-VLOOKUP($A123,$A$4:$BI$82,AR$3,0)","v":{"$error":"#REF!"}},{"$f":"VLOOKUP($A123,#REF!,2,0)-VLOOKUP($A123,$A$4:$BI$82,AS$3,0)","v":{"$error":"#REF!"}},{"$f":"VLOOKUP($A123,#REF!,2,0)-VLOOKUP($A123,$A$4:$BI$82,AT$3,0)","v":{"$error":"#REF!"}},{"$f":"VLOOKUP($A123,#REF!,2,0)-VLOOKUP($A123,$A$4:$BI$82,AU$3,0)","v":{"$error":"#REF!"}},{"$f":"VLOOKUP($A123,#REF!,2,0)-VLOOKUP($A123,$A$4:$BI$82,AV$3,0)","v":{"$error":"#REF!"}},{"$f":"VLOOKUP($A123,#REF!,2,0)-VLOOKUP($A123,$A$4:$BI$82,AW$3,0)","v":{"$error":"#REF!"}},{"$f":"VLOOKUP($A123,#REF!,2,0)-VLOOKUP($A123,$A$4:$BI$82,AX$3,0)","v":{"$error":"#REF!"}},{"$f":"VLOOKUP($A123,#REF!,2,0)-VLOOKUP($A123,$A$4:$BI$82,AY$3,0)","v":{"$error":"#REF!"}},{"$f":"VLOOKUP($A123,#REF!,2,0)-VLOOKUP($A123,$A$4:$BI$82,AZ$3,0)","v":{"$error":"#REF!"}},{"$f":"VLOOKUP($A123,#REF!,2,0)-VLOOKUP($A123,$A$4:$BI$82,BA$3,0)","v":{"$error":"#REF!"}},{"$f":"VLOOKUP($A123,#REF!,2,0)-VLOOKUP($A123,$A$4:$BI$82,BB$3,0)","v":{"$error":"#REF!"}},{"$f":"VLOOKUP($A123,#REF!,2,0)-VLOOKUP($A123,$A$4:$BI$82,BC$3,0)","v":{"$error":"#REF!"}},{"$f":"VLOOKUP($A123,#REF!,2,0)-VLOOKUP($A123,$A$4:$BI$82,BD$3,0)","v":{"$error":"#REF!"}},{"$f":"VLOOKUP($A123,#REF!,2,0)-VLOOKUP($A123,$A$4:$BI$82,BE$3,0)","v":{"$error":"#REF!"}},{"$f":"VLOOKUP($A123,#REF!,2,0)-VLOOKUP($A123,$A$4:$BI$82,BF$3,0)","v":{"$error":"#REF!"}},{"$f":"VLOOKUP($A123,#REF!,2,0)-VLOOKUP($A123,$A$4:$BI$82,BG$3,0)","v":{"$error":"#REF!"}},{"$f":"VLOOKUP($A123,#REF!,2,0)-VLOOKUP($A123,$A$4:$BI$82,BH$3,0)","v":{"$error":"#REF!"}},{"$f":"VLOOKUP($A123,#REF!,2,0)-VLOOKUP($A123,$A$4:$BI$82,BI$3,0)","v":{"$error":"#REF!"}}]
["Pedregal Power Company, S. de R.L.",null,null,null,null,null,null,null,null,null,null,null,{"$f":"VLOOKUP($A124,#REF!,3,0)","v":{"$error":"#REF!"}},{"$f":"VLOOKUP($A124,#REF!,2,0)-VLOOKUP($A124,$A$4:$BI$82,N$3,0)","v":{"$error":"#REF!"}},{"$f":"VLOOKUP($A124,#REF!,2,0)-VLOOKUP($A124,$A$4:$BI$82,O$3,0)","v":{"$error":"#REF!"}},{"$f":"VLOOKUP($A124,#REF!,2,0)-VLOOKUP($A124,$A$4:$BI$82,P$3,0)","v":{"$error":"#REF!"}},{"$f":"VLOOKUP($A124,#REF!,2,0)-VLOOKUP($A124,$A$4:$BI$82,Q$3,0)","v":{"$error":"#REF!"}},{"$f":"VLOOKUP($A124,#REF!,2,0)-VLOOKUP($A124,$A$4:$BI$82,R$3,0)","v":{"$error":"#REF!"}},{"$f":"VLOOKUP($A124,#REF!,2,0)-VLOOKUP($A124,$A$4:$BI$82,S$3,0)","v":{"$error":"#REF!"}},{"$f":"VLOOKUP($A124,#REF!,2,0)-VLOOKUP($A124,$A$4:$BI$82,T$3,0)","v":{"$error":"#REF!"}},{"$f":"VLOOKUP($A124,#REF!,2,0)-VLOOKUP($A124,$A$4:$BI$82,U$3,0)","v":{"$error":"#REF!"}},{"$f":"VLOOKUP($A124,#REF!,2,0)-VLOOKUP($A124,$A$4:$BI$82,V$3,0)","v":{"$error":"#REF!"}},{"$f":"VLOOKUP($A124,#REF!,2,0)-VLOOKUP($A124,$A$4:$BI$82,W$3,0)","v":{"$error":"#REF!"}},{"$f":"VLOOKUP($A124,#REF!,2,0)-VLOOKUP($A124,$A$4:$BI$82,X$3,0)","v":{"$error":"#REF!"}},{"$f":"VLOOKUP($A124,#REF!,2,0)-VLOOKUP($A124,$A$4:$BI$82,Y$3,0)","v":{"$error":"#REF!"}},{"$f":"VLOOKUP($A124,#REF!,2,0)-VLOOKUP($A124,$A$4:$BI$82,Z$3,0)","v":{"$error":"#REF!"}},{"$f":"VLOOKUP($A124,#REF!,2,0)-VLOOKUP($A124,$A$4:$BI$82,AA$3,0)","v":{"$error":"#REF!"}},{"$f":"VLOOKUP($A124,#REF!,2,0)-VLOOKUP($A124,$A$4:$BI$82,AB$3,0)","v":{"$error":"#REF!"}},{"$f":"VLOOKUP($A124,#REF!,2,0)-VLOOKUP($A124,$A$4:$BI$82,AC$3,0)","v":{"$error":"#REF!"}},{"$f":"VLOOKUP($A124,#REF!,2,0)-VLOOKUP($A124,$A$4:$BI$82,AD$3,0)","v":{"$error":"#REF!"}},{"$f":"VLOOKUP($A124,#REF!,2,0)-VLOOKUP($A124,$A$4:$BI$82,AE$3,0)","v":{"$error":"#REF!"}},{"$f":"VLOOKUP($A124,#REF!,2,0)-VLOOKUP($A124,$A$4:$BI$82,AF$3,0)","v":{"$error":"#REF!"}},{"$f":"VLOOKUP($A124,#REF!,2,0)-VLOOKUP($A124,$A$4:$BI$82,AG$3,0)","v":{"$error":"#REF!"}},{"$f":"VLOOKUP($A124,#REF!,2,0)-VLOOKUP($A124,$A$4:$BI$82,AH$3,0)","v":{"$error":"#REF!"}},{"$f":"VLOOKUP($A124,#REF!,2,0)-VLOOKUP($A124,$A$4:$BI$82,AI$3,0)","v":{"$error":"#REF!"}},{"$f":"VLOOKUP($A124,#REF!,2,0)-VLOOKUP($A124,$A$4:$BI$82,AJ$3,0)","v":{"$error":"#REF!"}},{"$f":"VLOOKUP($A124,#REF!,2,0)-VLOOKUP($A124,$A$4:$BI$82,AK$3,0)","v":{"$error":"#REF!"}},{"$f":"VLOOKUP($A124,#REF!,2,0)-VLOOKUP($A124,$A$4:$BI$82,AL$3,0)","v":{"$error":"#REF!"}},{"$f":"VLOOKUP($A124,#REF!,2,0)-VLOOKUP($A124,$A$4:$BI$82,AM$3,0)","v":{"$error":"#REF!"}},{"$f":"VLOOKUP($A124,#REF!,2,0)-VLOOKUP($A124,$A$4:$BI$82,AN$3,0)","v":{"$error":"#REF!"}},{"$f":"VLOOKUP($A124,#REF!,2,0)-VLOOKUP($A124,$A$4:$BI$82,AO$3,0)","v":{"$error":"#REF!"}},{"$f":"VLOOKUP($A124,#REF!,2,0)-VLOOKUP($A124,$A$4:$BI$82,AP$3,0)","v":{"$error":"#REF!"}},{"$f":"VLOOKUP($A124,#REF!,2,0)-VLOOKUP($A124,$A$4:$BI$82,AQ$3,0)","v":{"$error":"#REF!"}},{"$f":"VLOOKUP($A124,#REF!,2,0)-VLOOKUP($A124,$A$4:$BI$82,AR$3,0)","v":{"$error":"#REF!"}},{"$f":"VLOOKUP($A124,#REF!,2,0)-VLOOKUP($A124,$A$4:$BI$82,AS$3,0)","v":{"$error":"#REF!"}},{"$f":"VLOOKUP($A124,#REF!,2,0)-VLOOKUP($A124,$A$4:$BI$82,AT$3,0)","v":{"$error":"#REF!"}},{"$f":"VLOOKUP($A124,#REF!,2,0)-VLOOKUP($A124,$A$4:$BI$82,AU$3,0)","v":{"$error":"#REF!"}},{"$f":"VLOOKUP($A124,#REF!,2,0)-VLOOKUP($A124,$A$4:$BI$82,AV$3,0)","v":{"$error":"#REF!"}},{"$f":"VLOOKUP($A124,#REF!,2,0)-VLOOKUP($A124,$A$4:$BI$82,AW$3,0)","v":{"$error":"#REF!"}},{"$f":"VLOOKUP($A124,#REF!,2,0)-VLOOKUP($A124,$A$4:$BI$82,AX$3,0)","v":{"$error":"#REF!"}},{"$f":"VLOOKUP($A124,#REF!,2,0)-VLOOKUP($A124,$A$4:$BI$82,AY$3,0)","v":{"$error":"#REF!"}},{"$f":"VLOOKUP($A124,#REF!,2,0)-VLOOKUP($A124,$A$4:$BI$82,AZ$3,0)","v":{"$error":"#REF!"}},{"$f":"VLOOKUP($A124,#REF!,2,0)-VLOOKUP($A124,$A$4:$BI$82,BA$3,0)","v":{"$error":"#REF!"}},{"$f":"VLOOKUP($A124,#REF!,2,0)-VLOOKUP($A124,$A$4:$BI$82,BB$3,0)","v":{"$error":"#REF!"}},{"$f":"VLOOKUP($A124,#REF!,2,0)-VLOOKUP($A124,$A$4:$BI$82,BC$3,0)","v":{"$error":"#REF!"}},{"$f":"VLOOKUP($A124,#REF!,2,0)-VLOOKUP($A124,$A$4:$BI$82,BD$3,0)","v":{"$error":"#REF!"}},{"$f":"VLOOKUP($A124,#REF!,2,0)-VLOOKUP($A124,$A$4:$BI$82,BE$3,0)","v":{"$error":"#REF!"}},{"$f":"VLOOKUP($A124,#REF!,2,0)-VLOOKUP($A124,$A$4:$BI$82,BF$3,0)","v":{"$error":"#REF!"}},{"$f":"VLOOKUP($A124,#REF!,2,0)-VLOOKUP($A124,$A$4:$BI$82,BG$3,0)","v":{"$error":"#REF!"}},{"$f":"VLOOKUP($A124,#REF!,2,0)-VLOOKUP($A124,$A$4:$BI$82,BH$3,0)","v":{"$error":"#REF!"}},{"$f":"VLOOKUP($A124,#REF!,2,0)-VLOOKUP($A124,$A$4:$BI$82,BI$3,0)","v":{"$error":"#REF!"}}]
["Saltos del Francolí, S.A.",null,null,null,null,null,null,null,null,null,null,null,{"$f":"VLOOKUP($A125,#REF!,3,0)","v":{"$error":"#REF!"}},{"$f":"VLOOKUP($A125,#REF!,2,0)-VLOOKUP($A125,$A$4:$BI$82,N$3,0)","v":{"$error":"#REF!"}},{"$f":"VLOOKUP($A125,#REF!,2,0)-VLOOKUP($A125,$A$4:$BI$82,O$3,0)","v":{"$error":"#REF!"}},{"$f":"VLOOKUP($A125,#REF!,2,0)-VLOOKUP($A125,$A$4:$BI$82,P$3,0)","v":{"$error":"#REF!"}},{"$f":"VLOOKUP($A125,#REF!,2,0)-VLOOKUP($A125,$A$4:$BI$82,Q$3,0)","v":{"$error":"#REF!"}},{"$f":"VLOOKUP($A125,#REF!,2,0)-VLOOKUP($A125,$A$4:$BI$82,R$3,0)","v":{"$error":"#REF!"}},{"$f":"VLOOKUP($A125,#REF!,2,0)-VLOOKUP($A125,$A$4:$BI$82,S$3,0)","v":{"$error":"#REF!"}},{"$f":"VLOOKUP($A125,#REF!,2,0)-VLOOKUP($A125,$A$4:$BI$82,T$3,0)","v":{"$error":"#REF!"}},{"$f":"VLOOKUP($A125,#REF!,2,0)-VLOOKUP($A125,$A$4:$BI$82,U$3,0)","v":{"$error":"#REF!"}},{"$f":"VLOOKUP($A125,#REF!,2,0)-VLOOKUP($A125,$A$4:$BI$82,V$3,0)","v":{"$error":"#REF!"}},{"$f":"VLOOKUP($A125,#REF!,2,0)-VLOOKUP($A125,$A$4:$BI$82,W$3,0)","v":{"$error":"#REF!"}},{"$f":"VLOOKUP($A125,#REF!,2,0)-VLOOKUP($A125,$A$4:$BI$82,X$3,0)","v":{"$error":"#REF!"}},{"$f":"VLOOKUP($A125,#REF!,2,0)-VLOOKUP($A125,$A$4:$BI$82,Y$3,0)","v":{"$error":"#REF!"}},{"$f":"VLOOKUP($A125,#REF!,2,0)-VLOOKUP($A125,$A$4:$BI$82,Z$3,0)","v":{"$error":"#REF!"}},{"$f":"VLOOKUP($A125,#REF!,2,0)-VLOOKUP($A125,$A$4:$BI$82,AA$3,0)","v":{"$error":"#REF!"}},{"$f":"VLOOKUP($A125,#REF!,2,0)-VLOOKUP($A125,$A$4:$BI$82,AB$3,0)","v":{"$error":"#REF!"}},{"$f":"VLOOKUP($A125,#REF!,2,0)-VLOOKUP($A125,$A$4:$BI$82,AC$3,0)","v":{"$error":"#REF!"}},{"$f":"VLOOKUP($A125,#REF!,2,0)-VLOOKUP($A125,$A$4:$BI$82,AD$3,0)","v":{"$error":"#REF!"}},{"$f":"VLOOKUP($A125,#REF!,2,0)-VLOOKUP($A125,$A$4:$BI$82,AE$3,0)","v":{"$error":"#REF!"}},{"$f":"VLOOKUP($A125,#REF!,2,0)-VLOOKUP($A125,$A$4:$BI$82,AF$3,0)","v":{"$error":"#REF!"}},{"$f":"VLOOKUP($A125,#REF!,2,0)-VLOOKUP($A125,$A$4:$BI$82,AG$3,0)","v":{"$error":"#REF!"}},{"$f":"VLOOKUP($A125,#REF!,2,0)-VLOOKUP($A125,$A$4:$BI$82,AH$3,0)","v":{"$error":"#REF!"}},{"$f":"VLOOKUP($A125,#REF!,2,0)-VLOOKUP($A125,$A$4:$BI$82,AI$3,0)","v":{"$error":"#REF!"}},{"$f":"VLOOKUP($A125,#REF!,2,0)-VLOOKUP($A125,$A$4:$BI$82,AJ$3,0)","v":{"$error":"#REF!"}},{"$f":"VLOOKUP($A125,#REF!,2,0)-VLOOKUP($A125,$A$4:$BI$82,AK$3,0)","v":{"$error":"#REF!"}},{"$f":"VLOOKUP($A125,#REF!,2,0)-VLOOKUP($A125,$A$4:$BI$82,AL$3,0)","v":{"$error":"#REF!"}},{"$f":"VLOOKUP($A125,#REF!,2,0)-VLOOKUP($A125,$A$4:$BI$82,AM$3,0)","v":{"$error":"#REF!"}},{"$f":"VLOOKUP($A125,#REF!,2,0)-VLOOKUP($A125,$A$4:$BI$82,AN$3,0)","v":{"$error":"#REF!"}},{"$f":"VLOOKUP($A125,#REF!,2,0)-VLOOKUP($A125,$A$4:$BI$82,AO$3,0)","v":{"$error":"#REF!"}},{"$f":"VLOOKUP($A125,#REF!,2,0)-VLOOKUP($A125,$A$4:$BI$82,AP$3,0)","v":{"$error":"#REF!"}},{"$f":"VLOOKUP($A125,#REF!,2,0)-VLOOKUP($A125,$A$4:$BI$82,AQ$3,0)","v":{"$error":"#REF!"}},{"$f":"VLOOKUP($A125,#REF!,2,0)-VLOOKUP($A125,$A$4:$BI$82,AR$3,0)","v":{"$error":"#REF!"}},{"$f":"VLOOKUP($A125,#REF!,2,0)-VLOOKUP($A125,$A$4:$BI$82,AS$3,0)","v":{"$error":"#REF!"}},{"$f":"VLOOKUP($A125,#REF!,2,0)-VLOOKUP($A125,$A$4:$BI$82,AT$3,0)","v":{"$error":"#REF!"}},{"$f":"VLOOKUP($A125,#REF!,2,0)-VLOOKUP($A125,$A$4:$BI$82,AU$3,0)","v":{"$error":"#REF!"}},{"$f":"VLOOKUP($A125,#REF!,2,0)-VLOOKUP($A125,$A$4:$BI$82,AV$3,0)","v":{"$error":"#REF!"}},{"$f":"VLOOKUP($A125,#REF!,2,0)-VLOOKUP($A125,$A$4:$BI$82,AW$3,0)","v":{"$error":"#REF!"}},{"$f":"VLOOKUP($A125,#REF!,2,0)-VLOOKUP($A125,$A$4:$BI$82,AX$3,0)","v":{"$error":"#REF!"}},{"$f":"VLOOKUP($A125,#REF!,2,0)-VLOOKUP($A125,$A$4:$BI$82,AY$3,0)","v":{"$error":"#REF!"}},{"$f":"VLOOKUP($A125,#REF!,2,0)-VLOOKUP($A125,$A$4:$BI$82,AZ$3,0)","v":{"$error":"#REF!"}},{"$f":"VLOOKUP($A125,#REF!,2,0)-VLOOKUP($A125,$A$4:$BI$82,BA$3,0)","v":{"$error":"#REF!"}},{"$f":"VLOOKUP($A125,#REF!,2,0)-VLOOKUP($A125,$A$4:$BI$82,BB$3,0)","v":{"$error":"#REF!"}},{"$f":"VLOOKUP($A125,#REF!,2,0)-VLOOKUP($A125,$A$4:$BI$82,BC$3,0)","v":{"$error":"#REF!"}},{"$f":"VLOOKUP($A125,#REF!,2,0)-VLOOKUP($A125,$A$4:$BI$82,BD$3,0)","v":{"$error":"#REF!"}},{"$f":"VLOOKUP($A125,#REF!,2,0)-VLOOKUP($A125,$A$4:$BI$82,BE$3,0)","v":{"$error":"#REF!"}},{"$f":"VLOOKUP($A125,#REF!,2,0)-VLOOKUP($A125,$A$4:$BI$82,BF$3,0)","v":{"$error":"#REF!"}},{"$f":"VLOOKUP($A125,#REF!,2,0)-VLOOKUP($A125,$A$4:$BI$82,BG$3,0)","v":{"$error":"#REF!"}},{"$f":"VLOOKUP($A125,#REF!,2,0)-VLOOKUP($A125,$A$4:$BI$82,BH$3,0)","v":{"$error":"#REF!"}},{"$f":"VLOOKUP($A125,#REF!,2,0)-VLOOKUP($A125,$A$4:$BI$82,BI$3,0)","v":{"$error":"#REF!"}}]
["Valley Rise Investment Corp.",null,null,null,null,null,null,null,null,null,null,null,{"$f":"VLOOKUP($A126,#REF!,3,0)","v":{"$error":"#REF!"}},{"$f":"VLOOKUP($A126,#REF!,2,0)-VLOOKUP($A126,$A$4:$BI$82,N$3,0)","v":{"$error":"#REF!"}},{"$f":"VLOOKUP($A126,#REF!,2,0)-VLOOKUP($A126,$A$4:$BI$82,O$3,0)","v":{"$error":"#REF!"}},{"$f":"VLOOKUP($A126,#REF!,2,0)-VLOOKUP($A126,$A$4:$BI$82,P$3,0)","v":{"$error":"#REF!"}},{"$f":"VLOOKUP($A126,#REF!,2,0)-VLOOKUP($A126,$A$4:$BI$82,Q$3,0)","v":{"$error":"#REF!"}},{"$f":"VLOOKUP($A126,#REF!,2,0)-VLOOKUP($A126,$A$4:$BI$82,R$3,0)","v":{"$error":"#REF!"}},{"$f":"VLOOKUP($A126,#REF!,2,0)-VLOOKUP($A126,$A$4:$BI$82,S$3,0)","v":{"$error":"#REF!"}},{"$f":"VLOOKUP($A126,#REF!,2,0)-VLOOKUP($A126,$A$4:$BI$82,T$3,0)","v":{"$error":"#REF!"}},{"$f":"VLOOKUP($A126,#REF!,2,0)-VLOOKUP($A126,$A$4:$BI$82,U$3,0)","v":{"$error":"#REF!"}},{"$f":"VLOOKUP($A126,#REF!,2,0)-VLOOKUP($A126,$A$4:$BI$82,V$3,0)","v":{"$error":"#REF!"}},{"$f":"VLOOKUP($A126,#REF!,2,0)-VLOOKUP($A126,$A$4:$BI$82,W$3,0)","v":{"$error":"#REF!"}},{"$f":"VLOOKUP($A126,#REF!,2,0)-VLOOKUP($A126,$A$4:$BI$82,X$3,0)","v":{"$error":"#REF!"}},{"$f":"VLOOKUP($A126,#REF!,2,0)-VLOOKUP($A126,$A$4:$BI$82,Y$3,0)","v":{"$error":"#REF!"}},{"$f":"VLOOKUP($A126,#REF!,2,0)-VLOOKUP($A126,$A$4:$BI$82,Z$3,0)","v":{"$error":"#REF!"}},{"$f":"VLOOKUP($A126,#REF!,2,0)-VLOOKUP($A126,$A$4:$BI$82,AA$3,0)","v":{"$error":"#REF!"}},{"$f":"VLOOKUP($A126,#REF!,2,0)-VLOOKUP($A126,$A$4:$BI$82,AB$3,0)","v":{"$error":"#REF!"}},{"$f":"VLOOKUP($A126,#REF!,2,0)-VLOOKUP($A126,$A$4:$BI$82,AC$3,0)","v":{"$error":"#REF!"}},{"$f":"VLOOKUP($A126,#REF!,2,0)-VLOOKUP($A126,$A$4:$BI$82,AD$3,0)","v":{"$error":"#REF!"}},{"$f":"VLOOKUP($A126,#REF!,2,0)-VLOOKUP($A126,$A$4:$BI$82,AE$3,0)","v":{"$error":"#REF!"}},{"$f":"VLOOKUP($A126,#REF!,2,0)-VLOOKUP($A126,$A$4:$BI$82,AF$3,0)","v":{"$error":"#REF!"}},{"$f":"VLOOKUP($A126,#REF!,2,0)-VLOOKUP($A126,$A$4:$BI$82,AG$3,0)","v":{"$error":"#REF!"}},{"$f":"VLOOKUP($A126,#REF!,2,0)-VLOOKUP($A126,$A$4:$BI$82,AH$3,0)","v":{"$error":"#REF!"}},{"$f":"VLOOKUP($A126,#REF!,2,0)-VLOOKUP($A126,$A$4:$BI$82,AI$3,0)","v":{"$error":"#REF!"}},{"$f":"VLOOKUP($A126,#REF!,2,0)-VLOOKUP($A126,$A$4:$BI$82,AJ$3,0)","v":{"$error":"#REF!"}},{"$f":"VLOOKUP($A126,#REF!,2,0)-VLOOKUP($A126,$A$4:$BI$82,AK$3,0)","v":{"$error":"#REF!"}},{"$f":"VLOOKUP($A126,#REF!,2,0)-VLOOKUP($A126,$A$4:$BI$82,AL$3,0)","v":{"$error":"#REF!"}},{"$f":"VLOOKUP($A126,#REF!,2,0)-VLOOKUP($A126,$A$4:$BI$82,AM$3,0)","v":{"$error":"#REF!"}},{"$f":"VLOOKUP($A126,#REF!,2,0)-VLOOKUP($A126,$A$4:$BI$82,AN$3,0)","v":{"$error":"#REF!"}},{"$f":"VLOOKUP($A126,#REF!,2,0)-VLOOKUP($A126,$A$4:$BI$82,AO$3,0)","v":{"$error":"#REF!"}},{"$f":"VLOOKUP($A126,#REF!,2,0)-VLOOKUP($A126,$A$4:$BI$82,AP$3,0)","v":{"$error":"#REF!"}},{"$f":"VLOOKUP($A126,#REF!,2,0)-VLOOKUP($A126,$A$4:$BI$82,AQ$3,0)","v":{"$error":"#REF!"}},{"$f":"VLOOKUP($A126,#REF!,2,0)-VLOOKUP($A126,$A$4:$BI$82,AR$3,0)","v":{"$error":"#REF!"}},{"$f":"VLOOKUP($A126,#REF!,2,0)-VLOOKUP($A126,$A$4:$BI$82,AS$3,0)","v":{"$error":"#REF!"}},{"$f":"VLOOKUP($A126,#REF!,2,0)-VLOOKUP($A126,$A$4:$BI$82,AT$3,0)","v":{"$error":"#REF!"}},{"$f":"VLOOKUP($A126,#REF!,2,0)-VLOOKUP($A126,$A$4:$BI$82,AU$3,0)","v":{"$error":"#REF!"}},{"$f":"VLOOKUP($A126,#REF!,2,0)-VLOOKUP($A126,$A$4:$BI$82,AV$3,0)","v":{"$error":"#REF!"}},{"$f":"VLOOKUP($A126,#REF!,2,0)-VLOOKUP($A126,$A$4:$BI$82,AW$3,0)","v":{"$error":"#REF!"}},{"$f":"VLOOKUP($A126,#REF!,2,0)-VLOOKUP($A126,$A$4:$BI$82,AX$3,0)","v":{"$error":"#REF!"}},{"$f":"VLOOKUP($A126,#REF!,2,0)-VLOOKUP($A126,$A$4:$BI$82,AY$3,0)","v":{"$error":"#REF!"}},{"$f":"VLOOKUP($A126,#REF!,2,0)-VLOOKUP($A126,$A$4:$BI$82,AZ$3,0)","v":{"$error":"#REF!"}},{"$f":"VLOOKUP($A126,#REF!,2,0)-VLOOKUP($A126,$A$4:$BI$82,BA$3,0)","v":{"$error":"#REF!"}},{"$f":"VLOOKUP($A126,#REF!,2,0)-VLOOKUP($A126,$A$4:$BI$82,BB$3,0)","v":{"$error":"#REF!"}},{"$f":"VLOOKUP($A126,#REF!,2,0)-VLOOKUP($A126,$A$4:$BI$82,BC$3,0)","v":{"$error":"#REF!"}},{"$f":"VLOOKUP($A126,#REF!,2,0)-VLOOKUP($A126,$A$4:$BI$82,BD$3,0)","v":{"$error":"#REF!"}},{"$f":"VLOOKUP($A126,#REF!,2,0)-VLOOKUP($A126,$A$4:$BI$82,BE$3,0)","v":{"$error":"#REF!"}},{"$f":"VLOOKUP($A126,#REF!,2,0)-VLOOKUP($A126,$A$4:$BI$82,BF$3,0)","v":{"$error":"#REF!"}},{"$f":"VLOOKUP($A126,#REF!,2,0)-VLOOKUP($A126,$A$4:$BI$82,BG$3,0)","v":{"$error":"#REF!"}},{"$f":"VLOOKUP($A126,#REF!,2,0)-VLOOKUP($A126,$A$4:$BI$82,BH$3,0)","v":{"$error":"#REF!"}},{"$f":"VLOOKUP($A126,#REF!,2,0)-VLOOKUP($A126,$A$4:$BI$82,BI$3,0)","v":{"$error":"#REF!"}}]
["Celsia Centroamérica, S.A.",null,null,null,null,null,null,null,null,null,null,null,{"$f":"VLOOKUP($A127,#REF!,3,0)","v":{"$error":"#REF!"}},{"$f":"VLOOKUP($A127,#REF!,2,0)-VLOOKUP($A127,$A$4:$BI$82,N$3,0)","v":{"$error":"#REF!"}},{"$f":"VLOOKUP($A127,#REF!,2,0)-VLOOKUP($A127,$A$4:$BI$82,O$3,0)","v":{"$error":"#REF!"}},{"$f":"VLOOKUP($A127,#REF!,2,0)-VLOOKUP($A127,$A$4:$BI$82,P$3,0)","v":{"$error":"#REF!"}},{"$f":"VLOOKUP($A127,#REF!,2,0)-VLOOKUP($A127,$A$4:$BI$82,Q$3,0)","v":{"$error":"#REF!"}},{"$f":"VLOOKUP($A127,#REF!,2,0)-VLOOKUP($A127,$A$4:$BI$82,R$3,0)","v":{"$error":"#REF!"}},{"$f":"VLOOKUP($A127,#REF!,2,0)-VLOOKUP($A127,$A$4:$BI$82,S$3,0)","v":{"$error":"#REF!"}},{"$f":"VLOOKUP($A127,#REF!,2,0)-VLOOKUP($A127,$A$4:$BI$82,T$3,0)","v":{"$error":"#REF!"}},{"$f":"VLOOKUP($A127,#REF!,2,0)-VLOOKUP($A127,$A$4:$BI$82,U$3,0)","v":{"$error":"#REF!"}},{"$f":"VLOOKUP($A127,#REF!,2,0)-VLOOKUP($A127,$A$4:$BI$82,V$3,0)","v":{"$error":"#REF!"}},{"$f":"VLOOKUP($A127,#REF!,2,0)-VLOOKUP($A127,$A$4:$BI$82,W$3,0)","v":{"$error":"#REF!"}},{"$f":"VLOOKUP($A127,#REF!,2,0)-VLOOKUP($A127,$A$4:$BI$82,X$3,0)","v":{"$error":"#REF!"}},{"$f":"VLOOKUP($A127,#REF!,2,0)-VLOOKUP($A127,$A$4:$BI$82,Y$3,0)","v":{"$error":"#REF!"}},{"$f":"VLOOKUP($A127,#REF!,2,0)-VLOOKUP($A127,$A$4:$BI$82,Z$3,0)","v":{"$error":"#REF!"}},{"$f":"VLOOKUP($A127,#REF!,2,0)-VLOOKUP($A127,$A$4:$BI$82,AA$3,0)","v":{"$error":"#REF!"}},{"$f":"VLOOKUP($A127,#REF!,2,0)-VLOOKUP($A127,$A$4:$BI$82,AB$3,0)","v":{"$error":"#REF!"}},{"$f":"VLOOKUP($A127,#REF!,2,0)-VLOOKUP($A127,$A$4:$BI$82,AC$3,0)","v":{"$error":"#REF!"}},{"$f":"VLOOKUP($A127,#REF!,2,0)-VLOOKUP($A127,$A$4:$BI$82,AD$3,0)","v":{"$error":"#REF!"}},{"$f":"VLOOKUP($A127,#REF!,2,0)-VLOOKUP($A127,$A$4:$BI$82,AE$3,0)","v":{"$error":"#REF!"}},{"$f":"VLOOKUP($A127,#REF!,2,0)-VLOOKUP($A127,$A$4:$BI$82,AF$3,0)","v":{"$error":"#REF!"}},{"$f":"VLOOKUP($A127,#REF!,2,0)-VLOOKUP($A127,$A$4:$BI$82,AG$3,0)","v":{"$error":"#REF!"}},{"$f":"VLOOKUP($A127,#REF!,2,0)-VLOOKUP($A127,$A$4:$BI$82,AH$3,0)","v":{"$error":"#REF!"}},{"$f":"VLOOKUP($A127,#REF!,2,0)-VLOOKUP($A127,$A$4:$BI$82,AI$3,0)","v":{"$error":"#REF!"}},{"$f":"VLOOKUP($A127,#REF!,2,0)-VLOOKUP($A127,$A$4:$BI$82,AJ$3,0)","v":{"$error":"#REF!"}},{"$f":"VLOOKUP($A127,#REF!,2,0)-VLOOKUP($A127,$A$4:$BI$82,AK$3,0)","v":{"$error":"#REF!"}},{"$f":"VLOOKUP($A127,#REF!,2,0)-VLOOKUP($A127,$A$4:$BI$82,AL$3,0)","v":{"$error":"#REF!"}},{"$f":"VLOOKUP($A127,#REF!,2,0)-VLOOKUP($A127,$A$4:$BI$82,AM$3,0)","v":{"$error":"#REF!"}},{"$f":"VLOOKUP($A127,#REF!,2,0)-VLOOKUP($A127,$A$4:$BI$82,AN$3,0)","v":{"$error":"#REF!"}},{"$f":"VLOOKUP($A127,#REF!,2,0)-VLOOKUP($A127,$A$4:$BI$82,AO$3,0)","v":{"$error":"#REF!"}},{"$f":"VLOOKUP($A127,#REF!,2,0)-VLOOKUP($A127,$A$4:$BI$82,AP$3,0)","v":{"$error":"#REF!"}},{"$f":"VLOOKUP($A127,#REF!,2,0)-VLOOKUP($A127,$A$4:$BI$82,AQ$3,0)","v":{"$error":"#REF!"}},{"$f":"VLOOKUP($A127,#REF!,2,0)-VLOOKUP($A127,$A$4:$BI$82,AR$3,0)","v":{"$error":"#REF!"}},{"$f":"VLOOKUP($A127,#REF!,2,0)-VLOOKUP($A127,$A$4:$BI$82,AS$3,0)","v":{"$error":"#REF!"}},{"$f":"VLOOKUP($A127,#REF!,2,0)-VLOOKUP($A127,$A$4:$BI$82,AT$3,0)","v":{"$error":"#REF!"}},{"$f":"VLOOKUP($A127,#REF!,2,0)-VLOOKUP($A127,$A$4:$BI$82,AU$3,0)","v":{"$error":"#REF!"}},{"$f":"VLOOKUP($A127,#REF!,2,0)-VLOOKUP($A127,$A$4:$BI$82,AV$3,0)","v":{"$error":"#REF!"}},{"$f":"VLOOKUP($A127,#REF!,2,0)-VLOOKUP($A127,$A$4:$BI$82,AW$3,0)","v":{"$error":"#REF!"}},{"$f":"VLOOKUP($A127,#REF!,2,0)-VLOOKUP($A127,$A$4:$BI$82,AX$3,0)","v":{"$error":"#REF!"}},{"$f":"VLOOKUP($A127,#REF!,2,0)-VLOOKUP($A127,$A$4:$BI$82,AY$3,0)","v":{"$error":"#REF!"}},{"$f":"VLOOKUP($A127,#REF!,2,0)-VLOOKUP($A127,$A$4:$BI$82,AZ$3,0)","v":{"$error":"#REF!"}},{"$f":"VLOOKUP($A127,#REF!,2,0)-VLOOKUP($A127,$A$4:$BI$82,BA$3,0)","v":{"$error":"#REF!"}},{"$f":"VLOOKUP($A127,#REF!,2,0)-VLOOKUP($A127,$A$4:$BI$82,BB$3,0)","v":{"$error":"#REF!"}},{"$f":"VLOOKUP($A127,#REF!,2,0)-VLOOKUP($A127,$A$4:$BI$82,BC$3,0)","v":{"$error":"#REF!"}},{"$f":"VLOOKUP($A127,#REF!,2,0)-VLOOKUP($A127,$A$4:$BI$82,BD$3,0)","v":{"$error":"#REF!"}},{"$f":"VLOOKUP($A127,#REF!,2,0)-VLOOKUP($A127,$A$4:$BI$82,BE$3,0)","v":{"$error":"#REF!"}},{"$f":"VLOOKUP($A127,#REF!,2,0)-VLOOKUP($A127,$A$4:$BI$82,BF$3,0)","v":{"$error":"#REF!"}},{"$f":"VLOOKUP($A127,#REF!,2,0)-VLOOKUP($A127,$A$4:$BI$82,BG$3,0)","v":{"$error":"#REF!"}},{"$f":"VLOOKUP($A127,#REF!,2,0)-VLOOKUP($A127,$A$4:$BI$82,BH$3,0)","v":{"$error":"#REF!"}},{"$f":"VLOOKUP($A127,#REF!,2,0)-VLOOKUP($A127,$A$4:$BI$82,BI$3,0)","v":{"$error":"#REF!"}}]
["Generadora Fotovoltaica Chiriquí, S.A.",null,null,null,null,null,null,null,null,null,null,null,{"$f":"VLOOKUP($A128,#REF!,3,0)","v":{"$error":"#REF!"}},{"$f":"VLOOKUP($A128,#REF!,2,0)-VLOOKUP($A128,$A$4:$BI$82,N$3,0)","v":{"$error":"#REF!"}},{"$f":"VLOOKUP($A128,#REF!,2,0)-VLOOKUP($A128,$A$4:$BI$82,O$3,0)","v":{"$error":"#REF!"}},{"$f":"VLOOKUP($A128,#REF!,2,0)-VLOOKUP($A128,$A$4:$BI$82,P$3,0)","v":{"$error":"#REF!"}},{"$f":"VLOOKUP($A128,#REF!,2,0)-VLOOKUP($A128,$A$4:$BI$82,Q$3,0)","v":{"$error":"#REF!"}},{"$f":"VLOOKUP($A128,#REF!,2,0)-VLOOKUP($A128,$A$4:$BI$82,R$3,0)","v":{"$error":"#REF!"}},{"$f":"VLOOKUP($A128,#REF!,2,0)-VLOOKUP($A128,$A$4:$BI$82,S$3,0)","v":{"$error":"#REF!"}},{"$f":"VLOOKUP($A128,#REF!,2,0)-VLOOKUP($A128,$A$4:$BI$82,T$3,0)","v":{"$error":"#REF!"}},{"$f":"VLOOKUP($A128,#REF!,2,0)-VLOOKUP($A128,$A$4:$BI$82,U$3,0)","v":{"$error":"#REF!"}},{"$f":"VLOOKUP($A128,#REF!,2,0)-VLOOKUP($A128,$A$4:$BI$82,V$3,0)","v":{"$error":"#REF!"}},{"$f":"VLOOKUP($A128,#REF!,2,0)-VLOOKUP($A128,$A$4:$BI$82,W$3,0)","v":{"$error":"#REF!"}},{"$f":"VLOOKUP($A128,#REF!,2,0)-VLOOKUP($A128,$A$4:$BI$82,X$3,0)","v":{"$error":"#REF!"}},{"$f":"VLOOKUP($A128,#REF!,2,0)-VLOOKUP($A128,$A$4:$BI$82,Y$3,0)","v":{"$error":"#REF!"}},{"$f":"VLOOKUP($A128,#REF!,2,0)-VLOOKUP($A128,$A$4:$BI$82,Z$3,0)","v":{"$error":"#REF!"}},{"$f":"VLOOKUP($A128,#REF!,2,0)-VLOOKUP($A128,$A$4:$BI$82,AA$3,0)","v":{"$error":"#REF!"}},{"$f":"VLOOKUP($A128,#REF!,2,0)-VLOOKUP($A128,$A$4:$BI$82,AB$3,0)","v":{"$error":"#REF!"}},{"$f":"VLOOKUP($A128,#REF!,2,0)-VLOOKUP($A128,$A$4:$BI$82,AC$3,0)","v":{"$error":"#REF!"}},{"$f":"VLOOKUP($A128,#REF!,2,0)-VLOOKUP($A128,$A$4:$BI$82,AD$3,0)","v":{"$error":"#REF!"}},{"$f":"VLOOKUP($A128,#REF!,2,0)-VLOOKUP($A128,$A$4:$BI$82,AE$3,0)","v":{"$error":"#REF!"}},{"$f":"VLOOKUP($A128,#REF!,2,0)-VLOOKUP($A128,$A$4:$BI$82,AF$3,0)","v":{"$error":"#REF!"}},{"$f":"VLOOKUP($A128,#REF!,2,0)-VLOOKUP($A128,$A$4:$BI$82,AG$3,0)","v":{"$error":"#REF!"}},{"$f":"VLOOKUP($A128,#REF!,2,0)-VLOOKUP($A128,$A$4:$BI$82,AH$3,0)","v":{"$error":"#REF!"}},{"$f":"VLOOKUP($A128,#REF!,2,0)-VLOOKUP($A128,$A$4:$BI$82,AI$3,0)","v":{"$error":"#REF!"}},{"$f":"VLOOKUP($A128,#REF!,2,0)-VLOOKUP($A128,$A$4:$BI$82,AJ$3,0)","v":{"$error":"#REF!"}},{"$f":"VLOOKUP($A128,#REF!,2,0)-VLOOKUP($A128,$A$4:$BI$82,AK$3,0)","v":{"$error":"#REF!"}},{"$f":"VLOOKUP($A128,#REF!,2,0)-VLOOKUP($A128,$A$4:$BI$82,AL$3,0)","v":{"$error":"#REF!"}},{"$f":"VLOOKUP($A128,#REF!,2,0)-VLOOKUP($A128,$A$4:$BI$82,AM$3,0)","v":{"$error":"#REF!"}},{"$f":"VLOOKUP($A128,#REF!,2,0)-VLOOKUP($A128,$A$4:$BI$82,AN$3,0)","v":{"$error":"#REF!"}},{"$f":"VLOOKUP($A128,#REF!,2,0)-VLOOKUP($A128,$A$4:$BI$82,AO$3,0)","v":{"$error":"#REF!"}},{"$f":"VLOOKUP($A128,#REF!,2,0)-VLOOKUP($A128,$A$4:$BI$82,AP$3,0)","v":{"$error":"#REF!"}},{"$f":"VLOOKUP($A128,#REF!,2,0)-VLOOKUP($A128,$A$4:$BI$82,AQ$3,0)","v":{"$error":"#REF!"}},{"$f":"VLOOKUP($A128,#REF!,2,0)-VLOOKUP($A128,$A$4:$BI$82,AR$3,0)","v":{"$error":"#REF!"}},{"$f":"VLOOKUP($A128,#REF!,2,0)-VLOOKUP($A128,$A$4:$BI$82,AS$3,0)","v":{"$error":"#REF!"}},{"$f":"VLOOKUP($A128,#REF!,2,0)-VLOOKUP($A128,$A$4:$BI$82,AT$3,0)","v":{"$error":"#REF!"}},{"$f":"VLOOKUP($A128,#REF!,2,0)-VLOOKUP($A128,$A$4:$BI$82,AU$3,0)","v":{"$error":"#REF!"}},{"$f":"VLOOKUP($A128,#REF!,2,0)-VLOOKUP($A128,$A$4:$BI$82,AV$3,0)","v":{"$error":"#REF!"}},{"$f":"VLOOKUP($A128,#REF!,2,0)-VLOOKUP($A128,$A$4:$BI$82,AW$3,0)","v":{"$error":"#REF!"}},{"$f":"VLOOKUP($A128,#REF!,2,0)-VLOOKUP($A128,$A$4:$BI$82,AX$3,0)","v":{"$error":"#REF!"}},{"$f":"VLOOKUP($A128,#REF!,2,0)-VLOOKUP($A128,$A$4:$BI$82,AY$3,0)","v":{"$error":"#REF!"}},{"$f":"VLOOKUP($A128,#REF!,2,0)-VLOOKUP($A128,$A$4:$BI$82,AZ$3,0)","v":{"$error":"#REF!"}},{"$f":"VLOOKUP($A128,#REF!,2,0)-VLOOKUP($A128,$A$4:$BI$82,BA$3,0)","v":{"$error":"#REF!"}},{"$f":"VLOOKUP($A128,#REF!,2,0)-VLOOKUP($A128,$A$4:$BI$82,BB$3,0)","v":{"$error":"#REF!"}},{"$f":"VLOOKUP($A128,#REF!,2,0)-VLOOKUP($A128,$A$4:$BI$82,BC$3,0)","v":{"$error":"#REF!"}},{"$f":"VLOOKUP($A128,#REF!,2,0)-VLOOKUP($A128,$A$4:$BI$82,BD$3,0)","v":{"$error":"#REF!"}},{"$f":"VLOOKUP($A128,#REF!,2,0)-VLOOKUP($A128,$A$4:$BI$82,BE$3,0)","v":{"$error":"#REF!"}},{"$f":"VLOOKUP($A128,#REF!,2,0)-VLOOKUP($A128,$A$4:$BI$82,BF$3,0)","v":{"$error":"#REF!"}},{"$f":"VLOOKUP($A128,#REF!,2,0)-VLOOKUP($A128,$A$4:$BI$82,BG$3,0)","v":{"$error":"#REF!"}},{"$f":"VLOOKUP($A128,#REF!,2,0)-VLOOKUP($A128,$A$4:$BI$82,BH$3,0)","v":{"$error":"#REF!"}},{"$f":"VLOOKUP($A128,#REF!,2,0)-VLOOKUP($A128,$A$4:$BI$82,BI$3,0)","v":{"$error":"#REF!"}}]
["Hidro Boquerón, S.A.",null,null,null,null,null,null,null,null,null,null,null,{"$f":"VLOOKUP($A129,#REF!,3,0)","v":{"$error":"#REF!"}},{"$f":"VLOOKUP($A129,#REF!,2,0)-VLOOKUP($A129,$A$4:$BI$82,N$3,0)","v":{"$error":"#REF!"}},{"$f":"VLOOKUP($A129,#REF!,2,0)-VLOOKUP($A129,$A$4:$BI$82,O$3,0)","v":{"$error":"#REF!"}},{"$f":"VLOOKUP($A129,#REF!,2,0)-VLOOKUP($A129,$A$4:$BI$82,P$3,0)","v":{"$error":"#REF!"}},{"$f":"VLOOKUP($A129,#REF!,2,0)-VLOOKUP($A129,$A$4:$BI$82,Q$3,0)","v":{"$error":"#REF!"}},{"$f":"VLOOKUP($A129,#REF!,2,0)-VLOOKUP($A129,$A$4:$BI$82,R$3,0)","v":{"$error":"#REF!"}},{"$f":"VLOOKUP($A129,#REF!,2,0)-VLOOKUP($A129,$A$4:$BI$82,S$3,0)","v":{"$error":"#REF!"}},{"$f":"VLOOKUP($A129,#REF!,2,0)-VLOOKUP($A129,$A$4:$BI$82,T$3,0)","v":{"$error":"#REF!"}},{"$f":"VLOOKUP($A129,#REF!,2,0)-VLOOKUP($A129,$A$4:$BI$82,U$3,0)","v":{"$error":"#REF!"}},{"$f":"VLOOKUP($A129,#REF!,2,0)-VLOOKUP($A129,$A$4:$BI$82,V$3,0)","v":{"$error":"#REF!"}},{"$f":"VLOOKUP($A129,#REF!,2,0)-VLOOKUP($A129,$A$4:$BI$82,W$3,0)","v":{"$error":"#REF!"}},{"$f":"VLOOKUP($A129,#REF!,2,0)-VLOOKUP($A129,$A$4:$BI$82,X$3,0)","v":{"$error":"#REF!"}},{"$f":"VLOOKUP($A129,#REF!,2,0)-VLOOKUP($A129,$A$4:$BI$82,Y$3,0)","v":{"$error":"#REF!"}},{"$f":"VLOOKUP($A129,#REF!,2,0)-VLOOKUP($A129,$A$4:$BI$82,Z$3,0)","v":{"$error":"#REF!"}},{"$f":"VLOOKUP($A129,#REF!,2,0)-VLOOKUP($A129,$A$4:$BI$82,AA$3,0)","v":{"$error":"#REF!"}},{"$f":"VLOOKUP($A129,#REF!,2,0)-VLOOKUP($A129,$A$4:$BI$82,AB$3,0)","v":{"$error":"#REF!"}},{"$f":"VLOOKUP($A129,#REF!,2,0)-VLOOKUP($A129,$A$4:$BI$82,AC$3,0)","v":{"$error":"#REF!"}},{"$f":"VLOOKUP($A129,#REF!,2,0)-VLOOKUP($A129,$A$4:$BI$82,AD$3,0)","v":{"$error":"#REF!"}},{"$f":"VLOOKUP($A129,#REF!,2,0)-VLOOKUP($A129,$A$4:$BI$82,AE$3,0)","v":{"$error":"#REF!"}},{"$f":"VLOOKUP($A129,#REF!,2,0)-VLOOKUP($A129,$A$4:$BI$82,AF$3,0)","v":{"$error":"#REF!"}},{"$f":"VLOOKUP($A129,#REF!,2,0)-VLOOKUP($A129,$A$4:$BI$82,AG$3,0)","v":{"$error":"#REF!"}},{"$f":"VLOOKUP($A129,#REF!,2,0)-VLOOKUP($A129,$A$4:$BI$82,AH$3,0)","v":{"$error":"#REF!"}},{"$f":"VLOOKUP($A129,#REF!,2,0)-VLOOKUP($A129,$A$4:$BI$82,AI$3,0)","v":{"$error":"#REF!"}},{"$f":"VLOOKUP($A129,#REF!,2,0)-VLOOKUP($A129,$A$4:$BI$82,AJ$3,0)","v":{"$error":"#REF!"}},{"$f":"VLOOKUP($A129,#REF!,2,0)-VLOOKUP($A129,$A$4:$BI$82,AK$3,0)","v":{"$error":"#REF!"}},{"$f":"VLOOKUP($A129,#REF!,2,0)-VLOOKUP($A129,$A$4:$BI$82,AL$3,0)","v":{"$error":"#REF!"}},{"$f":"VLOOKUP($A129,#REF!,2,0)-VLOOKUP($A129,$A$4:$BI$82,AM$3,0)","v":{"$error":"#REF!"}},{"$f":"VLOOKUP($A129,#REF!,2,0)-VLOOKUP($A129,$A$4:$BI$82,AN$3,0)","v":{"$error":"#REF!"}},{"$f":"VLOOKUP($A129,#REF!,2,0)-VLOOKUP($A129,$A$4:$BI$82,AO$3,0)","v":{"$error":"#REF!"}},{"$f":"VLOOKUP($A129,#REF!,2,0)-VLOOKUP($A129,$A$4:$BI$82,AP$3,0)","v":{"$error":"#REF!"}},{"$f":"VLOOKUP($A129,#REF!,2,0)-VLOOKUP($A129,$A$4:$BI$82,AQ$3,0)","v":{"$error":"#REF!"}},{"$f":"VLOOKUP($A129,#REF!,2,0)-VLOOKUP($A129,$A$4:$BI$82,AR$3,0)","v":{"$error":"#REF!"}},{"$f":"VLOOKUP($A129,#REF!,2,0)-VLOOKUP($A129,$A$4:$BI$82,AS$3,0)","v":{"$error":"#REF!"}},{"$f":"VLOOKUP($A129,#REF!,2,0)-VLOOKUP($A129,$A$4:$BI$82,AT$3,0)","v":{"$error":"#REF!"}},{"$f":"VLOOKUP($A129,#REF!,2,0)-VLOOKUP($A129,$A$4:$BI$82,AU$3,0)","v":{"$error":"#REF!"}},{"$f":"VLOOKUP($A129,#REF!,2,0)-VLOOKUP($A129,$A$4:$BI$82,AV$3,0)","v":{"$error":"#REF!"}},{"$f":"VLOOKUP($A129,#REF!,2,0)-VLOOKUP($A129,$A$4:$BI$82,AW$3,0)","v":{"$error":"#REF!"}},{"$f":"VLOOKUP($A129,#REF!,2,0)-VLOOKUP($A129,$A$4:$BI$82,AX$3,0)","v":{"$error":"#REF!"}},{"$f":"VLOOKUP($A129,#REF!,2,0)-VLOOKUP($A129,$A$4:$BI$82,AY$3,0)","v":{"$error":"#REF!"}},{"$f":"VLOOKUP($A129,#REF!,2,0)-VLOOKUP($A129,$A$4:$BI$82,AZ$3,0)","v":{"$error":"#REF!"}},{"$f":"VLOOKUP($A129,#REF!,2,0)-VLOOKUP($A129,$A$4:$BI$82,BA$3,0)","v":{"$error":"#REF!"}},{"$f":"VLOOKUP($A129,#REF!,2,0)-VLOOKUP($A129,$A$4:$BI$82,BB$3,0)","v":{"$error":"#REF!"}},{"$f":"VLOOKUP($A129,#REF!,2,0)-VLOOKUP($A129,$A$4:$BI$82,BC$3,0)","v":{"$error":"#REF!"}},{"$f":"VLOOKUP($A129,#REF!,2,0)-VLOOKUP($A129,$A$4:$BI$82,BD$3,0)","v":{"$error":"#REF!"}},{"$f":"VLOOKUP($A129,#REF!,2,0)-VLOOKUP($A129,$A$4:$BI$82,BE$3,0)","v":{"$error":"#REF!"}},{"$f":"VLOOKUP($A129,#REF!,2,0)-VLOOKUP($A129,$A$4:$BI$82,BF$3,0)","v":{"$error":"#REF!"}},{"$f":"VLOOKUP($A129,#REF!,2,0)-VLOOKUP($A129,$A$4:$BI$82,BG$3,0)","v":{"$error":"#REF!"}},{"$f":"VLOOKUP($A129,#REF!,2,0)-VLOOKUP($A129,$A$4:$BI$82,BH$3,0)","v":{"$error":"#REF!"}},{"$f":"VLOOKUP($A129,#REF!,2,0)-VLOOKUP($A129,$A$4:$BI$82,BI$3,0)","v":{"$error":"#REF!"}}]
["Generadora del Istmo S.A.,",null,null,null,null,null,null,null,null,null,null,null,{"$f":"VLOOKUP($A130,#REF!,3,0)","v":{"$error":"#REF!"}},{"$f":"VLOOKUP($A130,#REF!,2,0)-VLOOKUP($A130,$A$4:$BI$82,N$3,0)","v":{"$error":"#REF!"}},{"$f":"VLOOKUP($A130,#REF!,2,0)-VLOOKUP($A130,$A$4:$BI$82,O$3,0)","v":{"$error":"#REF!"}},{"$f":"VLOOKUP($A130,#REF!,2,0)-VLOOKUP($A130,$A$4:$BI$82,P$3,0)","v":{"$error":"#REF!"}},{"$f":"VLOOKUP($A130,#REF!,2,0)-VLOOKUP($A130,$A$4:$BI$82,Q$3,0)","v":{"$error":"#REF!"}},{"$f":"VLOOKUP($A130,#REF!,2,0)-VLOOKUP($A130,$A$4:$BI$82,R$3,0)","v":{"$error":"#REF!"}},{"$f":"VLOOKUP($A130,#REF!,2,0)-VLOOKUP($A130,$A$4:$BI$82,S$3,0)","v":{"$error":"#REF!"}},{"$f":"VLOOKUP($A130,#REF!,2,0)-VLOOKUP($A130,$A$4:$BI$82,T$3,0)","v":{"$error":"#REF!"}},{"$f":"VLOOKUP($A130,#REF!,2,0)-VLOOKUP($A130,$A$4:$BI$82,U$3,0)","v":{"$error":"#REF!"}},{"$f":"VLOOKUP($A130,#REF!,2,0)-VLOOKUP($A130,$A$4:$BI$82,V$3,0)","v":{"$error":"#REF!"}},{"$f":"VLOOKUP($A130,#REF!,2,0)-VLOOKUP($A130,$A$4:$BI$82,W$3,0)","v":{"$error":"#REF!"}},{"$f":"VLOOKUP($A130,#REF!,2,0)-VLOOKUP($A130,$A$4:$BI$82,X$3,0)","v":{"$error":"#REF!"}},{"$f":"VLOOKUP($A130,#REF!,2,0)-VLOOKUP($A130,$A$4:$BI$82,Y$3,0)","v":{"$error":"#REF!"}},{"$f":"VLOOKUP($A130,#REF!,2,0)-VLOOKUP($A130,$A$4:$BI$82,Z$3,0)","v":{"$error":"#REF!"}},{"$f":"VLOOKUP($A130,#REF!,2,0)-VLOOKUP($A130,$A$4:$BI$82,AA$3,0)","v":{"$error":"#REF!"}},{"$f":"VLOOKUP($A130,#REF!,2,0)-VLOOKUP($A130,$A$4:$BI$82,AB$3,0)","v":{"$error":"#REF!"}},{"$f":"VLOOKUP($A130,#REF!,2,0)-VLOOKUP($A130,$A$4:$BI$82,AC$3,0)","v":{"$error":"#REF!"}},{"$f":"VLOOKUP($A130,#REF!,2,0)-VLOOKUP($A130,$A$4:$BI$82,AD$3,0)","v":{"$error":"#REF!"}},{"$f":"VLOOKUP($A130,#REF!,2,0)-VLOOKUP($A130,$A$4:$BI$82,AE$3,0)","v":{"$error":"#REF!"}},{"$f":"VLOOKUP($A130,#REF!,2,0)-VLOOKUP($A130,$A$4:$BI$82,AF$3,0)","v":{"$error":"#REF!"}},{"$f":"VLOOKUP($A130,#REF!,2,0)-VLOOKUP($A130,$A$4:$BI$82,AG$3,0)","v":{"$error":"#REF!"}},{"$f":"VLOOKUP($A130,#REF!,2,0)-VLOOKUP($A130,$A$4:$BI$82,AH$3,0)","v":{"$error":"#REF!"}},{"$f":"VLOOKUP($A130,#REF!,2,0)-VLOOKUP($A130,$A$4:$BI$82,AI$3,0)","v":{"$error":"#REF!"}},{"$f":"VLOOKUP($A130,#REF!,2,0)-VLOOKUP($A130,$A$4:$BI$82,AJ$3,0)","v":{"$error":"#REF!"}},{"$f":"VLOOKUP($A130,#REF!,2,0)-VLOOKUP($A130,$A$4:$BI$82,AK$3,0)","v":{"$error":"#REF!"}},{"$f":"VLOOKUP($A130,#REF!,2,0)-VLOOKUP($A130,$A$4:$BI$82,AL$3,0)","v":{"$error":"#REF!"}},{"$f":"VLOOKUP($A130,#REF!,2,0)-VLOOKUP($A130,$A$4:$BI$82,AM$3,0)","v":{"$error":"#REF!"}},{"$f":"VLOOKUP($A130,#REF!,2,0)-VLOOKUP($A130,$A$4:$BI$82,AN$3,0)","v":{"$error":"#REF!"}},{"$f":"VLOOKUP($A130,#REF!,2,0)-VLOOKUP($A130,$A$4:$BI$82,AO$3,0)","v":{"$error":"#REF!"}},{"$f":"VLOOKUP($A130,#REF!,2,0)-VLOOKUP($A130,$A$4:$BI$82,AP$3,0)","v":{"$error":"#REF!"}},{"$f":"VLOOKUP($A130,#REF!,2,0)-VLOOKUP($A130,$A$4:$BI$82,AQ$3,0)","v":{"$error":"#REF!"}},{"$f":"VLOOKUP($A130,#REF!,2,0)-VLOOKUP($A130,$A$4:$BI$82,AR$3,0)","v":{"$error":"#REF!"}},{"$f":"VLOOKUP($A130,#REF!,2,0)-VLOOKUP($A130,$A$4:$BI$82,AS$3,0)","v":{"$error":"#REF!"}},{"$f":"VLOOKUP($A130,#REF!,2,0)-VLOOKUP($A130,$A$4:$BI$82,AT$3,0)","v":{"$error":"#REF!"}},{"$f":"VLOOKUP($A130,#REF!,2,0)-VLOOKUP($A130,$A$4:$BI$82,AU$3,0)","v":{"$error":"#REF!"}},{"$f":"VLOOKUP($A130,#REF!,2,0)-VLOOKUP($A130,$A$4:$BI$82,AV$3,0)","v":{"$error":"#REF!"}},{"$f":"VLOOKUP($A130,#REF!,2,0)-VLOOKUP($A130,$A$4:$BI$82,AW$3,0)","v":{"$error":"#REF!"}},{"$f":"VLOOKUP($A130,#REF!,2,0)-VLOOKUP($A130,$A$4:$BI$82,AX$3,0)","v":{"$error":"#REF!"}},{"$f":"VLOOKUP($A130,#REF!,2,0)-VLOOKUP($A130,$A$4:$BI$82,AY$3,0)","v":{"$error":"#REF!"}},{"$f":"VLOOKUP($A130,#REF!,2,0)-VLOOKUP($A130,$A$4:$BI$82,AZ$3,0)","v":{"$error":"#REF!"}},{"$f":"VLOOKUP($A130,#REF!,2,0)-VLOOKUP($A130,$A$4:$BI$82,BA$3,0)","v":{"$error":"#REF!"}},{"$f":"VLOOKUP($A130,#REF!,2,0)-VLOOKUP($A130,$A$4:$BI$82,BB$3,0)","v":{"$error":"#REF!"}},{"$f":"VLOOKUP($A130,#REF!,2,0)-VLOOKUP($A130,$A$4:$BI$82,BC$3,0)","v":{"$error":"#REF!"}},{"$f":"VLOOKUP($A130,#REF!,2,0)-VLOOKUP($A130,$A$4:$BI$82,BD$3,0)","v":{"$error":"#REF!"}},{"$f":"VLOOKUP($A130,#REF!,2,0)-VLOOKUP($A130,$A$4:$BI$82,BE$3,0)","v":{"$error":"#REF!"}},{"$f":"VLOOKUP($A130,#REF!,2,0)-VLOOKUP($A130,$A$4:$BI$82,BF$3,0)","v":{"$error":"#REF!"}},{"$f":"VLOOKUP($A130,#REF!,2,0)-VLOOKUP($A130,$A$4:$BI$82,BG$3,0)","v":{"$error":"#REF!"}},{"$f":"VLOOKUP($A130,#REF!,2,0)-VLOOKUP($A130,$A$4:$BI$82,BH$3,0)","v":{"$error":"#REF!"}},{"$f":"VLOOKUP($A130,#REF!,2,0)-VLOOKUP($A130,$A$4:$BI$82,BI$3,0)","v":{"$error":"#REF!"}}]
["HIDRO CANDELA",null,null,null,null,null,null,null,null,null,null,null,{"$f":"VLOOKUP($A131,#REF!,3,0)","v":{"$error":"#REF!"}},{"$f":"VLOOKUP($A131,#REF!,2,0)-VLOOKUP($A131,$A$4:$BI$82,N$3,0)","v":{"$error":"#REF!"}},{"$f":"VLOOKUP($A131,#REF!,2,0)-VLOOKUP($A131,$A$4:$BI$82,O$3,0)","v":{"$error":"#REF!"}},{"$f":"VLOOKUP($A131,#REF!,2,0)-VLOOKUP($A131,$A$4:$BI$82,P$3,0)","v":{"$error":"#REF!"}},{"$f":"VLOOKUP($A131,#REF!,2,0)-VLOOKUP($A131,$A$4:$BI$82,Q$3,0)","v":{"$error":"#REF!"}},{"$f":"VLOOKUP($A131,#REF!,2,0)-VLOOKUP($A131,$A$4:$BI$82,R$3,0)","v":{"$error":"#REF!"}},{"$f":"VLOOKUP($A131,#REF!,2,0)-VLOOKUP($A131,$A$4:$BI$82,S$3,0)","v":{"$error":"#REF!"}},{"$f":"VLOOKUP($A131,#REF!,2,0)-VLOOKUP($A131,$A$4:$BI$82,T$3,0)","v":{"$error":"#REF!"}},{"$f":"VLOOKUP($A131,#REF!,2,0)-VLOOKUP($A131,$A$4:$BI$82,U$3,0)","v":{"$error":"#REF!"}},{"$f":"VLOOKUP($A131,#REF!,2,0)-VLOOKUP($A131,$A$4:$BI$82,V$3,0)","v":{"$error":"#REF!"}},{"$f":"VLOOKUP($A131,#REF!,2,0)-VLOOKUP($A131,$A$4:$BI$82,W$3,0)","v":{"$error":"#REF!"}},{"$f":"VLOOKUP($A131,#REF!,2,0)-VLOOKUP($A131,$A$4:$BI$82,X$3,0)","v":{"$error":"#REF!"}},{"$f":"VLOOKUP($A131,#REF!,2,0)-VLOOKUP($A131,$A$4:$BI$82,Y$3,0)","v":{"$error":"#REF!"}},{"$f":"VLOOKUP($A131,#REF!,2,0)-VLOOKUP($A131,$A$4:$BI$82,Z$3,0)","v":{"$error":"#REF!"}},{"$f":"VLOOKUP($A131,#REF!,2,0)-VLOOKUP($A131,$A$4:$BI$82,AA$3,0)","v":{"$error":"#REF!"}},{"$f":"VLOOKUP($A131,#REF!,2,0)-VLOOKUP($A131,$A$4:$BI$82,AB$3,0)","v":{"$error":"#REF!"}},{"$f":"VLOOKUP($A131,#REF!,2,0)-VLOOKUP($A131,$A$4:$BI$82,AC$3,0)","v":{"$error":"#REF!"}},{"$f":"VLOOKUP($A131,#REF!,2,0)-VLOOKUP($A131,$A$4:$BI$82,AD$3,0)","v":{"$error":"#REF!"}},{"$f":"VLOOKUP($A131,#REF!,2,0)-VLOOKUP($A131,$A$4:$BI$82,AE$3,0)","v":{"$error":"#REF!"}},{"$f":"VLOOKUP($A131,#REF!,2,0)-VLOOKUP($A131,$A$4:$BI$82,AF$3,0)","v":{"$error":"#REF!"}},{"$f":"VLOOKUP($A131,#REF!,2,0)-VLOOKUP($A131,$A$4:$BI$82,AG$3,0)","v":{"$error":"#REF!"}},{"$f":"VLOOKUP($A131,#REF!,2,0)-VLOOKUP($A131,$A$4:$BI$82,AH$3,0)","v":{"$error":"#REF!"}},{"$f":"VLOOKUP($A131,#REF!,2,0)-VLOOKUP($A131,$A$4:$BI$82,AI$3,0)","v":{"$error":"#REF!"}},{"$f":"VLOOKUP($A131,#REF!,2,0)-VLOOKUP($A131,$A$4:$BI$82,AJ$3,0)","v":{"$error":"#REF!"}},{"$f":"VLOOKUP($A131,#REF!,2,0)-VLOOKUP($A131,$A$4:$BI$82,AK$3,0)","v":{"$error":"#REF!"}},{"$f":"VLOOKUP($A131,#REF!,2,0)-VLOOKUP($A131,$A$4:$BI$82,AL$3,0)","v":{"$error":"#REF!"}},{"$f":"VLOOKUP($A131,#REF!,2,0)-VLOOKUP($A131,$A$4:$BI$82,AM$3,0)","v":{"$error":"#REF!"}},{"$f":"VLOOKUP($A131,#REF!,2,0)-VLOOKUP($A131,$A$4:$BI$82,AN$3,0)","v":{"$error":"#REF!"}},{"$f":"VLOOKUP($A131,#REF!,2,0)-VLOOKUP($A131,$A$4:$BI$82,AO$3,0)","v":{"$error":"#REF!"}},{"$f":"VLOOKUP($A131,#REF!,2,0)-VLOOKUP($A131,$A$4:$BI$82,AP$3,0)","v":{"$error":"#REF!"}},{"$f":"VLOOKUP($A131,#REF!,2,0)-VLOOKUP($A131,$A$4:$BI$82,AQ$3,0)","v":{"$error":"#REF!"}},{"$f":"VLOOKUP($A131,#REF!,2,0)-VLOOKUP($A131,$A$4:$BI$82,AR$3,0)","v":{"$error":"#REF!"}},{"$f":"VLOOKUP($A131,#REF!,2,0)-VLOOKUP($A131,$A$4:$BI$82,AS$3,0)","v":{"$error":"#REF!"}},{"$f":"VLOOKUP($A131,#REF!,2,0)-VLOOKUP($A131,$A$4:$BI$82,AT$3,0)","v":{"$error":"#REF!"}},{"$f":"VLOOKUP($A131,#REF!,2,0)-VLOOKUP($A131,$A$4:$BI$82,AU$3,0)","v":{"$error":"#REF!"}},{"$f":"VLOOKUP($A131,#REF!,2,0)-VLOOKUP($A131,$A$4:$BI$82,AV$3,0)","v":{"$error":"#REF!"}},{"$f":"VLOOKUP($A131,#REF!,2,0)-VLOOKUP($A131,$A$4:$BI$82,AW$3,0)","v":{"$error":"#REF!"}},{"$f":"VLOOKUP($A131,#REF!,2,0)-VLOOKUP($A131,$A$4:$BI$82,AX$3,0)","v":{"$error":"#REF!"}},{"$f":"VLOOKUP($A131,#REF!,2,0)-VLOOKUP($A131,$A$4:$BI$82,AY$3,0)","v":{"$error":"#REF!"}},{"$f":"VLOOKUP($A131,#REF!,2,0)-VLOOKUP($A131,$A$4:$BI$82,AZ$3,0)","v":{"$error":"#REF!"}},{"$f":"VLOOKUP($A131,#REF!,2,0)-VLOOKUP($A131,$A$4:$BI$82,BA$3,0)","v":{"$error":"#REF!"}},{"$f":"VLOOKUP($A131,#REF!,2,0)-VLOOKUP($A131,$A$4:$BI$82,BB$3,0)","v":{"$error":"#REF!"}},{"$f":"VLOOKUP($A131,#REF!,2,0)-VLOOKUP($A131,$A$4:$BI$82,BC$3,0)","v":{"$error":"#REF!"}},{"$f":"VLOOKUP($A131,#REF!,2,0)-VLOOKUP($A131,$A$4:$BI$82,BD$3,0)","v":{"$error":"#REF!"}},{"$f":"VLOOKUP($A131,#REF!,2,0)-VLOOKUP($A131,$A$4:$BI$82,BE$3,0)","v":{"$error":"#REF!"}},{"$f":"VLOOKUP($A131,#REF!,2,0)-VLOOKUP($A131,$A$4:$BI$82,BF$3,0)","v":{"$error":"#REF!"}},{"$f":"VLOOKUP($A131,#REF!,2,0)-VLOOKUP($A131,$A$4:$BI$82,BG$3,0)","v":{"$error":"#REF!"}},{"$f":"VLOOKUP($A131,#REF!,2,0)-VLOOKUP($A131,$A$4:$BI$82,BH$3,0)","v":{"$error":"#REF!"}},{"$f":"VLOOKUP($A131,#REF!,2,0)-VLOOKUP($A131,$A$4:$BI$82,BI$3,0)","v":{"$error":"#REF!"}}]
["Celsia Centroamérica, S.A.",null,null,null,null,null,null,null,null,null,null,null,{"$f":"VLOOKUP($A132,#REF!,3,0)","v":{"$error":"#REF!"}},{"$f":"VLOOKUP($A132,#REF!,2,0)-VLOOKUP($A132,$A$4:$BI$82,N$3,0)","v":{"$error":"#REF!"}},{"$f":"VLOOKUP($A132,#REF!,2,0)-VLOOKUP($A132,$A$4:$BI$82,O$3,0)","v":{"$error":"#REF!"}},{"$f":"VLOOKUP($A132,#REF!,2,0)-VLOOKUP($A132,$A$4:$BI$82,P$3,0)","v":{"$error":"#REF!"}},{"$f":"VLOOKUP($A132,#REF!,2,0)-VLOOKUP($A132,$A$4:$BI$82,Q$3,0)","v":{"$error":"#REF!"}},{"$f":"VLOOKUP($A132,#REF!,2,0)-VLOOKUP($A132,$A$4:$BI$82,R$3,0)","v":{"$error":"#REF!"}},{"$f":"VLOOKUP($A132,#REF!,2,0)-VLOOKUP($A132,$A$4:$BI$82,S$3,0)","v":{"$error":"#REF!"}},{"$f":"VLOOKUP($A132,#REF!,2,0)-VLOOKUP($A132,$A$4:$BI$82,T$3,0)","v":{"$error":"#REF!"}},{"$f":"VLOOKUP($A132,#REF!,2,0)-VLOOKUP($A132,$A$4:$BI$82,U$3,0)","v":{"$error":"#REF!"}},{"$f":"VLOOKUP($A132,#REF!,2,0)-VLOOKUP($A132,$A$4:$BI$82,V$3,0)","v":{"$error":"#REF!"}},{"$f":"VLOOKUP($A132,#REF!,2,0)-VLOOKUP($A132,$A$4:$BI$82,W$3,0)","v":{"$error":"#REF!"}},{"$f":"VLOOKUP($A132,#REF!,2,0)-VLOOKUP($A132,$A$4:$BI$82,X$3,0)","v":{"$error":"#REF!"}},{"$f":"VLOOKUP($A132,#REF!,2,0)-VLOOKUP($A132,$A$4:$BI$82,Y$3,0)","v":{"$error":"#REF!"}},{"$f":"VLOOKUP($A132,#REF!,2,0)-VLOOKUP($A132,$A$4:$BI$82,Z$3,0)","v":{"$error":"#REF!"}},{"$f":"VLOOKUP($A132,#REF!,2,0)-VLOOKUP($A132,$A$4:$BI$82,AA$3,0)","v":{"$error":"#REF!"}},{"$f":"VLOOKUP($A132,#REF!,2,0)-VLOOKUP($A132,$A$4:$BI$82,AB$3,0)","v":{"$error":"#REF!"}},{"$f":"VLOOKUP($A132,#REF!,2,0)-VLOOKUP($A132,$A$4:$BI$82,AC$3,0)","v":{"$error":"#REF!"}},{"$f":"VLOOKUP($A132,#REF!,2,0)-VLOOKUP($A132,$A$4:$BI$82,AD$3,0)","v":{"$error":"#REF!"}},{"$f":"VLOOKUP($A132,#REF!,2,0)-VLOOKUP($A132,$A$4:$BI$82,AE$3,0)","v":{"$error":"#REF!"}},{"$f":"VLOOKUP($A132,#REF!,2,0)-VLOOKUP($A132,$A$4:$BI$82,AF$3,0)","v":{"$error":"#REF!"}},{"$f":"VLOOKUP($A132,#REF!,2,0)-VLOOKUP($A132,$A$4:$BI$82,AG$3,0)","v":{"$error":"#REF!"}},{"$f":"VLOOKUP($A132,#REF!,2,0)-VLOOKUP($A132,$A$4:$BI$82,AH$3,0)","v":{"$error":"#REF!"}},{"$f":"VLOOKUP($A132,#REF!,2,0)-VLOOKUP($A132,$A$4:$BI$82,AI$3,0)","v":{"$error":"#REF!"}},{"$f":"VLOOKUP($A132,#REF!,2,0)-VLOOKUP($A132,$A$4:$BI$82,AJ$3,0)","v":{"$error":"#REF!"}},{"$f":"VLOOKUP($A132,#REF!,2,0)-VLOOKUP($A132,$A$4:$BI$82,AK$3,0)","v":{"$error":"#REF!"}},{"$f":"VLOOKUP($A132,#REF!,2,0)-VLOOKUP($A132,$A$4:$BI$82,AL$3,0)","v":{"$error":"#REF!"}},{"$f":"VLOOKUP($A132,#REF!,2,0)-VLOOKUP($A132,$A$4:$BI$82,AM$3,0)","v":{"$error":"#REF!"}},{"$f":"VLOOKUP($A132,#REF!,2,0)-VLOOKUP($A132,$A$4:$BI$82,AN$3,0)","v":{"$error":"#REF!"}},{"$f":"VLOOKUP($A132,#REF!,2,0)-VLOOKUP($A132,$A$4:$BI$82,AO$3,0)","v":{"$error":"#REF!"}},{"$f":"VLOOKUP($A132,#REF!,2,0)-VLOOKUP($A132,$A$4:$BI$82,AP$3,0)","v":{"$error":"#REF!"}},{"$f":"VLOOKUP($A132,#REF!,2,0)-VLOOKUP($A132,$A$4:$BI$82,AQ$3,0)","v":{"$error":"#REF!"}},{"$f":"VLOOKUP($A132,#REF!,2,0)-VLOOKUP($A132,$A$4:$BI$82,AR$3,0)","v":{"$error":"#REF!"}},{"$f":"VLOOKUP($A132,#REF!,2,0)-VLOOKUP($A132,$A$4:$BI$82,AS$3,0)","v":{"$error":"#REF!"}},{"$f":"VLOOKUP($A132,#REF!,2,0)-VLOOKUP($A132,$A$4:$BI$82,AT$3,0)","v":{"$error":"#REF!"}},{"$f":"VLOOKUP($A132,#REF!,2,0)-VLOOKUP($A132,$A$4:$BI$82,AU$3,0)","v":{"$error":"#REF!"}},{"$f":"VLOOKUP($A132,#REF!,2,0)-VLOOKUP($A132,$A$4:$BI$82,AV$3,0)","v":{"$error":"#REF!"}},{"$f":"VLOOKUP($A132,#REF!,2,0)-VLOOKUP($A132,$A$4:$BI$82,AW$3,0)","v":{"$error":"#REF!"}},{"$f":"VLOOKUP($A132,#REF!,2,0)-VLOOKUP($A132,$A$4:$BI$82,AX$3,0)","v":{"$error":"#REF!"}},{"$f":"VLOOKUP($A132,#REF!,2,0)-VLOOKUP($A132,$A$4:$BI$82,AY$3,0)","v":{"$error":"#REF!"}},{"$f":"VLOOKUP($A132,#REF!,2,0)-VLOOKUP($A132,$A$4:$BI$82,AZ$3,0)","v":{"$error":"#REF!"}},{"$f":"VLOOKUP($A132,#REF!,2,0)-VLOOKUP($A132,$A$4:$BI$82,BA$3,0)","v":{"$error":"#REF!"}},{"$f":"VLOOKUP($A132,#REF!,2,0)-VLOOKUP($A132,$A$4:$BI$82,BB$3,0)","v":{"$error":"#REF!"}},{"$f":"VLOOKUP($A132,#REF!,2,0)-VLOOKUP($A132,$A$4:$BI$82,BC$3,0)","v":{"$error":"#REF!"}},{"$f":"VLOOKUP($A132,#REF!,2,0)-VLOOKUP($A132,$A$4:$BI$82,BD$3,0)","v":{"$error":"#REF!"}},{"$f":"VLOOKUP($A132,#REF!,2,0)-VLOOKUP($A132,$A$4:$BI$82,BE$3,0)","v":{"$error":"#REF!"}},{"$f":"VLOOKUP($A132,#REF!,2,0)-VLOOKUP($A132,$A$4:$BI$82,BF$3,0)","v":{"$error":"#REF!"}},{"$f":"VLOOKUP($A132,#REF!,2,0)-VLOOKUP($A132,$A$4:$BI$82,BG$3,0)","v":{"$error":"#REF!"}},{"$f":"VLOOKUP($A132,#REF!,2,0)-VLOOKUP($A132,$A$4:$BI$82,BH$3,0)","v":{"$error":"#REF!"}},{"$f":"VLOOKUP($A132,#REF!,2,0)-VLOOKUP($A132,$A$4:$BI$82,BI$3,0)","v":{"$error":"#REF!"}}]
["TROPITERMICA",null,null,null,null,null,null,null,null,null,null,null,{"$f":"VLOOKUP($A133,#REF!,3,0)","v":{"$error":"#REF!"}},{"$f":"VLOOKUP($A133,#REF!,2,0)-VLOOKUP($A133,$A$4:$BI$82,N$3,0)","v":{"$error":"#REF!"}},{"$f":"VLOOKUP($A133,#REF!,2,0)-VLOOKUP($A133,$A$4:$BI$82,O$3,0)","v":{"$error":"#REF!"}},{"$f":"VLOOKUP($A133,#REF!,2,0)-VLOOKUP($A133,$A$4:$BI$82,P$3,0)","v":{"$error":"#REF!"}},{"$f":"VLOOKUP($A133,#REF!,2,0)-VLOOKUP($A133,$A$4:$BI$82,Q$3,0)","v":{"$error":"#REF!"}},{"$f":"VLOOKUP($A133,#REF!,2,0)-VLOOKUP($A133,$A$4:$BI$82,R$3,0)","v":{"$error":"#REF!"}},{"$f":"VLOOKUP($A133,#REF!,2,0)-VLOOKUP($A133,$A$4:$BI$82,S$3,0)","v":{"$error":"#REF!"}},{"$f":"VLOOKUP($A133,#REF!,2,0)-VLOOKUP($A133,$A$4:$BI$82,T$3,0)","v":{"$error":"#REF!"}},{"$f":"VLOOKUP($A133,#REF!,2,0)-VLOOKUP($A133,$A$4:$BI$82,U$3,0)","v":{"$error":"#REF!"}},{"$f":"VLOOKUP($A133,#REF!,2,0)-VLOOKUP($A133,$A$4:$BI$82,V$3,0)","v":{"$error":"#REF!"}},{"$f":"VLOOKUP($A133,#REF!,2,0)-VLOOKUP($A133,$A$4:$BI$82,W$3,0)","v":{"$error":"#REF!"}},{"$f":"VLOOKUP($A133,#REF!,2,0)-VLOOKUP($A133,$A$4:$BI$82,X$3,0)","v":{"$error":"#REF!"}},{"$f":"VLOOKUP($A133,#REF!,2,0)-VLOOKUP($A133,$A$4:$BI$82,Y$3,0)","v":{"$error":"#REF!"}},{"$f":"VLOOKUP($A133,#REF!,2,0)-VLOOKUP($A133,$A$4:$BI$82,Z$3,0)","v":{"$error":"#REF!"}},{"$f":"VLOOKUP($A133,#REF!,2,0)-VLOOKUP($A133,$A$4:$BI$82,AA$3,0)","v":{"$error":"#REF!"}},{"$f":"VLOOKUP($A133,#REF!,2,0)-VLOOKUP($A133,$A$4:$BI$82,AB$3,0)","v":{"$error":"#REF!"}},{"$f":"VLOOKUP($A133,#REF!,2,0)-VLOOKUP($A133,$A$4:$BI$82,AC$3,0)","v":{"$error":"#REF!"}},{"$f":"VLOOKUP($A133,#REF!,2,0)-VLOOKUP($A133,$A$4:$BI$82,AD$3,0)","v":{"$error":"#REF!"}},{"$f":"VLOOKUP($A133,#REF!,2,0)-VLOOKUP($A133,$A$4:$BI$82,AE$3,0)","v":{"$error":"#REF!"}},{"$f":"VLOOKUP($A133,#REF!,2,0)-VLOOKUP($A133,$A$4:$BI$82,AF$3,0)","v":{"$error":"#REF!"}},{"$f":"VLOOKUP($A133,#REF!,2,0)-VLOOKUP($A133,$A$4:$BI$82,AG$3,0)","v":{"$error":"#REF!"}},{"$f":"VLOOKUP($A133,#REF!,2,0)-VLOOKUP($A133,$A$4:$BI$82,AH$3,0)","v":{"$error":"#REF!"}},{"$f":"VLOOKUP($A133,#REF!,2,0)-VLOOKUP($A133,$A$4:$BI$82,AI$3,0)","v":{"$error":"#REF!"}},{"$f":"VLOOKUP($A133,#REF!,2,0)-VLOOKUP($A133,$A$4:$BI$82,AJ$3,0)","v":{"$error":"#REF!"}},{"$f":"VLOOKUP($A133,#REF!,2,0)-VLOOKUP($A133,$A$4:$BI$82,AK$3,0)","v":{"$error":"#REF!"}},{"$f":"VLOOKUP($A133,#REF!,2,0)-VLOOKUP($A133,$A$4:$BI$82,AL$3,0)","v":{"$error":"#REF!"}},{"$f":"VLOOKUP($A133,#REF!,2,0)-VLOOKUP($A133,$A$4:$BI$82,AM$3,0)","v":{"$error":"#REF!"}},{"$f":"VLOOKUP($A133,#REF!,2,0)-VLOOKUP($A133,$A$4:$BI$82,AN$3,0)","v":{"$error":"#REF!"}},{"$f":"VLOOKUP($A133,#REF!,2,0)-VLOOKUP($A133,$A$4:$BI$82,AO$3,0)","v":{"$error":"#REF!"}},{"$f":"VLOOKUP($A133,#REF!,2,0)-VLOOKUP($A133,$A$4:$BI$82,AP$3,0)","v":{"$error":"#REF!"}},{"$f":"VLOOKUP($A133,#REF!,2,0)-VLOOKUP($A133,$A$4:$BI$82,AQ$3,0)","v":{"$error":"#REF!"}},{"$f":"VLOOKUP($A133,#REF!,2,0)-VLOOKUP($A133,$A$4:$BI$82,AR$3,0)","v":{"$error":"#REF!"}},{"$f":"VLOOKUP($A133,#REF!,2,0)-VLOOKUP($A133,$A$4:$BI$82,AS$3,0)","v":{"$error":"#REF!"}},{"$f":"VLOOKUP($A133,#REF!,2,0)-VLOOKUP($A133,$A$4:$BI$82,AT$3,0)","v":{"$error":"#REF!"}},{"$f":"VLOOKUP($A133,#REF!,2,0)-VLOOKUP($A133,$A$4:$BI$82,AU$3,0)","v":{"$error":"#REF!"}},{"$f":"VLOOKUP($A133,#REF!,2,0)-VLOOKUP($A133,$A$4:$BI$82,AV$3,0)","v":{"$error":"#REF!"}},{"$f":"VLOOKUP($A133,#REF!,2,0)-VLOOKUP($A133,$A$4:$BI$82,AW$3,0)","v":{"$error":"#REF!"}},{"$f":"VLOOKUP($A133,#REF!,2,0)-VLOOKUP($A133,$A$4:$BI$82,AX$3,0)","v":{"$error":"#REF!"}},{"$f":"VLOOKUP($A133,#REF!,2,0)-VLOOKUP($A133,$A$4:$BI$82,AY$3,0)","v":{"$error":"#REF!"}},{"$f":"VLOOKUP($A133,#REF!,2,0)-VLOOKUP($A133,$A$4:$BI$82,AZ$3,0)","v":{"$error":"#REF!"}},{"$f":"VLOOKUP($A133,#REF!,2,0)-VLOOKUP($A133,$A$4:$BI$82,BA$3,0)","v":{"$error":"#REF!"}},{"$f":"VLOOKUP($A133,#REF!,2,0)-VLOOKUP($A133,$A$4:$BI$82,BB$3,0)","v":{"$error":"#REF!"}},{"$f":"VLOOKUP($A133,#REF!,2,0)-VLOOKUP($A133,$A$4:$BI$82,BC$3,0)","v":{"$error":"#REF!"}},{"$f":"VLOOKUP($A133,#REF!,2,0)-VLOOKUP($A133,$A$4:$BI$82,BD$3,0)","v":{"$error":"#REF!"}},{"$f":"VLOOKUP($A133,#REF!,2,0)-VLOOKUP($A133,$A$4:$BI$82,BE$3,0)","v":{"$error":"#REF!"}},{"$f":"VLOOKUP($A133,#REF!,2,0)-VLOOKUP($A133,$A$4:$BI$82,BF$3,0)","v":{"$error":"#REF!"}},{"$f":"VLOOKUP($A133,#REF!,2,0)-VLOOKUP($A133,$A$4:$BI$82,BG$3,0)","v":{"$error":"#REF!"}},{"$f":"VLOOKUP($A133,#REF!,2,0)-VLOOKUP($A133,$A$4:$BI$82,BH$3,0)","v":{"$error":"#REF!"}},{"$f":"VLOOKUP($A133,#REF!,2,0)-VLOOKUP($A133,$A$4:$BI$82,BI$3,0)","v":{"$error":"#REF!"}}]
[]
["Total Oferta Disponible",null,null,null,null,null,null,null,null,null,null,null,null,{"$f":"+SUMIF(N86:N133,\">0\",N86:N133)","v":0},0,0,0,0,0,0,0,0,0,0,0,0,0,0,0,0,0,0,0,0,0,0,0,0,0,0,0,0,0,0,0,0,0,0,0,0,0,0,0,0,0,0,0,0,0,0,0]
["Total Oferta Disponible * 75%",null,null,null,null,null,null,null,null,null,null,null,null,{"$f":"N135*0.75","v":0},{"$f":"O135*0.75","v":0},0,0,0,0,0,0,0,0,0,0,0,0,0,0,0,0,0,0,0,0,0,0,0,0,0,0,0,0,0,0,0,0,0,0,0,0,0,0,0,0,0,0,0,0,0,0]
["Compran o comprarían en contratos de reserva- Martano y NGP",null,null,null,null,null,null,null,null,null,null,null,null,{"$f":"+SUMIF(N86:N133,\"<0\",N86:N133)-N120-N122","v":{"$error":"#REF!"}},{"$error":"#REF!"},{"$error":"#REF!"},{"$error":"#REF!"},{"$error":"#REF!"},{"$error":"#REF!"},{"$error":"#REF!"},{"$error":"#REF!"},{"$error":"#REF!"},{"$error":"#REF!"},{"$error":"#REF!"},{"$error":"#REF!"},{"$error":"#REF!"},{"$error":"#REF!"},{"$error":"#REF!"},{"$error":"#REF!"},{"$error":"#REF!"},{"$error":"#REF!"},{"$error":"#REF!"},{"$error":"#REF!"},{"$error":"#REF!"},{"$error":"#REF!"},{"$error":"#REF!"},{"$error":"#REF!"},{"$error":"#REF!"},{"$error":"#REF!"},{"$error":"#REF!"},{"$error":"#REF!"},{"$error":"#REF!"},{"$error":"#REF!"},{"$error":"#REF!"},{"$error":"#REF!"},{"$error":"#REF!"},{"$error":"#REF!"},{"$error":"#REF!"},{"$error":"#REF!"},{"$error":"#REF!"},{"$error":"#REF!"},{"$error":"#REF!"},{"$error":"#REF!"},{"$error":"#REF!"},{"$error":"#REF!"},{"$error":"#REF!"},{"$error":"#REF!"},{"$error":"#REF!"},{"$error":"#REF!"},{"$error":"#REF!"},{"$error":"#REF!"}]
["Compran o Comprarían en contratos de rserva + PNGP y MARTANO",null,null,null,null,null,null,null,null,null,null,null,null,{"$f":"+SUMIF(N86:N133,\"<0\",N86:N133)","v":0},0,0,0,0,0,0,0,0,0,0,0,0,0,0,0,0,0,0,0,0,0,0,0,0,0,0,0,0,0,0,0,0,0,0,0,0,0,0,0,0,0,0,0,0,0,0,0]
[]
["Oferta Disponible* 75%  - Contratos de Reserva  (Sinolam y PNGP respaldado con sus unidades)",null,null,null,null,null,null,null,null,null,null,null,null,{"$f":"N136+N137","v":{"$error":"#REF!"}},{"$f":"O136+O137","v":{"$error":"#REF!"}},{"$error":"#REF!"},{"$error":"#REF!"},{"$error":"#REF!"},{"$error":"#REF!"},{"$error":"#REF!"},{"$error":"#REF!"},{"$error":"#REF!"},{"$f":"W136+W137","v":{"$error":"#REF!"}},{"$error":"#REF!"},{"$error":"#REF!"},{"$error":"#REF!"},{"$error":"#REF!"},{"$error":"#REF!"},{"$error":"#REF!"},{"$error":"#REF!"},{"$error":"#REF!"},{"$error":"#REF!"},{"$error":"#REF!"},{"$error":"#REF!"},{"$error":"#REF!"},{"$error":"#REF!"},{"$error":"#REF!"},{"$error":"#REF!"},{"$error":"#REF!"},{"$error":"#REF!"},{"$error":"#REF!"},{"$error":"#REF!"},{"$error":"#REF!"},{"$error":"#REF!"},{"$error":"#REF!"},{"$error":"#REF!"},{"$error":"#REF!"},{"$error":"#REF!"},{"$error":"#REF!"},{"$error":"#REF!"},{"$error":"#REF!"},{"$error":"#REF!"},{"$error":"#REF!"},{"$error":"#REF!"},{"$error":"#REF!"},{"$error":"#REF!"},{"$error":"#REF!"},{"$error":"#REF!"},{"$error":"#REF!"},{"$error":"#REF!"},{"$error":"#REF!"}]
["Oferta Disponible *75% - Contratos de Reserva (Sinolam y PNGP cedido)",null,null,null,null,null,null,null,null,null,null,null,null,{"$f":"N136+N138","v":0},{"$f":"O136+O138","v":0},0,0,0,0,0,0,0,0,0,0,0,0,0,0,0,0,0,0,0,0,0,0,0,0,0,0,0,0,0,0,0,0,0,0,0,0,0,0,0,0,0,0,0,0,0,0]
[]
[]
[null,null,null,null,null,null,null,null,null,null,null,null,null,"2020-01-01","2020-02-01","2020-03-01","2020-04-01","2020-05-01","2020-06-01","2020-07-01","2020-08-01","2020-09-01","2020-10-01","2020-11-01","2020-12-01","2021-01-01","2021-02-01","2021-03-01","2021-04-01","2021-05-01","2021-06-01","2021-07-01","2021-08-01","2021-09-01","2021-10-01","2021-11-01","2021-12-01","2022-01-01","2022-02-01","2022-03-01","2022-04-01","2022-05-01","2022-06-01","2022-07-01","2022-08-01","2022-09-01","2022-10-01","2022-11-01","2022-12-01","2023-01-01","2023-02-01","2023-03-01","2023-04-01","2023-05-01","2023-06-01","2023-07-01","2023-08-01","2023-09-01","2023-10-01","2023-11-01","2023-12-01"]
["Oferta Hidro",null,null,null,null,null,null,null,null,null,null,null,null,{"$f":"+SUMIFS(N86:N133,$M$86:$M$133,\"H\",N86:N133,\">=0\")*0.75","v":0},{"$f":"+SUMIFS(O86:O133,$M$86:$M$133,\"H\",O86:O133,\">=0\")*0.75","v":0},0,0,0,0,0,0,0,0,0,0,0,0,0,0,0,0,0,0,0,0,0,0,0,0,0,0,0,0,0,0,0,0,0,0,0,0,0,0,0,0,0,0,0,0,0,0]
["Oferta Térmica",null,null,null,null,null,null,null,null,null,null,null,null,{"$f":"+SUMIFS(N86:N133,$M$86:$M$133,\"T\",N86:N133,\">=0\")*0.75","v":0},{"$f":"+SUMIFS(O86:O133,$M$86:$M$133,\"T\",O86:O133,\">=0\")*0.75","v":0},0,0,0,0,0,0,0,0,0,0,0,0,0,0,0,0,0,0,0,0,0,0,0,0,0,0,0,0,0,0,0,0,0,0,0,0,0,0,0,0,0,0,0,0,0,0]
["Total Oferta (MW)",null,null,null,null,null,null,null,null,null,null,null,null,{"$f":"N145+N146","v":0},{"$f":"O145+O146","v":0},0,0,0,0,0,0,0,0,0,0,0,0,0,0,0,0,0,0,0,0,0,0,0,0,0,0,0,0,0,0,0,0,0,0,0,0,0,0,0,0,0,0,0,0,0,0]
["Requerimiento (MW)",null,null,null,null,null,null,null,null,null,null,null,null,null,null,null,298.29621230928478,271.11120047147813,294.94860403937264,343.84831823769059,388.48567637718099,400.58011213556301,431.58377776036474,381.31687857808595,320.89998939502141,371.60884352096355,403.44125988675563,491.37736540035263,527.08295193128515,497.82812223155321,638.03313087337096,576.09037114722128,625.78747215005956,612.67763482646205,612.93768909604296,558.38334026666564,600.70748443282741,251.66480426904369,262.72384537912694,280.02734880667799,308.65686564618431,283.3170509867125,399.50846774077928,346.73805849222299,388.03264028331574,376.55503387622605,378.2481663359232,332.18806496510604,369.59641838427217]
["Relación Oferta Requerimiento",null,null,null,null,null,null,null,null,null,null,null,null,null,null,null,{"$f":"Q147/Q148","v":0},0,0,0,0,0,0,0,0,0,0,0,0,0,0,0,0,0,0,0,0,0,0,0,0,0,0,0,0,0,0,0,0]
[null,null,null,null,null,null,null,null,null,null,null,null,null,null,null,null,null,null,null,null,null,null,null,null,null,null,null,null,null,null,null,null,null,null,null,null,null,null,null,null,null,null,null,null,null,null,null,null,{"$f":"+MIN(Q149:AW149)","v":0}]
[]
[]
[]
[]
[]
["Oferta Disponible "]
["AES Panamá, S.R.L.",null,null,null,null,null,null,null,null,null,null,null,null,{"$f":"N86*0.75/N$136","v":{"$error":"#REF!"}},{"$f":"O86*0.75/O$136","v":{"$error":"#REF!"}},{"$error":"#REF!"},{"$error":"#REF!"},{"$error":"#REF!"},{"$error":"#REF!"},{"$error":"#REF!"},{"$error":"#REF!"},{"$error":"#REF!"},{"$error":"#REF!"},{"$error":"#REF!"},{"$error":"#REF!"},{"$error":"#REF!"},{"$error":"#REF!"},{"$error":"#REF!"},{"$error":"#REF!"},{"$error":"#REF!"},{"$error":"#REF!"},{"$error":"#REF!"},{"$error":"#REF!"},{"$error":"#REF!"},{"$error":"#REF!"},{"$error":"#REF!"},{"$error":"#REF!"},{"$error":"#REF!"},{"$error":"#REF!"},{"$error":"#REF!"},{"$error":"#REF!"},{"$error":"#REF!"},{"$error":"#REF!"},{"$error":"#REF!"},{"$error":"#REF!"},{"$error":"#REF!"},{"$error":"#REF!"},{"$error":"#REF!"},{"$error":"#REF!"},{"$error":"#REF!"},{"$error":"#REF!"},{"$error":"#REF!"},{"$error":"#REF!"},{"$error":"#REF!"},{"$error":"#REF!"},{"$error":"#REF!"},{"$error":"#REF!"},{"$error":"#REF!"},{"$error":"#REF!"},{"$error":"#REF!"},{"$error":"#REF!"}]
["Alternegy, S.A.",null,null,null,null,null,null,null,null,null,null,null,null,{"$error":"#REF!"},{"$f":"O87*0.75/O$136","v":{"$error":"#REF!"}},{"$error":"#REF!"},{"$error":"#REF!"},{"$error":"#REF!"},{"$error":"#REF!"},{"$error":"#REF!"},{"$error":"#REF!"},{"$error":"#REF!"},{"$error":"#REF!"},{"$error":"#REF!"},{"$error":"#REF!"},{"$error":"#REF!"},{"$error":"#REF!"},{"$error":"#REF!"},{"$error":"#REF!"},{"$error":"#REF!"},{"$error":"#REF!"},{"$error":"#REF!"},{"$error":"#REF!"},{"$error":"#REF!"},{"$error":"#REF!"},{"$error":"#REF!"},{"$error":"#REF!"},{"$error":"#REF!"},{"$error":"#REF!"},{"$error":"#REF!"},{"$error":"#REF!"},{"$error":"#REF!"},{"$error":"#REF!"},{"$error":"#REF!"},{"$error":"#REF!"},{"$error":"#REF!"},{"$error":"#REF!"},{"$error":"#REF!"},{"$error":"#REF!"},{"$error":"#REF!"},{"$error":"#REF!"},{"$error":"#REF!"},{"$error":"#REF!"},{"$error":"#REF!"},{"$error":"#REF!"},{"$error":"#REF!"},{"$error":"#REF!"},{"$error":"#REF!"},{"$error":"#REF!"},{"$error":"#REF!"},{"$error":"#REF!"}]
["Autoridad del Canal de Panamá",null,null,null,null,null,null,null,null,null,null,null,null,{"$error":"#REF!"},{"$error":"#REF!"},{"$error":"#REF!"},{"$error":"#REF!"},{"$error":"#REF!"},{"$error":"#REF!"},{"$error":"#REF!"},{"$error":"#REF!"},{"$error":"#REF!"},{"$error":"#REF!"},{"$error":"#REF!"},{"$error":"#REF!"},{"$error":"#REF!"},{"$error":"#REF!"},{"$error":"#REF!"},{"$error":"#REF!"},{"$error":"#REF!"},{"$error":"#REF!"},{"$error":"#REF!"},{"$error":"#REF!"},{"$error":"#REF!"},{"$error":"#REF!"},{"$error":"#REF!"},{"$error":"#REF!"},{"$error":"#REF!"},{"$error":"#REF!"},{"$error":"#REF!"},{"$error":"#REF!"},{"$error":"#REF!"},{"$error":"#REF!"},{"$error":"#REF!"},{"$error":"#REF!"},{"$error":"#REF!"},{"$error":"#REF!"},{"$error":"#REF!"},{"$error":"#REF!"},{"$error":"#REF!"},{"$error":"#REF!"},{"$error":"#REF!"},{"$error":"#REF!"},{"$error":"#REF!"},{"$error":"#REF!"},{"$error":"#REF!"},{"$error":"#REF!"},{"$error":"#REF!"},{"$error":"#REF!"},{"$error":"#REF!"},{"$error":"#REF!"}]
["Bahía Las Minas Corp.,",null,null,null,null,null,null,null,null,null,null,null,null,{"$error":"#REF!"},{"$error":"#REF!"},{"$error":"#REF!"},{"$error":"#REF!"},{"$error":"#REF!"},{"$error":"#REF!"},{"$error":"#REF!"},{"$error":"#REF!"},{"$error":"#REF!"},{"$error":"#REF!"},{"$error":"#REF!"},{"$error":"#REF!"},{"$error":"#REF!"},{"$error":"#REF!"},{"$error":"#REF!"},{"$error":"#REF!"},{"$error":"#REF!"},{"$error":"#REF!"},{"$error":"#REF!"},{"$error":"#REF!"},{"$error":"#REF!"},{"$error":"#REF!"},{"$error":"#REF!"},{"$error":"#REF!"},{"$error":"#REF!"},{"$error":"#REF!"},{"$error":"#REF!"},{"$error":"#REF!"},{"$error":"#REF!"},{"$error":"#REF!"},{"$error":"#REF!"},{"$error":"#REF!"},{"$error":"#REF!"},{"$error":"#REF!"},{"$error":"#REF!"},{"$error":"#REF!"},{"$error":"#REF!"},{"$error":"#REF!"},{"$error":"#REF!"},{"$error":"#REF!"},{"$error":"#REF!"},{"$error":"#REF!"},{"$error":"#REF!"},{"$error":"#REF!"},{"$error":"#REF!"},{"$error":"#REF!"},{"$error":"#REF!"},{"$error":"#REF!"}]
["Bontex, S.A.",null,null,null,null,null,null,null,null,null,null,null,null,{"$error":"#REF!"},{"$error":"#REF!"},{"$error":"#REF!"},{"$error":"#REF!"},{"$error":"#REF!"},{"$error":"#REF!"},{"$error":"#REF!"},{"$error":"#REF!"},{"$error":"#REF!"},{"$error":"#REF!"},{"$error":"#REF!"},{"$error":"#REF!"},{"$error":"#REF!"},{"$error":"#REF!"},{"$error":"#REF!"},{"$error":"#REF!"},{"$error":"#REF!"},{"$error":"#REF!"},{"$error":"#REF!"},{"$error":"#REF!"},{"$error":"#REF!"},{"$error":"#REF!"},{"$error":"#REF!"},{"$error":"#REF!"},{"$error":"#REF!"},{"$error":"#REF!"},{"$error":"#REF!"},{"$error":"#REF!"},{"$error":"#REF!"},{"$error":"#REF!"},{"$error":"#REF!"},{"$error":"#REF!"},{"$error":"#REF!"},{"$error":"#REF!"},{"$error":"#REF!"},{"$error":"#REF!"},{"$error":"#REF!"},{"$error":"#REF!"},{"$error":"#REF!"},{"$error":"#REF!"},{"$error":"#REF!"},{"$error":"#REF!"},{"$error":"#REF!"},{"$error":"#REF!"},{"$error":"#REF!"},{"$error":"#REF!"},{"$error":"#REF!"},{"$error":"#REF!"}]
["Caldera Energy Corp.",null,null,null,null,null,null,null,null,null,null,null,null,{"$error":"#REF!"},{"$error":"#REF!"},{"$error":"#REF!"},{"$error":"#REF!"},{"$error":"#REF!"},{"$error":"#REF!"},{"$error":"#REF!"},{"$error":"#REF!"},{"$error":"#REF!"},{"$error":"#REF!"},{"$error":"#REF!"},{"$error":"#REF!"},{"$error":"#REF!"},{"$error":"#REF!"},{"$error":"#REF!"},{"$error":"#REF!"},{"$error":"#REF!"},{"$error":"#REF!"},{"$error":"#REF!"},{"$error":"#REF!"},{"$error":"#REF!"},{"$error":"#REF!"},{"$error":"#REF!"},{"$error":"#REF!"},{"$error":"#REF!"},{"$error":"#REF!"},{"$error":"#REF!"},{"$error":"#REF!"},{"$error":"#REF!"},{"$error":"#REF!"},{"$error":"#REF!"},{"$error":"#REF!"},{"$error":"#REF!"},{"$error":"#REF!"},{"$error":"#REF!"},{"$error":"#REF!"},{"$f":"AX91*0.75/AX$136","v":{"$error":"#REF!"}},{"$error":"#REF!"},{"$error":"#REF!"},{"$error":"#REF!"},{"$error":"#REF!"},{"$error":"#REF!"},{"$error":"#REF!"},{"$error":"#REF!"},{"$error":"#REF!"},{"$error":"#REF!"},{"$error":"#REF!"},{"$error":"#REF!"}]
["Consorcio Energyst - International",null,null,null,null,null,null,null,null,null,null,null,null,{"$error":"#REF!"},{"$error":"#REF!"},{"$error":"#REF!"},{"$error":"#REF!"},{"$error":"#REF!"},{"$error":"#REF!"},{"$error":"#REF!"},{"$error":"#REF!"},{"$error":"#REF!"},{"$error":"#REF!"},{"$error":"#REF!"},{"$error":"#REF!"},{"$error":"#REF!"},{"$error":"#REF!"},{"$error":"#REF!"},{"$error":"#REF!"},{"$error":"#REF!"},{"$error":"#REF!"},{"$error":"#REF!"},{"$error":"#REF!"},{"$error":"#REF!"},{"$error":"#REF!"},{"$error":"#REF!"},{"$error":"#REF!"},{"$error":"#REF!"},{"$error":"#REF!"},{"$error":"#REF!"},{"$error":"#REF!"},{"$error":"#REF!"},{"$error":"#REF!"},{"$error":"#REF!"},{"$error":"#REF!"},{"$error":"#REF!"},{"$error":"#REF!"},{"$error":"#REF!"},{"$error":"#REF!"},{"$error":"#REF!"},{"$error":"#REF!"},{"$error":"#REF!"},{"$error":"#REF!"},{"$error":"#REF!"},{"$error":"#REF!"},{"$error":"#REF!"},{"$error":"#REF!"},{"$error":"#REF!"},{"$error":"#REF!"},{"$error":"#REF!"},{"$error":"#REF!"}]
["Corporación de Energía del Istmo LTD, S.A.",null,null,null,null,null,null,null,null,null,null,null,null,{"$error":"#REF!"},{"$error":"#REF!"},{"$error":"#REF!"},{"$error":"#REF!"},{"$error":"#REF!"},{"$error":"#REF!"},{"$error":"#REF!"},{"$error":"#REF!"},{"$error":"#REF!"},{"$error":"#REF!"},{"$error":"#REF!"},{"$error":"#REF!"},{"$error":"#REF!"},{"$error":"#REF!"},{"$error":"#REF!"},{"$error":"#REF!"},{"$error":"#REF!"},{"$error":"#REF!"},{"$error":"#REF!"},{"$error":"#REF!"},{"$error":"#REF!"},{"$error":"#REF!"},{"$error":"#REF!"},{"$error":"#REF!"},{"$error":"#REF!"},{"$error":"#REF!"},{"$error":"#REF!"},{"$error":"#REF!"},{"$error":"#REF!"},{"$error":"#REF!"},{"$error":"#REF!"},{"$error":"#REF!"},{"$error":"#REF!"},{"$error":"#REF!"},{"$error":"#REF!"},{"$error":"#REF!"},{"$error":"#REF!"},{"$error":"#REF!"},{"$error":"#REF!"},{"$error":"#REF!"},{"$error":"#REF!"},{"$error":"#REF!"},{"$error":"#REF!"},{"$error":"#REF!"},{"$error":"#REF!"},{"$error":"#REF!"},{"$error":"#REF!"},{"$error":"#REF!"}]
["Desarrollos Hidroeléctricos Corp.",null,null,null,null,null,null,null,null,null,null,null,null,{"$error":"#REF!"},{"$error":"#REF!"},{"$error":"#REF!"},{"$error":"#REF!"},{"$error":"#REF!"},{"$error":"#REF!"},{"$error":"#REF!"},{"$error":"#REF!"},{"$error":"#REF!"},{"$error":"#REF!"},{"$error":"#REF!"},{"$error":"#REF!"},{"$error":"#REF!"},{"$error":"#REF!"},{"$error":"#REF!"},{"$error":"#REF!"},{"$error":"#REF!"},{"$error":"#REF!"},{"$error":"#REF!"},{"$error":"#REF!"},{"$error":"#REF!"},{"$error":"#REF!"},{"$error":"#REF!"},{"$error":"#REF!"},{"$error":"#REF!"},{"$error":"#REF!"},{"$error":"#REF!"},{"$error":"#REF!"},{"$error":"#REF!"},{"$error":"#REF!"},{"$error":"#REF!"},{"$error":"#REF!"},{"$error":"#REF!"},{"$error":"#REF!"},{"$error":"#REF!"},{"$error":"#REF!"},{"$error":"#REF!"},{"$error":"#REF!"},{"$error":"#REF!"},{"$error":"#REF!"},{"$error":"#REF!"},{"$error":"#REF!"},{"$error":"#REF!"},{"$error":"#REF!"},{"$error":"#REF!"},{"$error":"#REF!"},{"$error":"#REF!"},{"$error":"#REF!"}]
["Electrogeneradora del Istmo, S.A.",null,null,null,null,null,null,null,null,null,null,null,null,{"$error":"#REF!"},{"$error":"#REF!"},{"$error":"#REF!"},{"$error":"#REF!"},{"$error":"#REF!"},{"$error":"#REF!"},{"$error":"#REF!"},{"$error":"#REF!"},{"$error":"#REF!"},{"$error":"#REF!"},{"$error":"#REF!"},{"$error":"#REF!"},{"$error":"#REF!"},{"$error":"#REF!"},{"$error":"#REF!"},{"$error":"#REF!"},{"$error":"#REF!"},{"$error":"#REF!"},{"$error":"#REF!"},{"$error":"#REF!"},{"$error":"#REF!"},{"$error":"#REF!"},{"$error":"#REF!"},{"$error":"#REF!"},{"$error":"#REF!"},{"$error":"#REF!"},{"$error":"#REF!"},{"$error":"#REF!"},{"$error":"#REF!"},{"$error":"#REF!"},{"$error":"#REF!"},{"$error":"#REF!"},{"$error":"#REF!"},{"$error":"#REF!"},{"$error":"#REF!"},{"$error":"#REF!"},{"$error":"#REF!"},{"$error":"#REF!"},{"$error":"#REF!"},{"$error":"#REF!"},{"$error":"#REF!"},{"$error":"#REF!"},{"$error":"#REF!"},{"$error":"#REF!"},{"$error":"#REF!"},{"$error":"#REF!"},{"$error":"#REF!"},{"$error":"#REF!"}]
["Electron Investment, S.A.",null,null,null,null,null,null,null,null,null,null,null,null,{"$error":"#REF!"},{"$error":"#REF!"},{"$error":"#REF!"},{"$error":"#REF!"},{"$error":"#REF!"},{"$error":"#REF!"},{"$error":"#REF!"},{"$error":"#REF!"},{"$error":"#REF!"},{"$error":"#REF!"},{"$error":"#REF!"},{"$error":"#REF!"},{"$error":"#REF!"},{"$error":"#REF!"},{"$error":"#REF!"},{"$error":"#REF!"},{"$error":"#REF!"},{"$error":"#REF!"},{"$error":"#REF!"},{"$error":"#REF!"},{"$error":"#REF!"},{"$error":"#REF!"},{"$error":"#REF!"},{"$error":"#REF!"},{"$error":"#REF!"},{"$error":"#REF!"},{"$error":"#REF!"},{"$error":"#REF!"},{"$error":"#REF!"},{"$error":"#REF!"},{"$error":"#REF!"},{"$error":"#REF!"},{"$error":"#REF!"},{"$error":"#REF!"},{"$error":"#REF!"},{"$error":"#REF!"},{"$error":"#REF!"},{"$error":"#REF!"},{"$error":"#REF!"},{"$error":"#REF!"},{"$error":"#REF!"},{"$error":"#REF!"},{"$error":"#REF!"},{"$error":"#REF!"},{"$error":"#REF!"},{"$error":"#REF!"},{"$error":"#REF!"},{"$error":"#REF!"}]
["Empresa Nacional de Energía, S.A.",null,null,null,null,null,null,null,null,null,null,null,null,{"$error":"#REF!"},{"$error":"#REF!"},{"$error":"#REF!"},{"$error":"#REF!"},{"$error":"#REF!"},{"$error":"#REF!"},{"$error":"#REF!"},{"$error":"#REF!"},{"$error":"#REF!"},{"$f":"W97*0.75/W$136","v":{"$error":"#REF!"}},{"$error":"#REF!"},{"$error":"#REF!"},{"$error":"#REF!"},{"$error":"#REF!"},{"$error":"#REF!"},{"$error":"#REF!"},{"$error":"#REF!"},{"$error":"#REF!"},{"$error":"#REF!"},{"$error":"#REF!"},{"$error":"#REF!"},{"$error":"#REF!"},{"$error":"#REF!"},{"$error":"#REF!"},{"$error":"#REF!"},{"$error":"#REF!"},{"$error":"#REF!"},{"$error":"#REF!"},{"$error":"#REF!"},{"$error":"#REF!"},{"$error":"#REF!"},{"$error":"#REF!"},{"$error":"#REF!"},{"$error":"#REF!"},{"$error":"#REF!"},{"$error":"#REF!"},{"$error":"#REF!"},{"$error":"#REF!"},{"$error":"#REF!"},{"$error":"#REF!"},{"$error":"#REF!"},{"$error":"#REF!"},{"$error":"#REF!"},{"$error":"#REF!"},{"$error":"#REF!"},{"$error":"#REF!"},{"$error":"#REF!"},{"$error":"#REF!"}]
["Enel Fortuna, S.A.",null,null,null,null,null,null,null,null,null,null,null,null,{"$error":"#REF!"},{"$error":"#REF!"},{"$error":"#REF!"},{"$error":"#REF!"},{"$error":"#REF!"},{"$error":"#REF!"},{"$error":"#REF!"},{"$error":"#REF!"},{"$error":"#REF!"},{"$error":"#REF!"},{"$error":"#REF!"},{"$error":"#REF!"},{"$error":"#REF!"},{"$error":"#REF!"},{"$error":"#REF!"},{"$error":"#REF!"},{"$error":"#REF!"},{"$error":"#REF!"},{"$error":"#REF!"},{"$error":"#REF!"},{"$error":"#REF!"},{"$error":"#REF!"},{"$error":"#REF!"},{"$error":"#REF!"},{"$error":"#REF!"},{"$error":"#REF!"},{"$error":"#REF!"},{"$error":"#REF!"},{"$error":"#REF!"},{"$error":"#REF!"},{"$error":"#REF!"},{"$error":"#REF!"},{"$error":"#REF!"},{"$error":"#REF!"},{"$error":"#REF!"},{"$error":"#REF!"},{"$error":"#REF!"},{"$error":"#REF!"},{"$error":"#REF!"},{"$error":"#REF!"},{"$error":"#REF!"},{"$error":"#REF!"},{"$error":"#REF!"},{"$error":"#REF!"},{"$error":"#REF!"},{"$error":"#REF!"},{"$error":"#REF!"},{"$error":"#REF!"}]
["Enel Green Power, S.A.",null,null,null,null,null,null,null,null,null,null,null,null,{"$error":"#REF!"},{"$error":"#REF!"},{"$error":"#REF!"},{"$error":"#REF!"},{"$error":"#REF!"},{"$error":"#REF!"},{"$error":"#REF!"},{"$error":"#REF!"},{"$error":"#REF!"},{"$error":"#REF!"},{"$error":"#REF!"},{"$error":"#REF!"},{"$error":"#REF!"},{"$error":"#REF!"},{"$error":"#REF!"},{"$error":"#REF!"},{"$error":"#REF!"},{"$error":"#REF!"},{"$error":"#REF!"},{"$error":"#REF!"},{"$error":"#REF!"},{"$error":"#REF!"},{"$error":"#REF!"},{"$error":"#REF!"},{"$error":"#REF!"},{"$error":"#REF!"},{"$error":"#REF!"},{"$error":"#REF!"},{"$error":"#REF!"},{"$error":"#REF!"},{"$error":"#REF!"},{"$error":"#REF!"},{"$error":"#REF!"},{"$error":"#REF!"},{"$error":"#REF!"},{"$error":"#REF!"},{"$error":"#REF!"},{"$error":"#REF!"},{"$error":"#REF!"},{"$error":"#REF!"},{"$error":"#REF!"},{"$error":"#REF!"},{"$error":"#REF!"},{"$error":"#REF!"},{"$error":"#REF!"},{"$error":"#REF!"},{"$error":"#REF!"},{"$error":"#REF!"}]
["Energía y Servicios de Panamá, S.A.",null,null,null,null,null,null,null,null,null,null,null,null,{"$error":"#REF!"},{"$error":"#REF!"},{"$error":"#REF!"},{"$error":"#REF!"},{"$error":"#REF!"},{"$error":"#REF!"},{"$error":"#REF!"},{"$error":"#REF!"},{"$error":"#REF!"},{"$error":"#REF!"},{"$error":"#REF!"},{"$error":"#REF!"},{"$error":"#REF!"},{"$error":"#REF!"},{"$error":"#REF!"},{"$error":"#REF!"},{"$error":"#REF!"},{"$error":"#REF!"},{"$error":"#REF!"},{"$error":"#REF!"},{"$error":"#REF!"},{"$error":"#REF!"},{"$error":"#REF!"},{"$error":"#REF!"},{"$error":"#REF!"},{"$error":"#REF!"},{"$error":"#REF!"},{"$error":"#REF!"},{"$error":"#REF!"},{"$error":"#REF!"},{"$error":"#REF!"},{"$error":"#REF!"},{"$error":"#REF!"},{"$error":"#REF!"},{"$error":"#REF!"},{"$error":"#REF!"},{"$error":"#REF!"},{"$error":"#REF!"},{"$error":"#REF!"},{"$error":"#REF!"},{"$error":"#REF!"},{"$error":"#REF!"},{"$error":"#REF!"},{"$error":"#REF!"},{"$error":"#REF!"},{"$error":"#REF!"},{"$error":"#REF!"},{"$error":"#REF!"}]
["Fountain Intertrade Corp.",null,null,null,null,null,null,null,null,null,null,null,null,{"$error":"#REF!"},{"$error":"#REF!"},{"$error":"#REF!"},{"$error":"#REF!"},{"$error":"#REF!"},{"$error":"#REF!"},{"$error":"#REF!"},{"$error":"#REF!"},{"$error":"#REF!"},{"$error":"#REF!"},{"$error":"#REF!"},{"$error":"#REF!"},{"$error":"#REF!"},{"$error":"#REF!"},{"$error":"#REF!"},{"$error":"#REF!"},{"$error":"#REF!"},{"$error":"#REF!"},{"$error":"#REF!"},{"$error":"#REF!"},{"$error":"#REF!"},{"$error":"#REF!"},{"$error":"#REF!"},{"$error":"#REF!"},{"$error":"#REF!"},{"$error":"#REF!"},{"$error":"#REF!"},{"$error":"#REF!"},{"$error":"#REF!"},{"$error":"#REF!"},{"$error":"#REF!"},{"$error":"#REF!"},{"$error":"#REF!"},{"$error":"#REF!"},{"$error":"#REF!"},{"$error":"#REF!"},{"$error":"#REF!"},{"$error":"#REF!"},{"$error":"#REF!"},{"$error":"#REF!"},{"$error":"#REF!"},{"$error":"#REF!"},{"$error":"#REF!"},{"$error":"#REF!"},{"$error":"#REF!"},{"$error":"#REF!"},{"$error":"#REF!"},{"$error":"#REF!"}]
["Gas Natural Atlántico, S. de R.L. ",null,null,null,null,null,null,null,null,null,null,null,null,{"$error":"#REF!"},{"$error":"#REF!"},{"$error":"#REF!"},{"$error":"#REF!"},{"$error":"#REF!"},{"$error":"#REF!"},{"$error":"#REF!"},{"$error":"#REF!"},{"$error":"#REF!"},{"$error":"#REF!"},{"$error":"#REF!"},{"$error":"#REF!"},{"$error":"#REF!"},{"$error":"#REF!"},{"$error":"#REF!"},{"$error":"#REF!"},{"$error":"#REF!"},{"$error":"#REF!"},{"$error":"#REF!"},{"$error":"#REF!"},{"$error":"#REF!"},{"$error":"#REF!"},{"$error":"#REF!"},{"$error":"#REF!"},{"$error":"#REF!"},{"$error":"#REF!"},{"$error":"#REF!"},{"$error":"#REF!"},{"$error":"#REF!"},{"$f":"AQ102*0.75/AQ$136","v":{"$error":"#REF!"}},{"$error":"#REF!"},{"$error":"#REF!"},{"$error":"#REF!"},{"$error":"#REF!"},{"$error":"#REF!"},{"$error":"#REF!"},{"$error":"#REF!"},{"$error":"#REF!"},{"$error":"#REF!"},{"$error":"#REF!"},{"$error":"#REF!"},{"$error":"#REF!"},{"$error":"#REF!"},{"$error":"#REF!"},{"$error":"#REF!"},{"$error":"#REF!"},{"$error":"#REF!"},{"$error":"#REF!"}]
["Generadora Alto Valle, S.A.",null,null,null,null,null,null,null,null,null,null,null,null,{"$error":"#REF!"},{"$error":"#REF!"},{"$error":"#REF!"},{"$error":"#REF!"},{"$error":"#REF!"},{"$error":"#REF!"},{"$error":"#REF!"},{"$error":"#REF!"},{"$error":"#REF!"},{"$error":"#REF!"},{"$error":"#REF!"},{"$error":"#REF!"},{"$error":"#REF!"},{"$error":"#REF!"},{"$error":"#REF!"},{"$error":"#REF!"},{"$error":"#REF!"},{"$error":"#REF!"},{"$error":"#REF!"},{"$error":"#REF!"},{"$error":"#REF!"},{"$error":"#REF!"},{"$error":"#REF!"},{"$error":"#REF!"},{"$error":"#REF!"},{"$error":"#REF!"},{"$error":"#REF!"},{"$error":"#REF!"},{"$error":"#REF!"},{"$error":"#REF!"},{"$error":"#REF!"},{"$error":"#REF!"},{"$error":"#REF!"},{"$error":"#REF!"},{"$error":"#REF!"},{"$error":"#REF!"},{"$error":"#REF!"},{"$error":"#REF!"},{"$error":"#REF!"},{"$error":"#REF!"},{"$error":"#REF!"},{"$error":"#REF!"},{"$error":"#REF!"},{"$error":"#REF!"},{"$error":"#REF!"},{"$error":"#REF!"},{"$error":"#REF!"},{"$error":"#REF!"}]
["Generadora del Atlántico, S.A.",null,null,null,null,null,null,null,null,null,null,null,null,{"$error":"#REF!"},{"$error":"#REF!"},{"$error":"#REF!"},{"$error":"#REF!"},{"$error":"#REF!"},{"$error":"#REF!"},{"$error":"#REF!"},{"$error":"#REF!"},{"$error":"#REF!"},{"$error":"#REF!"},{"$error":"#REF!"},{"$error":"#REF!"},{"$error":"#REF!"},{"$error":"#REF!"},{"$error":"#REF!"},{"$error":"#REF!"},{"$error":"#REF!"},{"$error":"#REF!"},{"$error":"#REF!"},{"$error":"#REF!"},{"$error":"#REF!"},{"$error":"#REF!"},{"$error":"#REF!"},{"$error":"#REF!"},{"$error":"#REF!"},{"$error":"#REF!"},{"$error":"#REF!"},{"$error":"#REF!"},{"$error":"#REF!"},{"$error":"#REF!"},{"$error":"#REF!"},{"$error":"#REF!"},{"$error":"#REF!"},{"$error":"#REF!"},{"$error":"#REF!"},{"$error":"#REF!"},{"$error":"#REF!"},{"$error":"#REF!"},{"$error":"#REF!"},{"$error":"#REF!"},{"$error":"#REF!"},{"$error":"#REF!"},{"$error":"#REF!"},{"$error":"#REF!"},{"$error":"#REF!"},{"$error":"#REF!"},{"$error":"#REF!"},{"$error":"#REF!"}]
["Generadora Pedregalito, S.A.",null,null,null,null,null,null,null,null,null,null,null,null,{"$error":"#REF!"},{"$error":"#REF!"},{"$error":"#REF!"},{"$error":"#REF!"},{"$error":"#REF!"},{"$error":"#REF!"},{"$error":"#REF!"},{"$error":"#REF!"},{"$error":"#REF!"},{"$error":"#REF!"},{"$error":"#REF!"},{"$error":"#REF!"},{"$error":"#REF!"},{"$error":"#REF!"},{"$error":"#REF!"},{"$error":"#REF!"},{"$error":"#REF!"},{"$error":"#REF!"},{"$error":"#REF!"},{"$error":"#REF!"},{"$error":"#REF!"},{"$error":"#REF!"},{"$error":"#REF!"},{"$error":"#REF!"},{"$error":"#REF!"},{"$error":"#REF!"},{"$error":"#REF!"},{"$error":"#REF!"},{"$error":"#REF!"},{"$error":"#REF!"},{"$error":"#REF!"},{"$error":"#REF!"},{"$error":"#REF!"},{"$error":"#REF!"},{"$error":"#REF!"},{"$error":"#REF!"},{"$error":"#REF!"},{"$error":"#REF!"},{"$error":"#REF!"},{"$error":"#REF!"},{"$error":"#REF!"},{"$error":"#REF!"},{"$error":"#REF!"},{"$error":"#REF!"},{"$error":"#REF!"},{"$error":"#REF!"},{"$error":"#REF!"},{"$error":"#REF!"}]
["Generadora Río Chico, S.A.",null,null,null,null,null,null,null,null,null,null,null,null,{"$error":"#REF!"},{"$error":"#REF!"},{"$error":"#REF!"},{"$error":"#REF!"},{"$error":"#REF!"},{"$error":"#REF!"},{"$error":"#REF!"},{"$error":"#REF!"},{"$error":"#REF!"},{"$error":"#REF!"},{"$error":"#REF!"},{"$error":"#REF!"},{"$error":"#REF!"},{"$error":"#REF!"},{"$error":"#REF!"},{"$error":"#REF!"},{"$error":"#REF!"},{"$error":"#REF!"},{"$error":"#REF!"},{"$error":"#REF!"},{"$error":"#REF!"},{"$error":"#REF!"},{"$error":"#REF!"},{"$error":"#REF!"},{"$error":"#REF!"},{"$error":"#REF!"},{"$error":"#REF!"},{"$error":"#REF!"},{"$error":"#REF!"},{"$error":"#REF!"},{"$error":"#REF!"},{"$error":"#REF!"},{"$error":"#REF!"},{"$error":"#REF!"},{"$error":"#REF!"},{"$error":"#REF!"},{"$error":"#REF!"},{"$error":"#REF!"},{"$error":"#REF!"},{"$error":"#REF!"},{"$error":"#REF!"},{"$error":"#REF!"},{"$error":"#REF!"},{"$error":"#REF!"},{"$error":"#REF!"},{"$error":"#REF!"},{"$error":"#REF!"},{"$error":"#REF!"}]
["Hidro Panamá, S.A.",null,null,null,null,null,null,null,null,null,null,null,null,{"$error":"#REF!"},{"$error":"#REF!"},{"$error":"#REF!"},{"$error":"#REF!"},{"$error":"#REF!"},{"$error":"#REF!"},{"$error":"#REF!"},{"$error":"#REF!"},{"$error":"#REF!"},{"$error":"#REF!"},{"$error":"#REF!"},{"$error":"#REF!"},{"$error":"#REF!"},{"$error":"#REF!"},{"$error":"#REF!"},{"$error":"#REF!"},{"$error":"#REF!"},{"$error":"#REF!"},{"$error":"#REF!"},{"$error":"#REF!"},{"$error":"#REF!"},{"$error":"#REF!"},{"$error":"#REF!"},{"$error":"#REF!"},{"$error":"#REF!"},{"$error":"#REF!"},{"$error":"#REF!"},{"$error":"#REF!"},{"$error":"#REF!"},{"$error":"#REF!"},{"$error":"#REF!"},{"$error":"#REF!"},{"$error":"#REF!"},{"$error":"#REF!"},{"$error":"#REF!"},{"$error":"#REF!"},{"$error":"#REF!"},{"$error":"#REF!"},{"$error":"#REF!"},{"$error":"#REF!"},{"$error":"#REF!"},{"$error":"#REF!"},{"$error":"#REF!"},{"$error":"#REF!"},{"$error":"#REF!"},{"$error":"#REF!"},{"$error":"#REF!"},{"$error":"#REF!"}]
["Hidroecológica del Teribe, S.A.",null,null,null,null,null,null,null,null,null,null,null,null,{"$error":"#REF!"},{"$error":"#REF!"},{"$f":"P108*0.75/P$136","v":{"$error":"#REF!"}},{"$error":"#REF!"},{"$error":"#REF!"},{"$error":"#REF!"},{"$error":"#REF!"},{"$error":"#REF!"},{"$error":"#REF!"},{"$error":"#REF!"},{"$error":"#REF!"},{"$error":"#REF!"},{"$error":"#REF!"},{"$error":"#REF!"},{"$error":"#REF!"},{"$error":"#REF!"},{"$error":"#REF!"},{"$error":"#REF!"},{"$error":"#REF!"},{"$error":"#REF!"},{"$error":"#REF!"},{"$error":"#REF!"},{"$error":"#REF!"},{"$error":"#REF!"},{"$error":"#REF!"},{"$error":"#REF!"},{"$error":"#REF!"},{"$error":"#REF!"},{"$error":"#REF!"},{"$error":"#REF!"},{"$error":"#REF!"},{"$error":"#REF!"},{"$error":"#REF!"},{"$error":"#REF!"},{"$error":"#REF!"},{"$error":"#REF!"},{"$error":"#REF!"},{"$error":"#REF!"},{"$error":"#REF!"},{"$error":"#REF!"},{"$error":"#REF!"},{"$error":"#REF!"},{"$error":"#REF!"},{"$error":"#REF!"},{"$error":"#REF!"},{"$error":"#REF!"},{"$error":"#REF!"},{"$error":"#REF!"}]
["Hidroeléctrica Bajos del Totuma, S.A.",null,null,null,null,null,null,null,null,null,null,null,null,{"$error":"#REF!"},{"$error":"#REF!"},{"$error":"#REF!"},{"$error":"#REF!"},{"$error":"#REF!"},{"$error":"#REF!"},{"$error":"#REF!"},{"$error":"#REF!"},{"$error":"#REF!"},{"$error":"#REF!"},{"$error":"#REF!"},{"$error":"#REF!"},{"$error":"#REF!"},{"$error":"#REF!"},{"$error":"#REF!"},{"$error":"#REF!"},{"$error":"#REF!"},{"$error":"#REF!"},{"$error":"#REF!"},{"$error":"#REF!"},{"$error":"#REF!"},{"$error":"#REF!"},{"$error":"#REF!"},{"$error":"#REF!"},{"$error":"#REF!"},{"$error":"#REF!"},{"$error":"#REF!"},{"$error":"#REF!"},{"$error":"#REF!"},{"$error":"#REF!"},{"$error":"#REF!"},{"$error":"#REF!"},{"$error":"#REF!"},{"$error":"#REF!"},{"$error":"#REF!"},{"$error":"#REF!"},{"$error":"#REF!"},{"$error":"#REF!"},{"$error":"#REF!"},{"$error":"#REF!"},{"$error":"#REF!"},{"$error":"#REF!"},{"$error":"#REF!"},{"$error":"#REF!"},{"$error":"#REF!"},{"$error":"#REF!"},{"$error":"#REF!"},{"$error":"#REF!"}]
["Hidroeléctrica San Lorenzo, S.A.",null,null,null,null,null,null,null,null,null,null,null,null,{"$error":"#REF!"},{"$error":"#REF!"},{"$error":"#REF!"},{"$error":"#REF!"},{"$error":"#REF!"},{"$error":"#REF!"},{"$error":"#REF!"},{"$error":"#REF!"},{"$error":"#REF!"},{"$error":"#REF!"},{"$error":"#REF!"},{"$error":"#REF!"},{"$error":"#REF!"},{"$error":"#REF!"},{"$error":"#REF!"},{"$error":"#REF!"},{"$error":"#REF!"},{"$error":"#REF!"},{"$error":"#REF!"},{"$error":"#REF!"},{"$error":"#REF!"},{"$error":"#REF!"},{"$error":"#REF!"},{"$error":"#REF!"},{"$error":"#REF!"},{"$error":"#REF!"},{"$error":"#REF!"},{"$error":"#REF!"},{"$error":"#REF!"},{"$error":"#REF!"},{"$error":"#REF!"},{"$error":"#REF!"},{"$error":"#REF!"},{"$error":"#REF!"},{"$error":"#REF!"},{"$error":"#REF!"},{"$error":"#REF!"},{"$error":"#REF!"},{"$error":"#REF!"},{"$error":"#REF!"},{"$error":"#REF!"},{"$error":"#REF!"},{"$error":"#REF!"},{"$error":"#REF!"},{"$error":"#REF!"},{"$error":"#REF!"},{"$error":"#REF!"},{"$error":"#REF!"}]
["Hidroibérica, S.A.",null,null,null,null,null,null,null,null,null,null,null,null,{"$error":"#REF!"},{"$error":"#REF!"},{"$error":"#REF!"},{"$error":"#REF!"},{"$error":"#REF!"},{"$error":"#REF!"},{"$error":"#REF!"},{"$error":"#REF!"},{"$error":"#REF!"},{"$error":"#REF!"},{"$error":"#REF!"},{"$error":"#REF!"},{"$error":"#REF!"},{"$error":"#REF!"},{"$error":"#REF!"},{"$error":"#REF!"},{"$error":"#REF!"},{"$error":"#REF!"},{"$error":"#REF!"},{"$error":"#REF!"},{"$error":"#REF!"},{"$error":"#REF!"},{"$error":"#REF!"},{"$error":"#REF!"},{"$error":"#REF!"},{"$error":"#REF!"},{"$error":"#REF!"},{"$error":"#REF!"},{"$error":"#REF!"},{"$error":"#REF!"},{"$error":"#REF!"},{"$error":"#REF!"},{"$error":"#REF!"},{"$error":"#REF!"},{"$error":"#REF!"},{"$error":"#REF!"},{"$error":"#REF!"},{"$error":"#REF!"},{"$error":"#REF!"},{"$error":"#REF!"},{"$error":"#REF!"},{"$error":"#REF!"},{"$error":"#REF!"},{"$error":"#REF!"},{"$error":"#REF!"},{"$error":"#REF!"},{"$error":"#REF!"},{"$error":"#REF!"}]
["HidroPiedra, S.A.",null,null,null,null,null,null,null,null,null,null,null,null,{"$error":"#REF!"},{"$error":"#REF!"},{"$error":"#REF!"},{"$error":"#REF!"},{"$error":"#REF!"},{"$error":"#REF!"},{"$error":"#REF!"},{"$error":"#REF!"},{"$error":"#REF!"},{"$error":"#REF!"},{"$error":"#REF!"},{"$error":"#REF!"},{"$error":"#REF!"},{"$error":"#REF!"},{"$error":"#REF!"},{"$error":"#REF!"},{"$error":"#REF!"},{"$error":"#REF!"},{"$error":"#REF!"},{"$error":"#REF!"},{"$error":"#REF!"},{"$error":"#REF!"},{"$error":"#REF!"},{"$error":"#REF!"},{"$error":"#REF!"},{"$error":"#REF!"},{"$error":"#REF!"},{"$error":"#REF!"},{"$error":"#REF!"},{"$error":"#REF!"},{"$error":"#REF!"},{"$error":"#REF!"},{"$error":"#REF!"},{"$error":"#REF!"},{"$error":"#REF!"},{"$error":"#REF!"},{"$error":"#REF!"},{"$error":"#REF!"},{"$error":"#REF!"},{"$error":"#REF!"},{"$error":"#REF!"},{"$error":"#REF!"},{"$error":"#REF!"},{"$error":"#REF!"},{"$error":"#REF!"},{"$error":"#REF!"},{"$error":"#REF!"},{"$error":"#REF!"}]
["Hydro Caisán, S.A.",null,null,null,null,null,null,null,null,null,null,null,null,{"$error":"#REF!"},{"$error":"#REF!"},{"$error":"#REF!"},{"$error":"#REF!"},{"$error":"#REF!"},{"$error":"#REF!"},{"$error":"#REF!"},{"$error":"#REF!"},{"$error":"#REF!"},{"$error":"#REF!"},{"$error":"#REF!"},{"$error":"#REF!"},{"$error":"#REF!"},{"$error":"#REF!"},{"$error":"#REF!"},{"$error":"#REF!"},{"$error":"#REF!"},{"$error":"#REF!"},{"$error":"#REF!"},{"$error":"#REF!"},{"$error":"#REF!"},{"$error":"#REF!"},{"$f":"AJ113*0.75/AJ$136","v":{"$error":"#REF!"}},{"$error":"#REF!"},{"$error":"#REF!"},{"$error":"#REF!"},{"$error":"#REF!"},{"$error":"#REF!"},{"$error":"#REF!"},{"$error":"#REF!"},{"$error":"#REF!"},{"$error":"#REF!"},{"$error":"#REF!"},{"$error":"#REF!"},{"$error":"#REF!"},{"$error":"#REF!"},{"$error":"#REF!"},{"$error":"#REF!"},{"$error":"#REF!"},{"$error":"#REF!"},{"$error":"#REF!"},{"$error":"#REF!"},{"$error":"#REF!"},{"$error":"#REF!"},{"$error":"#REF!"},{"$error":"#REF!"},{"$error":"#REF!"},{"$error":"#REF!"}]
["Ideal Panamá, S.A.",null,null,null,null,null,null,null,null,null,null,null,null,{"$error":"#REF!"},{"$error":"#REF!"},{"$error":"#REF!"},{"$error":"#REF!"},{"$error":"#REF!"},{"$error":"#REF!"},{"$error":"#REF!"},{"$error":"#REF!"},{"$error":"#REF!"},{"$error":"#REF!"},{"$error":"#REF!"},{"$error":"#REF!"},{"$error":"#REF!"},{"$error":"#REF!"},{"$error":"#REF!"},{"$error":"#REF!"},{"$error":"#REF!"},{"$error":"#REF!"},{"$error":"#REF!"},{"$error":"#REF!"},{"$error":"#REF!"},{"$error":"#REF!"},{"$error":"#REF!"},{"$error":"#REF!"},{"$error":"#REF!"},{"$error":"#REF!"},{"$error":"#REF!"},{"$error":"#REF!"},{"$error":"#REF!"},{"$error":"#REF!"},{"$error":"#REF!"},{"$error":"#REF!"},{"$error":"#REF!"},{"$error":"#REF!"},{"$error":"#REF!"},{"$error":"#REF!"},{"$error":"#REF!"},{"$error":"#REF!"},{"$error":"#REF!"},{"$error":"#REF!"},{"$error":"#REF!"},{"$error":"#REF!"},{"$error":"#REF!"},{"$error":"#REF!"},{"$error":"#REF!"},{"$error":"#REF!"},{"$error":"#REF!"},{"$error":"#REF!"}]
["Istmus Hydro Power, Corp.",null,null,null,null,null,null,null,null,null,null,null,null,{"$error":"#REF!"},{"$error":"#REF!"},{"$error":"#REF!"},{"$error":"#REF!"},{"$error":"#REF!"},{"$error":"#REF!"},{"$error":"#REF!"},{"$error":"#REF!"},{"$error":"#REF!"},{"$error":"#REF!"},{"$error":"#REF!"},{"$error":"#REF!"},{"$error":"#REF!"},{"$error":"#REF!"},{"$error":"#REF!"},{"$error":"#REF!"},{"$error":"#REF!"},{"$error":"#REF!"},{"$error":"#REF!"},{"$error":"#REF!"},{"$error":"#REF!"},{"$error":"#REF!"},{"$error":"#REF!"},{"$error":"#REF!"},{"$error":"#REF!"},{"$error":"#REF!"},{"$error":"#REF!"},{"$error":"#REF!"},{"$error":"#REF!"},{"$error":"#REF!"},{"$error":"#REF!"},{"$error":"#REF!"},{"$error":"#REF!"},{"$error":"#REF!"},{"$error":"#REF!"},{"$error":"#REF!"},{"$error":"#REF!"},{"$error":"#REF!"},{"$error":"#REF!"},{"$error":"#REF!"},{"$error":"#REF!"},{"$error":"#REF!"},{"$error":"#REF!"},{"$error":"#REF!"},{"$error":"#REF!"},{"$error":"#REF!"},{"$error":"#REF!"},{"$error":"#REF!"}]
["Jinro Corp",null,null,null,null,null,null,null,null,null,null,null,null,{"$error":"#REF!"},{"$error":"#REF!"},{"$error":"#REF!"},{"$error":"#REF!"},{"$error":"#REF!"},{"$error":"#REF!"},{"$error":"#REF!"},{"$error":"#REF!"},{"$error":"#REF!"},{"$error":"#REF!"},{"$error":"#REF!"},{"$error":"#REF!"},{"$error":"#REF!"},{"$error":"#REF!"},{"$error":"#REF!"},{"$error":"#REF!"},{"$error":"#REF!"},{"$error":"#REF!"},{"$error":"#REF!"},{"$error":"#REF!"},{"$error":"#REF!"},{"$error":"#REF!"},{"$error":"#REF!"},{"$error":"#REF!"},{"$error":"#REF!"},{"$error":"#REF!"},{"$error":"#REF!"},{"$error":"#REF!"},{"$error":"#REF!"},{"$error":"#REF!"},{"$error":"#REF!"},{"$error":"#REF!"},{"$error":"#REF!"},{"$error":"#REF!"},{"$error":"#REF!"},{"$error":"#REF!"},{"$error":"#REF!"},{"$error":"#REF!"},{"$error":"#REF!"},{"$error":"#REF!"},{"$error":"#REF!"},{"$error":"#REF!"},{"$error":"#REF!"},{"$error":"#REF!"},{"$error":"#REF!"},{"$error":"#REF!"},{"$error":"#REF!"},{"$error":"#REF!"}]
["Kanan Overseas I, Inc",null,null,null,null,null,null,null,null,null,null,null,null,{"$error":"#REF!"},{"$error":"#REF!"},{"$error":"#REF!"},{"$error":"#REF!"},{"$error":"#REF!"},{"$error":"#REF!"},{"$error":"#REF!"},{"$error":"#REF!"},{"$error":"#REF!"},{"$error":"#REF!"},{"$error":"#REF!"},{"$error":"#REF!"},{"$error":"#REF!"},{"$error":"#REF!"},{"$error":"#REF!"},{"$error":"#REF!"},{"$error":"#REF!"},{"$error":"#REF!"},{"$error":"#REF!"},{"$error":"#REF!"},{"$error":"#REF!"},{"$error":"#REF!"},{"$error":"#REF!"},{"$error":"#REF!"},{"$error":"#REF!"},{"$error":"#REF!"},{"$error":"#REF!"},{"$error":"#REF!"},{"$error":"#REF!"},{"$error":"#REF!"},{"$error":"#REF!"},{"$error":"#REF!"},{"$error":"#REF!"},{"$error":"#REF!"},{"$error":"#REF!"},{"$error":"#REF!"},{"$error":"#REF!"},{"$error":"#REF!"},{"$error":"#REF!"},{"$error":"#REF!"},{"$error":"#REF!"},{"$error":"#REF!"},{"$error":"#REF!"},{"$error":"#REF!"},{"$error":"#REF!"},{"$error":"#REF!"},{"$error":"#REF!"},{"$error":"#REF!"}]
["Las Perlas Norte, S.A.",null,null,null,null,null,null,null,null,null,null,null,null,{"$error":"#REF!"},{"$error":"#REF!"},{"$error":"#REF!"},{"$error":"#REF!"},{"$error":"#REF!"},{"$error":"#REF!"},{"$error":"#REF!"},{"$error":"#REF!"},{"$error":"#REF!"},{"$error":"#REF!"},{"$error":"#REF!"},{"$error":"#REF!"},{"$error":"#REF!"},{"$error":"#REF!"},{"$error":"#REF!"},{"$error":"#REF!"},{"$error":"#REF!"},{"$error":"#REF!"},{"$error":"#REF!"},{"$error":"#REF!"},{"$error":"#REF!"},{"$error":"#REF!"},{"$error":"#REF!"},{"$error":"#REF!"},{"$error":"#REF!"},{"$error":"#REF!"},{"$error":"#REF!"},{"$error":"#REF!"},{"$error":"#REF!"},{"$error":"#REF!"},{"$error":"#REF!"},{"$error":"#REF!"},{"$error":"#REF!"},{"$error":"#REF!"},{"$error":"#REF!"},{"$error":"#REF!"},{"$error":"#REF!"},{"$error":"#REF!"},{"$error":"#REF!"},{"$error":"#REF!"},{"$error":"#REF!"},{"$error":"#REF!"},{"$f":"BD118*0.75/BD$136","v":{"$error":"#REF!"}},{"$error":"#REF!"},{"$error":"#REF!"},{"$error":"#REF!"},{"$error":"#REF!"},{"$error":"#REF!"}]
["Las Perlas Sur, S.A.",null,null,null,null,null,null,null,null,null,null,null,null,{"$error":"#REF!"},{"$error":"#REF!"},{"$error":"#REF!"},{"$error":"#REF!"},{"$error":"#REF!"},{"$error":"#REF!"},{"$error":"#REF!"},{"$error":"#REF!"},{"$error":"#REF!"},{"$error":"#REF!"},{"$error":"#REF!"},{"$error":"#REF!"},{"$error":"#REF!"},{"$error":"#REF!"},{"$error":"#REF!"},{"$error":"#REF!"},{"$error":"#REF!"},{"$error":"#REF!"},{"$error":"#REF!"},{"$error":"#REF!"},{"$error":"#REF!"},{"$error":"#REF!"},{"$error":"#REF!"},{"$error":"#REF!"},{"$error":"#REF!"},{"$error":"#REF!"},{"$error":"#REF!"},{"$error":"#REF!"},{"$error":"#REF!"},{"$error":"#REF!"},{"$error":"#REF!"},{"$error":"#REF!"},{"$error":"#REF!"},{"$error":"#REF!"},{"$error":"#REF!"},{"$error":"#REF!"},{"$error":"#REF!"},{"$error":"#REF!"},{"$error":"#REF!"},{"$error":"#REF!"},{"$error":"#REF!"},{"$error":"#REF!"},{"$error":"#REF!"},{"$error":"#REF!"},{"$error":"#REF!"},{"$error":"#REF!"},{"$error":"#REF!"},{"$error":"#REF!"}]
["Martano, Inc",null,null,null,null,null,null,null,null,null,null,null,null,{"$error":"#REF!"},{"$error":"#REF!"},{"$error":"#REF!"},{"$error":"#REF!"},{"$error":"#REF!"},{"$error":"#REF!"},{"$error":"#REF!"},{"$error":"#REF!"},{"$error":"#REF!"},{"$error":"#REF!"},{"$error":"#REF!"},{"$error":"#REF!"},{"$error":"#REF!"},{"$error":"#REF!"},{"$error":"#REF!"},{"$error":"#REF!"},{"$error":"#REF!"},{"$error":"#REF!"},{"$error":"#REF!"},{"$error":"#REF!"},{"$error":"#REF!"},{"$error":"#REF!"},{"$error":"#REF!"},{"$error":"#REF!"},{"$error":"#REF!"},{"$error":"#REF!"},{"$error":"#REF!"},{"$error":"#REF!"},{"$error":"#REF!"},{"$error":"#REF!"},{"$error":"#REF!"},{"$error":"#REF!"},{"$error":"#REF!"},{"$error":"#REF!"},{"$error":"#REF!"},{"$error":"#REF!"},{"$error":"#REF!"},{"$error":"#REF!"},{"$error":"#REF!"},{"$error":"#REF!"},{"$error":"#REF!"},{"$error":"#REF!"},{"$error":"#REF!"},{"$error":"#REF!"},{"$error":"#REF!"},{"$error":"#REF!"},{"$error":"#REF!"},{"$error":"#REF!"}]
["Pan-Am Generating Limited",null,null,null,null,null,null,null,null,null,null,null,null,{"$error":"#REF!"},{"$error":"#REF!"},{"$error":"#REF!"},{"$error":"#REF!"},{"$error":"#REF!"},{"$error":"#REF!"},{"$error":"#REF!"},{"$error":"#REF!"},{"$error":"#REF!"},{"$error":"#REF!"},{"$error":"#REF!"},{"$error":"#REF!"},{"$error":"#REF!"},{"$error":"#REF!"},{"$error":"#REF!"},{"$error":"#REF!"},{"$error":"#REF!"},{"$error":"#REF!"},{"$error":"#REF!"},{"$error":"#REF!"},{"$error":"#REF!"},{"$error":"#REF!"},{"$error":"#REF!"},{"$error":"#REF!"},{"$error":"#REF!"},{"$error":"#REF!"},{"$error":"#REF!"},{"$error":"#REF!"},{"$error":"#REF!"},{"$error":"#REF!"},{"$error":"#REF!"},{"$error":"#REF!"},{"$error":"#REF!"},{"$error":"#REF!"},{"$error":"#REF!"},{"$error":"#REF!"},{"$error":"#REF!"},{"$error":"#REF!"},{"$error":"#REF!"},{"$error":"#REF!"},{"$error":"#REF!"},{"$error":"#REF!"},{"$error":"#REF!"},{"$error":"#REF!"},{"$error":"#REF!"},{"$error":"#REF!"},{"$error":"#REF!"},{"$error":"#REF!"}]
["Panama NG Power, S.A.",null,null,null,null,null,null,null,null,null,null,null,null,{"$error":"#REF!"},{"$error":"#REF!"},{"$error":"#REF!"},{"$error":"#REF!"},{"$error":"#REF!"},{"$error":"#REF!"},{"$error":"#REF!"},{"$error":"#REF!"},{"$error":"#REF!"},{"$error":"#REF!"},{"$error":"#REF!"},{"$error":"#REF!"},{"$error":"#REF!"},{"$error":"#REF!"},{"$error":"#REF!"},{"$error":"#REF!"},{"$error":"#REF!"},{"$error":"#REF!"},{"$error":"#REF!"},{"$error":"#REF!"},{"$error":"#REF!"},{"$error":"#REF!"},{"$error":"#REF!"},{"$error":"#REF!"},{"$error":"#REF!"},{"$error":"#REF!"},{"$error":"#REF!"},{"$error":"#REF!"},{"$error":"#REF!"},{"$error":"#REF!"},{"$error":"#REF!"},{"$error":"#REF!"},{"$error":"#REF!"},{"$error":"#REF!"},{"$error":"#REF!"},{"$error":"#REF!"},{"$error":"#REF!"},{"$error":"#REF!"},{"$error":"#REF!"},{"$error":"#REF!"},{"$error":"#REF!"},{"$error":"#REF!"},{"$error":"#REF!"},{"$error":"#REF!"},{"$error":"#REF!"},{"$error":"#REF!"},{"$error":"#REF!"},{"$error":"#REF!"}]
["Paso Ancho Hydro Power Corporation",null,null,null,null,null,null,null,null,null,null,null,null,{"$error":"#REF!"},{"$error":"#REF!"},{"$error":"#REF!"},{"$error":"#REF!"},{"$error":"#REF!"},{"$error":"#REF!"},{"$error":"#REF!"},{"$error":"#REF!"},{"$error":"#REF!"},{"$error":"#REF!"},{"$error":"#REF!"},{"$error":"#REF!"},{"$error":"#REF!"},{"$error":"#REF!"},{"$error":"#REF!"},{"$error":"#REF!"},{"$error":"#REF!"},{"$error":"#REF!"},{"$error":"#REF!"},{"$error":"#REF!"},{"$error":"#REF!"},{"$error":"#REF!"},{"$error":"#REF!"},{"$error":"#REF!"},{"$error":"#REF!"},{"$error":"#REF!"},{"$error":"#REF!"},{"$error":"#REF!"},{"$error":"#REF!"},{"$error":"#REF!"},{"$error":"#REF!"},{"$error":"#REF!"},{"$error":"#REF!"},{"$error":"#REF!"},{"$error":"#REF!"},{"$error":"#REF!"},{"$error":"#REF!"},{"$error":"#REF!"},{"$error":"#REF!"},{"$error":"#REF!"},{"$error":"#REF!"},{"$error":"#REF!"},{"$error":"#REF!"},{"$error":"#REF!"},{"$error":"#REF!"},{"$error":"#REF!"},{"$error":"#REF!"},{"$error":"#REF!"}]
["Pedregal Power Company, S. de R.L.",null,null,null,null,null,null,null,null,null,null,null,null,{"$error":"#REF!"},{"$error":"#REF!"},{"$error":"#REF!"},{"$error":"#REF!"},{"$error":"#REF!"},{"$error":"#REF!"},{"$error":"#REF!"},{"$error":"#REF!"},{"$error":"#REF!"},{"$error":"#REF!"},{"$error":"#REF!"},{"$error":"#REF!"},{"$error":"#REF!"},{"$error":"#REF!"},{"$error":"#REF!"},{"$f":"AC124*0.75/AC$136","v":{"$error":"#REF!"}},{"$error":"#REF!"},{"$error":"#REF!"},{"$error":"#REF!"},{"$error":"#REF!"},{"$error":"#REF!"},{"$error":"#REF!"},{"$error":"#REF!"},{"$error":"#REF!"},{"$error":"#REF!"},{"$error":"#REF!"},{"$error":"#REF!"},{"$error":"#REF!"},{"$error":"#REF!"},{"$error":"#REF!"},{"$error":"#REF!"},{"$error":"#REF!"},{"$error":"#REF!"},{"$error":"#REF!"},{"$error":"#REF!"},{"$error":"#REF!"},{"$error":"#REF!"},{"$error":"#REF!"},{"$error":"#REF!"},{"$error":"#REF!"},{"$error":"#REF!"},{"$error":"#REF!"},{"$error":"#REF!"},{"$error":"#REF!"},{"$error":"#REF!"},{"$error":"#REF!"},{"$error":"#REF!"},{"$error":"#REF!"}]
["Saltos del Francolí, S.A.",null,null,null,null,null,null,null,null,null,null,null,null,{"$error":"#REF!"},{"$error":"#REF!"},{"$error":"#REF!"},{"$error":"#REF!"},{"$error":"#REF!"},{"$error":"#REF!"},{"$error":"#REF!"},{"$error":"#REF!"},{"$error":"#REF!"},{"$error":"#REF!"},{"$error":"#REF!"},{"$error":"#REF!"},{"$error":"#REF!"},{"$error":"#REF!"},{"$error":"#REF!"},{"$error":"#REF!"},{"$error":"#REF!"},{"$error":"#REF!"},{"$error":"#REF!"},{"$error":"#REF!"},{"$error":"#REF!"},{"$error":"#REF!"},{"$error":"#REF!"},{"$error":"#REF!"},{"$error":"#REF!"},{"$error":"#REF!"},{"$error":"#REF!"},{"$error":"#REF!"},{"$error":"#REF!"},{"$error":"#REF!"},{"$error":"#REF!"},{"$error":"#REF!"},{"$error":"#REF!"},{"$error":"#REF!"},{"$error":"#REF!"},{"$error":"#REF!"},{"$error":"#REF!"},{"$error":"#REF!"},{"$error":"#REF!"},{"$error":"#REF!"},{"$error":"#REF!"},{"$error":"#REF!"},{"$error":"#REF!"},{"$error":"#REF!"},{"$error":"#REF!"},{"$error":"#REF!"},{"$error":"#REF!"},{"$error":"#REF!"}]
["Valley Rise Investment Corp.",null,null,null,null,null,null,null,null,null,null,null,null,{"$error":"#REF!"},{"$error":"#REF!"},{"$error":"#REF!"},{"$error":"#REF!"},{"$error":"#REF!"},{"$error":"#REF!"},{"$error":"#REF!"},{"$error":"#REF!"},{"$error":"#REF!"},{"$error":"#REF!"},{"$error":"#REF!"},{"$error":"#REF!"},{"$error":"#REF!"},{"$error":"#REF!"},{"$error":"#REF!"},{"$error":"#REF!"},{"$error":"#REF!"},{"$error":"#REF!"},{"$error":"#REF!"},{"$error":"#REF!"},{"$error":"#REF!"},{"$error":"#REF!"},{"$error":"#REF!"},{"$error":"#REF!"},{"$error":"#REF!"},{"$error":"#REF!"},{"$error":"#REF!"},{"$error":"#REF!"},{"$error":"#REF!"},{"$error":"#REF!"},{"$error":"#REF!"},{"$error":"#REF!"},{"$error":"#REF!"},{"$error":"#REF!"},{"$error":"#REF!"},{"$error":"#REF!"},{"$error":"#REF!"},{"$error":"#REF!"},{"$error":"#REF!"},{"$error":"#REF!"},{"$error":"#REF!"},{"$error":"#REF!"},{"$error":"#REF!"},{"$error":"#REF!"},{"$error":"#REF!"},{"$error":"#REF!"},{"$error":"#REF!"},{"$error":"#REF!"}]
["Celsia Centroamérica, S.A.",null,null,null,null,null,null,null,null,null,null,null,null,{"$error":"#REF!"},{"$error":"#REF!"},{"$error":"#REF!"},{"$error":"#REF!"},{"$error":"#REF!"},{"$error":"#REF!"},{"$error":"#REF!"},{"$error":"#REF!"},{"$error":"#REF!"},{"$error":"#REF!"},{"$error":"#REF!"},{"$error":"#REF!"},{"$error":"#REF!"},{"$error":"#REF!"},{"$error":"#REF!"},{"$error":"#REF!"},{"$error":"#REF!"},{"$error":"#REF!"},{"$error":"#REF!"},{"$error":"#REF!"},{"$error":"#REF!"},{"$error":"#REF!"},{"$error":"#REF!"},{"$error":"#REF!"},{"$error":"#REF!"},{"$error":"#REF!"},{"$error":"#REF!"},{"$error":"#REF!"},{"$error":"#REF!"},{"$error":"#REF!"},{"$error":"#REF!"},{"$error":"#REF!"},{"$error":"#REF!"},{"$error":"#REF!"},{"$error":"#REF!"},{"$error":"#REF!"},{"$error":"#REF!"},{"$error":"#REF!"},{"$error":"#REF!"},{"$error":"#REF!"},{"$error":"#REF!"},{"$error":"#REF!"},{"$error":"#REF!"},{"$error":"#REF!"},{"$error":"#REF!"},{"$error":"#REF!"},{"$error":"#REF!"},{"$error":"#REF!"}]
["Generadora Fotovoltaica Chiriquí, S.A.",null,null,null,null,null,null,null,null,null,null,null,null,{"$error":"#REF!"},{"$error":"#REF!"},{"$error":"#REF!"},{"$error":"#REF!"},{"$error":"#REF!"},{"$error":"#REF!"},{"$error":"#REF!"},{"$error":"#REF!"},{"$error":"#REF!"},{"$error":"#REF!"},{"$error":"#REF!"},{"$error":"#REF!"},{"$error":"#REF!"},{"$error":"#REF!"},{"$error":"#REF!"},{"$error":"#REF!"},{"$error":"#REF!"},{"$error":"#REF!"},{"$error":"#REF!"},{"$error":"#REF!"},{"$error":"#REF!"},{"$error":"#REF!"},{"$error":"#REF!"},{"$error":"#REF!"},{"$error":"#REF!"},{"$error":"#REF!"},{"$error":"#REF!"},{"$error":"#REF!"},{"$error":"#REF!"},{"$error":"#REF!"},{"$error":"#REF!"},{"$error":"#REF!"},{"$error":"#REF!"},{"$error":"#REF!"},{"$error":"#REF!"},{"$error":"#REF!"},{"$error":"#REF!"},{"$error":"#REF!"},{"$error":"#REF!"},{"$error":"#REF!"},{"$error":"#REF!"},{"$error":"#REF!"},{"$error":"#REF!"},{"$error":"#REF!"},{"$error":"#REF!"},{"$error":"#REF!"},{"$error":"#REF!"},{"$error":"#REF!"}]
["Hidro Boquerón, S.A.",null,null,null,null,null,null,null,null,null,null,null,null,{"$error":"#REF!"},{"$error":"#REF!"},{"$error":"#REF!"},{"$error":"#REF!"},{"$error":"#REF!"},{"$error":"#REF!"},{"$error":"#REF!"},{"$error":"#REF!"},{"$error":"#REF!"},{"$error":"#REF!"},{"$error":"#REF!"},{"$error":"#REF!"},{"$error":"#REF!"},{"$error":"#REF!"},{"$error":"#REF!"},{"$error":"#REF!"},{"$error":"#REF!"},{"$error":"#REF!"},{"$error":"#REF!"},{"$error":"#REF!"},{"$error":"#REF!"},{"$error":"#REF!"},{"$error":"#REF!"},{"$error":"#REF!"},{"$error":"#REF!"},{"$error":"#REF!"},{"$error":"#REF!"},{"$error":"#REF!"},{"$error":"#REF!"},{"$error":"#REF!"},{"$error":"#REF!"},{"$error":"#REF!"},{"$error":"#REF!"},{"$error":"#REF!"},{"$error":"#REF!"},{"$f":"AW129*0.75/AW$136","v":{"$error":"#REF!"}},{"$error":"#REF!"},{"$error":"#REF!"},{"$error":"#REF!"},{"$error":"#REF!"},{"$error":"#REF!"},{"$error":"#REF!"},{"$error":"#REF!"},{"$error":"#REF!"},{"$error":"#REF!"},{"$error":"#REF!"},{"$error":"#REF!"},{"$error":"#REF!"}]
["Generadora del Istmo S.A.,",null,null,null,null,null,null,null,null,null,null,null,null,{"$error":"#REF!"},{"$error":"#REF!"},{"$error":"#REF!"},{"$error":"#REF!"},{"$error":"#REF!"},{"$error":"#REF!"},{"$error":"#REF!"},{"$error":"#REF!"},{"$error":"#REF!"},{"$error":"#REF!"},{"$error":"#REF!"},{"$error":"#REF!"},{"$error":"#REF!"},{"$error":"#REF!"},{"$error":"#REF!"},{"$error":"#REF!"},{"$error":"#REF!"},{"$error":"#REF!"},{"$error":"#REF!"},{"$error":"#REF!"},{"$error":"#REF!"},{"$error":"#REF!"},{"$error":"#REF!"},{"$error":"#REF!"},{"$error":"#REF!"},{"$error":"#REF!"},{"$error":"#REF!"},{"$error":"#REF!"},{"$error":"#REF!"},{"$error":"#REF!"},{"$error":"#REF!"},{"$error":"#REF!"},{"$error":"#REF!"},{"$error":"#REF!"},{"$error":"#REF!"},{"$error":"#REF!"},{"$error":"#REF!"},{"$error":"#REF!"},{"$error":"#REF!"},{"$error":"#REF!"},{"$error":"#REF!"},{"$error":"#REF!"},{"$error":"#REF!"},{"$error":"#REF!"},{"$error":"#REF!"},{"$error":"#REF!"},{"$error":"#REF!"},{"$error":"#REF!"}]
["HIDRO CANDELA",null,null,null,null,null,null,null,null,null,null,null,null,{"$error":"#REF!"},{"$error":"#REF!"},{"$error":"#REF!"},{"$error":"#REF!"},{"$error":"#REF!"},{"$error":"#REF!"},{"$error":"#REF!"},{"$error":"#REF!"},{"$error":"#REF!"},{"$error":"#REF!"},{"$error":"#REF!"},{"$error":"#REF!"},{"$error":"#REF!"},{"$error":"#REF!"},{"$error":"#REF!"},{"$error":"#REF!"},{"$error":"#REF!"},{"$error":"#REF!"},{"$error":"#REF!"},{"$error":"#REF!"},{"$error":"#REF!"},{"$error":"#REF!"},{"$error":"#REF!"},{"$error":"#REF!"},{"$error":"#REF!"},{"$error":"#REF!"},{"$error":"#REF!"},{"$error":"#REF!"},{"$error":"#REF!"},{"$error":"#REF!"},{"$error":"#REF!"},{"$error":"#REF!"},{"$error":"#REF!"},{"$error":"#REF!"},{"$error":"#REF!"},{"$error":"#REF!"},{"$error":"#REF!"},{"$error":"#REF!"},{"$error":"#REF!"},{"$error":"#REF!"},{"$error":"#REF!"},{"$error":"#REF!"},{"$error":"#REF!"},{"$error":"#REF!"},{"$error":"#REF!"},{"$error":"#REF!"},{"$error":"#REF!"},{"$error":"#REF!"}]
["Celsia Centroamérica, S.A.",null,null,null,null,null,null,null,null,null,null,null,null,{"$error":"#REF!"},{"$error":"#REF!"},{"$error":"#REF!"},{"$error":"#REF!"},{"$error":"#REF!"},{"$error":"#REF!"},{"$error":"#REF!"},{"$error":"#REF!"},{"$error":"#REF!"},{"$error":"#REF!"},{"$error":"#REF!"},{"$error":"#REF!"},{"$error":"#REF!"},{"$error":"#REF!"},{"$error":"#REF!"},{"$error":"#REF!"},{"$error":"#REF!"},{"$error":"#REF!"},{"$error":"#REF!"},{"$error":"#REF!"},{"$error":"#REF!"},{"$error":"#REF!"},{"$error":"#REF!"},{"$error":"#REF!"},{"$error":"#REF!"},{"$error":"#REF!"},{"$error":"#REF!"},{"$error":"#REF!"},{"$error":"#REF!"},{"$error":"#REF!"},{"$error":"#REF!"},{"$error":"#REF!"},{"$error":"#REF!"},{"$error":"#REF!"},{"$error":"#REF!"},{"$error":"#REF!"},{"$error":"#REF!"},{"$error":"#REF!"},{"$error":"#REF!"},{"$error":"#REF!"},{"$error":"#REF!"},{"$error":"#REF!"},{"$error":"#REF!"},{"$error":"#REF!"},{"$error":"#REF!"},{"$error":"#REF!"},{"$error":"#REF!"},{"$error":"#REF!"}]
["TROPITERMICA",null,null,null,null,null,null,null,null,null,null,null,null,{"$error":"#REF!"},{"$error":"#REF!"},{"$error":"#REF!"},{"$error":"#REF!"},{"$error":"#REF!"},{"$error":"#REF!"},{"$error":"#REF!"},{"$error":"#REF!"},{"$error":"#REF!"},{"$error":"#REF!"},{"$error":"#REF!"},{"$error":"#REF!"},{"$error":"#REF!"},{"$error":"#REF!"},{"$error":"#REF!"},{"$error":"#REF!"},{"$error":"#REF!"},{"$error":"#REF!"},{"$error":"#REF!"},{"$error":"#REF!"},{"$error":"#REF!"},{"$error":"#REF!"},{"$error":"#REF!"},{"$error":"#REF!"},{"$error":"#REF!"},{"$error":"#REF!"},{"$error":"#REF!"},{"$error":"#REF!"},{"$error":"#REF!"},{"$error":"#REF!"},{"$error":"#REF!"},{"$error":"#REF!"},{"$error":"#REF!"},{"$error":"#REF!"},{"$error":"#REF!"},{"$error":"#REF!"},{"$error":"#REF!"},{"$error":"#REF!"},{"$error":"#REF!"},{"$error":"#REF!"},{"$error":"#REF!"},{"$error":"#REF!"},{"$error":"#REF!"},{"$error":"#REF!"},{"$error":"#REF!"},{"$error":"#REF!"},{"$error":"#REF!"},{"$error":"#REF!"}]
[]
[]
[]
["empresas con más del 10% de la oferta",null,null,null,null,null,null,null,null,null,null,null,null,{"$f":"(N86+N89+N104+N98+N121)*0.75","v":{"$error":"#REF!"}},{"$f":"(O86+O89+O104+O98+O121)*0.75","v":{"$error":"#REF!"}},{"$error":"#REF!"},{"$error":"#REF!"},{"$error":"#REF!"},{"$error":"#REF!"},{"$error":"#REF!"},{"$error":"#REF!"},{"$error":"#REF!"},{"$error":"#REF!"},{"$error":"#REF!"},{"$error":"#REF!"},{"$error":"#REF!"},{"$error":"#REF!"},{"$error":"#REF!"},{"$error":"#REF!"},{"$error":"#REF!"},{"$error":"#REF!"},{"$error":"#REF!"},{"$error":"#REF!"},{"$error":"#REF!"},{"$error":"#REF!"},{"$error":"#REF!"},{"$error":"#REF!"},{"$error":"#REF!"},{"$error":"#REF!"},{"$error":"#REF!"},{"$error":"#REF!"},{"$error":"#REF!"},{"$error":"#REF!"},{"$error":"#REF!"},{"$error":"#REF!"},{"$error":"#REF!"},{"$error":"#REF!"},{"$error":"#REF!"},{"$error":"#REF!"},{"$error":"#REF!"},{"$error":"#REF!"},{"$error":"#REF!"},{"$error":"#REF!"},{"$error":"#REF!"},{"$error":"#REF!"},{"$error":"#REF!"},{"$error":"#REF!"},{"$error":"#REF!"},{"$error":"#REF!"},{"$error":"#REF!"},{"$error":"#REF!"}]

{"sheet":"PF por Gupo","index":2,"n_rows":126,"n_cols":12,"rows_kept":126,"cut":false,"hidden":true,"merged":[[8,2,9,2]]}
[]
[]
[]
[null,null,"Centrales Térmicas","Potencia Firme de Largo Plazo MW"]
[null,null,"ACP",79.97]
[null,null,"AES _Estrella de Mar",0]
[null,null,"BLM Carbón",74.05]
[null,null,"BLM Ciclo Combinado",82.06]
[null,null,"CELSIA CENTROAMÉRICA"]
[null,null,null,68.17]
[null,null,"ENERGYST",0]
[null,null,"GANA (Gas Natural Atlántico)",354.71]
[null,null,"GENA",138.01]
[null,null,"JINRO",53.04]
[null,null,"KANAN",88.5]
[null,null,"MINERAPMA",0]
[null,null,"PAN-AM",134.82]
[null,null,"PEDREGAL",49.07]
[null,null,"TROPITERMICA",4.66]
[null,null,"URBALIA",7.05]
[null,null,null,{"$f":"SUM(D5:D20)","v":1134.1099999999999},{"$f":"D21-D7-D14-D15-D18","v":869.44999999999993}]
[]
[]
[]
[]
[null,null,"Centrales Hidráulicas","Potencia Firme de Largo Plazo MW"]
[null,null,"ENEL FORTUNA",290.20999999999998]
[null,null,"AES PANAMÁ",{"$f":"SUM(D29:D32)","v":306.55}]
[null,null,"Bayano",160.12]
[null,null,"Estí",112.67]
[null,null,"La Estrella",16.13]
[null,null,"Los Valles",17.63]
[null,null,"AES Changuinola",175.33]
[null,null,"ESEPSA",{"$f":"SUM(D35:D38)","v":7.3100000000000005}]
[null,null,"La Yeguada",3]
[null,null,"Los Algarrobos",2.41]
[null,null,"Macho de Monte",0.8]
[null,null,"Dolega",1.1000000000000001]
[null,null,"ISTMUS (Concepción)",2.4900000000000002]
[null,null,"HIDRO PANAMÁ",0.74]
[null,null,"HIDRO CANDELA",0.12970000000000001]
[null,null,"CELSIA BONTEX (Gualaca)",23.04]
[null,null,"CELSIA ALTERNEGY",{"$f":"SUM(D44:D45)","v":80.710000000000008}]
[null,null,"Lorena",30.62]
[null,null,"Prudencia",50.09]
[null,null,"IDEAL",{"$f":"D47+D48","v":51.16}]
[null,null,"Bajo de Mina",20.07]
[null,null,"Baitún",31.09]
[null,null,"SALTOS DEL FRANCOLÍ",{"$f":"D50+D51","v":4.452}]
[null,null,"Los Planetas I",1.1020000000000001]
[null,null,"Los Planetas II",3.35]
[null,null,"HIDRO BOQUERÓN (Macano)",0.89800000000000002]
[null,null,"CALDERA ENERGY CORP. (Mendre)",3.9243000000000001]
[null,null,"PASO ANCHO",3.08]
[null,null,"HIDRO IBÉRICA (El Fraile)",1.498]
[null,null,"ELECTROGEN DEL ISTMO (Mendre 2)",1.556]
[null,null,"LAS PERLAS NORTE",2.4613]
[null,null,"LAS PERLAS SUR",2.4613]
[null,null,"ALTO VALLE (Cochea)",3.0640000000000001]
[null,null,"GENERADORA PEDREGALITO",2.0430000000000001]
[null,null,"RÍO CHICO (Pedregalito II)",0.376]
[null,null,"HIDRO PIEDRA",{"$f":"D63+D64","v":3.09}]
[null,null,"RP490",1.78]
[null,null,"La Cuchilla",1.31]
[null,null,"HIDRO CAISÁN (El Alto)",22.14]
[null,null,"EISA",{"$f":"SUM(D67:D68)","v":57.510000000000005}]
[null,null,"Pando",25.13]
[null,null,"Monte Lirio",32.380000000000003]
[null,null,"SAN LORENZO",1.333]
[null,null,"HIDROECOLÓGICA DEL TERIBE (Bonyic)",22.22]
[null,null,"EMNADESA",{"$f":"SUM(D72:D73)","v":1.8719999999999999}]
[null,null,"Bugaba I",0.51100000000000001]
[null,null,"Bugaba II",1.361]
[null,null,"FOUNTAIN",{"$f":"SUM(D75:D77)","v":19.353999999999999}]
[null,null,"La Potra",8.6620000000000008]
[null,null,"La Potra G4",2.0299999999999998]
[null,null,"Salsipuedes",8.6620000000000008]
[null,null,"CORPISTMO (Las Cruces)",3.17]
[null,null,"GENERADORA DEL ISTMO (Barro Blanco)",11.57]
[null,null,"BAJO DE TOTUMA",2.04]
[null,null,"DHC SAN ANDRES",2.5379999999999998]
[null,"frai",null,{"$f":"D27+D28+D33+D34+D39+D40+D41+D42+D43+D46+D49+D52+D53+D54+D55+D56+D57+D58+D59+D60+D61+D62+D65+D66+D69+D70+D71+D74+D78+D79+D80+D81","v":1110.3206000000005}]
[null,null,null,null,{"$f":"D82+D21","v":2244.4306000000006}]
[]
[]
[]
[null,null,null,null,null,null,"AES",{"$f":"D28+D33+D6+D12","v":836.58999999999992},"H",{"$f":"VLOOKUP(G87,$K$87:$K$116,1,0)","v":"AES"},"AES",{"$f":"H87*0.15","v":125.48849999999999}]
[null,null,null,null,null,null,"CELSIA",{"$f":"D43+D42+D7+D8+D10","v":328.03000000000003},"H",{"$f":"VLOOKUP(G88,$K$87:$K$116,1,0)","v":"CELSIA"},"ENEL"]
[null,null,null,null,null,null,"Autoridad del Canal de Panamá",{"$f":"D5","v":79.97},"T","Autoridad del Canal de Panamá","CELSIA"]
[null,null,null,null,null,null,"Corporación de Energía del Istmo LTD, S.A.",{"$f":"D78","v":3.17},"H","Corporación de Energía del Istmo LTD, S.A.","PANAM/GENISA"]
[null,null,null,null,null,null,"Desarrollos Hidroeléctricos Corp.",{"$f":"D81","v":2.5379999999999998},"H","Desarrollos Hidroeléctricos Corp.","Kanan Overseas I, Inc"]
[null,null,null,null,null,null,"Electron Investment, S.A.",{"$f":"D66","v":57.510000000000005},"H","Electron Investment, S.A.","Generadora del Atlántico, S.A."]
[null,null,null,null,null,null,"Empresa de Generación Eléctrica, S.A.",0,null,{"$error":"#N/A"},"Electron Investment, S.A."]
[null,null,null,null,null,null,"Empresa Nacional de Energía, S.A.",{"$f":"D71","v":1.8719999999999999},"H","Empresa Nacional de Energía, S.A.","Jinro Corp"]
[null,null,null,null,null,null,"Enel",{"$f":"D27","v":290.20999999999998},"H","ENEL","PANA POWER HOLDING"]
[null,null,null,null,null,null,"Enel Green Power, S.A.",0,null,{"$error":"#N/A"},"Fountain Intertrade Corp."]
[null,null,null,null,null,null,"Energía y Servicios de Panamá, S.A.",{"$f":"D34","v":7.3100000000000005},"H","Energía y Servicios de Panamá, S.A.","Hidroecológica del Teribe, S.A."]
[null,null,null,null,null,null,"Fountain Intertrade Corp.",{"$f":"D74","v":19.353999999999999},"H","Fountain Intertrade Corp.","Pedregal Power Company, S. de R.L."]
[null,null,null,null,null,null,"Generadora del Atlántico, S.A.",{"$f":"D13","v":138.01},"T","Generadora del Atlántico, S.A.","Corporación de Energía del Istmo LTD, S.A."]
[null,null,null,null,null,null,"PANA POWER HOLDING",{"$f":"D60+D61+D59+D53+D56+D65","v":33.103300000000004},"H","PANA POWER HOLDING","Hidrotenencias"]
[null,null,null,null,null,null,"Hidro Panamá, S.A.",{"$f":"D40","v":0.74},"H","Hidro Panamá, S.A.","Empresa Nacional de Energía, S.A."]
[null,null,null,null,null,null,"Hidroecológica del Teribe, S.A.",{"$f":"D70","v":22.22},"H","Hidroecológica del Teribe, S.A.","Energía y Servicios de Panamá, S.A."]
[null,null,null,null,null,null,"Hidroeléctrica Bajos del Totuma, S.A.",{"$f":"D80","v":2.04},"H","Hidroeléctrica Bajos del Totuma, S.A.","Generadora Río Chico, S.A."]
[null,null,null,null,null,null,"Hidroeléctrica San Lorenzo, S.A.",{"$f":"D69","v":1.333},"H","Hidroeléctrica San Lorenzo, S.A.","Desarrollos Hidroeléctricos Corp."]
[null,null,null,null,null,null,"Hidroibérica, S.A.",{"$f":"D55","v":1.498},"H","Hidroibérica, S.A.","HidroPiedra, S.A."]
[null,null,null,null,null,null,"HidroPiedra, S.A.",{"$f":"D62","v":3.09},"H","HidroPiedra, S.A.","Hidroeléctrica San Lorenzo, S.A."]
[null,null,null,null,null,null,"Ideal Panamá, S.A.",{"$f":"D46","v":51.16},"H","Ideal Panamá, S.A.","Saltos del Francolí, S.A."]
[null,null,null,null,null,null,"Hidrotenencias",{"$f":"D39+D57+D58","v":7.4125999999999994},"H","Hidrotenencias","Panama NG Power, S.A."]
[null,null,null,null,null,null,"Jinro Corp",{"$f":"D14","v":53.04},"T","Jinro Corp","Hidroibérica, S.A."]
[null,null,null,null,null,null,"Kanan Overseas I, Inc",{"$f":"D15","v":88.5},"T","Kanan Overseas I, Inc","Ideal Panamá, S.A."]
[null,null,null,null,null,null,"Martano, Inc",0,"T","Martano, Inc","Hidro Panamá, S.A."]
[null,null,null,null,null,null,"PANAM/GENISA",{"$f":"D54+D79+D17","v":149.47},"T","PANAM/GENISA","Valley Rise Investment Corp."]
[null,null,null,null,null,null,"Panama NG Power, S.A.",0,"T","Panama NG Power, S.A.","Hidroeléctrica Bajos del Totuma, S.A."]
[null,null,null,null,null,null,"Pedregal Power Company, S. de R.L.",{"$f":"D18","v":49.07},"T","Pedregal Power Company, S. de R.L.","Autoridad del Canal de Panamá"]
[null,null,null,null,null,null,"Saltos del Francolí, S.A.",{"$f":"D49","v":4.452},"H","Saltos del Francolí, S.A.","Consorcio Energyst - International"]
[null,null,null,null,null,null,"Valley Rise Investment Corp.",0,"T","Valley Rise Investment Corp.","Martano, Inc"]
[null,null,null,null,null,null,"Generadora Fotovoltaica Chiriquí, S.A.",null,null,{"$error":"#N/A"}]
[null,null,null,null,null,null,"Hidro Boquerón, S.A.",{"$f":"D52","v":0.89800000000000002},"H",{"$error":"#N/A"}]
[null,null,null,null,null,null,"HIDRO CANDELA",0.12970000000000001,"H",{"$error":"#N/A"}]
[null,null,null,null,null,null,"TROPITERMICA",4.66,"T",{"$error":"#N/A"}]
[null,null,null,null,null,null,"URBALIA",{"$f":"D20","v":7.05},null,{"$error":"#N/A"}]
[null,null,null,null,null,null,null,{"$f":"SUM(H87:H121)","v":2244.4306000000006}]
[]
[]
[]
[null,null,null,null,null,null,null,{"$f":"E83-H122","v":0}]