{"text_format":"1","workbook":"xlsx","n_sheets":6,"sheets":["Parametros","Energ_operada","Info_Perdidas","Info_AP","Datos","Balance"],"not_rendered":{"charts":0,"images":0,"macros":1,"external_links":7,"defined_names":0,"comments":1,"pivot_tables":0},"unopened":[],"bounds":{"document_bytes":16777216,"sheet_cells":100000,"rows_first":2000,"rows_last":500,"rows_between":2000,"halvings":0,"cell_chars":16384,"cell_head_chars":4096},"cells_cut":0,"cells_raw":0,"read":"whole","date_system":"1900"}

{"sheet":"Parametros","index":0,"n_rows":39,"n_cols":5,"rows_kept":39,"cut":false,"hidden":false,"merged":[]}
[]
[]
["aux",null,"Año base","año","mes"]
[{"$f":"D4&E4","v":"20241"},"2024-01-01",null,{"$f":"YEAR(B4)","v":2024},{"$f":"MONTH(B4)","v":1}]
[{"$f":"D5&E5","v":"20242"},"2024-02-01",null,{"$f":"YEAR(B5)","v":2024},{"$f":"MONTH(B5)","v":2}]
["20243","2024-03-01",null,2024,3]
["20244","2024-04-01",null,2024,4]
["20245","2024-05-01",null,2024,5]
["20246","2024-06-01",null,2024,6]
["20247","2024-07-01",1,2024,7]
["20248","2024-08-01",1,2024,8]
["20249","2024-09-01",1,2024,9]
["202410","2024-10-01",1,2024,10]
["202411","2024-11-01",1,2024,11]
["202412","2024-12-01",1,2024,12]
["20251","2025-01-01",1,2025,1]
["20252","2025-02-01",1,2025,2]
["20253","2025-03-01",1,2025,3]
["20254","2025-04-01",1,2025,4]
["20255","2025-05-01",1,2025,5]
["20256","2025-06-01",1,2025,6]
["20257","2025-07-01",null,2025,7]
["20258","2025-08-01",null,2025,8]
["20259","2025-09-01",null,2025,9]
["202510","2025-10-01",null,2025,10]
["202511","2025-11-01",null,2025,11]
["202512","2025-12-01",null,2025,12]
["20261","2026-01-01",null,2026,1]
["20262","2026-02-01",null,2026,2]
["20263","2026-03-01",null,2026,3]
["20264","2026-04-01",null,2026,4]
["20265","2026-05-01",null,2026,5]
["20266","2026-06-01",null,2026,6]
["20267","2026-07-01",null,2026,7]
["20268","2026-08-01",null,2026,8]
["20269","2026-09-01",null,2026,9]
["202610","2026-10-01",null,2026,10]
["202611","2026-11-01",null,2026,11]
["202612","2026-12-01",null,2026,12]

{"sheet":"Energ_operada","index":1,"n_rows":66,"n_cols":31,"rows_kept":66,"cut":false,"hidden":false,"merged":[]}
[]
[]
[{"$f":"[1]Cuadro!A3","v":"Detalles"},{"$f":"[1]Cuadro!FZ3","v":"2024-01-01"},{"$f":"[1]Cuadro!GA3","v":"2024-02-01"},{"$f":"[1]Cuadro!GB3","v":"2024-03-01"},{"$f":"[1]Cuadro!GC3","v":"2024-04-01"},{"$f":"[1]Cuadro!GD3","v":"2024-05-01"},{"$f":"[1]Cuadro!GE3","v":"2024-06-01"},{"$f":"[1]Cuadro!GF3","v":"2024-07-01"},{"$f":"[1]Cuadro!GG3","v":"2024-08-01"},{"$f":"[1]Cuadro!GH3","v":"2024-09-01"},{"$f":"[1]Cuadro!GI3","v":"2024-10-01"},{"$f":"[1]Cuadro!GJ3","v":"2024-11-01"},{"$f":"[1]Cuadro!GK3","v":"2024-12-01"},{"$f":"[1]Cuadro!GL3","v":"2025-01-01"},{"$f":"[1]Cuadro!GM3","v":"2025-02-01"},{"$f":"[1]Cuadro!GN3","v":"2025-03-01"},{"$f":"[1]Cuadro!GO3","v":"2025-04-01"},{"$f":"[1]Cuadro!GP3","v":"2025-05-01"},{"$f":"[1]Cuadro!GQ3","v":"2025-06-01"},{"$f":"[1]Cuadro!GR3","v":"2025-07-01"},{"$f":"[1]Cuadro!GS3","v":"2025-08-01"},{"$f":"[1]Cuadro!GT3","v":"2025-09-01"},{"$f":"[1]Cuadro!GU3","v":"2025-10-01"},{"$f":"[1]Cuadro!GV3","v":"2025-11-01"},{"$f":"[1]Cuadro!GW3","v":"2025-12-01"},{"$f":"[1]Cuadro!GX3","v":"00:00:00"},{"$f":"[1]Cuadro!GY3","v":"00:00:00"},{"$f":"[1]Cuadro!GZ3","v":"00:00:00"},{"$f":"[1]Cuadro!HA3","v":"00:00:00"},{"$f":"[1]Cuadro!HB3","v":"00:00:00"},{"$f":"[1]Cuadro!HC3","v":"00:00:00"}]
[{"$f":"[1]Cuadro!A4","v":"Compra SIN"},{"$f":"[1]Cuadro!FZ4","v":323930.47630619997},{"$f":"[1]Cuadro!GA4","v":295286.58526159998},{"$f":"[1]Cuadro!GB4","v":334507.65431450005},{"$f":"[1]Cuadro!GC4","v":328416.59600000002},{"$f":"[1]Cuadro!GD4","v":336190.35570240009},{"$f":"[1]Cuadro!GE4","v":310516.25332489994},{"$f":"[1]Cuadro!GF4","v":322563.04661229998},{"$f":"[1]Cuadro!GG4","v":320514.7381594},{"$f":"[1]Cuadro!GH4","v":308781.25675689999},{"$f":"[1]Cuadro!GI4","v":314425.44321679993},{"$f":"[1]Cuadro!GJ4","v":286119.97461890004},{"$f":"[1]Cuadro!GK4","v":313503.24769410002},{"$f":"[1]Cuadro!GL4","v":315215.88532170001},{"$f":"[1]Cuadro!GM4","v":289601.62330440001},{"$f":"[1]Cuadro!GN4","v":320559.58336229989},{"$f":"[1]Cuadro!GO4","v":321497.10615260003},{"$f":"[1]Cuadro!GP4","v":324461.0589659001},{"$f":"[1]Cuadro!GQ4","v":305690.70720419998},{"$f":"[1]Cuadro!GR4","v":324616.25543559995},{"$f":"[1]Cuadro!GS4","v":315870.19922278571},{"$f":"[1]Cuadro!GT4","v":0},{"$f":"[1]Cuadro!GU4","v":0},{"$f":"[1]Cuadro!GV4","v":0},{"$f":"[1]Cuadro!GW4","v":0},{"$f":"[1]Cuadro!GX4","v":0},{"$f":"[1]Cuadro!GY4","v":0},{"$f":"[1]Cuadro!GZ4","v":0},{"$f":"[1]Cuadro!HA4","v":0},{"$f":"[1]Cuadro!HB4","v":0},{"$f":"[1]Cuadro!HC4","v":0}]
[{"$f":"[1]Cuadro!A5","v":"Compra Sistemas Regionales"},{"$f":"[1]Cuadro!FZ5","v":6838.5469999999996},{"$f":"[1]Cuadro!GA5","v":6394.9830000000002},{"$f":"[1]Cuadro!GB5","v":7393.7139999999999},{"$f":"[1]Cuadro!GC5","v":7034.8159999999998},{"$f":"[1]Cuadro!GD5","v":7181.0560000000005},{"$f":"[1]Cuadro!GE5","v":6610.8310000000001},{"$f":"[1]Cuadro!GF5","v":7020.1319999999996},{"$f":"[1]Cuadro!GG5","v":6992.277},{"$f":"[1]Cuadro!GH5","v":6717.7400000000007},{"$f":"[1]Cuadro!GI5","v":7029.9070000000002},{"$f":"[1]Cuadro!GJ5","v":6546.1629999999996},{"$f":"[1]Cuadro!GK5","v":6880.3269999999993},{"$f":"[1]Cuadro!GL5","v":6844.5529999999999},{"$f":"[1]Cuadro!GM5","v":6290.62255},{"$f":"[1]Cuadro!GN5","v":7342.4030000000002},{"$f":"[1]Cuadro!GO5","v":7258.4600067391302},{"$f":"[1]Cuadro!GP5","v":7125.7910000000002},{"$f":"[1]Cuadro!GQ5","v":6627.8130000000001},{"$f":"[1]Cuadro!GR5","v":7261.6080000000002},{"$f":"[1]Cuadro!GS5","v":7005.0706666666665},{"$f":"[1]Cuadro!GT5","v":0},{"$f":"[1]Cuadro!GU5","v":0},{"$f":"[1]Cuadro!GV5","v":0},{"$f":"[1]Cuadro!GW5","v":0},{"$f":"[1]Cuadro!GX5","v":0},{"$f":"[1]Cuadro!GY5","v":0},{"$f":"[1]Cuadro!GZ5","v":0},{"$f":"[1]Cuadro!HA5","v":0},{"$f":"[1]Cuadro!HB5","v":0},{"$f":"[1]Cuadro!HC5","v":0}]
[{"$f":"[1]Cuadro!A6","v":"Compra ACP"},{"$f":"[1]Cuadro!FZ6","v":-37.393000000000001},{"$f":"[1]Cuadro!GA6","v":-74.739999999999995},{"$f":"[1]Cuadro!GB6","v":-46.304000000000002},{"$f":"[1]Cuadro!GC6","v":-55.869},{"$f":"[1]Cuadro!GD6","v":-43.807000000000002},{"$f":"[1]Cuadro!GE6","v":-52.527999999999999},{"$f":"[1]Cuadro!GF6","v":-62.582000000000001},{"$f":"[1]Cuadro!GG6","v":-50.395000000000003},{"$f":"[1]Cuadro!GH6","v":-49.698},{"$f":"[1]Cuadro!GI6","v":-50.673999999999999},{"$f":"[1]Cuadro!GJ6","v":-52.186999999999998},{"$f":"[1]Cuadro!GK6","v":-64.010999999999996},{"$f":"[1]Cuadro!GL6","v":-30.896999999999998},{"$f":"[1]Cuadro!GM6","v":-56.72},{"$f":"[1]Cuadro!GN6","v":-29.617999999999999},{"$f":"[1]Cuadro!GO6","v":-69.352000000000004},{"$f":"[1]Cuadro!GP6","v":-24.469000000000001},{"$f":"[1]Cuadro!GQ6","v":-9.1180000000000003},{"$f":"[1]Cuadro!GR6","v":-35.45676666666666},{"$f":"[1]Cuadro!GS6","v":-33.602753333333325},{"$f":"[1]Cuadro!GT6","v":0},{"$f":"[1]Cuadro!GU6","v":0},{"$f":"[1]Cuadro!GV6","v":0},{"$f":"[1]Cuadro!GW6","v":0},{"$f":"[1]Cuadro!GX6","v":0},{"$f":"[1]Cuadro!GY6","v":0},{"$f":"[1]Cuadro!GZ6","v":0},{"$f":"[1]Cuadro!HA6","v":0},{"$f":"[1]Cuadro!HB6","v":0},{"$f":"[1]Cuadro!HC6","v":0}]
[{"$f":"[1]Cuadro!A7","v":"Puntos Frontera con EDEMET"},{"$f":"[1]Cuadro!FZ7","v":0},{"$f":"[1]Cuadro!GA7","v":0},{"$f":"[1]Cuadro!GB7","v":0},{"$f":"[1]Cuadro!GC7","v":0},{"$f":"[1]Cuadro!GD7","v":0},{"$f":"[1]Cuadro!GE7","v":0},{"$f":"[1]Cuadro!GF7","v":0},{"$f":"[1]Cuadro!GG7","v":0},{"$f":"[1]Cuadro!GH7","v":0},{"$f":"[1]Cuadro!GI7","v":0},{"$f":"[1]Cuadro!GJ7","v":0},{"$f":"[1]Cuadro!GK7","v":0},{"$f":"[1]Cuadro!GL7","v":0},{"$f":"[1]Cuadro!GM7","v":0},{"$f":"[1]Cuadro!GN7","v":0},{"$f":"[1]Cuadro!GO7","v":0},{"$f":"[1]Cuadro!GP7","v":0},{"$f":"[1]Cuadro!GQ7","v":0},{"$f":"[1]Cuadro!GR7","v":0},{"$f":"[1]Cuadro!GS7","v":0},{"$f":"[1]Cuadro!GT7","v":0},{"$f":"[1]Cuadro!GU7","v":0},{"$f":"[1]Cuadro!GV7","v":0},{"$f":"[1]Cuadro!GW7","v":0},{"$f":"[1]Cuadro!GX7","v":0},{"$f":"[1]Cuadro!GY7","v":0},{"$f":"[1]Cuadro!GZ7","v":0},{"$f":"[1]Cuadro!HA7","v":0},{"$f":"[1]Cuadro!HB7","v":0},{"$f":"[1]Cuadro!HC7","v":0}]
[{"$f":"[1]Cuadro!A8","v":"Energia para Grandes Clientes Habilitados"},{"$f":"[1]Cuadro!FZ8","v":72588.295237400001},{"$f":"[1]Cuadro!GA8","v":69983.837289999996},{"$f":"[1]Cuadro!GB8","v":75307.488330699998},{"$f":"[1]Cuadro!GC8","v":72943.940081699999},{"$f":"[1]Cuadro!GD8","v":73627.365554200005},{"$f":"[1]Cuadro!GE8","v":65828.254454000009},{"$f":"[1]Cuadro!GF8","v":74538.165132099995},{"$f":"[1]Cuadro!GG8","v":75558.263527000003},{"$f":"[1]Cuadro!GH8","v":74690.684373199998},{"$f":"[1]Cuadro!GI8","v":73574.999514700001},{"$f":"[1]Cuadro!GJ8","v":72024.737191499997},{"$f":"[1]Cuadro!GK8","v":76425.466474399975},{"$f":"[1]Cuadro!GL8","v":72669.4616197},{"$f":"[1]Cuadro!GM8","v":69273.707524100013},{"$f":"[1]Cuadro!GN8","v":78693.835320900005},{"$f":"[1]Cuadro!GO8","v":69101.866937599989},{"$f":"[1]Cuadro!GP8","v":73786.742564200002},{"$f":"[1]Cuadro!GQ8","v":73023.473707799989},{"$f":"[1]Cuadro!GR8","v":75800.225229000003},{"$f":"[1]Cuadro!GS8","v":74206.706102039287},{"$f":"[1]Cuadro!GT8","v":0},{"$f":"[1]Cuadro!GU8","v":0},{"$f":"[1]Cuadro!GV8","v":0},{"$f":"[1]Cuadro!GW8","v":0},{"$f":"[1]Cuadro!GX8","v":0},{"$f":"[1]Cuadro!GY8","v":0},{"$f":"[1]Cuadro!GZ8","v":0},{"$f":"[1]Cuadro!HA8","v":0},{"$f":"[1]Cuadro!HB8","v":0},{"$f":"[1]Cuadro!HC8","v":0}]
[{"$f":"[1]Cuadro!A9","v":"Compra sin 115-11"},{"$f":"[1]Cuadro!FZ9","v":403319.92554359999},{"$f":"[1]Cuadro!GA9","v":371590.66555159999},{"$f":"[1]Cuadro!GB9","v":417162.55264520005},{"$f":"[1]Cuadro!GC9","v":408339.48308169999},{"$f":"[1]Cuadro!GD9","v":416954.97025660012},{"$f":"[1]Cuadro!GE9","v":382902.81077889993},{"$f":"[1]Cuadro!GF9","v":404058.76174439996},{"$f":"[1]Cuadro!GG9","v":403014.88368640002},{"$f":"[1]Cuadro!GH9","v":390139.98313010001},{"$f":"[1]Cuadro!GI9","v":394979.67573149991},{"$f":"[1]Cuadro!GJ9","v":364638.68781040004},{"$f":"[1]Cuadro!GK9","v":396745.03016849997},{"$f":"[1]Cuadro!GL9","v":394699.00294140005},{"$f":"[1]Cuadro!GM9","v":365109.23337850004},{"$f":"[1]Cuadro!GN9","v":406566.20368319988},{"$f":"[1]Cuadro!GO9","v":397788.08109693916},{"$f":"[1]Cuadro!GP9","v":405349.12353010016},{"$f":"[1]Cuadro!GQ9","v":385332.87591199996},{"$f":"[1]Cuadro!GR9","v":407642.63189793332},{"$f":"[1]Cuadro!GS9","v":397048.3732381583},{"$f":"[1]Cuadro!GT9","v":0},{"$f":"[1]Cuadro!GU9","v":0},{"$f":"[1]Cuadro!GV9","v":0},{"$f":"[1]Cuadro!GW9","v":0},{"$f":"[1]Cuadro!GX9","v":0},{"$f":"[1]Cuadro!GY9","v":0},{"$f":"[1]Cuadro!GZ9","v":0},{"$f":"[1]Cuadro!HA9","v":0},{"$f":"[1]Cuadro!HB9","v":0},{"$f":"[1]Cuadro!HC9","v":0}]
[{"$f":"[1]Cuadro!A10","v":"Energia hacia EDEMET (115-11)"},{"$f":"[1]Cuadro!FZ10","v":27744.332522100001},{"$f":"[1]Cuadro!GA10","v":23545.464859200001},{"$f":"[1]Cuadro!GB10","v":22604.591602100001},{"$f":"[1]Cuadro!GC10","v":24412.234779999999},{"$f":"[1]Cuadro!GD10","v":21497.845417799999},{"$f":"[1]Cuadro!GE10","v":30022.334200699999},{"$f":"[1]Cuadro!GF10","v":30096.406799299999},{"$f":"[1]Cuadro!GG10","v":29634.604128999999},{"$f":"[1]Cuadro!GH10","v":32100.617772099999},{"$f":"[1]Cuadro!GI10","v":28167.226827800001},{"$f":"[1]Cuadro!GJ10","v":5477.4516568999998},{"$f":"[1]Cuadro!GK10","v":21526.440166},{"$f":"[1]Cuadro!GL10","v":22458.317578300004},{"$f":"[1]Cuadro!GM10","v":20748.873693900005},{"$f":"[1]Cuadro!GN10","v":21688.657073499999},{"$f":"[1]Cuadro!GO10","v":20366.928271999997},{"$f":"[1]Cuadro!GP10","v":16837.998082900001},{"$f":"[1]Cuadro!GQ10","v":18695.493573599997},{"$f":"[1]Cuadro!GR10","v":18795.541182500001},{"$f":"[1]Cuadro!GS10","v":17347.607980475597},{"$f":"[1]Cuadro!GT10","v":0},{"$f":"[1]Cuadro!GU10","v":0},{"$f":"[1]Cuadro!GV10","v":0},{"$f":"[1]Cuadro!GW10","v":0},{"$f":"[1]Cuadro!GX10","v":0},{"$f":"[1]Cuadro!GY10","v":0},{"$f":"[1]Cuadro!GZ10","v":0},{"$f":"[1]Cuadro!HA10","v":0},{"$f":"[1]Cuadro!HB10","v":0},{"$f":"[1]Cuadro!HC10","v":0}]
[{"$f":"[1]Cuadro!A11","v":"COMPRA TOTAL"},{"$f":"[1]Cuadro!FZ11","v":431064.25806570001},{"$f":"[1]Cuadro!GA11","v":395136.13041079999},{"$f":"[1]Cuadro!GB11","v":439767.14424730005},{"$f":"[1]Cuadro!GC11","v":432751.71786169999},{"$f":"[1]Cuadro!GD11","v":438452.81567440013},{"$f":"[1]Cuadro!GE11","v":412925.14497959992},{"$f":"[1]Cuadro!GF11","v":434155.16854369995},{"$f":"[1]Cuadro!GG11","v":432649.4878154},{"$f":"[1]Cuadro!GH11","v":422240.60090219998},{"$f":"[1]Cuadro!GI11","v":423146.9025592999},{"$f":"[1]Cuadro!GJ11","v":370116.13946730003},{"$f":"[1]Cuadro!GK11","v":418271.47033449996},{"$f":"[1]Cuadro!GL11","v":417157.32051970006},{"$f":"[1]Cuadro!GM11","v":385858.10707240005},{"$f":"[1]Cuadro!GN11","v":428254.86075669987},{"$f":"[1]Cuadro!GO11","v":418155.00936893915},{"$f":"[1]Cuadro!GP11","v":422187.12161300017},{"$f":"[1]Cuadro!GQ11","v":404028.36948559998},{"$f":"[1]Cuadro!GR11","v":426438.17308043333},{"$f":"[1]Cuadro!GS11","v":414395.98121863388},{"$f":"[1]Cuadro!GT11","v":0},{"$f":"[1]Cuadro!GU11","v":0},{"$f":"[1]Cuadro!GV11","v":0},{"$f":"[1]Cuadro!GW11","v":0},{"$f":"[1]Cuadro!GX11","v":0},{"$f":"[1]Cuadro!GY11","v":0},{"$f":"[1]Cuadro!GZ11","v":0},{"$f":"[1]Cuadro!HA11","v":0},{"$f":"[1]Cuadro!HB11","v":0},{"$f":"[1]Cuadro!HC11","v":0}]
[]
[]
[]
[]
["mes","Compra total","año base"]
[{"$f":"TRANSPOSE(B3:AY3)","v":"2024-01-01"},{"$f":"TRANSPOSE(B11:AY11)","v":431064.25806570001},{"$f":"Parametros!C4","v":0}]
["2024-02-01",395136.13041079999,{"$f":"Parametros!C5","v":0}]
["2024-03-01",439767.14424730005,{"$f":"Parametros!C6","v":0}]
["2024-04-01",432751.71786169999,{"$f":"Parametros!C7","v":0}]
["2024-05-01",438452.81567440013,{"$f":"Parametros!C8","v":0}]
["2024-06-01",412925.14497959992,{"$f":"Parametros!C9","v":0}]
["2024-07-01",434155.16854369995,{"$f":"Parametros!C10","v":1}]
["2024-08-01",432649.4878154,{"$f":"Parametros!C11","v":1}]
["2024-09-01",422240.60090219998,{"$f":"Parametros!C12","v":1}]
["2024-10-01",423146.9025592999,{"$f":"Parametros!C13","v":1}]
["2024-11-01",370116.13946730003,{"$f":"Parametros!C14","v":1}]
["2024-12-01",418271.47033449996,{"$f":"Parametros!C15","v":1}]
["2025-01-01",417157.32051970006,{"$f":"Parametros!C16","v":1}]
["2025-02-01",385858.10707240005,{"$f":"Parametros!C17","v":1}]
["2025-03-01",428254.86075669987,{"$f":"Parametros!C18","v":1}]
["2025-04-01",418155.00936893915,{"$f":"Parametros!C19","v":1}]
["2025-05-01",422187.12161300017,{"$f":"Parametros!C20","v":1}]
["2025-06-01",404028.36948559998,{"$f":"Parametros!C21","v":1}]
["2025-07-01",426438.17308043333,{"$f":"Parametros!C22","v":0}]
["2025-08-01",414395.98121863388,{"$f":"Parametros!C23","v":0}]
["2025-09-01",0,{"$f":"Parametros!C24","v":0}]
["2025-10-01",0,{"$f":"Parametros!C25","v":0}]
["2025-11-01",0,{"$f":"Parametros!C26","v":0}]
["2025-12-01",0,{"$f":"Parametros!C27","v":0}]
["00:00:00",0,{"$f":"Parametros!C28","v":0}]
["00:00:00",0,{"$f":"Parametros!C29","v":0}]
["00:00:00",0,{"$f":"Parametros!C30","v":0}]
["00:00:00",0,{"$f":"Parametros!C31","v":0}]
["00:00:00",0,{"$f":"Parametros!C32","v":0}]
["00:00:00",0,{"$f":"Parametros!C33","v":0}]
["00:00:00",0,{"$f":"Parametros!C34","v":0}]
["00:00:00",0,{"$f":"Parametros!C35","v":0}]
["00:00:00",0,{"$f":"Parametros!C36","v":0}]
["00:00:00",0,{"$f":"Parametros!C37","v":0}]
["00:00:00",0,{"$f":"Parametros!C38","v":0}]
["00:00:00",0,{"$f":"Parametros!C39","v":0}]
["00:00:00",0,{"$f":"Parametros!C40","v":0}]
["00:00:00",0,{"$f":"Parametros!C41","v":0}]
["00:00:00",0,{"$f":"Parametros!C42","v":0}]
["00:00:00",0,{"$f":"Parametros!C43","v":0}]
["00:00:00",0,{"$f":"Parametros!C44","v":0}]
["00:00:00",0,{"$f":"Parametros!C45","v":0}]
["00:00:00",0,{"$f":"Parametros!C46","v":0}]
["00:00:00",0,{"$f":"Parametros!C47","v":0}]
["00:00:00",0,{"$f":"Parametros!C48","v":0}]
["00:00:00",0,{"$f":"Parametros!C49","v":0}]
["00:00:00",0,{"$f":"Parametros!C50","v":0}]
["00:00:00",0,{"$f":"Parametros!C51","v":0}]
["00:00:00",0,{"$f":"Parametros!C52","v":0}]
["00:00:00",0,{"$f":"Parametros!C53","v":0}]

{"sheet":"Info_Perdidas","index":2,"n_rows":45,"n_cols":9,"rows_kept":45,"cut":false,"hidden":false,"merged":[]}
[]
[]
[]
[]
[]
[]
[]
[null,"Pérdidas (MWh)"]
[null,"PT BT","PT MT","PT AT (sin Edemet)","PT Edemet","PT AT total","PNT","Total","Año base"]
["2024-01-01",{"$f":"SUM([2]Cuadro!AM103:AO103)","v":4300.1584177678023},{"$f":"SUM([2]Cuadro!AP103:AR103)","v":13693.563921589255},{"$f":"SUM([2]Cuadro!AS103:AU103)","v":2655.2930453556473},{"$f":"-([2]Cuadro!AE103-[2]Cuadro!B103)-[2]Cuadro!AD103","v":194.21032765469863},{"$f":"D10+E10","v":2849.503373010346},{"$f":"SUM([2]Cuadro!BN103:BP103)","v":29549.20147068784},{"$f":"SUM(B10:E10,G10)","v":50392.427183055246},{"$f":"Parametros!C4","v":0}]
["2024-02-01",{"$f":"SUM([2]Cuadro!AM104:AO104)","v":3592.639193758127},{"$f":"SUM([2]Cuadro!AP104:AR104)","v":12251.534536544161},{"$f":"SUM([2]Cuadro!AS104:AU104)","v":2401.6252147320192},{"$f":"-([2]Cuadro!AE104-[2]Cuadro!B104)-[2]Cuadro!AD104","v":164.81825401441529},{"$f":"D11+E11","v":2566.4434687464345},{"$f":"SUM([2]Cuadro!BN104:BP104)","v":13941.572446545384},{"$f":"SUM(B11:E11,G11)","v":32352.18964559411},{"$f":"Parametros!C5","v":0}]
["2024-03-01",{"$f":"SUM([2]Cuadro!AM105:AO105)","v":4608.7760782395517},{"$f":"SUM([2]Cuadro!AP105:AR105)","v":13425.329685054958},{"$f":"SUM([2]Cuadro!AS105:AU105)","v":2525.068276865873},{"$f":"-([2]Cuadro!AE105-[2]Cuadro!B105)-[2]Cuadro!AD105","v":158.23214121471756},2683.3004180805906,{"$f":"SUM([2]Cuadro!BN105:BP105)","v":26799.629047685281},47517.035229060377,{"$f":"Parametros!C6","v":0}]
["2024-04-01",{"$f":"SUM([2]Cuadro!AM106:AO106)","v":4344.0446605798852},{"$f":"SUM([2]Cuadro!AP106:AR106)","v":13502.37864386665},{"$f":"SUM([2]Cuadro!AS106:AU106)","v":2546.3238567816443},{"$f":"-([2]Cuadro!AE106-[2]Cuadro!B106)-[2]Cuadro!AD106","v":214.82766606397854},2761.1515228456228,{"$f":"SUM([2]Cuadro!BN106:BP106)","v":21100.749930130598},41708.324757422757,{"$f":"Parametros!C7","v":0}]
["2024-05-01",{"$f":"SUM([2]Cuadro!AM107:AO107)","v":4403.2464153597803},{"$f":"SUM([2]Cuadro!AP107:AR107)","v":13225.90915325766},{"$f":"SUM([2]Cuadro!AS107:AU107)","v":2624.2922120877774},{"$f":"-([2]Cuadro!AE107-[2]Cuadro!B107)-[2]Cuadro!AD107","v":189.18103967665229},2813.4732517644297,{"$f":"SUM([2]Cuadro!BN107:BP107)","v":26273.233485804765},46715.862306186638,{"$f":"Parametros!C8","v":0}]
["2024-06-01",{"$f":"SUM([2]Cuadro!AM108:AO108)","v":4098.1422179013352},{"$f":"SUM([2]Cuadro!AP108:AR108)","v":12683.117723912939},{"$f":"SUM([2]Cuadro!AS108:AU108)","v":2382.7340211056289},{"$f":"-([2]Cuadro!AE108-[2]Cuadro!B108)-[2]Cuadro!AD108","v":264.1965409661716},2646.9305620718005,{"$f":"SUM([2]Cuadro!BN108:BP108)","v":19246.654653650614},38674.845157536693,{"$f":"Parametros!C9","v":0}]
["2024-07-01",{"$f":"SUM([2]Cuadro!AM109:AO109)","v":4113.8124419371889},{"$f":"SUM([2]Cuadro!AP109:AR109)","v":12416.022654421726},{"$f":"SUM([2]Cuadro!AS109:AU109)","v":2597.6253876121482},{"$f":"-([2]Cuadro!AE109-[2]Cuadro!B109)-[2]Cuadro!AD109","v":264.84837983383477},2862.473767445983,{"$f":"SUM([2]Cuadro!BN109:BP109)","v":30102.247465374257},49494.556329179155,{"$f":"Parametros!C10","v":1}]
["2024-08-01",{"$f":"SUM([2]Cuadro!AM110:AO110)","v":4180.4311139995325},{"$f":"SUM([2]Cuadro!AP110:AR110)","v":12674.584651015302},{"$f":"SUM([2]Cuadro!AS110:AU110)","v":2196.9477717753616},{"$f":"-([2]Cuadro!AE110-[2]Cuadro!B110)-[2]Cuadro!AD110","v":260.78451633517761},2457.7322881105392,{"$f":"SUM([2]Cuadro!BN110:BP110)","v":22747.284477730926},42060.032530856304,{"$f":"Parametros!C11","v":1}]
["2024-09-01",{"$f":"SUM([2]Cuadro!AM111:AO111)","v":4052.987738769355},{"$f":"SUM([2]Cuadro!AP111:AR111)","v":12532.449934077595},{"$f":"SUM([2]Cuadro!AS111:AU111)","v":2387.5059812130062},{"$f":"-([2]Cuadro!AE111-[2]Cuadro!B111)-[2]Cuadro!AD111","v":282.48543639447234},2669.9914176074785,{"$f":"SUM([2]Cuadro!BN111:BP111)","v":18430.216878414896},37685.645968869328,{"$f":"Parametros!C12","v":1}]
["2024-10-01",{"$f":"SUM([2]Cuadro!AM112:AO112)","v":4086.1023816828178},{"$f":"SUM([2]Cuadro!AP112:AR112)","v":12338.223263779715},{"$f":"SUM([2]Cuadro!AS112:AU112)","v":2265.7959597882},{"$f":"-([2]Cuadro!AE112-[2]Cuadro!B112)-[2]Cuadro!AD112","v":247.87159608464572},2513.6675558728457,{"$f":"SUM([2]Cuadro!BN112:BP112)","v":25003.484752736185},43941.477954071568,{"$f":"Parametros!C13","v":1}]
["2024-11-01",{"$f":"SUM([2]Cuadro!AM113:AO113)","v":3501.1678534852781},{"$f":"SUM([2]Cuadro!AP113:AR113)","v":11595.277647554933},{"$f":"SUM([2]Cuadro!AS113:AU113)","v":2136.9988983285148},{"$f":"-([2]Cuadro!AE113-[2]Cuadro!B113)-[2]Cuadro!AD113","v":48.201574580738452},2185.2004729092532,{"$f":"SUM([2]Cuadro!BN113:BP113)","v":21424.640105734681},38706.286079684141,{"$f":"Parametros!C14","v":1}]
["2024-12-01",{"$f":"SUM([2]Cuadro!AM114:AO114)","v":3926.3515224882672},{"$f":"SUM([2]Cuadro!AP114:AR114)","v":13339.895199064937},{"$f":"SUM([2]Cuadro!AS114:AU114)","v":2600.7003128834767},{"$f":"-([2]Cuadro!AE114-[2]Cuadro!B114)-[2]Cuadro!AD114","v":189.4326734608112},2790.1329863442879,{"$f":"SUM([2]Cuadro!BN114:BP114)","v":20954.286637948986},41010.666345846475,{"$f":"Parametros!C15","v":1}]
["2025-01-01",{"$f":"SUM([2]Cuadro!AM115:AO115)","v":3646.5518069411951},{"$f":"SUM([2]Cuadro!AP115:AR115)","v":12254.561832005344},{"$f":"SUM([2]Cuadro!AS115:AU115)","v":2490.0190401024884},{"$f":"-([2]Cuadro!AE115-[2]Cuadro!B115)-[2]Cuadro!AD115","v":197.63319468900954},2687.6522347914979,{"$f":"SUM([2]Cuadro!BN115:BP115)","v":34558.576769355852},53147.342643093885,{"$f":"Parametros!C16","v":1}]
["2025-02-01",{"$f":"SUM([2]Cuadro!AM116:AO116)","v":3688.635259171896},{"$f":"SUM([2]Cuadro!AP116:AR116)","v":11423.077656614592},{"$f":"SUM([2]Cuadro!AS116:AU116)","v":2281.4267572118551},{"$f":"-([2]Cuadro!AE116-[2]Cuadro!B116)-[2]Cuadro!AD116","v":182.590088506342},2464.0168457181971,{"$f":"SUM([2]Cuadro!BN116:BP116)","v":11757.039097016088},29332.768858520772,{"$f":"Parametros!C17","v":1}]
["2025-03-01",{"$f":"SUM([2]Cuadro!AM117:AO117)","v":3850.406937666789},{"$f":"SUM([2]Cuadro!AP117:AR117)","v":12605.60857203362},{"$f":"SUM([2]Cuadro!AS117:AU117)","v":2483.0110654821619},{"$f":"-([2]Cuadro!AE117-[2]Cuadro!B117)-[2]Cuadro!AD117","v":190.86018224681538},2673.8712477289773,{"$f":"SUM([2]Cuadro!BN117:BP117)","v":31206.454166145355},50336.340923574739,{"$f":"Parametros!C18","v":1}]
["2025-04-01",{"$f":"SUM([2]Cuadro!AM118:AO118)","v":4143.2657515324872},{"$f":"SUM([2]Cuadro!AP118:AR118)","v":12983.763185579886},{"$f":"SUM([2]Cuadro!AS118:AU118)","v":2452.9322362996168},{"$f":"-([2]Cuadro!AE118-[2]Cuadro!B118)-[2]Cuadro!AD118","v":179.22896879362452},2632.1612050932413,{"$f":"SUM([2]Cuadro!BN118:BP118)","v":16592.579074437115},36351.76921664273,{"$f":"Parametros!C19","v":1}]
["2025-05-01",{"$f":"SUM([2]Cuadro!AM119:AO119)","v":4091.9558819105955},{"$f":"SUM([2]Cuadro!AP119:AR119)","v":13082.429984894901},{"$f":"SUM([2]Cuadro!AS119:AU119)","v":2454.299022369145},{"$f":"-([2]Cuadro!AE119-[2]Cuadro!B119)-[2]Cuadro!AD119","v":148.17438312953163},2602.4734054986766,{"$f":"SUM([2]Cuadro!BN119:BP119)","v":27105.278233059544},46882.137505363717,{"$f":"Parametros!C20","v":1}]
["2025-06-01",{"$f":"SUM([2]Cuadro!AM120:AO120)","v":3710.9299777870128},{"$f":"SUM([2]Cuadro!AP120:AR120)","v":12565.941213258406},{"$f":"SUM([2]Cuadro!AS120:AU120)","v":2304.0636267267982},{"$f":"-([2]Cuadro!AE120-[2]Cuadro!B120)-[2]Cuadro!AD120","v":164.52034344769345},2468.5839701744917,{"$f":"SUM([2]Cuadro!BN120:BP120)","v":19060.241849187973},37805.697010407879,{"$f":"Parametros!C21","v":1}]
["2025-07-01",{"$f":"SUM([2]Cuadro!AM121:AO121)","v":3872.797963059822},{"$f":"SUM([2]Cuadro!AP121:AR121)","v":13247.950733576145},{"$f":"SUM([2]Cuadro!AS121:AU121)","v":2443.0991851944705},{"$f":"-([2]Cuadro!AE121-[2]Cuadro!B121)-[2]Cuadro!AD121","v":165.40076240599228},2608.4999476004627,{"$f":"SUM([2]Cuadro!BN121:BP121)","v":28505.742993877724},48234.991638114152,{"$f":"Parametros!C22","v":0}]
["2025-08-01",{"$f":"SUM([2]Cuadro!AM122:AO122)","v":4057.405157019326},{"$f":"SUM([2]Cuadro!AP122:AR122)","v":12925.812264440272},{"$f":"SUM([2]Cuadro!AS122:AU122)","v":2087.9937643950107},{"$f":"-([2]Cuadro!AE122-[2]Cuadro!B122)-[2]Cuadro!AD122","v":153.23362628901668},2241.2273906840273,{"$f":"SUM([2]Cuadro!BN122:BP122)","v":17689.271989365836},36913.716801509465,{"$f":"Parametros!C23","v":0}]
["2025-09-01",{"$f":"SUM([2]Cuadro!AM123:AO123)","v":3710.9299777870128},{"$f":"SUM([2]Cuadro!AP123:AR123)","v":12565.941213258406},{"$f":"SUM([2]Cuadro!AS123:AU123)","v":2268.4934793041316},{"$f":"-([2]Cuadro!AE123-[2]Cuadro!B123)-[2]Cuadro!AD123","v":159.60592935232853},2428.0994086564601,{"$f":"SUM([2]Cuadro!BN123:BP123)","v":22675.965797961067},41380.936397662947,{"$f":"Parametros!C24","v":0}]
["2025-10-01",{"$f":"SUM([2]Cuadro!AM124:AO124)","v":4091.9558819105955},{"$f":"SUM([2]Cuadro!AP124:AR124)","v":13082.429984894901},{"$f":"SUM([2]Cuadro!AS124:AU124)","v":2454.299022369145},{"$f":"-([2]Cuadro!AE124-[2]Cuadro!B124)-[2]Cuadro!AD124","v":182.41050447664747},2636.7095268457924,{"$f":"SUM([2]Cuadro!BN124:BP124)","v":18778.437577800876},38589.532971452165,{"$f":"Parametros!C25","v":0}]
["2025-11-01",{"$f":"SUM([2]Cuadro!AM125:AO125)","v":0},{"$f":"SUM([2]Cuadro!AP125:AR125)","v":0},{"$f":"SUM([2]Cuadro!AS125:AU125)","v":0},{"$f":"-([2]Cuadro!AE125-[2]Cuadro!B125)-[2]Cuadro!AD125","v":0},0,{"$f":"SUM([2]Cuadro!BN125:BP125)","v":0},0,{"$f":"Parametros!C26","v":0}]
["2025-12-01",{"$f":"SUM([2]Cuadro!AM126:AO126)","v":0},{"$f":"SUM([2]Cuadro!AP126:AR126)","v":0},{"$f":"SUM([2]Cuadro!AS126:AU126)","v":0},{"$f":"-([2]Cuadro!AE126-[2]Cuadro!B126)-[2]Cuadro!AD126","v":0},0,{"$f":"SUM([2]Cuadro!BN126:BP126)","v":0},0,{"$f":"Parametros!C27","v":0}]
["2026-01-01",{"$f":"SUM([2]Cuadro!AM127:AO127)","v":0},{"$f":"SUM([2]Cuadro!AP127:AR127)","v":0},{"$f":"SUM([2]Cuadro!AS127:AU127)","v":0},{"$f":"-([2]Cuadro!AE127-[2]Cuadro!B127)-[2]Cuadro!AD127","v":0},0,{"$f":"SUM([2]Cuadro!BN127:BP127)","v":0},0,{"$f":"Parametros!C28","v":0}]
["2026-02-01",{"$f":"SUM([2]Cuadro!AM128:AO128)","v":0},{"$f":"SUM([2]Cuadro!AP128:AR128)","v":0},{"$f":"SUM([2]Cuadro!AS128:AU128)","v":0},{"$f":"-([2]Cuadro!AE128-[2]Cuadro!B128)-[2]Cuadro!AD128","v":0},0,{"$f":"SUM([2]Cuadro!BN128:BP128)","v":0},0,{"$f":"Parametros!C29","v":0}]
["2026-03-01",{"$f":"SUM([2]Cuadro!AM129:AO129)","v":0},{"$f":"SUM([2]Cuadro!AP129:AR129)","v":0},{"$f":"SUM([2]Cuadro!AS129:AU129)","v":0},{"$f":"-([2]Cuadro!AE129-[2]Cuadro!B129)-[2]Cuadro!AD129","v":0},0,{"$f":"SUM([2]Cuadro!BN129:BP129)","v":0},0,{"$f":"Parametros!C30","v":0}]
["2026-04-01"]
["2026-05-01"]
["2026-06-01"]
["2026-07-01"]
["2026-08-01"]
["2026-09-01"]
["2026-10-01"]
["2026-11-01"]
["2026-12-01"]

{"sheet":"Info_AP","index":3,"n_rows":49,"n_cols":4,"rows_kept":49,"cut":false,"hidden":false,"merged":[]}
[null,"AP"]
[null,"MWh"]
[null,"fuente: enviada a ASEP"]
[2020,{"$f":"'[3]Datos Operativos'!$G$46","v":75094.309000000008}]
[2021,{"$f":"'[3]Datos Operativos'!$H$46","v":82122}]
[2022]
[]
[]
[]
[]
[null,"AP","AP","Año base"]
[null,"MWh","MWh"]
[null,"(fuente: informes operativos)","Oficial a ASEP ajustada"]
["2024-01-01",{"$f":"SUM([2]Cuadro!E103:G103)","v":6747.6430000029413},{"$f":"B14","v":6747.6430000029413},{"$f":"Parametros!C4","v":0}]
["2024-02-01",{"$f":"SUM([2]Cuadro!E104:G104)","v":6716.8400000048014},{"$f":"B15","v":6716.8400000048014},{"$f":"Parametros!C5","v":0}]
["2024-03-01",{"$f":"SUM([2]Cuadro!E105:G105)","v":6724.18500000531},6724.18500000531,{"$f":"Parametros!C6","v":0}]
["2024-04-01",{"$f":"SUM([2]Cuadro!E106:G106)","v":6713.2490000056314},6713.2490000056314,{"$f":"Parametros!C7","v":0}]
["2024-05-01",{"$f":"SUM([2]Cuadro!E107:G107)","v":6702.5860000026769},6702.5860000026769,{"$f":"Parametros!C8","v":0}]
["2024-06-01",{"$f":"SUM([2]Cuadro!E108:G108)","v":6689.2320000028012},6689.2320000028012,{"$f":"Parametros!C9","v":0}]
["2024-07-01",{"$f":"SUM([2]Cuadro!E109:G109)","v":6675.7850000006711},6675.7850000006711,{"$f":"Parametros!C10","v":1}]
["2024-08-01",{"$f":"SUM([2]Cuadro!E110:G110)","v":6690.1860000000888},6690.1860000000888,{"$f":"Parametros!C11","v":1}]
["2024-09-01",{"$f":"SUM([2]Cuadro!E111:G111)","v":6714.9500000001726},6714.9500000001726,{"$f":"Parametros!C12","v":1}]
["2024-10-01",{"$f":"SUM([2]Cuadro!E112:G112)","v":6663.5419999998321},6663.5419999998321,{"$f":"Parametros!C13","v":1}]
["2024-11-01",{"$f":"SUM([2]Cuadro!E113:G113)","v":6680.6059999998197},6680.6059999998197,{"$f":"Parametros!C14","v":1}]
["2024-12-01",{"$f":"SUM([2]Cuadro!E114:G114)","v":6692.7069999965943},6692.7069999965943,{"$f":"Parametros!C15","v":1}]
["2025-01-01",{"$f":"SUM([2]Cuadro!E115:G115)","v":6693.5409999957355},6693.5409999957355,{"$f":"Parametros!C16","v":1}]
["2025-02-01",{"$f":"SUM([2]Cuadro!E116:G116)","v":6660.7389999951874},6660.7389999951874,{"$f":"Parametros!C17","v":1}]
["2025-03-01",{"$f":"SUM([2]Cuadro!E117:G117)","v":6662.4189999997316},6662.4189999997316,{"$f":"Parametros!C18","v":1}]
["2025-04-01",{"$f":"SUM([2]Cuadro!E118:G118)","v":6629.1639999997851},6629.1639999997851,{"$f":"Parametros!C19","v":1}]
["2025-05-01",{"$f":"SUM([2]Cuadro!E119:G119)","v":6579.8289999966191},6579.8289999966191,{"$f":"Parametros!C20","v":1}]
["2025-06-01",{"$f":"SUM([2]Cuadro!E120:G120)","v":6623.7910000004158},6623.7910000004158,{"$f":"Parametros!C21","v":1}]
["2025-07-01",{"$f":"SUM([2]Cuadro!E121:G121)","v":6623.7910000004158},6623.7910000004158,{"$f":"Parametros!C22","v":0}]
["2025-08-01",{"$f":"SUM([2]Cuadro!E122:G122)","v":6477.3050000005469},6477.3050000005469,{"$f":"Parametros!C23","v":0}]
["2025-09-01",{"$f":"SUM([2]Cuadro!E123:G123)","v":6474.6520000007749},6474.6520000007749,{"$f":"Parametros!C24","v":0}]
["2025-10-01",{"$f":"SUM([2]Cuadro!E124:G124)","v":6457.7720000011095},6457.7720000011095,{"$f":"Parametros!C25","v":0}]
["2025-11-01",{"$f":"SUM([2]Cuadro!E125:G125)","v":0},0,{"$f":"Parametros!C26","v":0}]
["2025-12-01",{"$f":"SUM([2]Cuadro!E126:G126)","v":0},0,{"$f":"Parametros!C27","v":0}]
["2026-01-01",{"$f":"SUM([2]Cuadro!E127:G127)","v":0},null,{"$f":"Parametros!C28","v":0}]
["2026-02-01",{"$f":"SUM([2]Cuadro!E128:G128)","v":0},null,{"$f":"Parametros!C29","v":0}]
["2026-03-01",{"$f":"SUM([2]Cuadro!E129:G129)","v":0},null,{"$f":"Parametros!C30","v":0}]
["2026-04-01",{"$f":"SUM([2]Cuadro!E130:G130)","v":0},null,{"$f":"Parametros!C31","v":0}]
["2026-05-01",{"$f":"SUM([2]Cuadro!E131:G131)","v":0},null,{"$f":"Parametros!C32","v":0}]
["2026-06-01",{"$f":"SUM([2]Cuadro!E132:G132)","v":0},null,{"$f":"Parametros!C33","v":0}]
["2026-07-01",{"$f":"SUM([2]Cuadro!E133:G133)","v":0},null,{"$f":"Parametros!C34","v":0}]
["2026-08-01",{"$f":"SUM([2]Cuadro!E134:G134)","v":0},null,{"$f":"Parametros!C35","v":0}]
["2026-09-01",{"$f":"SUM([2]Cuadro!E135:G135)","v":0},null,{"$f":"Parametros!C36","v":0}]
["2026-10-01",{"$f":"SUM([2]Cuadro!E136:G136)","v":0},null,{"$f":"Parametros!C37","v":0}]
["2026-11-01",{"$f":"SUM([2]Cuadro!E137:G137)","v":0},null,{"$f":"Parametros!C38","v":0}]
["2026-12-01",{"$f":"SUM([2]Cuadro!E138:G138)","v":0},null,{"$f":"Parametros!C39","v":0}]

{"sheet":"Datos","index":4,"n_rows":477,"n_cols":35,"rows_kept":477,"cut":false,"hidden":false,"merged":[]}
[null,null,"Empresa:",{"$f":"[4]DATOS!$B$3","v":"ENSA"}]
[null,null,"Período:",{"$f":"[4]DATOS!B4","v":"Jul 2024 - Jun 2025"}]
[]
[null,null,null,{"$f":"D2","v":"Jul 2024 - Jun 2025"}]
[null,null,"Cantidad semanas al año:",{"$f":"365/7","v":52.142857142857146}]
[null,null,"Horas semanales en punta:",{"$f":"COUNTIF('[5]Balance de Potencia'!$D$7:$D$678,\"P\")/4","v":40}]
[null,null,"Horas semanales fuera de punta:",{"$f":"24*7-D6","v":128}]
[]
[null,null,"Energía Inyectada (MWh)"]
[null,null,"AT",{"$f":"[5]INPUTS!$E$18/1000","v":4976220.5584387397}]
[null,null,"% ingresado en Horas Punta",{"$f":"SUMIFS([6]c_semana!$C$2:$C$673,'[5]Balance de Potencia'!$D$7:$D$678,\"P\")/SUM([6]c_semana!$C$2:$C$673)","v":0.27589508426745774}]
[null,null,"% ingresado en Horas Fuera Punta",{"$f":"1-D11","v":0.72410491573254232}]
[]
[null,null,"Potencias Máximas (MW)"]
[null,null,"Punta",{"$f":"MAX(IF('[5]Balance de Potencia'!$D$7:$D$678=\"P\",[6]c_semana!$C$2:$C$673))","v":686.19187190387811}]
[null,null,"Fuera de Punta",{"$f":"MAX(IF('[5]Balance de Potencia'!$D$7:$D$678<>\"P\",[6]c_semana!$C$2:$C$673))","v":628.83550482984924}]
[]
[null,null,"Pérdidas de Energía (%) Composición porcentual"]
[null,null,"Pérdida NT BT (%)",{"$f":"Balance!F7/SUM(Balance!$F$7,Balance!$F$8,Balance!$F$11,Balance!$F$14)","v":0.53704594506773429}]
[null,null,"Pérdida T BT (%)",{"$f":"Balance!F8/SUM(Balance!$F$7,Balance!$F$8,Balance!$F$11,Balance!$F$14)","v":9.5497061978668446E-2}]
[null,null,"Pérdida MT (%)",{"$f":"Balance!F11/SUM(Balance!$F$7,Balance!$F$8,Balance!$F$11,Balance!$F$14)","v":0.30444347777514402}]
[null,null,"Pérdida AT (%)",{"$f":"Balance!F14/SUM(Balance!$F$7,Balance!$F$8,Balance!$F$11,Balance!$F$14)","v":6.30135151784533E-2}]
[]
[null,null,"Tipos de medición","Energia"]
[null,null,null,"Pot_Max"]
[null,null,null,"Pot_Max_P"]
[null,null,null,"Pot_Max_FP"]
[]
[null,"Nivel tensión","Energía Facturada (MWh)",{"$f":"D4","v":"Jul 2024 - Jun 2025"}]
[{"$f":"$D$24","v":"Energia"},{"$f":"IF(C30=\"\",\"\",\"BT\")","v":"BT"},{"$f":"TRANSPOSE('[5]Balance de Potencia'!$H$5:$AB$6)","v":"BTS_R"},{"$f":"[4]DATOS!$P$5/1000","v":1406874.7287542946}]
[{"$f":"$D$24","v":"Energia"},"BT","BTS_O",{"$f":"[4]DATOS!$P$15/1000","v":381141.22224570561}]
["Energia","","",{"$f":"[4]DATOS!$P$25/1000","v":0}]
["Energia","BT","BTS_P1",{"$f":"[4]DATOS!$P$35/1000","v":89226.947769704973}]
["Energia","BT","BTS_P2",{"$f":"[4]DATOS!$P$45/1000","v":47887.337230295016}]
["Energia","BT","BTD",{"$f":"[4]DATOS!$P$55/1000","v":755497.79089817998}]
["Energia","BT","BTH",{"$f":"[4]DATOS!$P$65/1000","v":37461.646561799986}]
["Energia","BT","BTS_A",{"$f":"[4]DATOS!$P$75/1000","v":21133.550999999999}]
["Energia","BT","BTD_A",{"$f":"[4]DATOS!$P$85/1000","v":37819.454714840002}]
["Energia","",""]
["Energia","",""]
["Energia","",""]
["Energia","",""]
["Energia","",""]
["Energia","",""]
["Energia","",""]
["Energia","",""]
["Energia","",""]
["Energia","",""]
["Energia","",""]
["Energia","BT","AP",{"$f":"SUMPRODUCT(Info_AP!C14:C49,Info_AP!D14:D49)","v":79967.258999984653}]
["Energia",{"$f":"IF(C51=\"\",\"\",\"MT\")","v":""},{"$f":"TRANSPOSE('[5]Balance de Potencia'!$AF$5:$AY$6)","v":""}]
["Energia",{"$f":"IF(C52=\"\",\"\",\"MT\")","v":""},""]
["Energia","",""]
["Energia","",""]
["Energia","",""]
["Energia","",""]
["Energia","",""]
["Energia","",""]
["Energia","",""]
["Energia","MT","MTD",{"$f":"[4]DATOS!$P$95/1000","v":809543.24090848991}]
["Energia","MT","MTH",{"$f":"[4]DATOS!$P$105/1000","v":166401.29101690001}]
["Energia","",""]
["Energia","",""]
["Energia","",""]
["Energia","",""]
["Energia","",""]
["Energia","",""]
["Energia","",""]
["Energia","",""]
["Energia","",""]
["Energia",{"$f":"IF(C71=\"\",\"\",\"AT\")","v":""},{"$f":"TRANSPOSE('[5]Balance de Potencia'!$BB$5:$BU$6)","v":""}]
["Energia",{"$f":"IF(C72=\"\",\"\",\"AT\")","v":""},""]
["Energia","",""]
["Energia","",""]
["Energia","",""]
["Energia","",""]
["Energia","",""]
["Energia","",""]
["Energia","",""]
["Energia","",""]
["Energia","",""]
["Energia","",""]
["Energia","AT","ATD",{"$f":"[4]DATOS!$P$125/1000","v":64159.95900000001}]
["Energia","AT","ATH",{"$f":"[4]DATOS!$P$135/1000","v":319222.87856000004}]
["Energia","AT","EDEMET",{"$f":"[4]DATOS!$P$145/1000","v":267799.01599999995}]
["Energia","",""]
["Energia","",""]
["Energia","",""]
["Energia","",""]
["Energia","",""]
[null,null,"Total",{"$f":"SUM(D30:D90)","v":4484136.3236601939}]
[]
[]
[null,null,"Suma de potencias máximas leídas (promedio mensual)",{"$f":"D4","v":"Jul 2024 - Jun 2025"}]
[{"$f":"$D$25","v":"Pot_Max"},{"$f":"B30","v":"BT"},{"$f":"C30","v":"BTS_R"}]
[{"$f":"$D$25","v":"Pot_Max"},{"$f":"B31","v":"BT"},"BTS_O"]
["Pot_Max",{"$f":"B32","v":""},"",{"$f":"AVERAGE('[7]Data Real_comerc'!$AQ$129:$BB$129)+AVERAGE('[7]Data Real_comerc'!$AQ$150:$BB$150)","v":205.49366666666668}]
["Pot_Max",{"$f":"B33","v":"BT"},"BTS_P1"]
["Pot_Max",{"$f":"B34","v":"BT"},"BTS_P2"]
["Pot_Max",{"$f":"B35","v":"BT"},"BTD"]
["Pot_Max",{"$f":"B36","v":"BT"},"BTH"]
["Pot_Max",{"$f":"B37","v":"BT"},"BTS_A"]
["Pot_Max",{"$f":"B38","v":"BT"},"BTD_A"]
["Pot_Max",{"$f":"B39","v":""},""]
["Pot_Max",{"$f":"B40","v":""},""]
["Pot_Max",{"$f":"B41","v":""},""]
["Pot_Max",{"$f":"B42","v":""},""]
["Pot_Max",{"$f":"B43","v":""},""]
["Pot_Max",{"$f":"B44","v":""},""]
["Pot_Max",{"$f":"B45","v":""},""]
["Pot_Max",{"$f":"B46","v":""},""]
["Pot_Max",{"$f":"B47","v":""},""]
["Pot_Max",{"$f":"B48","v":""},""]
["Pot_Max",{"$f":"B49","v":""},""]
["Pot_Max",{"$f":"B50","v":"BT"},"AP"]
["Pot_Max",{"$f":"B51","v":""},""]
["Pot_Max",{"$f":"B52","v":""},""]
["Pot_Max",{"$f":"B53","v":""},""]
["Pot_Max",{"$f":"B54","v":""},""]
["Pot_Max",{"$f":"B55","v":""},""]
["Pot_Max",{"$f":"B56","v":""},""]
["Pot_Max",{"$f":"B57","v":""},"",{"$f":"AVERAGE('[7]Data Real_comerc'!$AQ$133:$BB$133)+AVERAGE('[7]Data Real_comerc'!$AQ$156:$BB$156)","v":150.16566666666665}]
["Pot_Max",{"$f":"B58","v":""},""]
["Pot_Max",{"$f":"B59","v":""},""]
["Pot_Max",{"$f":"B60","v":"MT"},"MTD"]
["Pot_Max",{"$f":"B61","v":"MT"},"MTH"]
["Pot_Max",{"$f":"B62","v":""},""]
["Pot_Max",{"$f":"B63","v":""},""]
["Pot_Max",{"$f":"B64","v":""},""]
["Pot_Max",{"$f":"B65","v":""},""]
["Pot_Max",{"$f":"B66","v":""},""]
["Pot_Max",{"$f":"B67","v":""},""]
["Pot_Max",{"$f":"B68","v":""},""]
["Pot_Max",{"$f":"B69","v":""},""]
["Pot_Max",{"$f":"B70","v":""},""]
["Pot_Max",{"$f":"B71","v":""},""]
["Pot_Max",{"$f":"B72","v":""},""]
["Pot_Max",{"$f":"B73","v":""},""]
["Pot_Max",{"$f":"B74","v":""},""]
["Pot_Max",{"$f":"B75","v":""},""]
["Pot_Max",{"$f":"B76","v":""},""]
["Pot_Max",{"$f":"B77","v":""},""]
["Pot_Max",{"$f":"B78","v":""},""]
["Pot_Max",{"$f":"B79","v":""},""]
["Pot_Max",{"$f":"B80","v":""},""]
["Pot_Max",{"$f":"B81","v":""},"",{"$f":"AVERAGE('[7]Data Real_comerc'!$AQ$136:$BB$136)+AVERAGE('[7]Data Real_comerc'!$AQ$162:$BB$162)","v":9.0497499999999995}]
["Pot_Max",{"$f":"B82","v":""},""]
["Pot_Max",{"$f":"B83","v":"AT"},"ATD"]
["Pot_Max",{"$f":"B84","v":"AT"},"ATH"]
["Pot_Max",{"$f":"B85","v":"AT"},"EDEMET",{"$f":"AVERAGE('[7]Data Real_comerc'!$AQ$168:$BB$168)","v":62.019416666666672}]
["Pot_Max",{"$f":"B86","v":""},""]
["Pot_Max",{"$f":"B87","v":""},""]
["Pot_Max",{"$f":"B88","v":""},""]
["Pot_Max",{"$f":"B89","v":""},""]
["Pot_Max",{"$f":"B90","v":""},""]
[]
[]
[null,null,"Suma de potencias en horas de punta máximas leídas (promedio mensual)",{"$f":"D4","v":"Jul 2024 - Jun 2025"}]
[{"$f":"$D$26","v":"Pot_Max_P"},{"$f":"B30","v":"BT"},{"$f":"C30","v":"BTS_R"}]
[{"$f":"$D$26","v":"Pot_Max_P"},{"$f":"B31","v":"BT"},"BTS_O"]
["Pot_Max_P",{"$f":"B32","v":""},""]
["Pot_Max_P",{"$f":"B33","v":"BT"},"BTS_P1",{"$f":"AVERAGE('[7]Data Real_comerc'!$AQ$138:$BB$138)+AVERAGE('[7]Data Real_comerc'!$AQ$152:$BB$152)","v":2.1462499999999998}]
["Pot_Max_P",{"$f":"B34","v":"BT"},"BTS_P2"]
["Pot_Max_P",{"$f":"B35","v":"BT"},"BTD"]
["Pot_Max_P",{"$f":"B36","v":"BT"},"BTH"]
["Pot_Max_P",{"$f":"B37","v":"BT"},"BTS_A"]
["Pot_Max_P",{"$f":"B38","v":"BT"},"BTD_A"]
["Pot_Max_P",{"$f":"B39","v":""},""]
["Pot_Max_P",{"$f":"B40","v":""},""]
["Pot_Max_P",{"$f":"B41","v":""},""]
["Pot_Max_P",{"$f":"B42","v":""},""]
["Pot_Max_P",{"$f":"B43","v":""},""]
["Pot_Max_P",{"$f":"B44","v":""},""]
["Pot_Max_P",{"$f":"B45","v":""},""]
["Pot_Max_P",{"$f":"B46","v":""},""]
["Pot_Max_P",{"$f":"B47","v":""},""]
["Pot_Max_P",{"$f":"B48","v":""},""]
["Pot_Max_P",{"$f":"B49","v":""},""]
["Pot_Max_P",{"$f":"B50","v":"BT"},"AP"]
["Pot_Max_P",{"$f":"B51","v":""},""]
["Pot_Max_P",{"$f":"B52","v":""},""]
["Pot_Max_P",{"$f":"B53","v":""},""]
["Pot_Max_P",{"$f":"B54","v":""},""]
["Pot_Max_P",{"$f":"B55","v":""},""]
["Pot_Max_P",{"$f":"B56","v":""},""]
["Pot_Max_P",{"$f":"B57","v":""},""]
["Pot_Max_P",{"$f":"B58","v":""},"",{"$f":"AVERAGE('[7]Data Real_comerc'!$AQ$142:$BB$142)+AVERAGE('[7]Data Real_comerc'!$AQ$158:$BB$158)","v":29.833416666666665}]
["Pot_Max_P",{"$f":"B59","v":""},""]
["Pot_Max_P",{"$f":"B60","v":"MT"},"MTD"]
["Pot_Max_P",{"$f":"B61","v":"MT"},"MTH"]
["Pot_Max_P",{"$f":"B62","v":""},""]
["Pot_Max_P",{"$f":"B63","v":""},""]
["Pot_Max_P",{"$f":"B64","v":""},""]
["Pot_Max_P",{"$f":"B65","v":""},""]
["Pot_Max_P",{"$f":"B66","v":""},""]
["Pot_Max_P",{"$f":"B67","v":""},""]
["Pot_Max_P",{"$f":"B68","v":""},""]
["Pot_Max_P",{"$f":"B69","v":""},""]
["Pot_Max_P",{"$f":"B70","v":""},""]
["Pot_Max_P",{"$f":"B71","v":""},""]
["Pot_Max_P",{"$f":"B72","v":""},""]
["Pot_Max_P",{"$f":"B73","v":""},""]
["Pot_Max_P",{"$f":"B74","v":""},""]
["Pot_Max_P",{"$f":"B75","v":""},""]
["Pot_Max_P",{"$f":"B76","v":""},""]
["Pot_Max_P",{"$f":"B77","v":""},""]
["Pot_Max_P",{"$f":"B78","v":""},""]
["Pot_Max_P",{"$f":"B79","v":""},""]
["Pot_Max_P",{"$f":"B80","v":""},""]
["Pot_Max_P",{"$f":"B81","v":""},""]
["Pot_Max_P",{"$f":"B82","v":""},"",{"$f":"AVERAGE('[7]Data Real_comerc'!$AQ$146:$BB$146)+AVERAGE('[7]Data Real_comerc'!$AQ$164:$BB$164)","v":38.070750000000004}]
["Pot_Max_P",{"$f":"B83","v":"AT"},"ATD"]
["Pot_Max_P",{"$f":"B84","v":"AT"},"ATH"]
["Pot_Max_P",{"$f":"B85","v":"AT"},"EDEMET"]
["Pot_Max_P",{"$f":"B86","v":""},""]
["Pot_Max_P",{"$f":"B87","v":""},""]
["Pot_Max_P",{"$f":"B88","v":""},""]
["Pot_Max_P",{"$f":"B89","v":""},""]
["Pot_Max_P",{"$f":"B90","v":""},""]
[]
[]
[null,null,"Suma de potencias en horas fuera de punta máximas leídas (promedio mensual)",{"$f":"D4","v":"Jul 2024 - Jun 2025"}]
[{"$f":"$D$27","v":"Pot_Max_FP"},{"$f":"B30","v":"BT"},{"$f":"C30","v":"BTS_R"}]
[{"$f":"$D$27","v":"Pot_Max_FP"},{"$f":"B31","v":"BT"},"BTS_O"]
["Pot_Max_FP",{"$f":"B32","v":""},""]
["Pot_Max_FP",{"$f":"B33","v":"BT"},"BTS_P1",{"$f":"AVERAGE('[7]Data Real_comerc'!$AQ$139:$BB$139)+AVERAGE('[7]Data Real_comerc'!$AQ$153:$BB$153)","v":2.8749999999999996}]
["Pot_Max_FP",{"$f":"B34","v":"BT"},"BTS_P2"]
["Pot_Max_FP",{"$f":"B35","v":"BT"},"BTD"]
["Pot_Max_FP",{"$f":"B36","v":"BT"},"BTH"]
["Pot_Max_FP",{"$f":"B37","v":"BT"},"BTS_A"]
["Pot_Max_FP",{"$f":"B38","v":"BT"},"BTD_A"]
["Pot_Max_FP",{"$f":"B39","v":""},""]
["Pot_Max_FP",{"$f":"B40","v":""},""]
["Pot_Max_FP",{"$f":"B41","v":""},""]
["Pot_Max_FP",{"$f":"B42","v":""},""]
["Pot_Max_FP",{"$f":"B43","v":""},""]
["Pot_Max_FP",{"$f":"B44","v":""},""]
["Pot_Max_FP",{"$f":"B45","v":""},""]
["Pot_Max_FP",{"$f":"B46","v":""},""]
["Pot_Max_FP",{"$f":"B47","v":""},""]
["Pot_Max_FP",{"$f":"B48","v":""},""]
["Pot_Max_FP",{"$f":"B49","v":""},""]
["Pot_Max_FP",{"$f":"B50","v":"BT"},"AP"]
["Pot_Max_FP",{"$f":"B51","v":""},""]
["Pot_Max_FP",{"$f":"B52","v":""},""]
["Pot_Max_FP",{"$f":"B53","v":""},""]
["Pot_Max_FP",{"$f":"B54","v":""},""]
["Pot_Max_FP",{"$f":"B55","v":""},""]
["Pot_Max_FP",{"$f":"B56","v":""},""]
["Pot_Max_FP",{"$f":"B57","v":""},""]
["Pot_Max_FP",{"$f":"B58","v":""},"",{"$f":"AVERAGE('[7]Data Real_comerc'!$AQ$143:$BB$143)+AVERAGE('[7]Data Real_comerc'!$AQ$159:$BB$159)","v":29.793416666666666}]
["Pot_Max_FP",{"$f":"B59","v":""},""]
["Pot_Max_FP",{"$f":"B60","v":"MT"},"MTD"]
["Pot_Max_FP",{"$f":"B61","v":"MT"},"MTH"]
["Pot_Max_FP",{"$f":"B62","v":""},""]
["Pot_Max_FP",{"$f":"B63","v":""},""]
["Pot_Max_FP",{"$f":"B64","v":""},""]
["Pot_Max_FP",{"$f":"B65","v":""},""]
["Pot_Max_FP",{"$f":"B66","v":""},""]
["Pot_Max_FP",{"$f":"B67","v":""},""]
["Pot_Max_FP",{"$f":"B68","v":""},""]
["Pot_Max_FP",{"$f":"B69","v":""},""]
["Pot_Max_FP",{"$f":"B70","v":""},""]
["Pot_Max_FP",{"$f":"B71","v":""},""]
["Pot_Max_FP",{"$f":"B72","v":""},""]
["Pot_Max_FP",{"$f":"B73","v":""},""]
["Pot_Max_FP",{"$f":"B74","v":""},""]
["Pot_Max_FP",{"$f":"B75","v":""},""]
["Pot_Max_FP",{"$f":"B76","v":""},""]
["Pot_Max_FP",{"$f":"B77","v":""},""]
["Pot_Max_FP",{"$f":"B78","v":""},""]
["Pot_Max_FP",{"$f":"B79","v":""},""]
["Pot_Max_FP",{"$f":"B80","v":""},""]
["Pot_Max_FP",{"$f":"B81","v":""},""]
["Pot_Max_FP",{"$f":"B82","v":""},"",{"$f":"AVERAGE('[7]Data Real_comerc'!$AQ$147:$BB$147)+AVERAGE('[7]Data Real_comerc'!$AQ$165:$BB$165)","v":38.00416666666667}]
["Pot_Max_FP",{"$f":"B83","v":"AT"},"ATD"]
["Pot_Max_FP",{"$f":"B84","v":"AT"},"ATH"]
["Pot_Max_FP",{"$f":"B85","v":"AT"},"EDEMET"]
["Pot_Max_FP",{"$f":"B86","v":""},""]
["Pot_Max_FP",{"$f":"B87","v":""},""]
["Pot_Max_FP",{"$f":"B88","v":""},""]
["Pot_Max_FP",{"$f":"B89","v":""},""]
["Pot_Max_FP",{"$f":"B90","v":""},""]
[]
[]
[null,null,"Factores Tarifarios"]
[null,"Grupo Homogeneo",null,{"$f":"TRANSPOSE([4]Estimadores!$B$7:$B$38)","v":"rp"},"rr","rv","FC","FSI","FSIP","FSIFP","FSE-BT","FSE-MT","FSE-AT","FSE-BT-P","FSE-MT-P","FSE-AT-P","FSE-BT-FP","FSE-MT-FP","FSE-AT-FP","FCT-BT","FCT-MT","FCT-AT","FdP","FSE-BT-P'","FSE-MT-P'","FSE-AT-P'","FSE-BT-FP'","FSE-MT-FP'","FSE-AT-FP'","FSI-P''","FSI-FP''","FC-P'''","FC-FP'''","Pmax/PMaxP","Pmax/PMaxFP"]
[null,"BTS_R",{"$f":"C223","v":"BTS_R"},{"$f":"IFERROR(INDEX([4]Estimadores!$D$7:$AB$38,MATCH(D$287,[4]Estimadores!$B$7:$B$38,0),MATCH($B288,[4]Estimadores!$D$6:$AB$6,0)),\"-\")","v":0.21478174799402064},{"$f":"IFERROR(INDEX([4]Estimadores!$D$7:$AB$38,MATCH(E$287,[4]Estimadores!$B$7:$B$38,0),MATCH($B288,[4]Estimadores!$D$6:$AB$6,0)),\"-\")","v":0.30356567395557021},{"$f":"IFERROR(INDEX([4]Estimadores!$D$7:$AB$38,MATCH(F$287,[4]Estimadores!$B$7:$B$38,0),MATCH($B288,[4]Estimadores!$D$6:$AB$6,0)),\"-\")","v":0.48165257805040873},{"$f":"IFERROR(INDEX([4]Estimadores!$D$7:$AB$38,MATCH(G$287,[4]Estimadores!$B$7:$B$38,0),MATCH($B288,[4]Estimadores!$D$6:$AB$6,0)),\"-\")","v":0.75947188231275631},{"$f":"IFERROR(INDEX([4]Estimadores!$D$7:$AB$38,MATCH(H$287,[4]Estimadores!$B$7:$B$38,0),MATCH($B288,[4]Estimadores!$D$6:$AB$6,0)),\"-\")","v":0.36333208433554531},{"$f":"IFERROR(INDEX([4]Estimadores!$D$7:$AB$38,MATCH(I$287,[4]Estimadores!$B$7:$B$38,0),MATCH($B288,[4]Estimadores!$D$6:$AB$6,0)),\"-\")","v":0.41374245059992631},{"$f":"IFERROR(INDEX([4]Estimadores!$D$7:$AB$38,MATCH(J$287,[4]Estimadores!$B$7:$B$38,0),MATCH($B288,[4]Estimadores!$D$6:$AB$6,0)),\"-\")","v":0.35410087043083727},{"$f":"IFERROR(INDEX([4]Estimadores!$D$7:$AB$38,MATCH(K$287,[4]Estimadores!$B$7:$B$38,0),MATCH($B288,[4]Estimadores!$D$6:$AB$6,0)),\"-\")","v":0.75443958887084461},{"$f":"IFERROR(INDEX([4]Estimadores!$D$7:$AB$38,MATCH(L$287,[4]Estimadores!$B$7:$B$38,0),MATCH($B288,[4]Estimadores!$D$6:$AB$6,0)),\"-\")","v":0.74669082350104854},{"$f":"IFERROR(INDEX([4]Estimadores!$D$7:$AB$38,MATCH(M$287,[4]Estimadores!$B$7:$B$38,0),MATCH($B288,[4]Estimadores!$D$6:$AB$6,0)),\"-\")","v":0.74669082350104854},{"$f":"IFERROR(INDEX([4]Estimadores!$D$7:$AB$38,MATCH(N$287,[4]Estimadores!$B$7:$B$38,0),MATCH($B288,[4]Estimadores!$D$6:$AB$6,0)),\"-\")","v":0.93384565576720802},{"$f":"IFERROR(INDEX([4]Estimadores!$D$7:$AB$38,MATCH(O$287,[4]Estimadores!$B$7:$B$38,0),MATCH($B288,[4]Estimadores!$D$6:$AB$6,0)),\"-\")","v":0.92425423057573097},{"$f":"IFERROR(INDEX([4]Estimadores!$D$7:$AB$38,MATCH(P$287,[4]Estimadores!$B$7:$B$38,0),MATCH($B288,[4]Estimadores!$D$6:$AB$6,0)),\"-\")","v":0.92425423057573097},{"$f":"IFERROR(INDEX([4]Estimadores!$D$7:$AB$38,MATCH(Q$287,[4]Estimadores!$B$7:$B$38,0),MATCH($B288,[4]Estimadores!$D$6:$AB$6,0)),\"-\")","v":0.94035300030307056},{"$f":"IFERROR(INDEX([4]Estimadores!$D$7:$AB$38,MATCH(R$287,[4]Estimadores!$B$7:$B$38,0),MATCH($B288,[4]Estimadores!$D$6:$AB$6,0)),\"-\")","v":0.94035300030307056},{"$f":"IFERROR(INDEX([4]Estimadores!$D$7:$AB$38,MATCH(S$287,[4]Estimadores!$B$7:$B$38,0),MATCH($B288,[4]Estimadores!$D$6:$AB$6,0)),\"-\")","v":0.67799539909769213},{"$f":"IFERROR(INDEX([4]Estimadores!$D$7:$AB$38,MATCH(T$287,[4]Estimadores!$B$7:$B$38,0),MATCH($B288,[4]Estimadores!$D$6:$AB$6,0)),\"-\")","v":0.27411210832969585},{"$f":"IFERROR(INDEX([4]Estimadores!$D$7:$AB$38,MATCH(U$287,[4]Estimadores!$B$7:$B$38,0),MATCH($B288,[4]Estimadores!$D$6:$AB$6,0)),\"-\")","v":0.27129673325686071},{"$f":"IFERROR(INDEX([4]Estimadores!$D$7:$AB$38,MATCH(V$287,[4]Estimadores!$B$7:$B$38,0),MATCH($B288,[4]Estimadores!$D$6:$AB$6,0)),\"-\")","v":0.27129673325686071},{"$f":"IFERROR(INDEX([4]Estimadores!$D$7:$AB$38,MATCH(W$287,[4]Estimadores!$B$7:$B$38,0),MATCH($B288,[4]Estimadores!$D$6:$AB$6,0)),\"-\")","v":"-"},{"$f":"IFERROR(INDEX([4]Estimadores!$D$7:$AB$38,MATCH(X$287,[4]Estimadores!$B$7:$B$38,0),MATCH($B288,[4]Estimadores!$D$6:$AB$6,0)),\"-\")","v":0.75443958887084461},{"$f":"IFERROR(INDEX([4]Estimadores!$D$7:$AB$38,MATCH(Y$287,[4]Estimadores!$B$7:$B$38,0),MATCH($B288,[4]Estimadores!$D$6:$AB$6,0)),\"-\")","v":0.74669082350104854},{"$f":"IFERROR(INDEX([4]Estimadores!$D$7:$AB$38,MATCH(Z$287,[4]Estimadores!$B$7:$B$38,0),MATCH($B288,[4]Estimadores!$D$6:$AB$6,0)),\"-\")","v":0.74669082350104854},{"$f":"IFERROR(INDEX([4]Estimadores!$D$7:$AB$38,MATCH(AA$287,[4]Estimadores!$B$7:$B$38,0),MATCH($B288,[4]Estimadores!$D$6:$AB$6,0)),\"-\")","v":0.87679755503353052},{"$f":"IFERROR(INDEX([4]Estimadores!$D$7:$AB$38,MATCH(AB$287,[4]Estimadores!$B$7:$B$38,0),MATCH($B288,[4]Estimadores!$D$6:$AB$6,0)),\"-\")","v":0.87679755503353052},{"$f":"IFERROR(INDEX([4]Estimadores!$D$7:$AB$38,MATCH(AC$287,[4]Estimadores!$B$7:$B$38,0),MATCH($B288,[4]Estimadores!$D$6:$AB$6,0)),\"-\")","v":0.63217186318461949},{"$f":"IFERROR(INDEX([4]Estimadores!$D$7:$AB$38,MATCH(AD$287,[4]Estimadores!$B$7:$B$38,0),MATCH($B288,[4]Estimadores!$D$6:$AB$6,0)),\"-\")","v":0.2935304208322273},{"$f":"IFERROR(INDEX([4]Estimadores!$D$7:$AB$38,MATCH(AE$287,[4]Estimadores!$B$7:$B$38,0),MATCH($B288,[4]Estimadores!$D$6:$AB$6,0)),\"-\")","v":0.33877563330788513},{"$f":"IFERROR(INDEX([4]Estimadores!$D$7:$AB$38,MATCH(AF$287,[4]Estimadores!$B$7:$B$38,0),MATCH($B288,[4]Estimadores!$D$6:$AB$6,0)),\"-\")","v":0.84802566428955295},{"$f":"IFERROR(INDEX([4]Estimadores!$D$7:$AB$38,MATCH(AG$287,[4]Estimadores!$B$7:$B$38,0),MATCH($B288,[4]Estimadores!$D$6:$AB$6,0)),\"-\")","v":0.83944642190019014},{"$f":"IFERROR(INDEX([4]Estimadores!$D$7:$AB$38,MATCH(AH$287,[4]Estimadores!$B$7:$B$38,0),MATCH($B288,[4]Estimadores!$D$6:$AB$6,0)),\"-\")","v":1.2378004409403769},{"$f":"IFERROR(INDEX([4]Estimadores!$D$7:$AB$38,MATCH(AI$287,[4]Estimadores!$B$7:$B$38,0),MATCH($B288,[4]Estimadores!$D$6:$AB$6,0)),\"-\")","v":1.0724858833201349}]
[null,"BTS_O",{"$f":"C224","v":"BTS_O"},{"$f":"IFERROR(INDEX([4]Estimadores!$D$7:$AB$38,MATCH(D$287,[4]Estimadores!$B$7:$B$38,0),MATCH($B289,[4]Estimadores!$D$6:$AB$6,0)),\"-\")","v":0.38521108368710782},{"$f":"IFERROR(INDEX([4]Estimadores!$D$7:$AB$38,MATCH(E$287,[4]Estimadores!$B$7:$B$38,0),MATCH($B289,[4]Estimadores!$D$6:$AB$6,0)),\"-\")","v":0.25857294513046891},{"$f":"IFERROR(INDEX([4]Estimadores!$D$7:$AB$38,MATCH(F$287,[4]Estimadores!$B$7:$B$38,0),MATCH($B289,[4]Estimadores!$D$6:$AB$6,0)),\"-\")","v":0.35621597118242299},{"$f":"IFERROR(INDEX([4]Estimadores!$D$7:$AB$38,MATCH(G$287,[4]Estimadores!$B$7:$B$38,0),MATCH($B289,[4]Estimadores!$D$6:$AB$6,0)),\"-\")","v":0.55196584975399421},{"$f":"IFERROR(INDEX([4]Estimadores!$D$7:$AB$38,MATCH(H$287,[4]Estimadores!$B$7:$B$38,0),MATCH($B289,[4]Estimadores!$D$6:$AB$6,0)),\"-\")","v":0.61772502592794498},{"$f":"IFERROR(INDEX([4]Estimadores!$D$7:$AB$38,MATCH(I$287,[4]Estimadores!$B$7:$B$38,0),MATCH($B289,[4]Estimadores!$D$6:$AB$6,0)),\"-\")","v":0.69594316993508609},{"$f":"IFERROR(INDEX([4]Estimadores!$D$7:$AB$38,MATCH(J$287,[4]Estimadores!$B$7:$B$38,0),MATCH($B289,[4]Estimadores!$D$6:$AB$6,0)),\"-\")","v":0.57402036866598694},{"$f":"IFERROR(INDEX([4]Estimadores!$D$7:$AB$38,MATCH(K$287,[4]Estimadores!$B$7:$B$38,0),MATCH($B289,[4]Estimadores!$D$6:$AB$6,0)),\"-\")","v":0.92351475303937691},{"$f":"IFERROR(INDEX([4]Estimadores!$D$7:$AB$38,MATCH(L$287,[4]Estimadores!$B$7:$B$38,0),MATCH($B289,[4]Estimadores!$D$6:$AB$6,0)),\"-\")","v":0.94355066105256835},{"$f":"IFERROR(INDEX([4]Estimadores!$D$7:$AB$38,MATCH(M$287,[4]Estimadores!$B$7:$B$38,0),MATCH($B289,[4]Estimadores!$D$6:$AB$6,0)),\"-\")","v":0.94355066105256835},{"$f":"IFERROR(INDEX([4]Estimadores!$D$7:$AB$38,MATCH(N$287,[4]Estimadores!$B$7:$B$38,0),MATCH($B289,[4]Estimadores!$D$6:$AB$6,0)),\"-\")","v":0.92351475303937691},{"$f":"IFERROR(INDEX([4]Estimadores!$D$7:$AB$38,MATCH(O$287,[4]Estimadores!$B$7:$B$38,0),MATCH($B289,[4]Estimadores!$D$6:$AB$6,0)),\"-\")","v":0.94355066105256835},{"$f":"IFERROR(INDEX([4]Estimadores!$D$7:$AB$38,MATCH(P$287,[4]Estimadores!$B$7:$B$38,0),MATCH($B289,[4]Estimadores!$D$6:$AB$6,0)),\"-\")","v":0.94355066105256835},{"$f":"IFERROR(INDEX([4]Estimadores!$D$7:$AB$38,MATCH(Q$287,[4]Estimadores!$B$7:$B$38,0),MATCH($B289,[4]Estimadores!$D$6:$AB$6,0)),\"-\")","v":0.68570107413337245},{"$f":"IFERROR(INDEX([4]Estimadores!$D$7:$AB$38,MATCH(R$287,[4]Estimadores!$B$7:$B$38,0),MATCH($B289,[4]Estimadores!$D$6:$AB$6,0)),\"-\")","v":0.68570107413337245},{"$f":"IFERROR(INDEX([4]Estimadores!$D$7:$AB$38,MATCH(S$287,[4]Estimadores!$B$7:$B$38,0),MATCH($B289,[4]Estimadores!$D$6:$AB$6,0)),\"-\")","v":0.95765550592366444},{"$f":"IFERROR(INDEX([4]Estimadores!$D$7:$AB$38,MATCH(T$287,[4]Estimadores!$B$7:$B$38,0),MATCH($B289,[4]Estimadores!$D$6:$AB$6,0)),\"-\")","v":0.57047817476608875},{"$f":"IFERROR(INDEX([4]Estimadores!$D$7:$AB$38,MATCH(U$287,[4]Estimadores!$B$7:$B$38,0),MATCH($B289,[4]Estimadores!$D$6:$AB$6,0)),\"-\")","v":0.58285485656302738},{"$f":"IFERROR(INDEX([4]Estimadores!$D$7:$AB$38,MATCH(V$287,[4]Estimadores!$B$7:$B$38,0),MATCH($B289,[4]Estimadores!$D$6:$AB$6,0)),\"-\")","v":0.58285485656302738},{"$f":"IFERROR(INDEX([4]Estimadores!$D$7:$AB$38,MATCH(W$287,[4]Estimadores!$B$7:$B$38,0),MATCH($B289,[4]Estimadores!$D$6:$AB$6,0)),\"-\")","v":"-"},{"$f":"IFERROR(INDEX([4]Estimadores!$D$7:$AB$38,MATCH(X$287,[4]Estimadores!$B$7:$B$38,0),MATCH($B289,[4]Estimadores!$D$6:$AB$6,0)),\"-\")","v":0.92351475303937691},{"$f":"IFERROR(INDEX([4]Estimadores!$D$7:$AB$38,MATCH(Y$287,[4]Estimadores!$B$7:$B$38,0),MATCH($B289,[4]Estimadores!$D$6:$AB$6,0)),\"-\")","v":0.94355066105256835},{"$f":"IFERROR(INDEX([4]Estimadores!$D$7:$AB$38,MATCH(Z$287,[4]Estimadores!$B$7:$B$38,0),MATCH($B289,[4]Estimadores!$D$6:$AB$6,0)),\"-\")","v":0.94355066105256835},{"$f":"IFERROR(INDEX([4]Estimadores!$D$7:$AB$38,MATCH(AA$287,[4]Estimadores!$B$7:$B$38,0),MATCH($B289,[4]Estimadores!$D$6:$AB$6,0)),\"-\")","v":0.585309745355727},{"$f":"IFERROR(INDEX([4]Estimadores!$D$7:$AB$38,MATCH(AB$287,[4]Estimadores!$B$7:$B$38,0),MATCH($B289,[4]Estimadores!$D$6:$AB$6,0)),\"-\")","v":0.585309745355727},{"$f":"IFERROR(INDEX([4]Estimadores!$D$7:$AB$38,MATCH(AC$287,[4]Estimadores!$B$7:$B$38,0),MATCH($B289,[4]Estimadores!$D$6:$AB$6,0)),\"-\")","v":0.81744818763644644},{"$f":"IFERROR(INDEX([4]Estimadores!$D$7:$AB$38,MATCH(AD$287,[4]Estimadores!$B$7:$B$38,0),MATCH($B289,[4]Estimadores!$D$6:$AB$6,0)),\"-\")","v":0.61772502592794498},{"$f":"IFERROR(INDEX([4]Estimadores!$D$7:$AB$38,MATCH(AE$287,[4]Estimadores!$B$7:$B$38,0),MATCH($B289,[4]Estimadores!$D$6:$AB$6,0)),\"-\")","v":0.52728585569550956},{"$f":"IFERROR(INDEX([4]Estimadores!$D$7:$AB$38,MATCH(AF$287,[4]Estimadores!$B$7:$B$38,0),MATCH($B289,[4]Estimadores!$D$6:$AB$6,0)),\"-\")","v":0.89301812519644808},{"$f":"IFERROR(INDEX([4]Estimadores!$D$7:$AB$38,MATCH(AG$287,[4]Estimadores!$B$7:$B$38,0),MATCH($B289,[4]Estimadores!$D$6:$AB$6,0)),\"-\")","v":0.52177903427629535},{"$f":"IFERROR(INDEX([4]Estimadores!$D$7:$AB$38,MATCH(AH$287,[4]Estimadores!$B$7:$B$38,0),MATCH($B289,[4]Estimadores!$D$6:$AB$6,0)),\"-\")","v":1},{"$f":"IFERROR(INDEX([4]Estimadores!$D$7:$AB$38,MATCH(AI$287,[4]Estimadores!$B$7:$B$38,0),MATCH($B289,[4]Estimadores!$D$6:$AB$6,0)),\"-\")","v":1.1715182936457547}]
[null,"","",{"$f":"IFERROR(INDEX([4]Estimadores!$D$7:$AB$38,MATCH(D$287,[4]Estimadores!$B$7:$B$38,0),MATCH($B290,[4]Estimadores!$D$6:$AB$6,0)),\"-\")","v":"-"},{"$f":"IFERROR(INDEX([4]Estimadores!$D$7:$AB$38,MATCH(E$287,[4]Estimadores!$B$7:$B$38,0),MATCH($B290,[4]Estimadores!$D$6:$AB$6,0)),\"-\")","v":"-"},{"$f":"IFERROR(INDEX([4]Estimadores!$D$7:$AB$38,MATCH(F$287,[4]Estimadores!$B$7:$B$38,0),MATCH($B290,[4]Estimadores!$D$6:$AB$6,0)),\"-\")","v":"-"},{"$f":"IFERROR(INDEX([4]Estimadores!$D$7:$AB$38,MATCH(G$287,[4]Estimadores!$B$7:$B$38,0),MATCH($B290,[4]Estimadores!$D$6:$AB$6,0)),\"-\")","v":"-"},{"$f":"IFERROR(INDEX([4]Estimadores!$D$7:$AB$38,MATCH(H$287,[4]Estimadores!$B$7:$B$38,0),MATCH($B290,[4]Estimadores!$D$6:$AB$6,0)),\"-\")","v":"-"},{"$f":"IFERROR(INDEX([4]Estimadores!$D$7:$AB$38,MATCH(I$287,[4]Estimadores!$B$7:$B$38,0),MATCH($B290,[4]Estimadores!$D$6:$AB$6,0)),\"-\")","v":"-"},{"$f":"IFERROR(INDEX([4]Estimadores!$D$7:$AB$38,MATCH(J$287,[4]Estimadores!$B$7:$B$38,0),MATCH($B290,[4]Estimadores!$D$6:$AB$6,0)),\"-\")","v":"-"},{"$f":"IFERROR(INDEX([4]Estimadores!$D$7:$AB$38,MATCH(K$287,[4]Estimadores!$B$7:$B$38,0),MATCH($B290,[4]Estimadores!$D$6:$AB$6,0)),\"-\")","v":"-"},{"$f":"IFERROR(INDEX([4]Estimadores!$D$7:$AB$38,MATCH(L$287,[4]Estimadores!$B$7:$B$38,0),MATCH($B290,[4]Estimadores!$D$6:$AB$6,0)),\"-\")","v":"-"},{"$f":"IFERROR(INDEX([4]Estimadores!$D$7:$AB$38,MATCH(M$287,[4]Estimadores!$B$7:$B$38,0),MATCH($B290,[4]Estimadores!$D$6:$AB$6,0)),\"-\")","v":"-"},{"$f":"IFERROR(INDEX([4]Estimadores!$D$7:$AB$38,MATCH(N$287,[4]Estimadores!$B$7:$B$38,0),MATCH($B290,[4]Estimadores!$D$6:$AB$6,0)),\"-\")","v":"-"},{"$f":"IFERROR(INDEX([4]Estimadores!$D$7:$AB$38,MATCH(O$287,[4]Estimadores!$B$7:$B$38,0),MATCH($B290,[4]Estimadores!$D$6:$AB$6,0)),\"-\")","v":"-"},{"$f":"IFERROR(INDEX([4]Estimadores!$D$7:$AB$38,MATCH(P$287,[4]Estimadores!$B$7:$B$38,0),MATCH($B290,[4]Estimadores!$D$6:$AB$6,0)),\"-\")","v":"-"},{"$f":"IFERROR(INDEX([4]Estimadores!$D$7:$AB$38,MATCH(Q$287,[4]Estimadores!$B$7:$B$38,0),MATCH($B290,[4]Estimadores!$D$6:$AB$6,0)),\"-\")","v":"-"},{"$f":"IFERROR(INDEX([4]Estimadores!$D$7:$AB$38,MATCH(R$287,[4]Estimadores!$B$7:$B$38,0),MATCH($B290,[4]Estimadores!$D$6:$AB$6,0)),\"-\")","v":"-"},{"$f":"IFERROR(INDEX([4]Estimadores!$D$7:$AB$38,MATCH(S$287,[4]Estimadores!$B$7:$B$38,0),MATCH($B290,[4]Estimadores!$D$6:$AB$6,0)),\"-\")","v":"-"},{"$f":"IFERROR(INDEX([4]Estimadores!$D$7:$AB$38,MATCH(T$287,[4]Estimadores!$B$7:$B$38,0),MATCH($B290,[4]Estimadores!$D$6:$AB$6,0)),\"-\")","v":"-"},{"$f":"IFERROR(INDEX([4]Estimadores!$D$7:$AB$38,MATCH(U$287,[4]Estimadores!$B$7:$B$38,0),MATCH($B290,[4]Estimadores!$D$6:$AB$6,0)),\"-\")","v":"-"},{"$f":"IFERROR(INDEX([4]Estimadores!$D$7:$AB$38,MATCH(V$287,[4]Estimadores!$B$7:$B$38,0),MATCH($B290,[4]Estimadores!$D$6:$AB$6,0)),\"-\")","v":"-"},{"$f":"IFERROR(INDEX([4]Estimadores!$D$7:$AB$38,MATCH(W$287,[4]Estimadores!$B$7:$B$38,0),MATCH($B290,[4]Estimadores!$D$6:$AB$6,0)),\"-\")","v":"-"},{"$f":"IFERROR(INDEX([4]Estimadores!$D$7:$AB$38,MATCH(X$287,[4]Estimadores!$B$7:$B$38,0),MATCH($B290,[4]Estimadores!$D$6:$AB$6,0)),\"-\")","v":"-"},{"$f":"IFERROR(INDEX([4]Estimadores!$D$7:$AB$38,MATCH(Y$287,[4]Estimadores!$B$7:$B$38,0),MATCH($B290,[4]Estimadores!$D$6:$AB$6,0)),\"-\")","v":"-"},{"$f":"IFERROR(INDEX([4]Estimadores!$D$7:$AB$38,MATCH(Z$287,[4]Estimadores!$B$7:$B$38,0),MATCH($B290,[4]Estimadores!$D$6:$AB$6,0)),\"-\")","v":"-"},{"$f":"IFERROR(INDEX([4]Estimadores!$D$7:$AB$38,MATCH(AA$287,[4]Estimadores!$B$7:$B$38,0),MATCH($B290,[4]Estimadores!$D$6:$AB$6,0)),\"-\")","v":"-"},{"$f":"IFERROR(INDEX([4]Estimadores!$D$7:$AB$38,MATCH(AB$287,[4]Estimadores!$B$7:$B$38,0),MATCH($B290,[4]Estimadores!$D$6:$AB$6,0)),\"-\")","v":"-"},{"$f":"IFERROR(INDEX([4]Estimadores!$D$7:$AB$38,MATCH(AC$287,[4]Estimadores!$B$7:$B$38,0),MATCH($B290,[4]Estimadores!$D$6:$AB$6,0)),\"-\")","v":"-"},{"$f":"IFERROR(INDEX([4]Estimadores!$D$7:$AB$38,MATCH(AD$287,[4]Estimadores!$B$7:$B$38,0),MATCH($B290,[4]Estimadores!$D$6:$AB$6,0)),\"-\")","v":"-"},{"$f":"IFERROR(INDEX([4]Estimadores!$D$7:$AB$38,MATCH(AE$287,[4]Estimadores!$B$7:$B$38,0),MATCH($B290,[4]Estimadores!$D$6:$AB$6,0)),\"-\")","v":"-"},{"$f":"IFERROR(INDEX([4]Estimadores!$D$7:$AB$38,MATCH(AF$287,[4]Estimadores!$B$7:$B$38,0),MATCH($B290,[4]Estimadores!$D$6:$AB$6,0)),\"-\")","v":"-"},{"$f":"IFERROR(INDEX([4]Estimadores!$D$7:$AB$38,MATCH(AG$287,[4]Estimadores!$B$7:$B$38,0),MATCH($B290,[4]Estimadores!$D$6:$AB$6,0)),\"-\")","v":"-"},{"$f":"IFERROR(INDEX([4]Estimadores!$D$7:$AB$38,MATCH(AH$287,[4]Estimadores!$B$7:$B$38,0),MATCH($B290,[4]Estimadores!$D$6:$AB$6,0)),\"-\")","v":"-"},{"$f":"IFERROR(INDEX([4]Estimadores!$D$7:$AB$38,MATCH(AI$287,[4]Estimadores!$B$7:$B$38,0),MATCH($B290,[4]Estimadores!$D$6:$AB$6,0)),\"-\")","v":"-"}]
[null,"BTS_P1","BTS_P1",{"$f":"IFERROR(INDEX([4]Estimadores!$D$7:$AB$38,MATCH(D$287,[4]Estimadores!$B$7:$B$38,0),MATCH($B291,[4]Estimadores!$D$6:$AB$6,0)),\"-\")","v":0.23620294841442446},{"$f":"IFERROR(INDEX([4]Estimadores!$D$7:$AB$38,MATCH(E$287,[4]Estimadores!$B$7:$B$38,0),MATCH($B291,[4]Estimadores!$D$6:$AB$6,0)),\"-\")","v":0.30488952267237923},{"$f":"IFERROR(INDEX([4]Estimadores!$D$7:$AB$38,MATCH(F$287,[4]Estimadores!$B$7:$B$38,0),MATCH($B291,[4]Estimadores!$D$6:$AB$6,0)),\"-\")","v":0.45890752891319669},{"$f":"IFERROR(INDEX([4]Estimadores!$D$7:$AB$38,MATCH(G$287,[4]Estimadores!$B$7:$B$38,0),MATCH($B291,[4]Estimadores!$D$6:$AB$6,0)),\"-\")","v":0.53132185815151767},{"$f":"IFERROR(INDEX([4]Estimadores!$D$7:$AB$38,MATCH(H$287,[4]Estimadores!$B$7:$B$38,0),MATCH($B291,[4]Estimadores!$D$6:$AB$6,0)),\"-\")","v":0.47968144754402847},{"$f":"IFERROR(INDEX([4]Estimadores!$D$7:$AB$38,MATCH(I$287,[4]Estimadores!$B$7:$B$38,0),MATCH($B291,[4]Estimadores!$D$6:$AB$6,0)),\"-\")","v":0.61736732041461728},{"$f":"IFERROR(INDEX([4]Estimadores!$D$7:$AB$38,MATCH(J$287,[4]Estimadores!$B$7:$B$38,0),MATCH($B291,[4]Estimadores!$D$6:$AB$6,0)),\"-\")","v":0.41334779440539232},{"$f":"IFERROR(INDEX([4]Estimadores!$D$7:$AB$38,MATCH(K$287,[4]Estimadores!$B$7:$B$38,0),MATCH($B291,[4]Estimadores!$D$6:$AB$6,0)),\"-\")","v":0.48527594465114676},{"$f":"IFERROR(INDEX([4]Estimadores!$D$7:$AB$38,MATCH(L$287,[4]Estimadores!$B$7:$B$38,0),MATCH($B291,[4]Estimadores!$D$6:$AB$6,0)),\"-\")","v":0.45364280336240698},{"$f":"IFERROR(INDEX([4]Estimadores!$D$7:$AB$38,MATCH(M$287,[4]Estimadores!$B$7:$B$38,0),MATCH($B291,[4]Estimadores!$D$6:$AB$6,0)),\"-\")","v":0.45364280336240698},{"$f":"IFERROR(INDEX([4]Estimadores!$D$7:$AB$38,MATCH(N$287,[4]Estimadores!$B$7:$B$38,0),MATCH($B291,[4]Estimadores!$D$6:$AB$6,0)),\"-\")","v":0.48527594465114676},{"$f":"IFERROR(INDEX([4]Estimadores!$D$7:$AB$38,MATCH(O$287,[4]Estimadores!$B$7:$B$38,0),MATCH($B291,[4]Estimadores!$D$6:$AB$6,0)),\"-\")","v":0.45364280336240698},{"$f":"IFERROR(INDEX([4]Estimadores!$D$7:$AB$38,MATCH(P$287,[4]Estimadores!$B$7:$B$38,0),MATCH($B291,[4]Estimadores!$D$6:$AB$6,0)),\"-\")","v":0.45364280336240698},{"$f":"IFERROR(INDEX([4]Estimadores!$D$7:$AB$38,MATCH(Q$287,[4]Estimadores!$B$7:$B$38,0),MATCH($B291,[4]Estimadores!$D$6:$AB$6,0)),\"-\")","v":0.59597740407197819},{"$f":"IFERROR(INDEX([4]Estimadores!$D$7:$AB$38,MATCH(R$287,[4]Estimadores!$B$7:$B$38,0),MATCH($B291,[4]Estimadores!$D$6:$AB$6,0)),\"-\")","v":0.59597740407197819},{"$f":"IFERROR(INDEX([4]Estimadores!$D$7:$AB$38,MATCH(S$287,[4]Estimadores!$B$7:$B$38,0),MATCH($B291,[4]Estimadores!$D$6:$AB$6,0)),\"-\")","v":0.52346242487878125},{"$f":"IFERROR(INDEX([4]Estimadores!$D$7:$AB$38,MATCH(T$287,[4]Estimadores!$B$7:$B$38,0),MATCH($B291,[4]Estimadores!$D$6:$AB$6,0)),\"-\")","v":0.23277786758855792},{"$f":"IFERROR(INDEX([4]Estimadores!$D$7:$AB$38,MATCH(U$287,[4]Estimadores!$B$7:$B$38,0),MATCH($B291,[4]Estimadores!$D$6:$AB$6,0)),\"-\")","v":0.21760403658481045},{"$f":"IFERROR(INDEX([4]Estimadores!$D$7:$AB$38,MATCH(V$287,[4]Estimadores!$B$7:$B$38,0),MATCH($B291,[4]Estimadores!$D$6:$AB$6,0)),\"-\")","v":0.21760403658481045},{"$f":"IFERROR(INDEX([4]Estimadores!$D$7:$AB$38,MATCH(W$287,[4]Estimadores!$B$7:$B$38,0),MATCH($B291,[4]Estimadores!$D$6:$AB$6,0)),\"-\")","v":"-"},{"$f":"IFERROR(INDEX([4]Estimadores!$D$7:$AB$38,MATCH(X$287,[4]Estimadores!$B$7:$B$38,0),MATCH($B291,[4]Estimadores!$D$6:$AB$6,0)),\"-\")","v":0.48527594465114676},{"$f":"IFERROR(INDEX([4]Estimadores!$D$7:$AB$38,MATCH(Y$287,[4]Estimadores!$B$7:$B$38,0),MATCH($B291,[4]Estimadores!$D$6:$AB$6,0)),\"-\")","v":0.45364280336240698},{"$f":"IFERROR(INDEX([4]Estimadores!$D$7:$AB$38,MATCH(Z$287,[4]Estimadores!$B$7:$B$38,0),MATCH($B291,[4]Estimadores!$D$6:$AB$6,0)),\"-\")","v":0.45364280336240698},{"$f":"IFERROR(INDEX([4]Estimadores!$D$7:$AB$38,MATCH(AA$287,[4]Estimadores!$B$7:$B$38,0),MATCH($B291,[4]Estimadores!$D$6:$AB$6,0)),\"-\")","v":0.49533032262761967},{"$f":"IFERROR(INDEX([4]Estimadores!$D$7:$AB$38,MATCH(AB$287,[4]Estimadores!$B$7:$B$38,0),MATCH($B291,[4]Estimadores!$D$6:$AB$6,0)),\"-\")","v":0.49533032262761967},{"$f":"IFERROR(INDEX([4]Estimadores!$D$7:$AB$38,MATCH(AC$287,[4]Estimadores!$B$7:$B$38,0),MATCH($B291,[4]Estimadores!$D$6:$AB$6,0)),\"-\")","v":0.43506148056466892},{"$f":"IFERROR(INDEX([4]Estimadores!$D$7:$AB$38,MATCH(AD$287,[4]Estimadores!$B$7:$B$38,0),MATCH($B291,[4]Estimadores!$D$6:$AB$6,0)),\"-\")","v":0.47968144754402847},{"$f":"IFERROR(INDEX([4]Estimadores!$D$7:$AB$38,MATCH(AE$287,[4]Estimadores!$B$7:$B$38,0),MATCH($B291,[4]Estimadores!$D$6:$AB$6,0)),\"-\")","v":0.39867411842642841},{"$f":"IFERROR(INDEX([4]Estimadores!$D$7:$AB$38,MATCH(AF$287,[4]Estimadores!$B$7:$B$38,0),MATCH($B291,[4]Estimadores!$D$6:$AB$6,0)),\"-\")","v":0.5270991157001601},{"$f":"IFERROR(INDEX([4]Estimadores!$D$7:$AB$38,MATCH(AG$287,[4]Estimadores!$B$7:$B$38,0),MATCH($B291,[4]Estimadores!$D$6:$AB$6,0)),\"-\")","v":0.64086986645134014},{"$f":"IFERROR(INDEX([4]Estimadores!$D$7:$AB$38,MATCH(AH$287,[4]Estimadores!$B$7:$B$38,0),MATCH($B291,[4]Estimadores!$D$6:$AB$6,0)),\"-\")","v":1},{"$f":"IFERROR(INDEX([4]Estimadores!$D$7:$AB$38,MATCH(AI$287,[4]Estimadores!$B$7:$B$38,0),MATCH($B291,[4]Estimadores!$D$6:$AB$6,0)),\"-\")","v":1.2031918435973143}]
[null,"BTS_P2","BTS_P2",{"$f":"IFERROR(INDEX([4]Estimadores!$D$7:$AB$38,MATCH(D$287,[4]Estimadores!$B$7:$B$38,0),MATCH($B292,[4]Estimadores!$D$6:$AB$6,0)),\"-\")","v":0.19283105420714394},{"$f":"IFERROR(INDEX([4]Estimadores!$D$7:$AB$38,MATCH(E$287,[4]Estimadores!$B$7:$B$38,0),MATCH($B292,[4]Estimadores!$D$6:$AB$6,0)),\"-\")","v":0.30011381294489547},{"$f":"IFERROR(INDEX([4]Estimadores!$D$7:$AB$38,MATCH(F$287,[4]Estimadores!$B$7:$B$38,0),MATCH($B292,[4]Estimadores!$D$6:$AB$6,0)),\"-\")","v":0.50705513284796044},{"$f":"IFERROR(INDEX([4]Estimadores!$D$7:$AB$38,MATCH(G$287,[4]Estimadores!$B$7:$B$38,0),MATCH($B292,[4]Estimadores!$D$6:$AB$6,0)),\"-\")","v":0.60738286641591976},{"$f":"IFERROR(INDEX([4]Estimadores!$D$7:$AB$38,MATCH(H$287,[4]Estimadores!$B$7:$B$38,0),MATCH($B292,[4]Estimadores!$D$6:$AB$6,0)),\"-\")","v":0.49656075717910975},{"$f":"IFERROR(INDEX([4]Estimadores!$D$7:$AB$38,MATCH(I$287,[4]Estimadores!$B$7:$B$38,0),MATCH($B292,[4]Estimadores!$D$6:$AB$6,0)),\"-\")","v":0.46192188867752809},{"$f":"IFERROR(INDEX([4]Estimadores!$D$7:$AB$38,MATCH(J$287,[4]Estimadores!$B$7:$B$38,0),MATCH($B292,[4]Estimadores!$D$6:$AB$6,0)),\"-\")","v":0.50043956989220184},{"$f":"IFERROR(INDEX([4]Estimadores!$D$7:$AB$38,MATCH(K$287,[4]Estimadores!$B$7:$B$38,0),MATCH($B292,[4]Estimadores!$D$6:$AB$6,0)),\"-\")","v":0.55905445673509013},{"$f":"IFERROR(INDEX([4]Estimadores!$D$7:$AB$38,MATCH(L$287,[4]Estimadores!$B$7:$B$38,0),MATCH($B292,[4]Estimadores!$D$6:$AB$6,0)),\"-\")","v":0.5981663733614716},{"$f":"IFERROR(INDEX([4]Estimadores!$D$7:$AB$38,MATCH(M$287,[4]Estimadores!$B$7:$B$38,0),MATCH($B292,[4]Estimadores!$D$6:$AB$6,0)),\"-\")","v":0.5981663733614716},{"$f":"IFERROR(INDEX([4]Estimadores!$D$7:$AB$38,MATCH(N$287,[4]Estimadores!$B$7:$B$38,0),MATCH($B292,[4]Estimadores!$D$6:$AB$6,0)),\"-\")","v":0.81901915522339952},{"$f":"IFERROR(INDEX([4]Estimadores!$D$7:$AB$38,MATCH(O$287,[4]Estimadores!$B$7:$B$38,0),MATCH($B292,[4]Estimadores!$D$6:$AB$6,0)),\"-\")","v":0.87631841923711284},{"$f":"IFERROR(INDEX([4]Estimadores!$D$7:$AB$38,MATCH(P$287,[4]Estimadores!$B$7:$B$38,0),MATCH($B292,[4]Estimadores!$D$6:$AB$6,0)),\"-\")","v":0.87631841923711284},{"$f":"IFERROR(INDEX([4]Estimadores!$D$7:$AB$38,MATCH(Q$287,[4]Estimadores!$B$7:$B$38,0),MATCH($B292,[4]Estimadores!$D$6:$AB$6,0)),\"-\")","v":0.61119573111917991},{"$f":"IFERROR(INDEX([4]Estimadores!$D$7:$AB$38,MATCH(R$287,[4]Estimadores!$B$7:$B$38,0),MATCH($B292,[4]Estimadores!$D$6:$AB$6,0)),\"-\")","v":0.61119573111917991},{"$f":"IFERROR(INDEX([4]Estimadores!$D$7:$AB$38,MATCH(S$287,[4]Estimadores!$B$7:$B$38,0),MATCH($B292,[4]Estimadores!$D$6:$AB$6,0)),\"-\")","v":0.41266541106082077},{"$f":"IFERROR(INDEX([4]Estimadores!$D$7:$AB$38,MATCH(T$287,[4]Estimadores!$B$7:$B$38,0),MATCH($B292,[4]Estimadores!$D$6:$AB$6,0)),\"-\")","v":0.27760450434073219},{"$f":"IFERROR(INDEX([4]Estimadores!$D$7:$AB$38,MATCH(U$287,[4]Estimadores!$B$7:$B$38,0),MATCH($B292,[4]Estimadores!$D$6:$AB$6,0)),\"-\")","v":0.29702594727545439},{"$f":"IFERROR(INDEX([4]Estimadores!$D$7:$AB$38,MATCH(V$287,[4]Estimadores!$B$7:$B$38,0),MATCH($B292,[4]Estimadores!$D$6:$AB$6,0)),\"-\")","v":0.29702594727545439},{"$f":"IFERROR(INDEX([4]Estimadores!$D$7:$AB$38,MATCH(W$287,[4]Estimadores!$B$7:$B$38,0),MATCH($B292,[4]Estimadores!$D$6:$AB$6,0)),\"-\")","v":"-"},{"$f":"IFERROR(INDEX([4]Estimadores!$D$7:$AB$38,MATCH(X$287,[4]Estimadores!$B$7:$B$38,0),MATCH($B292,[4]Estimadores!$D$6:$AB$6,0)),\"-\")","v":0.55905445673509013},{"$f":"IFERROR(INDEX([4]Estimadores!$D$7:$AB$38,MATCH(Y$287,[4]Estimadores!$B$7:$B$38,0),MATCH($B292,[4]Estimadores!$D$6:$AB$6,0)),\"-\")","v":0.5981663733614716},{"$f":"IFERROR(INDEX([4]Estimadores!$D$7:$AB$38,MATCH(Z$287,[4]Estimadores!$B$7:$B$38,0),MATCH($B292,[4]Estimadores!$D$6:$AB$6,0)),\"-\")","v":0.5981663733614716},{"$f":"IFERROR(INDEX([4]Estimadores!$D$7:$AB$38,MATCH(AA$287,[4]Estimadores!$B$7:$B$38,0),MATCH($B292,[4]Estimadores!$D$6:$AB$6,0)),\"-\")","v":0.60392005486127676},{"$f":"IFERROR(INDEX([4]Estimadores!$D$7:$AB$38,MATCH(AB$287,[4]Estimadores!$B$7:$B$38,0),MATCH($B292,[4]Estimadores!$D$6:$AB$6,0)),\"-\")","v":0.60392005486127676},{"$f":"IFERROR(INDEX([4]Estimadores!$D$7:$AB$38,MATCH(AC$287,[4]Estimadores!$B$7:$B$38,0),MATCH($B292,[4]Estimadores!$D$6:$AB$6,0)),\"-\")","v":0.40775304047175404},{"$f":"IFERROR(INDEX([4]Estimadores!$D$7:$AB$38,MATCH(AD$287,[4]Estimadores!$B$7:$B$38,0),MATCH($B292,[4]Estimadores!$D$6:$AB$6,0)),\"-\")","v":0.3389475112642652},{"$f":"IFERROR(INDEX([4]Estimadores!$D$7:$AB$38,MATCH(AE$287,[4]Estimadores!$B$7:$B$38,0),MATCH($B292,[4]Estimadores!$D$6:$AB$6,0)),\"-\")","v":0.49064969607762127},{"$f":"IFERROR(INDEX([4]Estimadores!$D$7:$AB$38,MATCH(AF$287,[4]Estimadores!$B$7:$B$38,0),MATCH($B292,[4]Estimadores!$D$6:$AB$6,0)),\"-\")","v":0.72065722977935687},{"$f":"IFERROR(INDEX([4]Estimadores!$D$7:$AB$38,MATCH(AG$287,[4]Estimadores!$B$7:$B$38,0),MATCH($B292,[4]Estimadores!$D$6:$AB$6,0)),\"-\")","v":0.65121913674803744},{"$f":"IFERROR(INDEX([4]Estimadores!$D$7:$AB$38,MATCH(AH$287,[4]Estimadores!$B$7:$B$38,0),MATCH($B292,[4]Estimadores!$D$6:$AB$6,0)),\"-\")","v":1.4650078276927048},{"$f":"IFERROR(INDEX([4]Estimadores!$D$7:$AB$38,MATCH(AI$287,[4]Estimadores!$B$7:$B$38,0),MATCH($B292,[4]Estimadores!$D$6:$AB$6,0)),\"-\")","v":1.0120474162090449}]
[null,"BTD","BTD",{"$f":"IFERROR(INDEX([4]Estimadores!$D$7:$AB$38,MATCH(D$287,[4]Estimadores!$B$7:$B$38,0),MATCH($B293,[4]Estimadores!$D$6:$AB$6,0)),\"-\")","v":0.41092762211095751},{"$f":"IFERROR(INDEX([4]Estimadores!$D$7:$AB$38,MATCH(E$287,[4]Estimadores!$B$7:$B$38,0),MATCH($B293,[4]Estimadores!$D$6:$AB$6,0)),\"-\")","v":0.22737336447908918},{"$f":"IFERROR(INDEX([4]Estimadores!$D$7:$AB$38,MATCH(F$287,[4]Estimadores!$B$7:$B$38,0),MATCH($B293,[4]Estimadores!$D$6:$AB$6,0)),\"-\")","v":0.36169901340995353},{"$f":"IFERROR(INDEX([4]Estimadores!$D$7:$AB$38,MATCH(G$287,[4]Estimadores!$B$7:$B$38,0),MATCH($B293,[4]Estimadores!$D$6:$AB$6,0)),\"-\")","v":0.49353238137774502},{"$f":"IFERROR(INDEX([4]Estimadores!$D$7:$AB$38,MATCH(H$287,[4]Estimadores!$B$7:$B$38,0),MATCH($B293,[4]Estimadores!$D$6:$AB$6,0)),\"-\")","v":0.78369833477983297},{"$f":"IFERROR(INDEX([4]Estimadores!$D$7:$AB$38,MATCH(I$287,[4]Estimadores!$B$7:$B$38,0),MATCH($B293,[4]Estimadores!$D$6:$AB$6,0)),\"-\")","v":0.81658705403684329},{"$f":"IFERROR(INDEX([4]Estimadores!$D$7:$AB$38,MATCH(J$287,[4]Estimadores!$B$7:$B$38,0),MATCH($B293,[4]Estimadores!$D$6:$AB$6,0)),\"-\")","v":0.68661543771637823},{"$f":"IFERROR(INDEX([4]Estimadores!$D$7:$AB$38,MATCH(K$287,[4]Estimadores!$B$7:$B$38,0),MATCH($B293,[4]Estimadores!$D$6:$AB$6,0)),\"-\")","v":0.94725575604908241},{"$f":"IFERROR(INDEX([4]Estimadores!$D$7:$AB$38,MATCH(L$287,[4]Estimadores!$B$7:$B$38,0),MATCH($B293,[4]Estimadores!$D$6:$AB$6,0)),\"-\")","v":0.92961395665840874},{"$f":"IFERROR(INDEX([4]Estimadores!$D$7:$AB$38,MATCH(M$287,[4]Estimadores!$B$7:$B$38,0),MATCH($B293,[4]Estimadores!$D$6:$AB$6,0)),\"-\")","v":0.92961395665840874},{"$f":"IFERROR(INDEX([4]Estimadores!$D$7:$AB$38,MATCH(N$287,[4]Estimadores!$B$7:$B$38,0),MATCH($B293,[4]Estimadores!$D$6:$AB$6,0)),\"-\")","v":0.94725575604908241},{"$f":"IFERROR(INDEX([4]Estimadores!$D$7:$AB$38,MATCH(O$287,[4]Estimadores!$B$7:$B$38,0),MATCH($B293,[4]Estimadores!$D$6:$AB$6,0)),\"-\")","v":0.92961395665840874},{"$f":"IFERROR(INDEX([4]Estimadores!$D$7:$AB$38,MATCH(P$287,[4]Estimadores!$B$7:$B$38,0),MATCH($B293,[4]Estimadores!$D$6:$AB$6,0)),\"-\")","v":0.92961395665840874},{"$f":"IFERROR(INDEX([4]Estimadores!$D$7:$AB$38,MATCH(Q$287,[4]Estimadores!$B$7:$B$38,0),MATCH($B293,[4]Estimadores!$D$6:$AB$6,0)),\"-\")","v":0.64166159788384314},{"$f":"IFERROR(INDEX([4]Estimadores!$D$7:$AB$38,MATCH(R$287,[4]Estimadores!$B$7:$B$38,0),MATCH($B293,[4]Estimadores!$D$6:$AB$6,0)),\"-\")","v":0.64166159788384314},{"$f":"IFERROR(INDEX([4]Estimadores!$D$7:$AB$38,MATCH(S$287,[4]Estimadores!$B$7:$B$38,0),MATCH($B293,[4]Estimadores!$D$6:$AB$6,0)),\"-\")","v":0.99010816233047305},{"$f":"IFERROR(INDEX([4]Estimadores!$D$7:$AB$38,MATCH(T$287,[4]Estimadores!$B$7:$B$38,0),MATCH($B293,[4]Estimadores!$D$6:$AB$6,0)),\"-\")","v":0.74236275862627765},{"$f":"IFERROR(INDEX([4]Estimadores!$D$7:$AB$38,MATCH(U$287,[4]Estimadores!$B$7:$B$38,0),MATCH($B293,[4]Estimadores!$D$6:$AB$6,0)),\"-\")","v":0.72853690982128672},{"$f":"IFERROR(INDEX([4]Estimadores!$D$7:$AB$38,MATCH(V$287,[4]Estimadores!$B$7:$B$38,0),MATCH($B293,[4]Estimadores!$D$6:$AB$6,0)),\"-\")","v":0.72853690982128672},{"$f":"IFERROR(INDEX([4]Estimadores!$D$7:$AB$38,MATCH(W$287,[4]Estimadores!$B$7:$B$38,0),MATCH($B293,[4]Estimadores!$D$6:$AB$6,0)),\"-\")","v":"-"},{"$f":"IFERROR(INDEX([4]Estimadores!$D$7:$AB$38,MATCH(X$287,[4]Estimadores!$B$7:$B$38,0),MATCH($B293,[4]Estimadores!$D$6:$AB$6,0)),\"-\")","v":0.94725575604908241},{"$f":"IFERROR(INDEX([4]Estimadores!$D$7:$AB$38,MATCH(Y$287,[4]Estimadores!$B$7:$B$38,0),MATCH($B293,[4]Estimadores!$D$6:$AB$6,0)),\"-\")","v":0.92961395665840874},{"$f":"IFERROR(INDEX([4]Estimadores!$D$7:$AB$38,MATCH(Z$287,[4]Estimadores!$B$7:$B$38,0),MATCH($B293,[4]Estimadores!$D$6:$AB$6,0)),\"-\")","v":0.92961395665840874},{"$f":"IFERROR(INDEX([4]Estimadores!$D$7:$AB$38,MATCH(AA$287,[4]Estimadores!$B$7:$B$38,0),MATCH($B293,[4]Estimadores!$D$6:$AB$6,0)),\"-\")","v":0.53381939966493619},{"$f":"IFERROR(INDEX([4]Estimadores!$D$7:$AB$38,MATCH(AB$287,[4]Estimadores!$B$7:$B$38,0),MATCH($B293,[4]Estimadores!$D$6:$AB$6,0)),\"-\")","v":0.53381939966493619},{"$f":"IFERROR(INDEX([4]Estimadores!$D$7:$AB$38,MATCH(AC$287,[4]Estimadores!$B$7:$B$38,0),MATCH($B293,[4]Estimadores!$D$6:$AB$6,0)),\"-\")","v":0.82370356362558128},{"$f":"IFERROR(INDEX([4]Estimadores!$D$7:$AB$38,MATCH(AD$287,[4]Estimadores!$B$7:$B$38,0),MATCH($B293,[4]Estimadores!$D$6:$AB$6,0)),\"-\")","v":0.78369833477983297},{"$f":"IFERROR(INDEX([4]Estimadores!$D$7:$AB$38,MATCH(AE$287,[4]Estimadores!$B$7:$B$38,0),MATCH($B293,[4]Estimadores!$D$6:$AB$6,0)),\"-\")","v":0.65198443536325379},{"$f":"IFERROR(INDEX([4]Estimadores!$D$7:$AB$38,MATCH(AF$287,[4]Estimadores!$B$7:$B$38,0),MATCH($B293,[4]Estimadores!$D$6:$AB$6,0)),\"-\")","v":0.85178556924012261},{"$f":"IFERROR(INDEX([4]Estimadores!$D$7:$AB$38,MATCH(AG$287,[4]Estimadores!$B$7:$B$38,0),MATCH($B293,[4]Estimadores!$D$6:$AB$6,0)),\"-\")","v":0.4586647025053483},{"$f":"IFERROR(INDEX([4]Estimadores!$D$7:$AB$38,MATCH(AH$287,[4]Estimadores!$B$7:$B$38,0),MATCH($B293,[4]Estimadores!$D$6:$AB$6,0)),\"-\")","v":1},{"$f":"IFERROR(INDEX([4]Estimadores!$D$7:$AB$38,MATCH(AI$287,[4]Estimadores!$B$7:$B$38,0),MATCH($B293,[4]Estimadores!$D$6:$AB$6,0)),\"-\")","v":1.2020200058045782}]
[null,"BTH","BTH",{"$f":"IFERROR(INDEX([4]Estimadores!$D$7:$AB$38,MATCH(D$287,[4]Estimadores!$B$7:$B$38,0),MATCH($B294,[4]Estimadores!$D$6:$AB$6,0)),\"-\")","v":0.25285290195805488},{"$f":"IFERROR(INDEX([4]Estimadores!$D$7:$AB$38,MATCH(E$287,[4]Estimadores!$B$7:$B$38,0),MATCH($B294,[4]Estimadores!$D$6:$AB$6,0)),\"-\")","v":0.2889552571442322},{"$f":"IFERROR(INDEX([4]Estimadores!$D$7:$AB$38,MATCH(F$287,[4]Estimadores!$B$7:$B$38,0),MATCH($B294,[4]Estimadores!$D$6:$AB$6,0)),\"-\")","v":0.4581918408977132},{"$f":"IFERROR(INDEX([4]Estimadores!$D$7:$AB$38,MATCH(G$287,[4]Estimadores!$B$7:$B$38,0),MATCH($B294,[4]Estimadores!$D$6:$AB$6,0)),\"-\")","v":0.8478502230662246},{"$f":"IFERROR(INDEX([4]Estimadores!$D$7:$AB$38,MATCH(H$287,[4]Estimadores!$B$7:$B$38,0),MATCH($B294,[4]Estimadores!$D$6:$AB$6,0)),\"-\")","v":0.84251805585816852},{"$f":"IFERROR(INDEX([4]Estimadores!$D$7:$AB$38,MATCH(I$287,[4]Estimadores!$B$7:$B$38,0),MATCH($B294,[4]Estimadores!$D$6:$AB$6,0)),\"-\")","v":0.90766138533064278},{"$f":"IFERROR(INDEX([4]Estimadores!$D$7:$AB$38,MATCH(J$287,[4]Estimadores!$B$7:$B$38,0),MATCH($B294,[4]Estimadores!$D$6:$AB$6,0)),\"-\")","v":0.85491748002618784},{"$f":"IFERROR(INDEX([4]Estimadores!$D$7:$AB$38,MATCH(K$287,[4]Estimadores!$B$7:$B$38,0),MATCH($B294,[4]Estimadores!$D$6:$AB$6,0)),\"-\")","v":0.907311173108589},{"$f":"IFERROR(INDEX([4]Estimadores!$D$7:$AB$38,MATCH(L$287,[4]Estimadores!$B$7:$B$38,0),MATCH($B294,[4]Estimadores!$D$6:$AB$6,0)),\"-\")","v":0.88515720600641556},{"$f":"IFERROR(INDEX([4]Estimadores!$D$7:$AB$38,MATCH(M$287,[4]Estimadores!$B$7:$B$38,0),MATCH($B294,[4]Estimadores!$D$6:$AB$6,0)),\"-\")","v":0.88515720600641556},{"$f":"IFERROR(INDEX([4]Estimadores!$D$7:$AB$38,MATCH(N$287,[4]Estimadores!$B$7:$B$38,0),MATCH($B294,[4]Estimadores!$D$6:$AB$6,0)),\"-\")","v":0.93714078810950341},{"$f":"IFERROR(INDEX([4]Estimadores!$D$7:$AB$38,MATCH(O$287,[4]Estimadores!$B$7:$B$38,0),MATCH($B294,[4]Estimadores!$D$6:$AB$6,0)),\"-\")","v":0.91425846636011832},{"$f":"IFERROR(INDEX([4]Estimadores!$D$7:$AB$38,MATCH(P$287,[4]Estimadores!$B$7:$B$38,0),MATCH($B294,[4]Estimadores!$D$6:$AB$6,0)),\"-\")","v":0.91425846636011832},{"$f":"IFERROR(INDEX([4]Estimadores!$D$7:$AB$38,MATCH(Q$287,[4]Estimadores!$B$7:$B$38,0),MATCH($B294,[4]Estimadores!$D$6:$AB$6,0)),\"-\")","v":0.98364674312790001},{"$f":"IFERROR(INDEX([4]Estimadores!$D$7:$AB$38,MATCH(R$287,[4]Estimadores!$B$7:$B$38,0),MATCH($B294,[4]Estimadores!$D$6:$AB$6,0)),\"-\")","v":0.98364674312790001},{"$f":"IFERROR(INDEX([4]Estimadores!$D$7:$AB$38,MATCH(S$287,[4]Estimadores!$B$7:$B$38,0),MATCH($B294,[4]Estimadores!$D$6:$AB$6,0)),\"-\")","v":0.8203656126065596},{"$f":"IFERROR(INDEX([4]Estimadores!$D$7:$AB$38,MATCH(T$287,[4]Estimadores!$B$7:$B$38,0),MATCH($B294,[4]Estimadores!$D$6:$AB$6,0)),\"-\")","v":0.7644260456258426},{"$f":"IFERROR(INDEX([4]Estimadores!$D$7:$AB$38,MATCH(U$287,[4]Estimadores!$B$7:$B$38,0),MATCH($B294,[4]Estimadores!$D$6:$AB$6,0)),\"-\")","v":0.74576092833337371},{"$f":"IFERROR(INDEX([4]Estimadores!$D$7:$AB$38,MATCH(V$287,[4]Estimadores!$B$7:$B$38,0),MATCH($B294,[4]Estimadores!$D$6:$AB$6,0)),\"-\")","v":0.74576092833337371},{"$f":"IFERROR(INDEX([4]Estimadores!$D$7:$AB$38,MATCH(W$287,[4]Estimadores!$B$7:$B$38,0),MATCH($B294,[4]Estimadores!$D$6:$AB$6,0)),\"-\")","v":"-"},{"$f":"IFERROR(INDEX([4]Estimadores!$D$7:$AB$38,MATCH(X$287,[4]Estimadores!$B$7:$B$38,0),MATCH($B294,[4]Estimadores!$D$6:$AB$6,0)),\"-\")","v":0.907311173108589},{"$f":"IFERROR(INDEX([4]Estimadores!$D$7:$AB$38,MATCH(Y$287,[4]Estimadores!$B$7:$B$38,0),MATCH($B294,[4]Estimadores!$D$6:$AB$6,0)),\"-\")","v":0.88515720600641556},{"$f":"IFERROR(INDEX([4]Estimadores!$D$7:$AB$38,MATCH(Z$287,[4]Estimadores!$B$7:$B$38,0),MATCH($B294,[4]Estimadores!$D$6:$AB$6,0)),\"-\")","v":0.88515720600641556},{"$f":"IFERROR(INDEX([4]Estimadores!$D$7:$AB$38,MATCH(AA$287,[4]Estimadores!$B$7:$B$38,0),MATCH($B294,[4]Estimadores!$D$6:$AB$6,0)),\"-\")","v":0.98321298228218967},{"$f":"IFERROR(INDEX([4]Estimadores!$D$7:$AB$38,MATCH(AB$287,[4]Estimadores!$B$7:$B$38,0),MATCH($B294,[4]Estimadores!$D$6:$AB$6,0)),\"-\")","v":0.98321298228218967},{"$f":"IFERROR(INDEX([4]Estimadores!$D$7:$AB$38,MATCH(AC$287,[4]Estimadores!$B$7:$B$38,0),MATCH($B294,[4]Estimadores!$D$6:$AB$6,0)),\"-\")","v":0.82000385419643729},{"$f":"IFERROR(INDEX([4]Estimadores!$D$7:$AB$38,MATCH(AD$287,[4]Estimadores!$B$7:$B$38,0),MATCH($B294,[4]Estimadores!$D$6:$AB$6,0)),\"-\")","v":0.81570032520718827},{"$f":"IFERROR(INDEX([4]Estimadores!$D$7:$AB$38,MATCH(AE$287,[4]Estimadores!$B$7:$B$38,0),MATCH($B294,[4]Estimadores!$D$6:$AB$6,0)),\"-\")","v":0.84214652883691987},{"$f":"IFERROR(INDEX([4]Estimadores!$D$7:$AB$38,MATCH(AF$287,[4]Estimadores!$B$7:$B$38,0),MATCH($B294,[4]Estimadores!$D$6:$AB$6,0)),\"-\")","v":0.93000429229025083},{"$f":"IFERROR(INDEX([4]Estimadores!$D$7:$AB$38,MATCH(AG$287,[4]Estimadores!$B$7:$B$38,0),MATCH($B294,[4]Estimadores!$D$6:$AB$6,0)),\"-\")","v":0.83179464257566527},{"$f":"IFERROR(INDEX([4]Estimadores!$D$7:$AB$38,MATCH(AH$287,[4]Estimadores!$B$7:$B$38,0),MATCH($B294,[4]Estimadores!$D$6:$AB$6,0)),\"-\")","v":1.0328769400014259},{"$f":"IFERROR(INDEX([4]Estimadores!$D$7:$AB$38,MATCH(AI$287,[4]Estimadores!$B$7:$B$38,0),MATCH($B294,[4]Estimadores!$D$6:$AB$6,0)),\"-\")","v":1.0004411667192428}]
[null,"BTS_A","BTS_A",{"$f":"IFERROR(INDEX([4]Estimadores!$D$7:$AB$38,MATCH(D$287,[4]Estimadores!$B$7:$B$38,0),MATCH($B295,[4]Estimadores!$D$6:$AB$6,0)),\"-\")","v":0.10585119135172394},{"$f":"IFERROR(INDEX([4]Estimadores!$D$7:$AB$38,MATCH(E$287,[4]Estimadores!$B$7:$B$38,0),MATCH($B295,[4]Estimadores!$D$6:$AB$6,0)),\"-\")","v":0.38283750504400665},{"$f":"IFERROR(INDEX([4]Estimadores!$D$7:$AB$38,MATCH(F$287,[4]Estimadores!$B$7:$B$38,0),MATCH($B295,[4]Estimadores!$D$6:$AB$6,0)),\"-\")","v":0.51131130360426968},{"$f":"IFERROR(INDEX([4]Estimadores!$D$7:$AB$38,MATCH(G$287,[4]Estimadores!$B$7:$B$38,0),MATCH($B295,[4]Estimadores!$D$6:$AB$6,0)),\"-\")","v":0.54849419910012664},{"$f":"IFERROR(INDEX([4]Estimadores!$D$7:$AB$38,MATCH(H$287,[4]Estimadores!$B$7:$B$38,0),MATCH($B295,[4]Estimadores!$D$6:$AB$6,0)),\"-\")","v":0.59691789804255635},{"$f":"IFERROR(INDEX([4]Estimadores!$D$7:$AB$38,MATCH(I$287,[4]Estimadores!$B$7:$B$38,0),MATCH($B295,[4]Estimadores!$D$6:$AB$6,0)),\"-\")","v":0.68693313847976356},{"$f":"IFERROR(INDEX([4]Estimadores!$D$7:$AB$38,MATCH(J$287,[4]Estimadores!$B$7:$B$38,0),MATCH($B295,[4]Estimadores!$D$6:$AB$6,0)),\"-\")","v":0.58927017276097649},{"$f":"IFERROR(INDEX([4]Estimadores!$D$7:$AB$38,MATCH(K$287,[4]Estimadores!$B$7:$B$38,0),MATCH($B295,[4]Estimadores!$D$6:$AB$6,0)),\"-\")","v":0.15173623755887486},{"$f":"IFERROR(INDEX([4]Estimadores!$D$7:$AB$38,MATCH(L$287,[4]Estimadores!$B$7:$B$38,0),MATCH($B295,[4]Estimadores!$D$6:$AB$6,0)),\"-\")","v":0.20924965622262004},{"$f":"IFERROR(INDEX([4]Estimadores!$D$7:$AB$38,MATCH(M$287,[4]Estimadores!$B$7:$B$38,0),MATCH($B295,[4]Estimadores!$D$6:$AB$6,0)),\"-\")","v":0.20924965622262004},{"$f":"IFERROR(INDEX([4]Estimadores!$D$7:$AB$38,MATCH(N$287,[4]Estimadores!$B$7:$B$38,0),MATCH($B295,[4]Estimadores!$D$6:$AB$6,0)),\"-\")","v":0.2531291135471162},{"$f":"IFERROR(INDEX([4]Estimadores!$D$7:$AB$38,MATCH(O$287,[4]Estimadores!$B$7:$B$38,0),MATCH($B295,[4]Estimadores!$D$6:$AB$6,0)),\"-\")","v":0.34907403031605372},{"$f":"IFERROR(INDEX([4]Estimadores!$D$7:$AB$38,MATCH(P$287,[4]Estimadores!$B$7:$B$38,0),MATCH($B295,[4]Estimadores!$D$6:$AB$6,0)),\"-\")","v":0.34907403031605372},{"$f":"IFERROR(INDEX([4]Estimadores!$D$7:$AB$38,MATCH(Q$287,[4]Estimadores!$B$7:$B$38,0),MATCH($B295,[4]Estimadores!$D$6:$AB$6,0)),\"-\")","v":0.8267390257510967},{"$f":"IFERROR(INDEX([4]Estimadores!$D$7:$AB$38,MATCH(R$287,[4]Estimadores!$B$7:$B$38,0),MATCH($B295,[4]Estimadores!$D$6:$AB$6,0)),\"-\")","v":0.8267390257510967},{"$f":"IFERROR(INDEX([4]Estimadores!$D$7:$AB$38,MATCH(S$287,[4]Estimadores!$B$7:$B$38,0),MATCH($B295,[4]Estimadores!$D$6:$AB$6,0)),\"-\")","v":0.21659506511595952},{"$f":"IFERROR(INDEX([4]Estimadores!$D$7:$AB$38,MATCH(T$287,[4]Estimadores!$B$7:$B$38,0),MATCH($B295,[4]Estimadores!$D$6:$AB$6,0)),\"-\")","v":9.0574075980529564E-2},{"$f":"IFERROR(INDEX([4]Estimadores!$D$7:$AB$38,MATCH(U$287,[4]Estimadores!$B$7:$B$38,0),MATCH($B295,[4]Estimadores!$D$6:$AB$6,0)),\"-\")","v":0.12490486495853385},{"$f":"IFERROR(INDEX([4]Estimadores!$D$7:$AB$38,MATCH(V$287,[4]Estimadores!$B$7:$B$38,0),MATCH($B295,[4]Estimadores!$D$6:$AB$6,0)),\"-\")","v":0.12490486495853385},{"$f":"IFERROR(INDEX([4]Estimadores!$D$7:$AB$38,MATCH(W$287,[4]Estimadores!$B$7:$B$38,0),MATCH($B295,[4]Estimadores!$D$6:$AB$6,0)),\"-\")","v":"-"},{"$f":"IFERROR(INDEX([4]Estimadores!$D$7:$AB$38,MATCH(X$287,[4]Estimadores!$B$7:$B$38,0),MATCH($B295,[4]Estimadores!$D$6:$AB$6,0)),\"-\")","v":0.15173623755887486},{"$f":"IFERROR(INDEX([4]Estimadores!$D$7:$AB$38,MATCH(Y$287,[4]Estimadores!$B$7:$B$38,0),MATCH($B295,[4]Estimadores!$D$6:$AB$6,0)),\"-\")","v":0.20924965622262004},{"$f":"IFERROR(INDEX([4]Estimadores!$D$7:$AB$38,MATCH(Z$287,[4]Estimadores!$B$7:$B$38,0),MATCH($B295,[4]Estimadores!$D$6:$AB$6,0)),\"-\")","v":0.20924965622262004},{"$f":"IFERROR(INDEX([4]Estimadores!$D$7:$AB$38,MATCH(AA$287,[4]Estimadores!$B$7:$B$38,0),MATCH($B295,[4]Estimadores!$D$6:$AB$6,0)),\"-\")","v":0.80204969118001679},{"$f":"IFERROR(INDEX([4]Estimadores!$D$7:$AB$38,MATCH(AB$287,[4]Estimadores!$B$7:$B$38,0),MATCH($B295,[4]Estimadores!$D$6:$AB$6,0)),\"-\")","v":0.80204969118001679},{"$f":"IFERROR(INDEX([4]Estimadores!$D$7:$AB$38,MATCH(AC$287,[4]Estimadores!$B$7:$B$38,0),MATCH($B295,[4]Estimadores!$D$6:$AB$6,0)),\"-\")","v":0.2101267748060465},{"$f":"IFERROR(INDEX([4]Estimadores!$D$7:$AB$38,MATCH(AD$287,[4]Estimadores!$B$7:$B$38,0),MATCH($B295,[4]Estimadores!$D$6:$AB$6,0)),\"-\")","v":0.35781769513316203},{"$f":"IFERROR(INDEX([4]Estimadores!$D$7:$AB$38,MATCH(AE$287,[4]Estimadores!$B$7:$B$38,0),MATCH($B295,[4]Estimadores!$D$6:$AB$6,0)),\"-\")","v":0.57909183052040292},{"$f":"IFERROR(INDEX([4]Estimadores!$D$7:$AB$38,MATCH(AF$287,[4]Estimadores!$B$7:$B$38,0),MATCH($B295,[4]Estimadores!$D$6:$AB$6,0)),\"-\")","v":0.4067896238690783},{"$f":"IFERROR(INDEX([4]Estimadores!$D$7:$AB$38,MATCH(AG$287,[4]Estimadores!$B$7:$B$38,0),MATCH($B295,[4]Estimadores!$D$6:$AB$6,0)),\"-\")","v":0.66351128834715156},{"$f":"IFERROR(INDEX([4]Estimadores!$D$7:$AB$38,MATCH(AH$287,[4]Estimadores!$B$7:$B$38,0),MATCH($B295,[4]Estimadores!$D$6:$AB$6,0)),\"-\")","v":1.6682179393627055},{"$f":"IFERROR(INDEX([4]Estimadores!$D$7:$AB$38,MATCH(AI$287,[4]Estimadores!$B$7:$B$38,0),MATCH($B295,[4]Estimadores!$D$6:$AB$6,0)),\"-\")","v":1.030782799173896}]
[null,"BTD_A","BTD_A",{"$f":"IFERROR(INDEX([4]Estimadores!$D$7:$AB$38,MATCH(D$287,[4]Estimadores!$B$7:$B$38,0),MATCH($B296,[4]Estimadores!$D$6:$AB$6,0)),\"-\")","v":0.35570245283103913},{"$f":"IFERROR(INDEX([4]Estimadores!$D$7:$AB$38,MATCH(E$287,[4]Estimadores!$B$7:$B$38,0),MATCH($B296,[4]Estimadores!$D$6:$AB$6,0)),\"-\")","v":0.24772398075809088},{"$f":"IFERROR(INDEX([4]Estimadores!$D$7:$AB$38,MATCH(F$287,[4]Estimadores!$B$7:$B$38,0),MATCH($B296,[4]Estimadores!$D$6:$AB$6,0)),\"-\")","v":0.39657356641087016},{"$f":"IFERROR(INDEX([4]Estimadores!$D$7:$AB$38,MATCH(G$287,[4]Estimadores!$B$7:$B$38,0),MATCH($B296,[4]Estimadores!$D$6:$AB$6,0)),\"-\")","v":0.49822269625522086},{"$f":"IFERROR(INDEX([4]Estimadores!$D$7:$AB$38,MATCH(H$287,[4]Estimadores!$B$7:$B$38,0),MATCH($B296,[4]Estimadores!$D$6:$AB$6,0)),\"-\")","v":0.58582802102316478},{"$f":"IFERROR(INDEX([4]Estimadores!$D$7:$AB$38,MATCH(I$287,[4]Estimadores!$B$7:$B$38,0),MATCH($B296,[4]Estimadores!$D$6:$AB$6,0)),\"-\")","v":0.61160738507254431},{"$f":"IFERROR(INDEX([4]Estimadores!$D$7:$AB$38,MATCH(J$287,[4]Estimadores!$B$7:$B$38,0),MATCH($B296,[4]Estimadores!$D$6:$AB$6,0)),\"-\")","v":0.58050351530180133},{"$f":"IFERROR(INDEX([4]Estimadores!$D$7:$AB$38,MATCH(K$287,[4]Estimadores!$B$7:$B$38,0),MATCH($B296,[4]Estimadores!$D$6:$AB$6,0)),\"-\")","v":0.58259813776885128},{"$f":"IFERROR(INDEX([4]Estimadores!$D$7:$AB$38,MATCH(L$287,[4]Estimadores!$B$7:$B$38,0),MATCH($B296,[4]Estimadores!$D$6:$AB$6,0)),\"-\")","v":0.57935650060082944},{"$f":"IFERROR(INDEX([4]Estimadores!$D$7:$AB$38,MATCH(M$287,[4]Estimadores!$B$7:$B$38,0),MATCH($B296,[4]Estimadores!$D$6:$AB$6,0)),\"-\")","v":0.57935650060082944},{"$f":"IFERROR(INDEX([4]Estimadores!$D$7:$AB$38,MATCH(N$287,[4]Estimadores!$B$7:$B$38,0),MATCH($B296,[4]Estimadores!$D$6:$AB$6,0)),\"-\")","v":0.58259813776885128},{"$f":"IFERROR(INDEX([4]Estimadores!$D$7:$AB$38,MATCH(O$287,[4]Estimadores!$B$7:$B$38,0),MATCH($B296,[4]Estimadores!$D$6:$AB$6,0)),\"-\")","v":0.57935650060082944},{"$f":"IFERROR(INDEX([4]Estimadores!$D$7:$AB$38,MATCH(P$287,[4]Estimadores!$B$7:$B$38,0),MATCH($B296,[4]Estimadores!$D$6:$AB$6,0)),\"-\")","v":0.57935650060082944},{"$f":"IFERROR(INDEX([4]Estimadores!$D$7:$AB$38,MATCH(Q$287,[4]Estimadores!$B$7:$B$38,0),MATCH($B296,[4]Estimadores!$D$6:$AB$6,0)),\"-\")","v":0.61805068088017034},{"$f":"IFERROR(INDEX([4]Estimadores!$D$7:$AB$38,MATCH(R$287,[4]Estimadores!$B$7:$B$38,0),MATCH($B296,[4]Estimadores!$D$6:$AB$6,0)),\"-\")","v":0.61805068088017034},{"$f":"IFERROR(INDEX([4]Estimadores!$D$7:$AB$38,MATCH(S$287,[4]Estimadores!$B$7:$B$38,0),MATCH($B296,[4]Estimadores!$D$6:$AB$6,0)),\"-\")","v":0.88901818993304382},{"$f":"IFERROR(INDEX([4]Estimadores!$D$7:$AB$38,MATCH(T$287,[4]Estimadores!$B$7:$B$38,0),MATCH($B296,[4]Estimadores!$D$6:$AB$6,0)),\"-\")","v":0.34130231410090728},{"$f":"IFERROR(INDEX([4]Estimadores!$D$7:$AB$38,MATCH(U$287,[4]Estimadores!$B$7:$B$38,0),MATCH($B296,[4]Estimadores!$D$6:$AB$6,0)),\"-\")","v":0.33940327221388994},{"$f":"IFERROR(INDEX([4]Estimadores!$D$7:$AB$38,MATCH(V$287,[4]Estimadores!$B$7:$B$38,0),MATCH($B296,[4]Estimadores!$D$6:$AB$6,0)),\"-\")","v":0.33940327221388994},{"$f":"IFERROR(INDEX([4]Estimadores!$D$7:$AB$38,MATCH(W$287,[4]Estimadores!$B$7:$B$38,0),MATCH($B296,[4]Estimadores!$D$6:$AB$6,0)),\"-\")","v":"-"},{"$f":"IFERROR(INDEX([4]Estimadores!$D$7:$AB$38,MATCH(X$287,[4]Estimadores!$B$7:$B$38,0),MATCH($B296,[4]Estimadores!$D$6:$AB$6,0)),\"-\")","v":0.58259813776885128},{"$f":"IFERROR(INDEX([4]Estimadores!$D$7:$AB$38,MATCH(Y$287,[4]Estimadores!$B$7:$B$38,0),MATCH($B296,[4]Estimadores!$D$6:$AB$6,0)),\"-\")","v":0.57935650060082944},{"$f":"IFERROR(INDEX([4]Estimadores!$D$7:$AB$38,MATCH(Z$287,[4]Estimadores!$B$7:$B$38,0),MATCH($B296,[4]Estimadores!$D$6:$AB$6,0)),\"-\")","v":0.57935650060082944},{"$f":"IFERROR(INDEX([4]Estimadores!$D$7:$AB$38,MATCH(AA$287,[4]Estimadores!$B$7:$B$38,0),MATCH($B296,[4]Estimadores!$D$6:$AB$6,0)),\"-\")","v":0.57222448842982321},{"$f":"IFERROR(INDEX([4]Estimadores!$D$7:$AB$38,MATCH(AB$287,[4]Estimadores!$B$7:$B$38,0),MATCH($B296,[4]Estimadores!$D$6:$AB$6,0)),\"-\")","v":0.57222448842982321},{"$f":"IFERROR(INDEX([4]Estimadores!$D$7:$AB$38,MATCH(AC$287,[4]Estimadores!$B$7:$B$38,0),MATCH($B296,[4]Estimadores!$D$6:$AB$6,0)),\"-\")","v":0.82310074994946136},{"$f":"IFERROR(INDEX([4]Estimadores!$D$7:$AB$38,MATCH(AD$287,[4]Estimadores!$B$7:$B$38,0),MATCH($B296,[4]Estimadores!$D$6:$AB$6,0)),\"-\")","v":0.58582802102316478},{"$f":"IFERROR(INDEX([4]Estimadores!$D$7:$AB$38,MATCH(AE$287,[4]Estimadores!$B$7:$B$38,0),MATCH($B296,[4]Estimadores!$D$6:$AB$6,0)),\"-\")","v":0.54239102068529355},{"$f":"IFERROR(INDEX([4]Estimadores!$D$7:$AB$38,MATCH(AF$287,[4]Estimadores!$B$7:$B$38,0),MATCH($B296,[4]Estimadores!$D$6:$AB$6,0)),\"-\")","v":0.74431994747911856},{"$f":"IFERROR(INDEX([4]Estimadores!$D$7:$AB$38,MATCH(AG$287,[4]Estimadores!$B$7:$B$38,0),MATCH($B296,[4]Estimadores!$D$6:$AB$6,0)),\"-\")","v":0.45505820292573312},{"$f":"IFERROR(INDEX([4]Estimadores!$D$7:$AB$38,MATCH(AH$287,[4]Estimadores!$B$7:$B$38,0),MATCH($B296,[4]Estimadores!$D$6:$AB$6,0)),\"-\")","v":1},{"$f":"IFERROR(INDEX([4]Estimadores!$D$7:$AB$38,MATCH(AI$287,[4]Estimadores!$B$7:$B$38,0),MATCH($B296,[4]Estimadores!$D$6:$AB$6,0)),\"-\")","v":1.0800842910028083}]
[null,"","",{"$f":"IFERROR(INDEX([4]Estimadores!$D$7:$AB$38,MATCH(D$287,[4]Estimadores!$B$7:$B$38,0),MATCH($B297,[4]Estimadores!$D$6:$AB$6,0)),\"-\")","v":"-"},{"$f":"IFERROR(INDEX([4]Estimadores!$D$7:$AB$38,MATCH(E$287,[4]Estimadores!$B$7:$B$38,0),MATCH($B297,[4]Estimadores!$D$6:$AB$6,0)),\"-\")","v":"-"},{"$f":"IFERROR(INDEX([4]Estimadores!$D$7:$AB$38,MATCH(F$287,[4]Estimadores!$B$7:$B$38,0),MATCH($B297,[4]Estimadores!$D$6:$AB$6,0)),\"-\")","v":"-"},{"$f":"IFERROR(INDEX([4]Estimadores!$D$7:$AB$38,MATCH(G$287,[4]Estimadores!$B$7:$B$38,0),MATCH($B297,[4]Estimadores!$D$6:$AB$6,0)),\"-\")","v":"-"},{"$f":"IFERROR(INDEX([4]Estimadores!$D$7:$AB$38,MATCH(H$287,[4]Estimadores!$B$7:$B$38,0),MATCH($B297,[4]Estimadores!$D$6:$AB$6,0)),\"-\")","v":"-"},{"$f":"IFERROR(INDEX([4]Estimadores!$D$7:$AB$38,MATCH(I$287,[4]Estimadores!$B$7:$B$38,0),MATCH($B297,[4]Estimadores!$D$6:$AB$6,0)),\"-\")","v":"-"},{"$f":"IFERROR(INDEX([4]Estimadores!$D$7:$AB$38,MATCH(J$287,[4]Estimadores!$B$7:$B$38,0),MATCH($B297,[4]Estimadores!$D$6:$AB$6,0)),\"-\")","v":"-"},{"$f":"IFERROR(INDEX([4]Estimadores!$D$7:$AB$38,MATCH(K$287,[4]Estimadores!$B$7:$B$38,0),MATCH($B297,[4]Estimadores!$D$6:$AB$6,0)),\"-\")","v":"-"},{"$f":"IFERROR(INDEX([4]Estimadores!$D$7:$AB$38,MATCH(L$287,[4]Estimadores!$B$7:$B$38,0),MATCH($B297,[4]Estimadores!$D$6:$AB$6,0)),\"-\")","v":"-"},{"$f":"IFERROR(INDEX([4]Estimadores!$D$7:$AB$38,MATCH(M$287,[4]Estimadores!$B$7:$B$38,0),MATCH($B297,[4]Estimadores!$D$6:$AB$6,0)),\"-\")","v":"-"},{"$f":"IFERROR(INDEX([4]Estimadores!$D$7:$AB$38,MATCH(N$287,[4]Estimadores!$B$7:$B$38,0),MATCH($B297,[4]Estimadores!$D$6:$AB$6,0)),\"-\")","v":"-"},{"$f":"IFERROR(INDEX([4]Estimadores!$D$7:$AB$38,MATCH(O$287,[4]Estimadores!$B$7:$B$38,0),MATCH($B297,[4]Estimadores!$D$6:$AB$6,0)),\"-\")","v":"-"},{"$f":"IFERROR(INDEX([4]Estimadores!$D$7:$AB$38,MATCH(P$287,[4]Estimadores!$B$7:$B$38,0),MATCH($B297,[4]Estimadores!$D$6:$AB$6,0)),\"-\")","v":"-"},{"$f":"IFERROR(INDEX([4]Estimadores!$D$7:$AB$38,MATCH(Q$287,[4]Estimadores!$B$7:$B$38,0),MATCH($B297,[4]Estimadores!$D$6:$AB$6,0)),\"-\")","v":"-"},{"$f":"IFERROR(INDEX([4]Estimadores!$D$7:$AB$38,MATCH(R$287,[4]Estimadores!$B$7:$B$38,0),MATCH($B297,[4]Estimadores!$D$6:$AB$6,0)),\"-\")","v":"-"},{"$f":"IFERROR(INDEX([4]Estimadores!$D$7:$AB$38,MATCH(S$287,[4]Estimadores!$B$7:$B$38,0),MATCH($B297,[4]Estimadores!$D$6:$AB$6,0)),\"-\")","v":"-"},{"$f":"IFERROR(INDEX([4]Estimadores!$D$7:$AB$38,MATCH(T$287,[4]Estimadores!$B$7:$B$38,0),MATCH($B297,[4]Estimadores!$D$6:$AB$6,0)),\"-\")","v":"-"},{"$f":"IFERROR(INDEX([4]Estimadores!$D$7:$AB$38,MATCH(U$287,[4]Estimadores!$B$7:$B$38,0),MATCH($B297,[4]Estimadores!$D$6:$AB$6,0)),\"-\")","v":"-"},{"$f":"IFERROR(INDEX([4]Estimadores!$D$7:$AB$38,MATCH(V$287,[4]Estimadores!$B$7:$B$38,0),MATCH($B297,[4]Estimadores!$D$6:$AB$6,0)),\"-\")","v":"-"},{"$f":"IFERROR(INDEX([4]Estimadores!$D$7:$AB$38,MATCH(W$287,[4]Estimadores!$B$7:$B$38,0),MATCH($B297,[4]Estimadores!$D$6:$AB$6,0)),\"-\")","v":"-"},{"$f":"IFERROR(INDEX([4]Estimadores!$D$7:$AB$38,MATCH(X$287,[4]Estimadores!$B$7:$B$38,0),MATCH($B297,[4]Estimadores!$D$6:$AB$6,0)),\"-\")","v":"-"},{"$f":"IFERROR(INDEX([4]Estimadores!$D$7:$AB$38,MATCH(Y$287,[4]Estimadores!$B$7:$B$38,0),MATCH($B297,[4]Estimadores!$D$6:$AB$6,0)),\"-\")","v":"-"},{"$f":"IFERROR(INDEX([4]Estimadores!$D$7:$AB$38,MATCH(Z$287,[4]Estimadores!$B$7:$B$38,0),MATCH($B297,[4]Estimadores!$D$6:$AB$6,0)),\"-\")","v":"-"},{"$f":"IFERROR(INDEX([4]Estimadores!$D$7:$AB$38,MATCH(AA$287,[4]Estimadores!$B$7:$B$38,0),MATCH($B297,[4]Estimadores!$D$6:$AB$6,0)),\"-\")","v":"-"},{"$f":"IFERROR(INDEX([4]Estimadores!$D$7:$AB$38,MATCH(AB$287,[4]Estimadores!$B$7:$B$38,0),MATCH($B297,[4]Estimadores!$D$6:$AB$6,0)),\"-\")","v":"-"},{"$f":"IFERROR(INDEX([4]Estimadores!$D$7:$AB$38,MATCH(AC$287,[4]Estimadores!$B$7:$B$38,0),MATCH($B297,[4]Estimadores!$D$6:$AB$6,0)),\"-\")","v":"-"},{"$f":"IFERROR(INDEX([4]Estimadores!$D$7:$AB$38,MATCH(AD$287,[4]Estimadores!$B$7:$B$38,0),MATCH($B297,[4]Estimadores!$D$6:$AB$6,0)),\"-\")","v":"-"},{"$f":"IFERROR(INDEX([4]Estimadores!$D$7:$AB$38,MATCH(AE$287,[4]Estimadores!$B$7:$B$38,0),MATCH($B297,[4]Estimadores!$D$6:$AB$6,0)),\"-\")","v":"-"},{"$f":"IFERROR(INDEX([4]Estimadores!$D$7:$AB$38,MATCH(AF$287,[4]Estimadores!$B$7:$B$38,0),MATCH($B297,[4]Estimadores!$D$6:$AB$6,0)),\"-\")","v":"-"},{"$f":"IFERROR(INDEX([4]Estimadores!$D$7:$AB$38,MATCH(AG$287,[4]Estimadores!$B$7:$B$38,0),MATCH($B297,[4]Estimadores!$D$6:$AB$6,0)),\"-\")","v":"-"},{"$f":"IFERROR(INDEX([4]Estimadores!$D$7:$AB$38,MATCH(AH$287,[4]Estimadores!$B$7:$B$38,0),MATCH($B297,[4]Estimadores!$D$6:$AB$6,0)),\"-\")","v":"-"},{"$f":"IFERROR(INDEX([4]Estimadores!$D$7:$AB$38,MATCH(AI$287,[4]Estimadores!$B$7:$B$38,0),MATCH($B297,[4]Estimadores!$D$6:$AB$6,0)),\"-\")","v":"-"}]
[null,"","",{"$f":"IFERROR(INDEX([4]Estimadores!$D$7:$AB$38,MATCH(D$287,[4]Estimadores!$B$7:$B$38,0),MATCH($B298,[4]Estimadores!$D$6:$AB$6,0)),\"-\")","v":"-"},{"$f":"IFERROR(INDEX([4]Estimadores!$D$7:$AB$38,MATCH(E$287,[4]Estimadores!$B$7:$B$38,0),MATCH($B298,[4]Estimadores!$D$6:$AB$6,0)),\"-\")","v":"-"},{"$f":"IFERROR(INDEX([4]Estimadores!$D$7:$AB$38,MATCH(F$287,[4]Estimadores!$B$7:$B$38,0),MATCH($B298,[4]Estimadores!$D$6:$AB$6,0)),\"-\")","v":"-"},{"$f":"IFERROR(INDEX([4]Estimadores!$D$7:$AB$38,MATCH(G$287,[4]Estimadores!$B$7:$B$38,0),MATCH($B298,[4]Estimadores!$D$6:$AB$6,0)),\"-\")","v":"-"},{"$f":"IFERROR(INDEX([4]Estimadores!$D$7:$AB$38,MATCH(H$287,[4]Estimadores!$B$7:$B$38,0),MATCH($B298,[4]Estimadores!$D$6:$AB$6,0)),\"-\")","v":"-"},{"$f":"IFERROR(INDEX([4]Estimadores!$D$7:$AB$38,MATCH(I$287,[4]Estimadores!$B$7:$B$38,0),MATCH($B298,[4]Estimadores!$D$6:$AB$6,0)),\"-\")","v":"-"},{"$f":"IFERROR(INDEX([4]Estimadores!$D$7:$AB$38,MATCH(J$287,[4]Estimadores!$B$7:$B$38,0),MATCH($B298,[4]Estimadores!$D$6:$AB$6,0)),\"-\")","v":"-"},{"$f":"IFERROR(INDEX([4]Estimadores!$D$7:$AB$38,MATCH(K$287,[4]Estimadores!$B$7:$B$38,0),MATCH($B298,[4]Estimadores!$D$6:$AB$6,0)),\"-\")","v":"-"},{"$f":"IFERROR(INDEX([4]Estimadores!$D$7:$AB$38,MATCH(L$287,[4]Estimadores!$B$7:$B$38,0),MATCH($B298,[4]Estimadores!$D$6:$AB$6,0)),\"-\")","v":"-"},{"$f":"IFERROR(INDEX([4]Estimadores!$D$7:$AB$38,MATCH(M$287,[4]Estimadores!$B$7:$B$38,0),MATCH($B298,[4]Estimadores!$D$6:$AB$6,0)),\"-\")","v":"-"},{"$f":"IFERROR(INDEX([4]Estimadores!$D$7:$AB$38,MATCH(N$287,[4]Estimadores!$B$7:$B$38,0),MATCH($B298,[4]Estimadores!$D$6:$AB$6,0)),\"-\")","v":"-"},{"$f":"IFERROR(INDEX([4]Estimadores!$D$7:$AB$38,MATCH(O$287,[4]Estimadores!$B$7:$B$38,0),MATCH($B298,[4]Estimadores!$D$6:$AB$6,0)),\"-\")","v":"-"},{"$f":"IFERROR(INDEX([4]Estimadores!$D$7:$AB$38,MATCH(P$287,[4]Estimadores!$B$7:$B$38,0),MATCH($B298,[4]Estimadores!$D$6:$AB$6,0)),\"-\")","v":"-"},{"$f":"IFERROR(INDEX([4]Estimadores!$D$7:$AB$38,MATCH(Q$287,[4]Estimadores!$B$7:$B$38,0),MATCH($B298,[4]Estimadores!$D$6:$AB$6,0)),\"-\")","v":"-"},{"$f":"IFERROR(INDEX([4]Estimadores!$D$7:$AB$38,MATCH(R$287,[4]Estimadores!$B$7:$B$38,0),MATCH($B298,[4]Estimadores!$D$6:$AB$6,0)),\"-\")","v":"-"},{"$f":"IFERROR(INDEX([4]Estimadores!$D$7:$AB$38,MATCH(S$287,[4]Estimadores!$B$7:$B$38,0),MATCH($B298,[4]Estimadores!$D$6:$AB$6,0)),\"-\")","v":"-"},{"$f":"IFERROR(INDEX([4]Estimadores!$D$7:$AB$38,MATCH(T$287,[4]Estimadores!$B$7:$B$38,0),MATCH($B298,[4]Estimadores!$D$6:$AB$6,0)),\"-\")","v":"-"},{"$f":"IFERROR(INDEX([4]Estimadores!$D$7:$AB$38,MATCH(U$287,[4]Estimadores!$B$7:$B$38,0),MATCH($B298,[4]Estimadores!$D$6:$AB$6,0)),\"-\")","v":"-"},{"$f":"IFERROR(INDEX([4]Estimadores!$D$7:$AB$38,MATCH(V$287,[4]Estimadores!$B$7:$B$38,0),MATCH($B298,[4]Estimadores!$D$6:$AB$6,0)),\"-\")","v":"-"},{"$f":"IFERROR(INDEX([4]Estimadores!$D$7:$AB$38,MATCH(W$287,[4]Estimadores!$B$7:$B$38,0),MATCH($B298,[4]Estimadores!$D$6:$AB$6,0)),\"-\")","v":"-"},{"$f":"IFERROR(INDEX([4]Estimadores!$D$7:$AB$38,MATCH(X$287,[4]Estimadores!$B$7:$B$38,0),MATCH($B298,[4]Estimadores!$D$6:$AB$6,0)),\"-\")","v":"-"},{"$f":"IFERROR(INDEX([4]Estimadores!$D$7:$AB$38,MATCH(Y$287,[4]Estimadores!$B$7:$B$38,0),MATCH($B298,[4]Estimadores!$D$6:$AB$6,0)),\"-\")","v":"-"},{"$f":"IFERROR(INDEX([4]Estimadores!$D$7:$AB$38,MATCH(Z$287,[4]Estimadores!$B$7:$B$38,0),MATCH($B298,[4]Estimadores!$D$6:$AB$6,0)),\"-\")","v":"-"},{"$f":"IFERROR(INDEX([4]Estimadores!$D$7:$AB$38,MATCH(AA$287,[4]Estimadores!$B$7:$B$38,0),MATCH($B298,[4]Estimadores!$D$6:$AB$6,0)),\"-\")","v":"-"},{"$f":"IFERROR(INDEX([4]Estimadores!$D$7:$AB$38,MATCH(AB$287,[4]Estimadores!$B$7:$B$38,0),MATCH($B298,[4]Estimadores!$D$6:$AB$6,0)),\"-\")","v":"-"},{"$f":"IFERROR(INDEX([4]Estimadores!$D$7:$AB$38,MATCH(AC$287,[4]Estimadores!$B$7:$B$38,0),MATCH($B298,[4]Estimadores!$D$6:$AB$6,0)),\"-\")","v":"-"},{"$f":"IFERROR(INDEX([4]Estimadores!$D$7:$AB$38,MATCH(AD$287,[4]Estimadores!$B$7:$B$38,0),MATCH($B298,[4]Estimadores!$D$6:$AB$6,0)),\"-\")","v":"-"},{"$f":"IFERROR(INDEX([4]Estimadores!$D$7:$AB$38,MATCH(AE$287,[4]Estimadores!$B$7:$B$38,0),MATCH($B298,[4]Estimadores!$D$6:$AB$6,0)),\"-\")","v":"-"},{"$f":"IFERROR(INDEX([4]Estimadores!$D$7:$AB$38,MATCH(AF$287,[4]Estimadores!$B$7:$B$38,0),MATCH($B298,[4]Estimadores!$D$6:$AB$6,0)),\"-\")","v":"-"},{"$f":"IFERROR(INDEX([4]Estimadores!$D$7:$AB$38,MATCH(AG$287,[4]Estimadores!$B$7:$B$38,0),MATCH($B298,[4]Estimadores!$D$6:$AB$6,0)),\"-\")","v":"-"},{"$f":"IFERROR(INDEX([4]Estimadores!$D$7:$AB$38,MATCH(AH$287,[4]Estimadores!$B$7:$B$38,0),MATCH($B298,[4]Estimadores!$D$6:$AB$6,0)),\"-\")","v":"-"},{"$f":"IFERROR(INDEX([4]Estimadores!$D$7:$AB$38,MATCH(AI$287,[4]Estimadores!$B$7:$B$38,0),MATCH($B298,[4]Estimadores!$D$6:$AB$6,0)),\"-\")","v":"-"}]
[null,"","",{"$f":"IFERROR(INDEX([4]Estimadores!$D$7:$AB$38,MATCH(D$287,[4]Estimadores!$B$7:$B$38,0),MATCH($B299,[4]Estimadores!$D$6:$AB$6,0)),\"-\")","v":"-"},{"$f":"IFERROR(INDEX([4]Estimadores!$D$7:$AB$38,MATCH(E$287,[4]Estimadores!$B$7:$B$38,0),MATCH($B299,[4]Estimadores!$D$6:$AB$6,0)),\"-\")","v":"-"},{"$f":"IFERROR(INDEX([4]Estimadores!$D$7:$AB$38,MATCH(F$287,[4]Estimadores!$B$7:$B$38,0),MATCH($B299,[4]Estimadores!$D$6:$AB$6,0)),\"-\")","v":"-"},{"$f":"IFERROR(INDEX([4]Estimadores!$D$7:$AB$38,MATCH(G$287,[4]Estimadores!$B$7:$B$38,0),MATCH($B299,[4]Estimadores!$D$6:$AB$6,0)),\"-\")","v":"-"},{"$f":"IFERROR(INDEX([4]Estimadores!$D$7:$AB$38,MATCH(H$287,[4]Estimadores!$B$7:$B$38,0),MATCH($B299,[4]Estimadores!$D$6:$AB$6,0)),\"-\")","v":"-"},{"$f":"IFERROR(INDEX([4]Estimadores!$D$7:$AB$38,MATCH(I$287,[4]Estimadores!$B$7:$B$38,0),MATCH($B299,[4]Estimadores!$D$6:$AB$6,0)),\"-\")","v":"-"},{"$f":"IFERROR(INDEX([4]Estimadores!$D$7:$AB$38,MATCH(J$287,[4]Estimadores!$B$7:$B$38,0),MATCH($B299,[4]Estimadores!$D$6:$AB$6,0)),\"-\")","v":"-"},{"$f":"IFERROR(INDEX([4]Estimadores!$D$7:$AB$38,MATCH(K$287,[4]Estimadores!$B$7:$B$38,0),MATCH($B299,[4]Estimadores!$D$6:$AB$6,0)),\"-\")","v":"-"},{"$f":"IFERROR(INDEX([4]Estimadores!$D$7:$AB$38,MATCH(L$287,[4]Estimadores!$B$7:$B$38,0),MATCH($B299,[4]Estimadores!$D$6:$AB$6,0)),\"-\")","v":"-"},{"$f":"IFERROR(INDEX([4]Estimadores!$D$7:$AB$38,MATCH(M$287,[4]Estimadores!$B$7:$B$38,0),MATCH($B299,[4]Estimadores!$D$6:$AB$6,0)),\"-\")","v":"-"},{"$f":"IFERROR(INDEX([4]Estimadores!$D$7:$AB$38,MATCH(N$287,[4]Estimadores!$B$7:$B$38,0),MATCH($B299,[4]Estimadores!$D$6:$AB$6,0)),\"-\")","v":"-"},{"$f":"IFERROR(INDEX([4]Estimadores!$D$7:$AB$38,MATCH(O$287,[4]Estimadores!$B$7:$B$38,0),MATCH($B299,[4]Estimadores!$D$6:$AB$6,0)),\"-\")","v":"-"},{"$f":"IFERROR(INDEX([4]Estimadores!$D$7:$AB$38,MATCH(P$287,[4]Estimadores!$B$7:$B$38,0),MATCH($B299,[4]Estimadores!$D$6:$AB$6,0)),\"-\")","v":"-"},{"$f":"IFERROR(INDEX([4]Estimadores!$D$7:$AB$38,MATCH(Q$287,[4]Estimadores!$B$7:$B$38,0),MATCH($B299,[4]Estimadores!$D$6:$AB$6,0)),\"-\")","v":"-"},{"$f":"IFERROR(INDEX([4]Estimadores!$D$7:$AB$38,MATCH(R$287,[4]Estimadores!$B$7:$B$38,0),MATCH($B299,[4]Estimadores!$D$6:$AB$6,0)),\"-\")","v":"-"},{"$f":"IFERROR(INDEX([4]Estimadores!$D$7:$AB$38,MATCH(S$287,[4]Estimadores!$B$7:$B$38,0),MATCH($B299,[4]Estimadores!$D$6:$AB$6,0)),\"-\")","v":"-"},{"$f":"IFERROR(INDEX([4]Estimadores!$D$7:$AB$38,MATCH(T$287,[4]Estimadores!$B$7:$B$38,0),MATCH($B299,[4]Estimadores!$D$6:$AB$6,0)),\"-\")","v":"-"},{"$f":"IFERROR(INDEX([4]Estimadores!$D$7:$AB$38,MATCH(U$287,[4]Estimadores!$B$7:$B$38,0),MATCH($B299,[4]Estimadores!$D$6:$AB$6,0)),\"-\")","v":"-"},{"$f":"IFERROR(INDEX([4]Estimadores!$D$7:$AB$38,MATCH(V$287,[4]Estimadores!$B$7:$B$38,0),MATCH($B299,[4]Estimadores!$D$6:$AB$6,0)),\"-\")","v":"-"},{"$f":"IFERROR(INDEX([4]Estimadores!$D$7:$AB$38,MATCH(W$287,[4]Estimadores!$B$7:$B$38,0),MATCH($B299,[4]Estimadores!$D$6:$AB$6,0)),\"-\")","v":"-"},{"$f":"IFERROR(INDEX([4]Estimadores!$D$7:$AB$38,MATCH(X$287,[4]Estimadores!$B$7:$B$38,0),MATCH($B299,[4]Estimadores!$D$6:$AB$6,0)),\"-\")","v":"-"},{"$f":"IFERROR(INDEX([4]Estimadores!$D$7:$AB$38,MATCH(Y$287,[4]Estimadores!$B$7:$B$38,0),MATCH($B299,[4]Estimadores!$D$6:$AB$6,0)),\"-\")","v":"-"},{"$f":"IFERROR(INDEX([4]Estimadores!$D$7:$AB$38,MATCH(Z$287,[4]Estimadores!$B$7:$B$38,0),MATCH($B299,[4]Estimadores!$D$6:$AB$6,0)),\"-\")","v":"-"},{"$f":"IFERROR(INDEX([4]Estimadores!$D$7:$AB$38,MATCH(AA$287,[4]Estimadores!$B$7:$B$38,0),MATCH($B299,[4]Estimadores!$D$6:$AB$6,0)),\"-\")","v":"-"},{"$f":"IFERROR(INDEX([4]Estimadores!$D$7:$AB$38,MATCH(AB$287,[4]Estimadores!$B$7:$B$38,0),MATCH($B299,[4]Estimadores!$D$6:$AB$6,0)),\"-\")","v":"-"},{"$f":"IFERROR(INDEX([4]Estimadores!$D$7:$AB$38,MATCH(AC$287,[4]Estimadores!$B$7:$B$38,0),MATCH($B299,[4]Estimadores!$D$6:$AB$6,0)),\"-\")","v":"-"},{"$f":"IFERROR(INDEX([4]Estimadores!$D$7:$AB$38,MATCH(AD$287,[4]Estimadores!$B$7:$B$38,0),MATCH($B299,[4]Estimadores!$D$6:$AB$6,0)),\"-\")","v":"-"},{"$f":"IFERROR(INDEX([4]Estimadores!$D$7:$AB$38,MATCH(AE$287,[4]Estimadores!$B$7:$B$38,0),MATCH($B299,[4]Estimadores!$D$6:$AB$6,0)),\"-\")","v":"-"},{"$f":"IFERROR(INDEX([4]Estimadores!$D$7:$AB$38,MATCH(AF$287,[4]Estimadores!$B$7:$B$38,0),MATCH($B299,[4]Estimadores!$D$6:$AB$6,0)),\"-\")","v":"-"},{"$f":"IFERROR(INDEX([4]Estimadores!$D$7:$AB$38,MATCH(AG$287,[4]Estimadores!$B$7:$B$38,0),MATCH($B299,[4]Estimadores!$D$6:$AB$6,0)),\"-\")","v":"-"},{"$f":"IFERROR(INDEX([4]Estimadores!$D$7:$AB$38,MATCH(AH$287,[4]Estimadores!$B$7:$B$38,0),MATCH($B299,[4]Estimadores!$D$6:$AB$6,0)),\"-\")","v":"-"},{"$f":"IFERROR(INDEX([4]Estimadores!$D$7:$AB$38,MATCH(AI$287,[4]Estimadores!$B$7:$B$38,0),MATCH($B299,[4]Estimadores!$D$6:$AB$6,0)),\"-\")","v":"-"}]
[null,"","",{"$f":"IFERROR(INDEX([4]Estimadores!$D$7:$AB$38,MATCH(D$287,[4]Estimadores!$B$7:$B$38,0),MATCH($B300,[4]Estimadores!$D$6:$AB$6,0)),\"-\")","v":"-"},{"$f":"IFERROR(INDEX([4]Estimadores!$D$7:$AB$38,MATCH(E$287,[4]Estimadores!$B$7:$B$38,0),MATCH($B300,[4]Estimadores!$D$6:$AB$6,0)),\"-\")","v":"-"},{"$f":"IFERROR(INDEX([4]Estimadores!$D$7:$AB$38,MATCH(F$287,[4]Estimadores!$B$7:$B$38,0),MATCH($B300,[4]Estimadores!$D$6:$AB$6,0)),\"-\")","v":"-"},{"$f":"IFERROR(INDEX([4]Estimadores!$D$7:$AB$38,MATCH(G$287,[4]Estimadores!$B$7:$B$38,0),MATCH($B300,[4]Estimadores!$D$6:$AB$6,0)),\"-\")","v":"-"},{"$f":"IFERROR(INDEX([4]Estimadores!$D$7:$AB$38,MATCH(H$287,[4]Estimadores!$B$7:$B$38,0),MATCH($B300,[4]Estimadores!$D$6:$AB$6,0)),\"-\")","v":"-"},{"$f":"IFERROR(INDEX([4]Estimadores!$D$7:$AB$38,MATCH(I$287,[4]Estimadores!$B$7:$B$38,0),MATCH($B300,[4]Estimadores!$D$6:$AB$6,0)),\"-\")","v":"-"},{"$f":"IFERROR(INDEX([4]Estimadores!$D$7:$AB$38,MATCH(J$287,[4]Estimadores!$B$7:$B$38,0),MATCH($B300,[4]Estimadores!$D$6:$AB$6,0)),\"-\")","v":"-"},{"$f":"IFERROR(INDEX([4]Estimadores!$D$7:$AB$38,MATCH(K$287,[4]Estimadores!$B$7:$B$38,0),MATCH($B300,[4]Estimadores!$D$6:$AB$6,0)),\"-\")","v":"-"},{"$f":"IFERROR(INDEX([4]Estimadores!$D$7:$AB$38,MATCH(L$287,[4]Estimadores!$B$7:$B$38,0),MATCH($B300,[4]Estimadores!$D$6:$AB$6,0)),\"-\")","v":"-"},{"$f":"IFERROR(INDEX([4]Estimadores!$D$7:$AB$38,MATCH(M$287,[4]Estimadores!$B$7:$B$38,0),MATCH($B300,[4]Estimadores!$D$6:$AB$6,0)),\"-\")","v":"-"},{"$f":"IFERROR(INDEX([4]Estimadores!$D$7:$AB$38,MATCH(N$287,[4]Estimadores!$B$7:$B$38,0),MATCH($B300,[4]Estimadores!$D$6:$AB$6,0)),\"-\")","v":"-"},{"$f":"IFERROR(INDEX([4]Estimadores!$D$7:$AB$38,MATCH(O$287,[4]Estimadores!$B$7:$B$38,0),MATCH($B300,[4]Estimadores!$D$6:$AB$6,0)),\"-\")","v":"-"},{"$f":"IFERROR(INDEX([4]Estimadores!$D$7:$AB$38,MATCH(P$287,[4]Estimadores!$B$7:$B$38,0),MATCH($B300,[4]Estimadores!$D$6:$AB$6,0)),\"-\")","v":"-"},{"$f":"IFERROR(INDEX([4]Estimadores!$D$7:$AB$38,MATCH(Q$287,[4]Estimadores!$B$7:$B$38,0),MATCH($B300,[4]Estimadores!$D$6:$AB$6,0)),\"-\")","v":"-"},{"$f":"IFERROR(INDEX([4]Estimadores!$D$7:$AB$38,MATCH(R$287,[4]Estimadores!$B$7:$B$38,0),MATCH($B300,[4]Estimadores!$D$6:$AB$6,0)),\"-\")","v":"-"},{"$f":"IFERROR(INDEX([4]Estimadores!$D$7:$AB$38,MATCH(S$287,[4]Estimadores!$B$7:$B$38,0),MATCH($B300,[4]Estimadores!$D$6:$AB$6,0)),\"-\")","v":"-"},{"$f":"IFERROR(INDEX([4]Estimadores!$D$7:$AB$38,MATCH(T$287,[4]Estimadores!$B$7:$B$38,0),MATCH($B300,[4]Estimadores!$D$6:$AB$6,0)),\"-\")","v":"-"},{"$f":"IFERROR(INDEX([4]Estimadores!$D$7:$AB$38,MATCH(U$287,[4]Estimadores!$B$7:$B$38,0),MATCH($B300,[4]Estimadores!$D$6:$AB$6,0)),\"-\")","v":"-"},{"$f":"IFERROR(INDEX([4]Estimadores!$D$7:$AB$38,MATCH(V$287,[4]Estimadores!$B$7:$B$38,0),MATCH($B300,[4]Estimadores!$D$6:$AB$6,0)),\"-\")","v":"-"},{"$f":"IFERROR(INDEX([4]Estimadores!$D$7:$AB$38,MATCH(W$287,[4]Estimadores!$B$7:$B$38,0),MATCH($B300,[4]Estimadores!$D$6:$AB$6,0)),\"-\")","v":"-"},{"$f":"IFERROR(INDEX([4]Estimadores!$D$7:$AB$38,MATCH(X$287,[4]Estimadores!$B$7:$B$38,0),MATCH($B300,[4]Estimadores!$D$6:$AB$6,0)),\"-\")","v":"-"},{"$f":"IFERROR(INDEX([4]Estimadores!$D$7:$AB$38,MATCH(Y$287,[4]Estimadores!$B$7:$B$38,0),MATCH($B300,[4]Estimadores!$D$6:$AB$6,0)),\"-\")","v":"-"},{"$f":"IFERROR(INDEX([4]Estimadores!$D$7:$AB$38,MATCH(Z$287,[4]Estimadores!$B$7:$B$38,0),MATCH($B300,[4]Estimadores!$D$6:$AB$6,0)),\"-\")","v":"-"},{"$f":"IFERROR(INDEX([4]Estimadores!$D$7:$AB$38,MATCH(AA$287,[4]Estimadores!$B$7:$B$38,0),MATCH($B300,[4]Estimadores!$D$6:$AB$6,0)),\"-\")","v":"-"},{"$f":"IFERROR(INDEX([4]Estimadores!$D$7:$AB$38,MATCH(AB$287,[4]Estimadores!$B$7:$B$38,0),MATCH($B300,[4]Estimadores!$D$6:$AB$6,0)),\"-\")","v":"-"},{"$f":"IFERROR(INDEX([4]Estimadores!$D$7:$AB$38,MATCH(AC$287,[4]Estimadores!$B$7:$B$38,0),MATCH($B300,[4]Estimadores!$D$6:$AB$6,0)),\"-\")","v":"-"},{"$f":"IFERROR(INDEX([4]Estimadores!$D$7:$AB$38,MATCH(AD$287,[4]Estimadores!$B$7:$B$38,0),MATCH($B300,[4]Estimadores!$D$6:$AB$6,0)),\"-\")","v":"-"},{"$f":"IFERROR(INDEX([4]Estimadores!$D$7:$AB$38,MATCH(AE$287,[4]Estimadores!$B$7:$B$38,0),MATCH($B300,[4]Estimadores!$D$6:$AB$6,0)),\"-\")","v":"-"},{"$f":"IFERROR(INDEX([4]Estimadores!$D$7:$AB$38,MATCH(AF$287,[4]Estimadores!$B$7:$B$38,0),MATCH($B300,[4]Estimadores!$D$6:$AB$6,0)),\"-\")","v":"-"},{"$f":"IFERROR(INDEX([4]Estimadores!$D$7:$AB$38,MATCH(AG$287,[4]Estimadores!$B$7:$B$38,0),MATCH($B300,[4]Estimadores!$D$6:$AB$6,0)),\"-\")","v":"-"},{"$f":"IFERROR(INDEX([4]Estimadores!$D$7:$AB$38,MATCH(AH$287,[4]Estimadores!$B$7:$B$38,0),MATCH($B300,[4]Estimadores!$D$6:$AB$6,0)),\"-\")","v":"-"},{"$f":"IFERROR(INDEX([4]Estimadores!$D$7:$AB$38,MATCH(AI$287,[4]Estimadores!$B$7:$B$38,0),MATCH($B300,[4]Estimadores!$D$6:$AB$6,0)),\"-\")","v":"-"}]
[null,"","",{"$f":"IFERROR(INDEX([4]Estimadores!$D$7:$AB$38,MATCH(D$287,[4]Estimadores!$B$7:$B$38,0),MATCH($B301,[4]Estimadores!$D$6:$AB$6,0)),\"-\")","v":"-"},{"$f":"IFERROR(INDEX([4]Estimadores!$D$7:$AB$38,MATCH(E$287,[4]Estimadores!$B$7:$B$38,0),MATCH($B301,[4]Estimadores!$D$6:$AB$6,0)),\"-\")","v":"-"},{"$f":"IFERROR(INDEX([4]Estimadores!$D$7:$AB$38,MATCH(F$287,[4]Estimadores!$B$7:$B$38,0),MATCH($B301,[4]Estimadores!$D$6:$AB$6,0)),\"-\")","v":"-"},{"$f":"IFERROR(INDEX([4]Estimadores!$D$7:$AB$38,MATCH(G$287,[4]Estimadores!$B$7:$B$38,0),MATCH($B301,[4]Estimadores!$D$6:$AB$6,0)),\"-\")","v":"-"},{"$f":"IFERROR(INDEX([4]Estimadores!$D$7:$AB$38,MATCH(H$287,[4]Estimadores!$B$7:$B$38,0),MATCH($B301,[4]Estimadores!$D$6:$AB$6,0)),\"-\")","v":"-"},{"$f":"IFERROR(INDEX([4]Estimadores!$D$7:$AB$38,MATCH(I$287,[4]Estimadores!$B$7:$B$38,0),MATCH($B301,[4]Estimadores!$D$6:$AB$6,0)),\"-\")","v":"-"},{"$f":"IFERROR(INDEX([4]Estimadores!$D$7:$AB$38,MATCH(J$287,[4]Estimadores!$B$7:$B$38,0),MATCH($B301,[4]Estimadores!$D$6:$AB$6,0)),\"-\")","v":"-"},{"$f":"IFERROR(INDEX([4]Estimadores!$D$7:$AB$38,MATCH(K$287,[4]Estimadores!$B$7:$B$38,0),MATCH($B301,[4]Estimadores!$D$6:$AB$6,0)),\"-\")","v":"-"},{"$f":"IFERROR(INDEX([4]Estimadores!$D$7:$AB$38,MATCH(L$287,[4]Estimadores!$B$7:$B$38,0),MATCH($B301,[4]Estimadores!$D$6:$AB$6,0)),\"-\")","v":"-"},{"$f":"IFERROR(INDEX([4]Estimadores!$D$7:$AB$38,MATCH(M$287,[4]Estimadores!$B$7:$B$38,0),MATCH($B301,[4]Estimadores!$D$6:$AB$6,0)),\"-\")","v":"-"},{"$f":"IFERROR(INDEX([4]Estimadores!$D$7:$AB$38,MATCH(N$287,[4]Estimadores!$B$7:$B$38,0),MATCH($B301,[4]Estimadores!$D$6:$AB$6,0)),\"-\")","v":"-"},{"$f":"IFERROR(INDEX([4]Estimadores!$D$7:$AB$38,MATCH(O$287,[4]Estimadores!$B$7:$B$38,0),MATCH($B301,[4]Estimadores!$D$6:$AB$6,0)),\"-\")","v":"-"},{"$f":"IFERROR(INDEX([4]Estimadores!$D$7:$AB$38,MATCH(P$287,[4]Estimadores!$B$7:$B$38,0),MATCH($B301,[4]Estimadores!$D$6:$AB$6,0)),\"-\")","v":"-"},{"$f":"IFERROR(INDEX([4]Estimadores!$D$7:$AB$38,MATCH(Q$287,[4]Estimadores!$B$7:$B$38,0),MATCH($B301,[4]Estimadores!$D$6:$AB$6,0)),\"-\")","v":"-"},{"$f":"IFERROR(INDEX([4]Estimadores!$D$7:$AB$38,MATCH(R$287,[4]Estimadores!$B$7:$B$38,0),MATCH($B301,[4]Estimadores!$D$6:$AB$6,0)),\"-\")","v":"-"},{"$f":"IFERROR(INDEX([4]Estimadores!$D$7:$AB$38,MATCH(S$287,[4]Estimadores!$B$7:$B$38,0),MATCH($B301,[4]Estimadores!$D$6:$AB$6,0)),\"-\")","v":"-"},{"$f":"IFERROR(INDEX([4]Estimadores!$D$7:$AB$38,MATCH(T$287,[4]Estimadores!$B$7:$B$38,0),MATCH($B301,[4]Estimadores!$D$6:$AB$6,0)),\"-\")","v":"-"},{"$f":"IFERROR(INDEX([4]Estimadores!$D$7:$AB$38,MATCH(U$287,[4]Estimadores!$B$7:$B$38,0),MATCH($B301,[4]Estimadores!$D$6:$AB$6,0)),\"-\")","v":"-"},{"$f":"IFERROR(INDEX([4]Estimadores!$D$7:$AB$38,MATCH(V$287,[4]Estimadores!$B$7:$B$38,0),MATCH($B301,[4]Estimadores!$D$6:$AB$6,0)),\"-\")","v":"-"},{"$f":"IFERROR(INDEX([4]Estimadores!$D$7:$AB$38,MATCH(W$287,[4]Estimadores!$B$7:$B$38,0),MATCH($B301,[4]Estimadores!$D$6:$AB$6,0)),\"-\")","v":"-"},{"$f":"IFERROR(INDEX([4]Estimadores!$D$7:$AB$38,MATCH(X$287,[4]Estimadores!$B$7:$B$38,0),MATCH($B301,[4]Estimadores!$D$6:$AB$6,0)),\"-\")","v":"-"},{"$f":"IFERROR(INDEX([4]Estimadores!$D$7:$AB$38,MATCH(Y$287,[4]Estimadores!$B$7:$B$38,0),MATCH($B301,[4]Estimadores!$D$6:$AB$6,0)),\"-\")","v":"-"},{"$f":"IFERROR(INDEX([4]Estimadores!$D$7:$AB$38,MATCH(Z$287,[4]Estimadores!$B$7:$B$38,0),MATCH($B301,[4]Estimadores!$D$6:$AB$6,0)),\"-\")","v":"-"},{"$f":"IFERROR(INDEX([4]Estimadores!$D$7:$AB$38,MATCH(AA$287,[4]Estimadores!$B$7:$B$38,0),MATCH($B301,[4]Estimadores!$D$6:$AB$6,0)),\"-\")","v":"-"},{"$f":"IFERROR(INDEX([4]Estimadores!$D$7:$AB$38,MATCH(AB$287,[4]Estimadores!$B$7:$B$38,0),MATCH($B301,[4]Estimadores!$D$6:$AB$6,0)),\"-\")","v":"-"},{"$f":"IFERROR(INDEX([4]Estimadores!$D$7:$AB$38,MATCH(AC$287,[4]Estimadores!$B$7:$B$38,0),MATCH($B301,[4]Estimadores!$D$6:$AB$6,0)),\"-\")","v":"-"},{"$f":"IFERROR(INDEX([4]Estimadores!$D$7:$AB$38,MATCH(AD$287,[4]Estimadores!$B$7:$B$38,0),MATCH($B301,[4]Estimadores!$D$6:$AB$6,0)),\"-\")","v":"-"},{"$f":"IFERROR(INDEX([4]Estimadores!$D$7:$AB$38,MATCH(AE$287,[4]Estimadores!$B$7:$B$38,0),MATCH($B301,[4]Estimadores!$D$6:$AB$6,0)),\"-\")","v":"-"},{"$f":"IFERROR(INDEX([4]Estimadores!$D$7:$AB$38,MATCH(AF$287,[4]Estimadores!$B$7:$B$38,0),MATCH($B301,[4]Estimadores!$D$6:$AB$6,0)),\"-\")","v":"-"},{"$f":"IFERROR(INDEX([4]Estimadores!$D$7:$AB$38,MATCH(AG$287,[4]Estimadores!$B$7:$B$38,0),MATCH($B301,[4]Estimadores!$D$6:$AB$6,0)),\"-\")","v":"-"},{"$f":"IFERROR(INDEX([4]Estimadores!$D$7:$AB$38,MATCH(AH$287,[4]Estimadores!$B$7:$B$38,0),MATCH($B301,[4]Estimadores!$D$6:$AB$6,0)),\"-\")","v":"-"},{"$f":"IFERROR(INDEX([4]Estimadores!$D$7:$AB$38,MATCH(AI$287,[4]Estimadores!$B$7:$B$38,0),MATCH($B301,[4]Estimadores!$D$6:$AB$6,0)),\"-\")","v":"-"}]
[null,"","",{"$f":"IFERROR(INDEX([4]Estimadores!$D$7:$AB$38,MATCH(D$287,[4]Estimadores!$B$7:$B$38,0),MATCH($B302,[4]Estimadores!$D$6:$AB$6,0)),\"-\")","v":"-"},{"$f":"IFERROR(INDEX([4]Estimadores!$D$7:$AB$38,MATCH(E$287,[4]Estimadores!$B$7:$B$38,0),MATCH($B302,[4]Estimadores!$D$6:$AB$6,0)),\"-\")","v":"-"},{"$f":"IFERROR(INDEX([4]Estimadores!$D$7:$AB$38,MATCH(F$287,[4]Estimadores!$B$7:$B$38,0),MATCH($B302,[4]Estimadores!$D$6:$AB$6,0)),\"-\")","v":"-"},{"$f":"IFERROR(INDEX([4]Estimadores!$D$7:$AB$38,MATCH(G$287,[4]Estimadores!$B$7:$B$38,0),MATCH($B302,[4]Estimadores!$D$6:$AB$6,0)),\"-\")","v":"-"},{"$f":"IFERROR(INDEX([4]Estimadores!$D$7:$AB$38,MATCH(H$287,[4]Estimadores!$B$7:$B$38,0),MATCH($B302,[4]Estimadores!$D$6:$AB$6,0)),\"-\")","v":"-"},{"$f":"IFERROR(INDEX([4]Estimadores!$D$7:$AB$38,MATCH(I$287,[4]Estimadores!$B$7:$B$38,0),MATCH($B302,[4]Estimadores!$D$6:$AB$6,0)),\"-\")","v":"-"},{"$f":"IFERROR(INDEX([4]Estimadores!$D$7:$AB$38,MATCH(J$287,[4]Estimadores!$B$7:$B$38,0),MATCH($B302,[4]Estimadores!$D$6:$AB$6,0)),\"-\")","v":"-"},{"$f":"IFERROR(INDEX([4]Estimadores!$D$7:$AB$38,MATCH(K$287,[4]Estimadores!$B$7:$B$38,0),MATCH($B302,[4]Estimadores!$D$6:$AB$6,0)),\"-\")","v":"-"},{"$f":"IFERROR(INDEX([4]Estimadores!$D$7:$AB$38,MATCH(L$287,[4]Estimadores!$B$7:$B$38,0),MATCH($B302,[4]Estimadores!$D$6:$AB$6,0)),\"-\")","v":"-"},{"$f":"IFERROR(INDEX([4]Estimadores!$D$7:$AB$38,MATCH(M$287,[4]Estimadores!$B$7:$B$38,0),MATCH($B302,[4]Estimadores!$D$6:$AB$6,0)),\"-\")","v":"-"},{"$f":"IFERROR(INDEX([4]Estimadores!$D$7:$AB$38,MATCH(N$287,[4]Estimadores!$B$7:$B$38,0),MATCH($B302,[4]Estimadores!$D$6:$AB$6,0)),\"-\")","v":"-"},{"$f":"IFERROR(INDEX([4]Estimadores!$D$7:$AB$38,MATCH(O$287,[4]Estimadores!$B$7:$B$38,0),MATCH($B302,[4]Estimadores!$D$6:$AB$6,0)),\"-\")","v":"-"},{"$f":"IFERROR(INDEX([4]Estimadores!$D$7:$AB$38,MATCH(P$287,[4]Estimadores!$B$7:$B$38,0),MATCH($B302,[4]Estimadores!$D$6:$AB$6,0)),\"-\")","v":"-"},{"$f":"IFERROR(INDEX([4]Estimadores!$D$7:$AB$38,MATCH(Q$287,[4]Estimadores!$B$7:$B$38,0),MATCH($B302,[4]Estimadores!$D$6:$AB$6,0)),\"-\")","v":"-"},{"$f":"IFERROR(INDEX([4]Estimadores!$D$7:$AB$38,MATCH(R$287,[4]Estimadores!$B$7:$B$38,0),MATCH($B302,[4]Estimadores!$D$6:$AB$6,0)),\"-\")","v":"-"},{"$f":"IFERROR(INDEX([4]Estimadores!$D$7:$AB$38,MATCH(S$287,[4]Estimadores!$B$7:$B$38,0),MATCH($B302,[4]Estimadores!$D$6:$AB$6,0)),\"-\")","v":"-"},{"$f":"IFERROR(INDEX([4]Estimadores!$D$7:$AB$38,MATCH(T$287,[4]Estimadores!$B$7:$B$38,0),MATCH($B302,[4]Estimadores!$D$6:$AB$6,0)),\"-\")","v":"-"},{"$f":"IFERROR(INDEX([4]Estimadores!$D$7:$AB$38,MATCH(U$287,[4]Estimadores!$B$7:$B$38,0),MATCH($B302,[4]Estimadores!$D$6:$AB$6,0)),\"-\")","v":"-"},{"$f":"IFERROR(INDEX([4]Estimadores!$D$7:$AB$38,MATCH(V$287,[4]Estimadores!$B$7:$B$38,0),MATCH($B302,[4]Estimadores!$D$6:$AB$6,0)),\"-\")","v":"-"},{"$f":"IFERROR(INDEX([4]Estimadores!$D$7:$AB$38,MATCH(W$287,[4]Estimadores!$B$7:$B$38,0),MATCH($B302,[4]Estimadores!$D$6:$AB$6,0)),\"-\")","v":"-"},{"$f":"IFERROR(INDEX([4]Estimadores!$D$7:$AB$38,MATCH(X$287,[4]Estimadores!$B$7:$B$38,0),MATCH($B302,[4]Estimadores!$D$6:$AB$6,0)),\"-\")","v":"-"},{"$f":"IFERROR(INDEX([4]Estimadores!$D$7:$AB$38,MATCH(Y$287,[4]Estimadores!$B$7:$B$38,0),MATCH($B302,[4]Estimadores!$D$6:$AB$6,0)),\"-\")","v":"-"},{"$f":"IFERROR(INDEX([4]Estimadores!$D$7:$AB$38,MATCH(Z$287,[4]Estimadores!$B$7:$B$38,0),MATCH($B302,[4]Estimadores!$D$6:$AB$6,0)),\"-\")","v":"-"},{"$f":"IFERROR(INDEX([4]Estimadores!$D$7:$AB$38,MATCH(AA$287,[4]Estimadores!$B$7:$B$38,0),MATCH($B302,[4]Estimadores!$D$6:$AB$6,0)),\"-\")","v":"-"},{"$f":"IFERROR(INDEX([4]Estimadores!$D$7:$AB$38,MATCH(AB$287,[4]Estimadores!$B$7:$B$38,0),MATCH($B302,[4]Estimadores!$D$6:$AB$6,0)),\"-\")","v":"-"},{"$f":"IFERROR(INDEX([4]Estimadores!$D$7:$AB$38,MATCH(AC$287,[4]Estimadores!$B$7:$B$38,0),MATCH($B302,[4]Estimadores!$D$6:$AB$6,0)),\"-\")","v":"-"},{"$f":"IFERROR(INDEX([4]Estimadores!$D$7:$AB$38,MATCH(AD$287,[4]Estimadores!$B$7:$B$38,0),MATCH($B302,[4]Estimadores!$D$6:$AB$6,0)),\"-\")","v":"-"},{"$f":"IFERROR(INDEX([4]Estimadores!$D$7:$AB$38,MATCH(AE$287,[4]Estimadores!$B$7:$B$38,0),MATCH($B302,[4]Estimadores!$D$6:$AB$6,0)),\"-\")","v":"-"},{"$f":"IFERROR(INDEX([4]Estimadores!$D$7:$AB$38,MATCH(AF$287,[4]Estimadores!$B$7:$B$38,0),MATCH($B302,[4]Estimadores!$D$6:$AB$6,0)),\"-\")","v":"-"},{"$f":"IFERROR(INDEX([4]Estimadores!$D$7:$AB$38,MATCH(AG$287,[4]Estimadores!$B$7:$B$38,0),MATCH($B302,[4]Estimadores!$D$6:$AB$6,0)),\"-\")","v":"-"},{"$f":"IFERROR(INDEX([4]Estimadores!$D$7:$AB$38,MATCH(AH$287,[4]Estimadores!$B$7:$B$38,0),MATCH($B302,[4]Estimadores!$D$6:$AB$6,0)),\"-\")","v":"-"},{"$f":"IFERROR(INDEX([4]Estimadores!$D$7:$AB$38,MATCH(AI$287,[4]Estimadores!$B$7:$B$38,0),MATCH($B302,[4]Estimadores!$D$6:$AB$6,0)),\"-\")","v":"-"}]
[null,"","",{"$f":"IFERROR(INDEX([4]Estimadores!$D$7:$AB$38,MATCH(D$287,[4]Estimadores!$B$7:$B$38,0),MATCH($B303,[4]Estimadores!$D$6:$AB$6,0)),\"-\")","v":"-"},{"$f":"IFERROR(INDEX([4]Estimadores!$D$7:$AB$38,MATCH(E$287,[4]Estimadores!$B$7:$B$38,0),MATCH($B303,[4]Estimadores!$D$6:$AB$6,0)),\"-\")","v":"-"},{"$f":"IFERROR(INDEX([4]Estimadores!$D$7:$AB$38,MATCH(F$287,[4]Estimadores!$B$7:$B$38,0),MATCH($B303,[4]Estimadores!$D$6:$AB$6,0)),\"-\")","v":"-"},{"$f":"IFERROR(INDEX([4]Estimadores!$D$7:$AB$38,MATCH(G$287,[4]Estimadores!$B$7:$B$38,0),MATCH($B303,[4]Estimadores!$D$6:$AB$6,0)),\"-\")","v":"-"},{"$f":"IFERROR(INDEX([4]Estimadores!$D$7:$AB$38,MATCH(H$287,[4]Estimadores!$B$7:$B$38,0),MATCH($B303,[4]Estimadores!$D$6:$AB$6,0)),\"-\")","v":"-"},{"$f":"IFERROR(INDEX([4]Estimadores!$D$7:$AB$38,MATCH(I$287,[4]Estimadores!$B$7:$B$38,0),MATCH($B303,[4]Estimadores!$D$6:$AB$6,0)),\"-\")","v":"-"},{"$f":"IFERROR(INDEX([4]Estimadores!$D$7:$AB$38,MATCH(J$287,[4]Estimadores!$B$7:$B$38,0),MATCH($B303,[4]Estimadores!$D$6:$AB$6,0)),\"-\")","v":"-"},{"$f":"IFERROR(INDEX([4]Estimadores!$D$7:$AB$38,MATCH(K$287,[4]Estimadores!$B$7:$B$38,0),MATCH($B303,[4]Estimadores!$D$6:$AB$6,0)),\"-\")","v":"-"},{"$f":"IFERROR(INDEX([4]Estimadores!$D$7:$AB$38,MATCH(L$287,[4]Estimadores!$B$7:$B$38,0),MATCH($B303,[4]Estimadores!$D$6:$AB$6,0)),\"-\")","v":"-"},{"$f":"IFERROR(INDEX([4]Estimadores!$D$7:$AB$38,MATCH(M$287,[4]Estimadores!$B$7:$B$38,0),MATCH($B303,[4]Estimadores!$D$6:$AB$6,0)),\"-\")","v":"-"},{"$f":"IFERROR(INDEX([4]Estimadores!$D$7:$AB$38,MATCH(N$287,[4]Estimadores!$B$7:$B$38,0),MATCH($B303,[4]Estimadores!$D$6:$AB$6,0)),\"-\")","v":"-"},{"$f":"IFERROR(INDEX([4]Estimadores!$D$7:$AB$38,MATCH(O$287,[4]Estimadores!$B$7:$B$38,0),MATCH($B303,[4]Estimadores!$D$6:$AB$6,0)),\"-\")","v":"-"},{"$f":"IFERROR(INDEX([4]Estimadores!$D$7:$AB$38,MATCH(P$287,[4]Estimadores!$B$7:$B$38,0),MATCH($B303,[4]Estimadores!$D$6:$AB$6,0)),\"-\")","v":"-"},{"$f":"IFERROR(INDEX([4]Estimadores!$D$7:$AB$38,MATCH(Q$287,[4]Estimadores!$B$7:$B$38,0),MATCH($B303,[4]Estimadores!$D$6:$AB$6,0)),\"-\")","v":"-"},{"$f":"IFERROR(INDEX([4]Estimadores!$D$7:$AB$38,MATCH(R$287,[4]Estimadores!$B$7:$B$38,0),MATCH($B303,[4]Estimadores!$D$6:$AB$6,0)),\"-\")","v":"-"},{"$f":"IFERROR(INDEX([4]Estimadores!$D$7:$AB$38,MATCH(S$287,[4]Estimadores!$B$7:$B$38,0),MATCH($B303,[4]Estimadores!$D$6:$AB$6,0)),\"-\")","v":"-"},{"$f":"IFERROR(INDEX([4]Estimadores!$D$7:$AB$38,MATCH(T$287,[4]Estimadores!$B$7:$B$38,0),MATCH($B303,[4]Estimadores!$D$6:$AB$6,0)),\"-\")","v":"-"},{"$f":"IFERROR(INDEX([4]Estimadores!$D$7:$AB$38,MATCH(U$287,[4]Estimadores!$B$7:$B$38,0),MATCH($B303,[4]Estimadores!$D$6:$AB$6,0)),\"-\")","v":"-"},{"$f":"IFERROR(INDEX([4]Estimadores!$D$7:$AB$38,MATCH(V$287,[4]Estimadores!$B$7:$B$38,0),MATCH($B303,[4]Estimadores!$D$6:$AB$6,0)),\"-\")","v":"-"},{"$f":"IFERROR(INDEX([4]Estimadores!$D$7:$AB$38,MATCH(W$287,[4]Estimadores!$B$7:$B$38,0),MATCH($B303,[4]Estimadores!$D$6:$AB$6,0)),\"-\")","v":"-"},{"$f":"IFERROR(INDEX([4]Estimadores!$D$7:$AB$38,MATCH(X$287,[4]Estimadores!$B$7:$B$38,0),MATCH($B303,[4]Estimadores!$D$6:$AB$6,0)),\"-\")","v":"-"},{"$f":"IFERROR(INDEX([4]Estimadores!$D$7:$AB$38,MATCH(Y$287,[4]Estimadores!$B$7:$B$38,0),MATCH($B303,[4]Estimadores!$D$6:$AB$6,0)),\"-\")","v":"-"},{"$f":"IFERROR(INDEX([4]Estimadores!$D$7:$AB$38,MATCH(Z$287,[4]Estimadores!$B$7:$B$38,0),MATCH($B303,[4]Estimadores!$D$6:$AB$6,0)),\"-\")","v":"-"},{"$f":"IFERROR(INDEX([4]Estimadores!$D$7:$AB$38,MATCH(AA$287,[4]Estimadores!$B$7:$B$38,0),MATCH($B303,[4]Estimadores!$D$6:$AB$6,0)),\"-\")","v":"-"},{"$f":"IFERROR(INDEX([4]Estimadores!$D$7:$AB$38,MATCH(AB$287,[4]Estimadores!$B$7:$B$38,0),MATCH($B303,[4]Estimadores!$D$6:$AB$6,0)),\"-\")","v":"-"},{"$f":"IFERROR(INDEX([4]Estimadores!$D$7:$AB$38,MATCH(AC$287,[4]Estimadores!$B$7:$B$38,0),MATCH($B303,[4]Estimadores!$D$6:$AB$6,0)),\"-\")","v":"-"},{"$f":"IFERROR(INDEX([4]Estimadores!$D$7:$AB$38,MATCH(AD$287,[4]Estimadores!$B$7:$B$38,0),MATCH($B303,[4]Estimadores!$D$6:$AB$6,0)),\"-\")","v":"-"},{"$f":"IFERROR(INDEX([4]Estimadores!$D$7:$AB$38,MATCH(AE$287,[4]Estimadores!$B$7:$B$38,0),MATCH($B303,[4]Estimadores!$D$6:$AB$6,0)),\"-\")","v":"-"},{"$f":"IFERROR(INDEX([4]Estimadores!$D$7:$AB$38,MATCH(AF$287,[4]Estimadores!$B$7:$B$38,0),MATCH($B303,[4]Estimadores!$D$6:$AB$6,0)),\"-\")","v":"-"},{"$f":"IFERROR(INDEX([4]Estimadores!$D$7:$AB$38,MATCH(AG$287,[4]Estimadores!$B$7:$B$38,0),MATCH($B303,[4]Estimadores!$D$6:$AB$6,0)),\"-\")","v":"-"},{"$f":"IFERROR(INDEX([4]Estimadores!$D$7:$AB$38,MATCH(AH$287,[4]Estimadores!$B$7:$B$38,0),MATCH($B303,[4]Estimadores!$D$6:$AB$6,0)),\"-\")","v":"-"},{"$f":"IFERROR(INDEX([4]Estimadores!$D$7:$AB$38,MATCH(AI$287,[4]Estimadores!$B$7:$B$38,0),MATCH($B303,[4]Estimadores!$D$6:$AB$6,0)),\"-\")","v":"-"}]
[null,"","",{"$f":"IFERROR(INDEX([4]Estimadores!$D$7:$AB$38,MATCH(D$287,[4]Estimadores!$B$7:$B$38,0),MATCH($B304,[4]Estimadores!$D$6:$AB$6,0)),\"-\")","v":"-"},{"$f":"IFERROR(INDEX([4]Estimadores!$D$7:$AB$38,MATCH(E$287,[4]Estimadores!$B$7:$B$38,0),MATCH($B304,[4]Estimadores!$D$6:$AB$6,0)),\"-\")","v":"-"},{"$f":"IFERROR(INDEX([4]Estimadores!$D$7:$AB$38,MATCH(F$287,[4]Estimadores!$B$7:$B$38,0),MATCH($B304,[4]Estimadores!$D$6:$AB$6,0)),\"-\")","v":"-"},{"$f":"IFERROR(INDEX([4]Estimadores!$D$7:$AB$38,MATCH(G$287,[4]Estimadores!$B$7:$B$38,0),MATCH($B304,[4]Estimadores!$D$6:$AB$6,0)),\"-\")","v":"-"},{"$f":"IFERROR(INDEX([4]Estimadores!$D$7:$AB$38,MATCH(H$287,[4]Estimadores!$B$7:$B$38,0),MATCH($B304,[4]Estimadores!$D$6:$AB$6,0)),\"-\")","v":"-"},{"$f":"IFERROR(INDEX([4]Estimadores!$D$7:$AB$38,MATCH(I$287,[4]Estimadores!$B$7:$B$38,0),MATCH($B304,[4]Estimadores!$D$6:$AB$6,0)),\"-\")","v":"-"},{"$f":"IFERROR(INDEX([4]Estimadores!$D$7:$AB$38,MATCH(J$287,[4]Estimadores!$B$7:$B$38,0),MATCH($B304,[4]Estimadores!$D$6:$AB$6,0)),\"-\")","v":"-"},{"$f":"IFERROR(INDEX([4]Estimadores!$D$7:$AB$38,MATCH(K$287,[4]Estimadores!$B$7:$B$38,0),MATCH($B304,[4]Estimadores!$D$6:$AB$6,0)),\"-\")","v":"-"},{"$f":"IFERROR(INDEX([4]Estimadores!$D$7:$AB$38,MATCH(L$287,[4]Estimadores!$B$7:$B$38,0),MATCH($B304,[4]Estimadores!$D$6:$AB$6,0)),\"-\")","v":"-"},{"$f":"IFERROR(INDEX([4]Estimadores!$D$7:$AB$38,MATCH(M$287,[4]Estimadores!$B$7:$B$38,0),MATCH($B304,[4]Estimadores!$D$6:$AB$6,0)),\"-\")","v":"-"},{"$f":"IFERROR(INDEX([4]Estimadores!$D$7:$AB$38,MATCH(N$287,[4]Estimadores!$B$7:$B$38,0),MATCH($B304,[4]Estimadores!$D$6:$AB$6,0)),\"-\")","v":"-"},{"$f":"IFERROR(INDEX([4]Estimadores!$D$7:$AB$38,MATCH(O$287,[4]Estimadores!$B$7:$B$38,0),MATCH($B304,[4]Estimadores!$D$6:$AB$6,0)),\"-\")","v":"-"},{"$f":"IFERROR(INDEX([4]Estimadores!$D$7:$AB$38,MATCH(P$287,[4]Estimadores!$B$7:$B$38,0),MATCH($B304,[4]Estimadores!$D$6:$AB$6,0)),\"-\")","v":"-"},{"$f":"IFERROR(INDEX([4]Estimadores!$D$7:$AB$38,MATCH(Q$287,[4]Estimadores!$B$7:$B$38,0),MATCH($B304,[4]Estimadores!$D$6:$AB$6,0)),\"-\")","v":"-"},{"$f":"IFERROR(INDEX([4]Estimadores!$D$7:$AB$38,MATCH(R$287,[4]Estimadores!$B$7:$B$38,0),MATCH($B304,[4]Estimadores!$D$6:$AB$6,0)),\"-\")","v":"-"},{"$f":"IFERROR(INDEX([4]Estimadores!$D$7:$AB$38,MATCH(S$287,[4]Estimadores!$B$7:$B$38,0),MATCH($B304,[4]Estimadores!$D$6:$AB$6,0)),\"-\")","v":"-"},{"$f":"IFERROR(INDEX([4]Estimadores!$D$7:$AB$38,MATCH(T$287,[4]Estimadores!$B$7:$B$38,0),MATCH($B304,[4]Estimadores!$D$6:$AB$6,0)),\"-\")","v":"-"},{"$f":"IFERROR(INDEX([4]Estimadores!$D$7:$AB$38,MATCH(U$287,[4]Estimadores!$B$7:$B$38,0),MATCH($B304,[4]Estimadores!$D$6:$AB$6,0)),\"-\")","v":"-"},{"$f":"IFERROR(INDEX([4]Estimadores!$D$7:$AB$38,MATCH(V$287,[4]Estimadores!$B$7:$B$38,0),MATCH($B304,[4]Estimadores!$D$6:$AB$6,0)),\"-\")","v":"-"},{"$f":"IFERROR(INDEX([4]Estimadores!$D$7:$AB$38,MATCH(W$287,[4]Estimadores!$B$7:$B$38,0),MATCH($B304,[4]Estimadores!$D$6:$AB$6,0)),\"-\")","v":"-"},{"$f":"IFERROR(INDEX([4]Estimadores!$D$7:$AB$38,MATCH(X$287,[4]Estimadores!$B$7:$B$38,0),MATCH($B304,[4]Estimadores!$D$6:$AB$6,0)),\"-\")","v":"-"},{"$f":"IFERROR(INDEX([4]Estimadores!$D$7:$AB$38,MATCH(Y$287,[4]Estimadores!$B$7:$B$38,0),MATCH($B304,[4]Estimadores!$D$6:$AB$6,0)),\"-\")","v":"-"},{"$f":"IFERROR(INDEX([4]Estimadores!$D$7:$AB$38,MATCH(Z$287,[4]Estimadores!$B$7:$B$38,0),MATCH($B304,[4]Estimadores!$D$6:$AB$6,0)),\"-\")","v":"-"},{"$f":"IFERROR(INDEX([4]Estimadores!$D$7:$AB$38,MATCH(AA$287,[4]Estimadores!$B$7:$B$38,0),MATCH($B304,[4]Estimadores!$D$6:$AB$6,0)),\"-\")","v":"-"},{"$f":"IFERROR(INDEX([4]Estimadores!$D$7:$AB$38,MATCH(AB$287,[4]Estimadores!$B$7:$B$38,0),MATCH($B304,[4]Estimadores!$D$6:$AB$6,0)),\"-\")","v":"-"},{"$f":"IFERROR(INDEX([4]Estimadores!$D$7:$AB$38,MATCH(AC$287,[4]Estimadores!$B$7:$B$38,0),MATCH($B304,[4]Estimadores!$D$6:$AB$6,0)),\"-\")","v":"-"},{"$f":"IFERROR(INDEX([4]Estimadores!$D$7:$AB$38,MATCH(AD$287,[4]Estimadores!$B$7:$B$38,0),MATCH($B304,[4]Estimadores!$D$6:$AB$6,0)),\"-\")","v":"-"},{"$f":"IFERROR(INDEX([4]Estimadores!$D$7:$AB$38,MATCH(AE$287,[4]Estimadores!$B$7:$B$38,0),MATCH($B304,[4]Estimadores!$D$6:$AB$6,0)),\"-\")","v":"-"},{"$f":"IFERROR(INDEX([4]Estimadores!$D$7:$AB$38,MATCH(AF$287,[4]Estimadores!$B$7:$B$38,0),MATCH($B304,[4]Estimadores!$D$6:$AB$6,0)),\"-\")","v":"-"},{"$f":"IFERROR(INDEX([4]Estimadores!$D$7:$AB$38,MATCH(AG$287,[4]Estimadores!$B$7:$B$38,0),MATCH($B304,[4]Estimadores!$D$6:$AB$6,0)),\"-\")","v":"-"},{"$f":"IFERROR(INDEX([4]Estimadores!$D$7:$AB$38,MATCH(AH$287,[4]Estimadores!$B$7:$B$38,0),MATCH($B304,[4]Estimadores!$D$6:$AB$6,0)),\"-\")","v":"-"},{"$f":"IFERROR(INDEX([4]Estimadores!$D$7:$AB$38,MATCH(AI$287,[4]Estimadores!$B$7:$B$38,0),MATCH($B304,[4]Estimadores!$D$6:$AB$6,0)),\"-\")","v":"-"}]
[null,"","",{"$f":"IFERROR(INDEX([4]Estimadores!$D$7:$AB$38,MATCH(D$287,[4]Estimadores!$B$7:$B$38,0),MATCH($B305,[4]Estimadores!$D$6:$AB$6,0)),\"-\")","v":"-"},{"$f":"IFERROR(INDEX([4]Estimadores!$D$7:$AB$38,MATCH(E$287,[4]Estimadores!$B$7:$B$38,0),MATCH($B305,[4]Estimadores!$D$6:$AB$6,0)),\"-\")","v":"-"},{"$f":"IFERROR(INDEX([4]Estimadores!$D$7:$AB$38,MATCH(F$287,[4]Estimadores!$B$7:$B$38,0),MATCH($B305,[4]Estimadores!$D$6:$AB$6,0)),\"-\")","v":"-"},{"$f":"IFERROR(INDEX([4]Estimadores!$D$7:$AB$38,MATCH(G$287,[4]Estimadores!$B$7:$B$38,0),MATCH($B305,[4]Estimadores!$D$6:$AB$6,0)),\"-\")","v":"-"},{"$f":"IFERROR(INDEX([4]Estimadores!$D$7:$AB$38,MATCH(H$287,[4]Estimadores!$B$7:$B$38,0),MATCH($B305,[4]Estimadores!$D$6:$AB$6,0)),\"-\")","v":"-"},{"$f":"IFERROR(INDEX([4]Estimadores!$D$7:$AB$38,MATCH(I$287,[4]Estimadores!$B$7:$B$38,0),MATCH($B305,[4]Estimadores!$D$6:$AB$6,0)),\"-\")","v":"-"},{"$f":"IFERROR(INDEX([4]Estimadores!$D$7:$AB$38,MATCH(J$287,[4]Estimadores!$B$7:$B$38,0),MATCH($B305,[4]Estimadores!$D$6:$AB$6,0)),\"-\")","v":"-"},{"$f":"IFERROR(INDEX([4]Estimadores!$D$7:$AB$38,MATCH(K$287,[4]Estimadores!$B$7:$B$38,0),MATCH($B305,[4]Estimadores!$D$6:$AB$6,0)),\"-\")","v":"-"},{"$f":"IFERROR(INDEX([4]Estimadores!$D$7:$AB$38,MATCH(L$287,[4]Estimadores!$B$7:$B$38,0),MATCH($B305,[4]Estimadores!$D$6:$AB$6,0)),\"-\")","v":"-"},{"$f":"IFERROR(INDEX([4]Estimadores!$D$7:$AB$38,MATCH(M$287,[4]Estimadores!$B$7:$B$38,0),MATCH($B305,[4]Estimadores!$D$6:$AB$6,0)),\"-\")","v":"-"},{"$f":"IFERROR(INDEX([4]Estimadores!$D$7:$AB$38,MATCH(N$287,[4]Estimadores!$B$7:$B$38,0),MATCH($B305,[4]Estimadores!$D$6:$AB$6,0)),\"-\")","v":"-"},{"$f":"IFERROR(INDEX([4]Estimadores!$D$7:$AB$38,MATCH(O$287,[4]Estimadores!$B$7:$B$38,0),MATCH($B305,[4]Estimadores!$D$6:$AB$6,0)),\"-\")","v":"-"},{"$f":"IFERROR(INDEX([4]Estimadores!$D$7:$AB$38,MATCH(P$287,[4]Estimadores!$B$7:$B$38,0),MATCH($B305,[4]Estimadores!$D$6:$AB$6,0)),\"-\")","v":"-"},{"$f":"IFERROR(INDEX([4]Estimadores!$D$7:$AB$38,MATCH(Q$287,[4]Estimadores!$B$7:$B$38,0),MATCH($B305,[4]Estimadores!$D$6:$AB$6,0)),\"-\")","v":"-"},{"$f":"IFERROR(INDEX([4]Estimadores!$D$7:$AB$38,MATCH(R$287,[4]Estimadores!$B$7:$B$38,0),MATCH($B305,[4]Estimadores!$D$6:$AB$6,0)),\"-\")","v":"-"},{"$f":"IFERROR(INDEX([4]Estimadores!$D$7:$AB$38,MATCH(S$287,[4]Estimadores!$B$7:$B$38,0),MATCH($B305,[4]Estimadores!$D$6:$AB$6,0)),\"-\")","v":"-"},{"$f":"IFERROR(INDEX([4]Estimadores!$D$7:$AB$38,MATCH(T$287,[4]Estimadores!$B$7:$B$38,0),MATCH($B305,[4]Estimadores!$D$6:$AB$6,0)),\"-\")","v":"-"},{"$f":"IFERROR(INDEX([4]Estimadores!$D$7:$AB$38,MATCH(U$287,[4]Estimadores!$B$7:$B$38,0),MATCH($B305,[4]Estimadores!$D$6:$AB$6,0)),\"-\")","v":"-"},{"$f":"IFERROR(INDEX([4]Estimadores!$D$7:$AB$38,MATCH(V$287,[4]Estimadores!$B$7:$B$38,0),MATCH($B305,[4]Estimadores!$D$6:$AB$6,0)),\"-\")","v":"-"},{"$f":"IFERROR(INDEX([4]Estimadores!$D$7:$AB$38,MATCH(W$287,[4]Estimadores!$B$7:$B$38,0),MATCH($B305,[4]Estimadores!$D$6:$AB$6,0)),\"-\")","v":"-"},{"$f":"IFERROR(INDEX([4]Estimadores!$D$7:$AB$38,MATCH(X$287,[4]Estimadores!$B$7:$B$38,0),MATCH($B305,[4]Estimadores!$D$6:$AB$6,0)),\"-\")","v":"-"},{"$f":"IFERROR(INDEX([4]Estimadores!$D$7:$AB$38,MATCH(Y$287,[4]Estimadores!$B$7:$B$38,0),MATCH($B305,[4]Estimadores!$D$6:$AB$6,0)),\"-\")","v":"-"},{"$f":"IFERROR(INDEX([4]Estimadores!$D$7:$AB$38,MATCH(Z$287,[4]Estimadores!$B$7:$B$38,0),MATCH($B305,[4]Estimadores!$D$6:$AB$6,0)),\"-\")","v":"-"},{"$f":"IFERROR(INDEX([4]Estimadores!$D$7:$AB$38,MATCH(AA$287,[4]Estimadores!$B$7:$B$38,0),MATCH($B305,[4]Estimadores!$D$6:$AB$6,0)),\"-\")","v":"-"},{"$f":"IFERROR(INDEX([4]Estimadores!$D$7:$AB$38,MATCH(AB$287,[4]Estimadores!$B$7:$B$38,0),MATCH($B305,[4]Estimadores!$D$6:$AB$6,0)),\"-\")","v":"-"},{"$f":"IFERROR(INDEX([4]Estimadores!$D$7:$AB$38,MATCH(AC$287,[4]Estimadores!$B$7:$B$38,0),MATCH($B305,[4]Estimadores!$D$6:$AB$6,0)),\"-\")","v":"-"},{"$f":"IFERROR(INDEX([4]Estimadores!$D$7:$AB$38,MATCH(AD$287,[4]Estimadores!$B$7:$B$38,0),MATCH($B305,[4]Estimadores!$D$6:$AB$6,0)),\"-\")","v":"-"},{"$f":"IFERROR(INDEX([4]Estimadores!$D$7:$AB$38,MATCH(AE$287,[4]Estimadores!$B$7:$B$38,0),MATCH($B305,[4]Estimadores!$D$6:$AB$6,0)),\"-\")","v":"-"},{"$f":"IFERROR(INDEX([4]Estimadores!$D$7:$AB$38,MATCH(AF$287,[4]Estimadores!$B$7:$B$38,0),MATCH($B305,[4]Estimadores!$D$6:$AB$6,0)),\"-\")","v":"-"},{"$f":"IFERROR(INDEX([4]Estimadores!$D$7:$AB$38,MATCH(AG$287,[4]Estimadores!$B$7:$B$38,0),MATCH($B305,[4]Estimadores!$D$6:$AB$6,0)),\"-\")","v":"-"},{"$f":"IFERROR(INDEX([4]Estimadores!$D$7:$AB$38,MATCH(AH$287,[4]Estimadores!$B$7:$B$38,0),MATCH($B305,[4]Estimadores!$D$6:$AB$6,0)),\"-\")","v":"-"},{"$f":"IFERROR(INDEX([4]Estimadores!$D$7:$AB$38,MATCH(AI$287,[4]Estimadores!$B$7:$B$38,0),MATCH($B305,[4]Estimadores!$D$6:$AB$6,0)),\"-\")","v":"-"}]
[null,"","",{"$f":"IFERROR(INDEX([4]Estimadores!$D$7:$AB$38,MATCH(D$287,[4]Estimadores!$B$7:$B$38,0),MATCH($B306,[4]Estimadores!$D$6:$AB$6,0)),\"-\")","v":"-"},{"$f":"IFERROR(INDEX([4]Estimadores!$D$7:$AB$38,MATCH(E$287,[4]Estimadores!$B$7:$B$38,0),MATCH($B306,[4]Estimadores!$D$6:$AB$6,0)),\"-\")","v":"-"},{"$f":"IFERROR(INDEX([4]Estimadores!$D$7:$AB$38,MATCH(F$287,[4]Estimadores!$B$7:$B$38,0),MATCH($B306,[4]Estimadores!$D$6:$AB$6,0)),\"-\")","v":"-"},{"$f":"IFERROR(INDEX([4]Estimadores!$D$7:$AB$38,MATCH(G$287,[4]Estimadores!$B$7:$B$38,0),MATCH($B306,[4]Estimadores!$D$6:$AB$6,0)),\"-\")","v":"-"},{"$f":"IFERROR(INDEX([4]Estimadores!$D$7:$AB$38,MATCH(H$287,[4]Estimadores!$B$7:$B$38,0),MATCH($B306,[4]Estimadores!$D$6:$AB$6,0)),\"-\")","v":"-"},{"$f":"IFERROR(INDEX([4]Estimadores!$D$7:$AB$38,MATCH(I$287,[4]Estimadores!$B$7:$B$38,0),MATCH($B306,[4]Estimadores!$D$6:$AB$6,0)),\"-\")","v":"-"},{"$f":"IFERROR(INDEX([4]Estimadores!$D$7:$AB$38,MATCH(J$287,[4]Estimadores!$B$7:$B$38,0),MATCH($B306,[4]Estimadores!$D$6:$AB$6,0)),\"-\")","v":"-"},{"$f":"IFERROR(INDEX([4]Estimadores!$D$7:$AB$38,MATCH(K$287,[4]Estimadores!$B$7:$B$38,0),MATCH($B306,[4]Estimadores!$D$6:$AB$6,0)),\"-\")","v":"-"},{"$f":"IFERROR(INDEX([4]Estimadores!$D$7:$AB$38,MATCH(L$287,[4]Estimadores!$B$7:$B$38,0),MATCH($B306,[4]Estimadores!$D$6:$AB$6,0)),\"-\")","v":"-"},{"$f":"IFERROR(INDEX([4]Estimadores!$D$7:$AB$38,MATCH(M$287,[4]Estimadores!$B$7:$B$38,0),MATCH($B306,[4]Estimadores!$D$6:$AB$6,0)),\"-\")","v":"-"},{"$f":"IFERROR(INDEX([4]Estimadores!$D$7:$AB$38,MATCH(N$287,[4]Estimadores!$B$7:$B$38,0),MATCH($B306,[4]Estimadores!$D$6:$AB$6,0)),\"-\")","v":"-"},{"$f":"IFERROR(INDEX([4]Estimadores!$D$7:$AB$38,MATCH(O$287,[4]Estimadores!$B$7:$B$38,0),MATCH($B306,[4]Estimadores!$D$6:$AB$6,0)),\"-\")","v":"-"},{"$f":"IFERROR(INDEX([4]Estimadores!$D$7:$AB$38,MATCH(P$287,[4]Estimadores!$B$7:$B$38,0),MATCH($B306,[4]Estimadores!$D$6:$AB$6,0)),\"-\")","v":"-"},{"$f":"IFERROR(INDEX([4]Estimadores!$D$7:$AB$38,MATCH(Q$287,[4]Estimadores!$B$7:$B$38,0),MATCH($B306,[4]Estimadores!$D$6:$AB$6,0)),\"-\")","v":"-"},{"$f":"IFERROR(INDEX([4]Estimadores!$D$7:$AB$38,MATCH(R$287,[4]Estimadores!$B$7:$B$38,0),MATCH($B306,[4]Estimadores!$D$6:$AB$6,0)),\"-\")","v":"-"},{"$f":"IFERROR(INDEX([4]Estimadores!$D$7:$AB$38,MATCH(S$287,[4]Estimadores!$B$7:$B$38,0),MATCH($B306,[4]Estimadores!$D$6:$AB$6,0)),\"-\")","v":"-"},{"$f":"IFERROR(INDEX([4]Estimadores!$D$7:$AB$38,MATCH(T$287,[4]Estimadores!$B$7:$B$38,0),MATCH($B306,[4]Estimadores!$D$6:$AB$6,0)),\"-\")","v":"-"},{"$f":"IFERROR(INDEX([4]Estimadores!$D$7:$AB$38,MATCH(U$287,[4]Estimadores!$B$7:$B$38,0),MATCH($B306,[4]Estimadores!$D$6:$AB$6,0)),\"-\")","v":"-"},{"$f":"IFERROR(INDEX([4]Estimadores!$D$7:$AB$38,MATCH(V$287,[4]Estimadores!$B$7:$B$38,0),MATCH($B306,[4]Estimadores!$D$6:$AB$6,0)),\"-\")","v":"-"},{"$f":"IFERROR(INDEX([4]Estimadores!$D$7:$AB$38,MATCH(W$287,[4]Estimadores!$B$7:$B$38,0),MATCH($B306,[4]Estimadores!$D$6:$AB$6,0)),\"-\")","v":"-"},{"$f":"IFERROR(INDEX([4]Estimadores!$D$7:$AB$38,MATCH(X$287,[4]Estimadores!$B$7:$B$38,0),MATCH($B306,[4]Estimadores!$D$6:$AB$6,0)),\"-\")","v":"-"},{"$f":"IFERROR(INDEX([4]Estimadores!$D$7:$AB$38,MATCH(Y$287,[4]Estimadores!$B$7:$B$38,0),MATCH($B306,[4]Estimadores!$D$6:$AB$6,0)),\"-\")","v":"-"},{"$f":"IFERROR(INDEX([4]Estimadores!$D$7:$AB$38,MATCH(Z$287,[4]Estimadores!$B$7:$B$38,0),MATCH($B306,[4]Estimadores!$D$6:$AB$6,0)),\"-\")","v":"-"},{"$f":"IFERROR(INDEX([4]Estimadores!$D$7:$AB$38,MATCH(AA$287,[4]Estimadores!$B$7:$B$38,0),MATCH($B306,[4]Estimadores!$D$6:$AB$6,0)),\"-\")","v":"-"},{"$f":"IFERROR(INDEX([4]Estimadores!$D$7:$AB$38,MATCH(AB$287,[4]Estimadores!$B$7:$B$38,0),MATCH($B306,[4]Estimadores!$D$6:$AB$6,0)),\"-\")","v":"-"},{"$f":"IFERROR(INDEX([4]Estimadores!$D$7:$AB$38,MATCH(AC$287,[4]Estimadores!$B$7:$B$38,0),MATCH($B306,[4]Estimadores!$D$6:$AB$6,0)),\"-\")","v":"-"},{"$f":"IFERROR(INDEX([4]Estimadores!$D$7:$AB$38,MATCH(AD$287,[4]Estimadores!$B$7:$B$38,0),MATCH($B306,[4]Estimadores!$D$6:$AB$6,0)),\"-\")","v":"-"},{"$f":"IFERROR(INDEX([4]Estimadores!$D$7:$AB$38,MATCH(AE$287,[4]Estimadores!$B$7:$B$38,0),MATCH($B306,[4]Estimadores!$D$6:$AB$6,0)),\"-\")","v":"-"},{"$f":"IFERROR(INDEX([4]Estimadores!$D$7:$AB$38,MATCH(AF$287,[4]Estimadores!$B$7:$B$38,0),MATCH($B306,[4]Estimadores!$D$6:$AB$6,0)),\"-\")","v":"-"},{"$f":"IFERROR(INDEX([4]Estimadores!$D$7:$AB$38,MATCH(AG$287,[4]Estimadores!$B$7:$B$38,0),MATCH($B306,[4]Estimadores!$D$6:$AB$6,0)),\"-\")","v":"-"},{"$f":"IFERROR(INDEX([4]Estimadores!$D$7:$AB$38,MATCH(AH$287,[4]Estimadores!$B$7:$B$38,0),MATCH($B306,[4]Estimadores!$D$6:$AB$6,0)),\"-\")","v":"-"},{"$f":"IFERROR(INDEX([4]Estimadores!$D$7:$AB$38,MATCH(AI$287,[4]Estimadores!$B$7:$B$38,0),MATCH($B306,[4]Estimadores!$D$6:$AB$6,0)),\"-\")","v":"-"}]
[null,"","",{"$f":"IFERROR(INDEX([4]Estimadores!$D$7:$AB$38,MATCH(D$287,[4]Estimadores!$B$7:$B$38,0),MATCH($B307,[4]Estimadores!$D$6:$AB$6,0)),\"-\")","v":"-"},{"$f":"IFERROR(INDEX([4]Estimadores!$D$7:$AB$38,MATCH(E$287,[4]Estimadores!$B$7:$B$38,0),MATCH($B307,[4]Estimadores!$D$6:$AB$6,0)),\"-\")","v":"-"},{"$f":"IFERROR(INDEX([4]Estimadores!$D$7:$AB$38,MATCH(F$287,[4]Estimadores!$B$7:$B$38,0),MATCH($B307,[4]Estimadores!$D$6:$AB$6,0)),\"-\")","v":"-"},{"$f":"IFERROR(INDEX([4]Estimadores!$D$7:$AB$38,MATCH(G$287,[4]Estimadores!$B$7:$B$38,0),MATCH($B307,[4]Estimadores!$D$6:$AB$6,0)),\"-\")","v":"-"},{"$f":"IFERROR(INDEX([4]Estimadores!$D$7:$AB$38,MATCH(H$287,[4]Estimadores!$B$7:$B$38,0),MATCH($B307,[4]Estimadores!$D$6:$AB$6,0)),\"-\")","v":"-"},{"$f":"IFERROR(INDEX([4]Estimadores!$D$7:$AB$38,MATCH(I$287,[4]Estimadores!$B$7:$B$38,0),MATCH($B307,[4]Estimadores!$D$6:$AB$6,0)),\"-\")","v":"-"},{"$f":"IFERROR(INDEX([4]Estimadores!$D$7:$AB$38,MATCH(J$287,[4]Estimadores!$B$7:$B$38,0),MATCH($B307,[4]Estimadores!$D$6:$AB$6,0)),\"-\")","v":"-"},{"$f":"IFERROR(INDEX([4]Estimadores!$D$7:$AB$38,MATCH(K$287,[4]Estimadores!$B$7:$B$38,0),MATCH($B307,[4]Estimadores!$D$6:$AB$6,0)),\"-\")","v":"-"},{"$f":"IFERROR(INDEX([4]Estimadores!$D$7:$AB$38,MATCH(L$287,[4]Estimadores!$B$7:$B$38,0),MATCH($B307,[4]Estimadores!$D$6:$AB$6,0)),\"-\")","v":"-"},{"$f":"IFERROR(INDEX([4]Estimadores!$D$7:$AB$38,MATCH(M$287,[4]Estimadores!$B$7:$B$38,0),MATCH($B307,[4]Estimadores!$D$6:$AB$6,0)),\"-\")","v":"-"},{"$f":"IFERROR(INDEX([4]Estimadores!$D$7:$AB$38,MATCH(N$287,[4]Estimadores!$B$7:$B$38,0),MATCH($B307,[4]Estimadores!$D$6:$AB$6,0)),\"-\")","v":"-"},{"$f":"IFERROR(INDEX([4]Estimadores!$D$7:$AB$38,MATCH(O$287,[4]Estimadores!$B$7:$B$38,0),MATCH($B307,[4]Estimadores!$D$6:$AB$6,0)),\"-\")","v":"-"},{"$f":"IFERROR(INDEX([4]Estimadores!$D$7:$AB$38,MATCH(P$287,[4]Estimadores!$B$7:$B$38,0),MATCH($B307,[4]Estimadores!$D$6:$AB$6,0)),\"-\")","v":"-"},{"$f":"IFERROR(INDEX([4]Estimadores!$D$7:$AB$38,MATCH(Q$287,[4]Estimadores!$B$7:$B$38,0),MATCH($B307,[4]Estimadores!$D$6:$AB$6,0)),\"-\")","v":"-"},{"$f":"IFERROR(INDEX([4]Estimadores!$D$7:$AB$38,MATCH(R$287,[4]Estimadores!$B$7:$B$38,0),MATCH($B307,[4]Estimadores!$D$6:$AB$6,0)),\"-\")","v":"-"},{"$f":"IFERROR(INDEX([4]Estimadores!$D$7:$AB$38,MATCH(S$287,[4]Estimadores!$B$7:$B$38,0),MATCH($B307,[4]Estimadores!$D$6:$AB$6,0)),\"-\")","v":"-"},{"$f":"IFERROR(INDEX([4]Estimadores!$D$7:$AB$38,MATCH(T$287,[4]Estimadores!$B$7:$B$38,0),MATCH($B307,[4]Estimadores!$D$6:$AB$6,0)),\"-\")","v":"-"},{"$f":"IFERROR(INDEX([4]Estimadores!$D$7:$AB$38,MATCH(U$287,[4]Estimadores!$B$7:$B$38,0),MATCH($B307,[4]Estimadores!$D$6:$AB$6,0)),\"-\")","v":"-"},{"$f":"IFERROR(INDEX([4]Estimadores!$D$7:$AB$38,MATCH(V$287,[4]Estimadores!$B$7:$B$38,0),MATCH($B307,[4]Estimadores!$D$6:$AB$6,0)),\"-\")","v":"-"},{"$f":"IFERROR(INDEX([4]Estimadores!$D$7:$AB$38,MATCH(W$287,[4]Estimadores!$B$7:$B$38,0),MATCH($B307,[4]Estimadores!$D$6:$AB$6,0)),\"-\")","v":"-"},{"$f":"IFERROR(INDEX([4]Estimadores!$D$7:$AB$38,MATCH(X$287,[4]Estimadores!$B$7:$B$38,0),MATCH($B307,[4]Estimadores!$D$6:$AB$6,0)),\"-\")","v":"-"},{"$f":"IFERROR(INDEX([4]Estimadores!$D$7:$AB$38,MATCH(Y$287,[4]Estimadores!$B$7:$B$38,0),MATCH($B307,[4]Estimadores!$D$6:$AB$6,0)),\"-\")","v":"-"},{"$f":"IFERROR(INDEX([4]Estimadores!$D$7:$AB$38,MATCH(Z$287,[4]Estimadores!$B$7:$B$38,0),MATCH($B307,[4]Estimadores!$D$6:$AB$6,0)),\"-\")","v":"-"},{"$f":"IFERROR(INDEX([4]Estimadores!$D$7:$AB$38,MATCH(AA$287,[4]Estimadores!$B$7:$B$38,0),MATCH($B307,[4]Estimadores!$D$6:$AB$6,0)),\"-\")","v":"-"},{"$f":"IFERROR(INDEX([4]Estimadores!$D$7:$AB$38,MATCH(AB$287,[4]Estimadores!$B$7:$B$38,0),MATCH($B307,[4]Estimadores!$D$6:$AB$6,0)),\"-\")","v":"-"},{"$f":"IFERROR(INDEX([4]Estimadores!$D$7:$AB$38,MATCH(AC$287,[4]Estimadores!$B$7:$B$38,0),MATCH($B307,[4]Estimadores!$D$6:$AB$6,0)),\"-\")","v":"-"},{"$f":"IFERROR(INDEX([4]Estimadores!$D$7:$AB$38,MATCH(AD$287,[4]Estimadores!$B$7:$B$38,0),MATCH($B307,[4]Estimadores!$D$6:$AB$6,0)),\"-\")","v":"-"},{"$f":"IFERROR(INDEX([4]Estimadores!$D$7:$AB$38,MATCH(AE$287,[4]Estimadores!$B$7:$B$38,0),MATCH($B307,[4]Estimadores!$D$6:$AB$6,0)),\"-\")","v":"-"},{"$f":"IFERROR(INDEX([4]Estimadores!$D$7:$AB$38,MATCH(AF$287,[4]Estimadores!$B$7:$B$38,0),MATCH($B307,[4]Estimadores!$D$6:$AB$6,0)),\"-\")","v":"-"},{"$f":"IFERROR(INDEX([4]Estimadores!$D$7:$AB$38,MATCH(AG$287,[4]Estimadores!$B$7:$B$38,0),MATCH($B307,[4]Estimadores!$D$6:$AB$6,0)),\"-\")","v":"-"},{"$f":"IFERROR(INDEX([4]Estimadores!$D$7:$AB$38,MATCH(AH$287,[4]Estimadores!$B$7:$B$38,0),MATCH($B307,[4]Estimadores!$D$6:$AB$6,0)),\"-\")","v":"-"},{"$f":"IFERROR(INDEX([4]Estimadores!$D$7:$AB$38,MATCH(AI$287,[4]Estimadores!$B$7:$B$38,0),MATCH($B307,[4]Estimadores!$D$6:$AB$6,0)),\"-\")","v":"-"}]
[null,"AP","AP",{"$f":"IFERROR(INDEX([4]Estimadores!$D$7:$AB$38,MATCH(D$287,[4]Estimadores!$B$7:$B$38,0),MATCH($B308,[4]Estimadores!$D$6:$AB$6,0)),\"-\")","v":"-"},{"$f":"IFERROR(INDEX([4]Estimadores!$D$7:$AB$38,MATCH(E$287,[4]Estimadores!$B$7:$B$38,0),MATCH($B308,[4]Estimadores!$D$6:$AB$6,0)),\"-\")","v":"-"},{"$f":"IFERROR(INDEX([4]Estimadores!$D$7:$AB$38,MATCH(F$287,[4]Estimadores!$B$7:$B$38,0),MATCH($B308,[4]Estimadores!$D$6:$AB$6,0)),\"-\")","v":"-"},{"$f":"IFERROR(INDEX([4]Estimadores!$D$7:$AB$38,MATCH(G$287,[4]Estimadores!$B$7:$B$38,0),MATCH($B308,[4]Estimadores!$D$6:$AB$6,0)),\"-\")","v":0.50000000000000089},{"$f":"IFERROR(INDEX([4]Estimadores!$D$7:$AB$38,MATCH(H$287,[4]Estimadores!$B$7:$B$38,0),MATCH($B308,[4]Estimadores!$D$6:$AB$6,0)),\"-\")","v":1},{"$f":"IFERROR(INDEX([4]Estimadores!$D$7:$AB$38,MATCH(I$287,[4]Estimadores!$B$7:$B$38,0),MATCH($B308,[4]Estimadores!$D$6:$AB$6,0)),\"-\")","v":0},{"$f":"IFERROR(INDEX([4]Estimadores!$D$7:$AB$38,MATCH(J$287,[4]Estimadores!$B$7:$B$38,0),MATCH($B308,[4]Estimadores!$D$6:$AB$6,0)),\"-\")","v":1},{"$f":"IFERROR(INDEX([4]Estimadores!$D$7:$AB$38,MATCH(K$287,[4]Estimadores!$B$7:$B$38,0),MATCH($B308,[4]Estimadores!$D$6:$AB$6,0)),\"-\")","v":0},{"$f":"IFERROR(INDEX([4]Estimadores!$D$7:$AB$38,MATCH(L$287,[4]Estimadores!$B$7:$B$38,0),MATCH($B308,[4]Estimadores!$D$6:$AB$6,0)),\"-\")","v":0},{"$f":"IFERROR(INDEX([4]Estimadores!$D$7:$AB$38,MATCH(M$287,[4]Estimadores!$B$7:$B$38,0),MATCH($B308,[4]Estimadores!$D$6:$AB$6,0)),\"-\")","v":0},{"$f":"IFERROR(INDEX([4]Estimadores!$D$7:$AB$38,MATCH(N$287,[4]Estimadores!$B$7:$B$38,0),MATCH($B308,[4]Estimadores!$D$6:$AB$6,0)),\"-\")","v":0},{"$f":"IFERROR(INDEX([4]Estimadores!$D$7:$AB$38,MATCH(O$287,[4]Estimadores!$B$7:$B$38,0),MATCH($B308,[4]Estimadores!$D$6:$AB$6,0)),\"-\")","v":0},{"$f":"IFERROR(INDEX([4]Estimadores!$D$7:$AB$38,MATCH(P$287,[4]Estimadores!$B$7:$B$38,0),MATCH($B308,[4]Estimadores!$D$6:$AB$6,0)),\"-\")","v":0},{"$f":"IFERROR(INDEX([4]Estimadores!$D$7:$AB$38,MATCH(Q$287,[4]Estimadores!$B$7:$B$38,0),MATCH($B308,[4]Estimadores!$D$6:$AB$6,0)),\"-\")","v":1},{"$f":"IFERROR(INDEX([4]Estimadores!$D$7:$AB$38,MATCH(R$287,[4]Estimadores!$B$7:$B$38,0),MATCH($B308,[4]Estimadores!$D$6:$AB$6,0)),\"-\")","v":1},{"$f":"IFERROR(INDEX([4]Estimadores!$D$7:$AB$38,MATCH(S$287,[4]Estimadores!$B$7:$B$38,0),MATCH($B308,[4]Estimadores!$D$6:$AB$6,0)),\"-\")","v":0},{"$f":"IFERROR(INDEX([4]Estimadores!$D$7:$AB$38,MATCH(T$287,[4]Estimadores!$B$7:$B$38,0),MATCH($B308,[4]Estimadores!$D$6:$AB$6,0)),\"-\")","v":0},{"$f":"IFERROR(INDEX([4]Estimadores!$D$7:$AB$38,MATCH(U$287,[4]Estimadores!$B$7:$B$38,0),MATCH($B308,[4]Estimadores!$D$6:$AB$6,0)),\"-\")","v":0},{"$f":"IFERROR(INDEX([4]Estimadores!$D$7:$AB$38,MATCH(V$287,[4]Estimadores!$B$7:$B$38,0),MATCH($B308,[4]Estimadores!$D$6:$AB$6,0)),\"-\")","v":0},{"$f":"IFERROR(INDEX([4]Estimadores!$D$7:$AB$38,MATCH(W$287,[4]Estimadores!$B$7:$B$38,0),MATCH($B308,[4]Estimadores!$D$6:$AB$6,0)),\"-\")","v":0},{"$f":"IFERROR(INDEX([4]Estimadores!$D$7:$AB$38,MATCH(X$287,[4]Estimadores!$B$7:$B$38,0),MATCH($B308,[4]Estimadores!$D$6:$AB$6,0)),\"-\")","v":0},{"$f":"IFERROR(INDEX([4]Estimadores!$D$7:$AB$38,MATCH(Y$287,[4]Estimadores!$B$7:$B$38,0),MATCH($B308,[4]Estimadores!$D$6:$AB$6,0)),\"-\")","v":0},{"$f":"IFERROR(INDEX([4]Estimadores!$D$7:$AB$38,MATCH(Z$287,[4]Estimadores!$B$7:$B$38,0),MATCH($B308,[4]Estimadores!$D$6:$AB$6,0)),\"-\")","v":0},{"$f":"IFERROR(INDEX([4]Estimadores!$D$7:$AB$38,MATCH(AA$287,[4]Estimadores!$B$7:$B$38,0),MATCH($B308,[4]Estimadores!$D$6:$AB$6,0)),\"-\")","v":1},{"$f":"IFERROR(INDEX([4]Estimadores!$D$7:$AB$38,MATCH(AB$287,[4]Estimadores!$B$7:$B$38,0),MATCH($B308,[4]Estimadores!$D$6:$AB$6,0)),\"-\")","v":1},{"$f":"IFERROR(INDEX([4]Estimadores!$D$7:$AB$38,MATCH(AC$287,[4]Estimadores!$B$7:$B$38,0),MATCH($B308,[4]Estimadores!$D$6:$AB$6,0)),\"-\")","v":0},{"$f":"IFERROR(INDEX([4]Estimadores!$D$7:$AB$38,MATCH(AD$287,[4]Estimadores!$B$7:$B$38,0),MATCH($B308,[4]Estimadores!$D$6:$AB$6,0)),\"-\")","v":0},{"$f":"IFERROR(INDEX([4]Estimadores!$D$7:$AB$38,MATCH(AE$287,[4]Estimadores!$B$7:$B$38,0),MATCH($B308,[4]Estimadores!$D$6:$AB$6,0)),\"-\")","v":1},{"$f":"IFERROR(INDEX([4]Estimadores!$D$7:$AB$38,MATCH(AF$287,[4]Estimadores!$B$7:$B$38,0),MATCH($B308,[4]Estimadores!$D$6:$AB$6,0)),\"-\")","v":"-"},{"$f":"IFERROR(INDEX([4]Estimadores!$D$7:$AB$38,MATCH(AG$287,[4]Estimadores!$B$7:$B$38,0),MATCH($B308,[4]Estimadores!$D$6:$AB$6,0)),\"-\")","v":0.65625000000000122},{"$f":"IFERROR(INDEX([4]Estimadores!$D$7:$AB$38,MATCH(AH$287,[4]Estimadores!$B$7:$B$38,0),MATCH($B308,[4]Estimadores!$D$6:$AB$6,0)),\"-\")","v":0},{"$f":"IFERROR(INDEX([4]Estimadores!$D$7:$AB$38,MATCH(AI$287,[4]Estimadores!$B$7:$B$38,0),MATCH($B308,[4]Estimadores!$D$6:$AB$6,0)),\"-\")","v":1}]
[null,"","",{"$f":"IFERROR(INDEX([4]Estimadores!$D$7:$AB$38,MATCH(D$287,[4]Estimadores!$B$7:$B$38,0),MATCH($B309,[4]Estimadores!$D$6:$AB$6,0)),\"-\")","v":"-"},{"$f":"IFERROR(INDEX([4]Estimadores!$D$7:$AB$38,MATCH(E$287,[4]Estimadores!$B$7:$B$38,0),MATCH($B309,[4]Estimadores!$D$6:$AB$6,0)),\"-\")","v":"-"},{"$f":"IFERROR(INDEX([4]Estimadores!$D$7:$AB$38,MATCH(F$287,[4]Estimadores!$B$7:$B$38,0),MATCH($B309,[4]Estimadores!$D$6:$AB$6,0)),\"-\")","v":"-"},{"$f":"IFERROR(INDEX([4]Estimadores!$D$7:$AB$38,MATCH(G$287,[4]Estimadores!$B$7:$B$38,0),MATCH($B309,[4]Estimadores!$D$6:$AB$6,0)),\"-\")","v":"-"},{"$f":"IFERROR(INDEX([4]Estimadores!$D$7:$AB$38,MATCH(H$287,[4]Estimadores!$B$7:$B$38,0),MATCH($B309,[4]Estimadores!$D$6:$AB$6,0)),\"-\")","v":"-"},{"$f":"IFERROR(INDEX([4]Estimadores!$D$7:$AB$38,MATCH(I$287,[4]Estimadores!$B$7:$B$38,0),MATCH($B309,[4]Estimadores!$D$6:$AB$6,0)),\"-\")","v":"-"},{"$f":"IFERROR(INDEX([4]Estimadores!$D$7:$AB$38,MATCH(J$287,[4]Estimadores!$B$7:$B$38,0),MATCH($B309,[4]Estimadores!$D$6:$AB$6,0)),\"-\")","v":"-"},{"$f":"IFERROR(INDEX([4]Estimadores!$D$7:$AB$38,MATCH(K$287,[4]Estimadores!$B$7:$B$38,0),MATCH($B309,[4]Estimadores!$D$6:$AB$6,0)),\"-\")","v":"-"},{"$f":"IFERROR(INDEX([4]Estimadores!$D$7:$AB$38,MATCH(L$287,[4]Estimadores!$B$7:$B$38,0),MATCH($B309,[4]Estimadores!$D$6:$AB$6,0)),\"-\")","v":"-"},{"$f":"IFERROR(INDEX([4]Estimadores!$D$7:$AB$38,MATCH(M$287,[4]Estimadores!$B$7:$B$38,0),MATCH($B309,[4]Estimadores!$D$6:$AB$6,0)),\"-\")","v":"-"},{"$f":"IFERROR(INDEX([4]Estimadores!$D$7:$AB$38,MATCH(N$287,[4]Estimadores!$B$7:$B$38,0),MATCH($B309,[4]Estimadores!$D$6:$AB$6,0)),\"-\")","v":"-"},{"$f":"IFERROR(INDEX([4]Estimadores!$D$7:$AB$38,MATCH(O$287,[4]Estimadores!$B$7:$B$38,0),MATCH($B309,[4]Estimadores!$D$6:$AB$6,0)),\"-\")","v":"-"},{"$f":"IFERROR(INDEX([4]Estimadores!$D$7:$AB$38,MATCH(P$287,[4]Estimadores!$B$7:$B$38,0),MATCH($B309,[4]Estimadores!$D$6:$AB$6,0)),\"-\")","v":"-"},{"$f":"IFERROR(INDEX([4]Estimadores!$D$7:$AB$38,MATCH(Q$287,[4]Estimadores!$B$7:$B$38,0),MATCH($B309,[4]Estimadores!$D$6:$AB$6,0)),\"-\")","v":"-"},{"$f":"IFERROR(INDEX([4]Estimadores!$D$7:$AB$38,MATCH(R$287,[4]Estimadores!$B$7:$B$38,0),MATCH($B309,[4]Estimadores!$D$6:$AB$6,0)),\"-\")","v":"-"},{"$f":"IFERROR(INDEX([4]Estimadores!$D$7:$AB$38,MATCH(S$287,[4]Estimadores!$B$7:$B$38,0),MATCH($B309,[4]Estimadores!$D$6:$AB$6,0)),\"-\")","v":"-"},{"$f":"IFERROR(INDEX([4]Estimadores!$D$7:$AB$38,MATCH(T$287,[4]Estimadores!$B$7:$B$38,0),MATCH($B309,[4]Estimadores!$D$6:$AB$6,0)),\"-\")","v":"-"},{"$f":"IFERROR(INDEX([4]Estimadores!$D$7:$AB$38,MATCH(U$287,[4]Estimadores!$B$7:$B$38,0),MATCH($B309,[4]Estimadores!$D$6:$AB$6,0)),\"-\")","v":"-"},{"$f":"IFERROR(INDEX([4]Estimadores!$D$7:$AB$38,MATCH(V$287,[4]Estimadores!$B$7:$B$38,0),MATCH($B309,[4]Estimadores!$D$6:$AB$6,0)),\"-\")","v":"-"},{"$f":"IFERROR(INDEX([4]Estimadores!$D$7:$AB$38,MATCH(W$287,[4]Estimadores!$B$7:$B$38,0),MATCH($B309,[4]Estimadores!$D$6:$AB$6,0)),\"-\")","v":"-"},{"$f":"IFERROR(INDEX([4]Estimadores!$D$7:$AB$38,MATCH(X$287,[4]Estimadores!$B$7:$B$38,0),MATCH($B309,[4]Estimadores!$D$6:$AB$6,0)),\"-\")","v":"-"},{"$f":"IFERROR(INDEX([4]Estimadores!$D$7:$AB$38,MATCH(Y$287,[4]Estimadores!$B$7:$B$38,0),MATCH($B309,[4]Estimadores!$D$6:$AB$6,0)),\"-\")","v":"-"},{"$f":"IFERROR(INDEX([4]Estimadores!$D$7:$AB$38,MATCH(Z$287,[4]Estimadores!$B$7:$B$38,0),MATCH($B309,[4]Estimadores!$D$6:$AB$6,0)),\"-\")","v":"-"},{"$f":"IFERROR(INDEX([4]Estimadores!$D$7:$AB$38,MATCH(AA$287,[4]Estimadores!$B$7:$B$38,0),MATCH($B309,[4]Estimadores!$D$6:$AB$6,0)),\"-\")","v":"-"},{"$f":"IFERROR(INDEX([4]Estimadores!$D$7:$AB$38,MATCH(AB$287,[4]Estimadores!$B$7:$B$38,0),MATCH($B309,[4]Estimadores!$D$6:$AB$6,0)),\"-\")","v":"-"},{"$f":"IFERROR(INDEX([4]Estimadores!$D$7:$AB$38,MATCH(AC$287,[4]Estimadores!$B$7:$B$38,0),MATCH($B309,[4]Estimadores!$D$6:$AB$6,0)),\"-\")","v":"-"},{"$f":"IFERROR(INDEX([4]Estimadores!$D$7:$AB$38,MATCH(AD$287,[4]Estimadores!$B$7:$B$38,0),MATCH($B309,[4]Estimadores!$D$6:$AB$6,0)),\"-\")","v":"-"},{"$f":"IFERROR(INDEX([4]Estimadores!$D$7:$AB$38,MATCH(AE$287,[4]Estimadores!$B$7:$B$38,0),MATCH($B309,[4]Estimadores!$D$6:$AB$6,0)),\"-\")","v":"-"},{"$f":"IFERROR(INDEX([4]Estimadores!$D$7:$AB$38,MATCH(AF$287,[4]Estimadores!$B$7:$B$38,0),MATCH($B309,[4]Estimadores!$D$6:$AB$6,0)),\"-\")","v":"-"},{"$f":"IFERROR(INDEX([4]Estimadores!$D$7:$AB$38,MATCH(AG$287,[4]Estimadores!$B$7:$B$38,0),MATCH($B309,[4]Estimadores!$D$6:$AB$6,0)),\"-\")","v":"-"},{"$f":"IFERROR(INDEX([4]Estimadores!$D$7:$AB$38,MATCH(AH$287,[4]Estimadores!$B$7:$B$38,0),MATCH($B309,[4]Estimadores!$D$6:$AB$6,0)),\"-\")","v":"-"},{"$f":"IFERROR(INDEX([4]Estimadores!$D$7:$AB$38,MATCH(AI$287,[4]Estimadores!$B$7:$B$38,0),MATCH($B309,[4]Estimadores!$D$6:$AB$6,0)),\"-\")","v":"-"}]
[null,"","",{"$f":"IFERROR(INDEX([4]Estimadores!$D$7:$AB$38,MATCH(D$287,[4]Estimadores!$B$7:$B$38,0),MATCH($B310,[4]Estimadores!$D$6:$AB$6,0)),\"-\")","v":"-"},{"$f":"IFERROR(INDEX([4]Estimadores!$D$7:$AB$38,MATCH(E$287,[4]Estimadores!$B$7:$B$38,0),MATCH($B310,[4]Estimadores!$D$6:$AB$6,0)),\"-\")","v":"-"},{"$f":"IFERROR(INDEX([4]Estimadores!$D$7:$AB$38,MATCH(F$287,[4]Estimadores!$B$7:$B$38,0),MATCH($B310,[4]Estimadores!$D$6:$AB$6,0)),\"-\")","v":"-"},{"$f":"IFERROR(INDEX([4]Estimadores!$D$7:$AB$38,MATCH(G$287,[4]Estimadores!$B$7:$B$38,0),MATCH($B310,[4]Estimadores!$D$6:$AB$6,0)),\"-\")","v":"-"},{"$f":"IFERROR(INDEX([4]Estimadores!$D$7:$AB$38,MATCH(H$287,[4]Estimadores!$B$7:$B$38,0),MATCH($B310,[4]Estimadores!$D$6:$AB$6,0)),\"-\")","v":"-"},{"$f":"IFERROR(INDEX([4]Estimadores!$D$7:$AB$38,MATCH(I$287,[4]Estimadores!$B$7:$B$38,0),MATCH($B310,[4]Estimadores!$D$6:$AB$6,0)),\"-\")","v":"-"},{"$f":"IFERROR(INDEX([4]Estimadores!$D$7:$AB$38,MATCH(J$287,[4]Estimadores!$B$7:$B$38,0),MATCH($B310,[4]Estimadores!$D$6:$AB$6,0)),\"-\")","v":"-"},{"$f":"IFERROR(INDEX([4]Estimadores!$D$7:$AB$38,MATCH(K$287,[4]Estimadores!$B$7:$B$38,0),MATCH($B310,[4]Estimadores!$D$6:$AB$6,0)),\"-\")","v":"-"},{"$f":"IFERROR(INDEX([4]Estimadores!$D$7:$AB$38,MATCH(L$287,[4]Estimadores!$B$7:$B$38,0),MATCH($B310,[4]Estimadores!$D$6:$AB$6,0)),\"-\")","v":"-"},{"$f":"IFERROR(INDEX([4]Estimadores!$D$7:$AB$38,MATCH(M$287,[4]Estimadores!$B$7:$B$38,0),MATCH($B310,[4]Estimadores!$D$6:$AB$6,0)),\"-\")","v":"-"},{"$f":"IFERROR(INDEX([4]Estimadores!$D$7:$AB$38,MATCH(N$287,[4]Estimadores!$B$7:$B$38,0),MATCH($B310,[4]Estimadores!$D$6:$AB$6,0)),\"-\")","v":"-"},{"$f":"IFERROR(INDEX([4]Estimadores!$D$7:$AB$38,MATCH(O$287,[4]Estimadores!$B$7:$B$38,0),MATCH($B310,[4]Estimadores!$D$6:$AB$6,0)),\"-\")","v":"-"},{"$f":"IFERROR(INDEX([4]Estimadores!$D$7:$AB$38,MATCH(P$287,[4]Estimadores!$B$7:$B$38,0),MATCH($B310,[4]Estimadores!$D$6:$AB$6,0)),\"-\")","v":"-"},{"$f":"IFERROR(INDEX([4]Estimadores!$D$7:$AB$38,MATCH(Q$287,[4]Estimadores!$B$7:$B$38,0),MATCH($B310,[4]Estimadores!$D$6:$AB$6,0)),\"-\")","v":"-"},{"$f":"IFERROR(INDEX([4]Estimadores!$D$7:$AB$38,MATCH(R$287,[4]Estimadores!$B$7:$B$38,0),MATCH($B310,[4]Estimadores!$D$6:$AB$6,0)),\"-\")","v":"-"},{"$f":"IFERROR(INDEX([4]Estimadores!$D$7:$AB$38,MATCH(S$287,[4]Estimadores!$B$7:$B$38,0),MATCH($B310,[4]Estimadores!$D$6:$AB$6,0)),\"-\")","v":"-"},{"$f":"IFERROR(INDEX([4]Estimadores!$D$7:$AB$38,MATCH(T$287,[4]Estimadores!$B$7:$B$38,0),MATCH($B310,[4]Estimadores!$D$6:$AB$6,0)),\"-\")","v":"-"},{"$f":"IFERROR(INDEX([4]Estimadores!$D$7:$AB$38,MATCH(U$287,[4]Estimadores!$B$7:$B$38,0),MATCH($B310,[4]Estimadores!$D$6:$AB$6,0)),\"-\")","v":"-"},{"$f":"IFERROR(INDEX([4]Estimadores!$D$7:$AB$38,MATCH(V$287,[4]Estimadores!$B$7:$B$38,0),MATCH($B310,[4]Estimadores!$D$6:$AB$6,0)),\"-\")","v":"-"},{"$f":"IFERROR(INDEX([4]Estimadores!$D$7:$AB$38,MATCH(W$287,[4]Estimadores!$B$7:$B$38,0),MATCH($B310,[4]Estimadores!$D$6:$AB$6,0)),\"-\")","v":"-"},{"$f":"IFERROR(INDEX([4]Estimadores!$D$7:$AB$38,MATCH(X$287,[4]Estimadores!$B$7:$B$38,0),MATCH($B310,[4]Estimadores!$D$6:$AB$6,0)),\"-\")","v":"-"},{"$f":"IFERROR(INDEX([4]Estimadores!$D$7:$AB$38,MATCH(Y$287,[4]Estimadores!$B$7:$B$38,0),MATCH($B310,[4]Estimadores!$D$6:$AB$6,0)),\"-\")","v":"-"},{"$f":"IFERROR(INDEX([4]Estimadores!$D$7:$AB$38,MATCH(Z$287,[4]Estimadores!$B$7:$B$38,0),MATCH($B310,[4]Estimadores!$D$6:$AB$6,0)),\"-\")","v":"-"},{"$f":"IFERROR(INDEX([4]Estimadores!$D$7:$AB$38,MATCH(AA$287,[4]Estimadores!$B$7:$B$38,0),MATCH($B310,[4]Estimadores!$D$6:$AB$6,0)),\"-\")","v":"-"},{"$f":"IFERROR(INDEX([4]Estimadores!$D$7:$AB$38,MATCH(AB$287,[4]Estimadores!$B$7:$B$38,0),MATCH($B310,[4]Estimadores!$D$6:$AB$6,0)),\"-\")","v":"-"},{"$f":"IFERROR(INDEX([4]Estimadores!$D$7:$AB$38,MATCH(AC$287,[4]Estimadores!$B$7:$B$38,0),MATCH($B310,[4]Estimadores!$D$6:$AB$6,0)),\"-\")","v":"-"},{"$f":"IFERROR(INDEX([4]Estimadores!$D$7:$AB$38,MATCH(AD$287,[4]Estimadores!$B$7:$B$38,0),MATCH($B310,[4]Estimadores!$D$6:$AB$6,0)),\"-\")","v":"-"},{"$f":"IFERROR(INDEX([4]Estimadores!$D$7:$AB$38,MATCH(AE$287,[4]Estimadores!$B$7:$B$38,0),MATCH($B310,[4]Estimadores!$D$6:$AB$6,0)),\"-\")","v":"-"},{"$f":"IFERROR(INDEX([4]Estimadores!$D$7:$AB$38,MATCH(AF$287,[4]Estimadores!$B$7:$B$38,0),MATCH($B310,[4]Estimadores!$D$6:$AB$6,0)),\"-\")","v":"-"},{"$f":"IFERROR(INDEX([4]Estimadores!$D$7:$AB$38,MATCH(AG$287,[4]Estimadores!$B$7:$B$38,0),MATCH($B310,[4]Estimadores!$D$6:$AB$6,0)),\"-\")","v":"-"},{"$f":"IFERROR(INDEX([4]Estimadores!$D$7:$AB$38,MATCH(AH$287,[4]Estimadores!$B$7:$B$38,0),MATCH($B310,[4]Estimadores!$D$6:$AB$6,0)),\"-\")","v":"-"},{"$f":"IFERROR(INDEX([4]Estimadores!$D$7:$AB$38,MATCH(AI$287,[4]Estimadores!$B$7:$B$38,0),MATCH($B310,[4]Estimadores!$D$6:$AB$6,0)),\"-\")","v":"-"}]
[null,"","",{"$f":"IFERROR(INDEX([4]Estimadores!$D$7:$AB$38,MATCH(D$287,[4]Estimadores!$B$7:$B$38,0),MATCH($B311,[4]Estimadores!$D$6:$AB$6,0)),\"-\")","v":"-"},{"$f":"IFERROR(INDEX([4]Estimadores!$D$7:$AB$38,MATCH(E$287,[4]Estimadores!$B$7:$B$38,0),MATCH($B311,[4]Estimadores!$D$6:$AB$6,0)),\"-\")","v":"-"},{"$f":"IFERROR(INDEX([4]Estimadores!$D$7:$AB$38,MATCH(F$287,[4]Estimadores!$B$7:$B$38,0),MATCH($B311,[4]Estimadores!$D$6:$AB$6,0)),\"-\")","v":"-"},{"$f":"IFERROR(INDEX([4]Estimadores!$D$7:$AB$38,MATCH(G$287,[4]Estimadores!$B$7:$B$38,0),MATCH($B311,[4]Estimadores!$D$6:$AB$6,0)),\"-\")","v":"-"},{"$f":"IFERROR(INDEX([4]Estimadores!$D$7:$AB$38,MATCH(H$287,[4]Estimadores!$B$7:$B$38,0),MATCH($B311,[4]Estimadores!$D$6:$AB$6,0)),\"-\")","v":"-"},{"$f":"IFERROR(INDEX([4]Estimadores!$D$7:$AB$38,MATCH(I$287,[4]Estimadores!$B$7:$B$38,0),MATCH($B311,[4]Estimadores!$D$6:$AB$6,0)),\"-\")","v":"-"},{"$f":"IFERROR(INDEX([4]Estimadores!$D$7:$AB$38,MATCH(J$287,[4]Estimadores!$B$7:$B$38,0),MATCH($B311,[4]Estimadores!$D$6:$AB$6,0)),\"-\")","v":"-"},{"$f":"IFERROR(INDEX([4]Estimadores!$D$7:$AB$38,MATCH(K$287,[4]Estimadores!$B$7:$B$38,0),MATCH($B311,[4]Estimadores!$D$6:$AB$6,0)),\"-\")","v":"-"},{"$f":"IFERROR(INDEX([4]Estimadores!$D$7:$AB$38,MATCH(L$287,[4]Estimadores!$B$7:$B$38,0),MATCH($B311,[4]Estimadores!$D$6:$AB$6,0)),\"-\")","v":"-"},{"$f":"IFERROR(INDEX([4]Estimadores!$D$7:$AB$38,MATCH(M$287,[4]Estimadores!$B$7:$B$38,0),MATCH($B311,[4]Estimadores!$D$6:$AB$6,0)),\"-\")","v":"-"},{"$f":"IFERROR(INDEX([4]Estimadores!$D$7:$AB$38,MATCH(N$287,[4]Estimadores!$B$7:$B$38,0),MATCH($B311,[4]Estimadores!$D$6:$AB$6,0)),\"-\")","v":"-"},{"$f":"IFERROR(INDEX([4]Estimadores!$D$7:$AB$38,MATCH(O$287,[4]Estimadores!$B$7:$B$38,0),MATCH($B311,[4]Estimadores!$D$6:$AB$6,0)),\"-\")","v":"-"},{"$f":"IFERROR(INDEX([4]Estimadores!$D$7:$AB$38,MATCH(P$287,[4]Estimadores!$B$7:$B$38,0),MATCH($B311,[4]Estimadores!$D$6:$AB$6,0)),\"-\")","v":"-"},{"$f":"IFERROR(INDEX([4]Estimadores!$D$7:$AB$38,MATCH(Q$287,[4]Estimadores!$B$7:$B$38,0),MATCH($B311,[4]Estimadores!$D$6:$AB$6,0)),\"-\")","v":"-"},{"$f":"IFERROR(INDEX([4]Estimadores!$D$7:$AB$38,MATCH(R$287,[4]Estimadores!$B$7:$B$38,0),MATCH($B311,[4]Estimadores!$D$6:$AB$6,0)),\"-\")","v":"-"},{"$f":"IFERROR(INDEX([4]Estimadores!$D$7:$AB$38,MATCH(S$287,[4]Estimadores!$B$7:$B$38,0),MATCH($B311,[4]Estimadores!$D$6:$AB$6,0)),\"-\")","v":"-"},{"$f":"IFERROR(INDEX([4]Estimadores!$D$7:$AB$38,MATCH(T$287,[4]Estimadores!$B$7:$B$38,0),MATCH($B311,[4]Estimadores!$D$6:$AB$6,0)),\"-\")","v":"-"},{"$f":"IFERROR(INDEX([4]Estimadores!$D$7:$AB$38,MATCH(U$287,[4]Estimadores!$B$7:$B$38,0),MATCH($B311,[4]Estimadores!$D$6:$AB$6,0)),\"-\")","v":"-"},{"$f":"IFERROR(INDEX([4]Estimadores!$D$7:$AB$38,MATCH(V$287,[4]Estimadores!$B$7:$B$38,0),MATCH($B311,[4]Estimadores!$D$6:$AB$6,0)),\"-\")","v":"-"},{"$f":"IFERROR(INDEX([4]Estimadores!$D$7:$AB$38,MATCH(W$287,[4]Estimadores!$B$7:$B$38,0),MATCH($B311,[4]Estimadores!$D$6:$AB$6,0)),\"-\")","v":"-"},{"$f":"IFERROR(INDEX([4]Estimadores!$D$7:$AB$38,MATCH(X$287,[4]Estimadores!$B$7:$B$38,0),MATCH($B311,[4]Estimadores!$D$6:$AB$6,0)),\"-\")","v":"-"},{"$f":"IFERROR(INDEX([4]Estimadores!$D$7:$AB$38,MATCH(Y$287,[4]Estimadores!$B$7:$B$38,0),MATCH($B311,[4]Estimadores!$D$6:$AB$6,0)),\"-\")","v":"-"},{"$f":"IFERROR(INDEX([4]Estimadores!$D$7:$AB$38,MATCH(Z$287,[4]Estimadores!$B$7:$B$38,0),MATCH($B311,[4]Estimadores!$D$6:$AB$6,0)),\"-\")","v":"-"},{"$f":"IFERROR(INDEX([4]Estimadores!$D$7:$AB$38,MATCH(AA$287,[4]Estimadores!$B$7:$B$38,0),MATCH($B311,[4]Estimadores!$D$6:$AB$6,0)),\"-\")","v":"-"},{"$f":"IFERROR(INDEX([4]Estimadores!$D$7:$AB$38,MATCH(AB$287,[4]Estimadores!$B$7:$B$38,0),MATCH($B311,[4]Estimadores!$D$6:$AB$6,0)),\"-\")","v":"-"},{"$f":"IFERROR(INDEX([4]Estimadores!$D$7:$AB$38,MATCH(AC$287,[4]Estimadores!$B$7:$B$38,0),MATCH($B311,[4]Estimadores!$D$6:$AB$6,0)),\"-\")","v":"-"},{"$f":"IFERROR(INDEX([4]Estimadores!$D$7:$AB$38,MATCH(AD$287,[4]Estimadores!$B$7:$B$38,0),MATCH($B311,[4]Estimadores!$D$6:$AB$6,0)),\"-\")","v":"-"},{"$f":"IFERROR(INDEX([4]Estimadores!$D$7:$AB$38,MATCH(AE$287,[4]Estimadores!$B$7:$B$38,0),MATCH($B311,[4]Estimadores!$D$6:$AB$6,0)),\"-\")","v":"-"},{"$f":"IFERROR(INDEX([4]Estimadores!$D$7:$AB$38,MATCH(AF$287,[4]Estimadores!$B$7:$B$38,0),MATCH($B311,[4]Estimadores!$D$6:$AB$6,0)),\"-\")","v":"-"},{"$f":"IFERROR(INDEX([4]Estimadores!$D$7:$AB$38,MATCH(AG$287,[4]Estimadores!$B$7:$B$38,0),MATCH($B311,[4]Estimadores!$D$6:$AB$6,0)),\"-\")","v":"-"},{"$f":"IFERROR(INDEX([4]Estimadores!$D$7:$AB$38,MATCH(AH$287,[4]Estimadores!$B$7:$B$38,0),MATCH($B311,[4]Estimadores!$D$6:$AB$6,0)),\"-\")","v":"-"},{"$f":"IFERROR(INDEX([4]Estimadores!$D$7:$AB$38,MATCH(AI$287,[4]Estimadores!$B$7:$B$38,0),MATCH($B311,[4]Estimadores!$D$6:$AB$6,0)),\"-\")","v":"-"}]
[null,"","",{"$f":"IFERROR(INDEX([4]Estimadores!$D$7:$AB$38,MATCH(D$287,[4]Estimadores!$B$7:$B$38,0),MATCH($B312,[4]Estimadores!$D$6:$AB$6,0)),\"-\")","v":"-"},{"$f":"IFERROR(INDEX([4]Estimadores!$D$7:$AB$38,MATCH(E$287,[4]Estimadores!$B$7:$B$38,0),MATCH($B312,[4]Estimadores!$D$6:$AB$6,0)),\"-\")","v":"-"},{"$f":"IFERROR(INDEX([4]Estimadores!$D$7:$AB$38,MATCH(F$287,[4]Estimadores!$B$7:$B$38,0),MATCH($B312,[4]Estimadores!$D$6:$AB$6,0)),\"-\")","v":"-"},{"$f":"IFERROR(INDEX([4]Estimadores!$D$7:$AB$38,MATCH(G$287,[4]Estimadores!$B$7:$B$38,0),MATCH($B312,[4]Estimadores!$D$6:$AB$6,0)),\"-\")","v":"-"},{"$f":"IFERROR(INDEX([4]Estimadores!$D$7:$AB$38,MATCH(H$287,[4]Estimadores!$B$7:$B$38,0),MATCH($B312,[4]Estimadores!$D$6:$AB$6,0)),\"-\")","v":"-"},{"$f":"IFERROR(INDEX([4]Estimadores!$D$7:$AB$38,MATCH(I$287,[4]Estimadores!$B$7:$B$38,0),MATCH($B312,[4]Estimadores!$D$6:$AB$6,0)),\"-\")","v":"-"},{"$f":"IFERROR(INDEX([4]Estimadores!$D$7:$AB$38,MATCH(J$287,[4]Estimadores!$B$7:$B$38,0),MATCH($B312,[4]Estimadores!$D$6:$AB$6,0)),\"-\")","v":"-"},{"$f":"IFERROR(INDEX([4]Estimadores!$D$7:$AB$38,MATCH(K$287,[4]Estimadores!$B$7:$B$38,0),MATCH($B312,[4]Estimadores!$D$6:$AB$6,0)),\"-\")","v":"-"},{"$f":"IFERROR(INDEX([4]Estimadores!$D$7:$AB$38,MATCH(L$287,[4]Estimadores!$B$7:$B$38,0),MATCH($B312,[4]Estimadores!$D$6:$AB$6,0)),\"-\")","v":"-"},{"$f":"IFERROR(INDEX([4]Estimadores!$D$7:$AB$38,MATCH(M$287,[4]Estimadores!$B$7:$B$38,0),MATCH($B312,[4]Estimadores!$D$6:$AB$6,0)),\"-\")","v":"-"},{"$f":"IFERROR(INDEX([4]Estimadores!$D$7:$AB$38,MATCH(N$287,[4]Estimadores!$B$7:$B$38,0),MATCH($B312,[4]Estimadores!$D$6:$AB$6,0)),\"-\")","v":"-"},{"$f":"IFERROR(INDEX([4]Estimadores!$D$7:$AB$38,MATCH(O$287,[4]Estimadores!$B$7:$B$38,0),MATCH($B312,[4]Estimadores!$D$6:$AB$6,0)),\"-\")","v":"-"},{"$f":"IFERROR(INDEX([4]Estimadores!$D$7:$AB$38,MATCH(P$287,[4]Estimadores!$B$7:$B$38,0),MATCH($B312,[4]Estimadores!$D$6:$AB$6,0)),\"-\")","v":"-"},{"$f":"IFERROR(INDEX([4]Estimadores!$D$7:$AB$38,MATCH(Q$287,[4]Estimadores!$B$7:$B$38,0),MATCH($B312,[4]Estimadores!$D$6:$AB$6,0)),\"-\")","v":"-"},{"$f":"IFERROR(INDEX([4]Estimadores!$D$7:$AB$38,MATCH(R$287,[4]Estimadores!$B$7:$B$38,0),MATCH($B312,[4]Estimadores!$D$6:$AB$6,0)),\"-\")","v":"-"},{"$f":"IFERROR(INDEX([4]Estimadores!$D$7:$AB$38,MATCH(S$287,[4]Estimadores!$B$7:$B$38,0),MATCH($B312,[4]Estimadores!$D$6:$AB$6,0)),\"-\")","v":"-"},{"$f":"IFERROR(INDEX([4]Estimadores!$D$7:$AB$38,MATCH(T$287,[4]Estimadores!$B$7:$B$38,0),MATCH($B312,[4]Estimadores!$D$6:$AB$6,0)),\"-\")","v":"-"},{"$f":"IFERROR(INDEX([4]Estimadores!$D$7:$AB$38,MATCH(U$287,[4]Estimadores!$B$7:$B$38,0),MATCH($B312,[4]Estimadores!$D$6:$AB$6,0)),\"-\")","v":"-"},{"$f":"IFERROR(INDEX([4]Estimadores!$D$7:$AB$38,MATCH(V$287,[4]Estimadores!$B$7:$B$38,0),MATCH($B312,[4]Estimadores!$D$6:$AB$6,0)),\"-\")","v":"-"},{"$f":"IFERROR(INDEX([4]Estimadores!$D$7:$AB$38,MATCH(W$287,[4]Estimadores!$B$7:$B$38,0),MATCH($B312,[4]Estimadores!$D$6:$AB$6,0)),\"-\")","v":"-"},{"$f":"IFERROR(INDEX([4]Estimadores!$D$7:$AB$38,MATCH(X$287,[4]Estimadores!$B$7:$B$38,0),MATCH($B312,[4]Estimadores!$D$6:$AB$6,0)),\"-\")","v":"-"},{"$f":"IFERROR(INDEX([4]Estimadores!$D$7:$AB$38,MATCH(Y$287,[4]Estimadores!$B$7:$B$38,0),MATCH($B312,[4]Estimadores!$D$6:$AB$6,0)),\"-\")","v":"-"},{"$f":"IFERROR(INDEX([4]Estimadores!$D$7:$AB$38,MATCH(Z$287,[4]Estimadores!$B$7:$B$38,0),MATCH($B312,[4]Estimadores!$D$6:$AB$6,0)),\"-\")","v":"-"},{"$f":"IFERROR(INDEX([4]Estimadores!$D$7:$AB$38,MATCH(AA$287,[4]Estimadores!$B$7:$B$38,0),MATCH($B312,[4]Estimadores!$D$6:$AB$6,0)),\"-\")","v":"-"},{"$f":"IFERROR(INDEX([4]Estimadores!$D$7:$AB$38,MATCH(AB$287,[4]Estimadores!$B$7:$B$38,0),MATCH($B312,[4]Estimadores!$D$6:$AB$6,0)),\"-\")","v":"-"},{"$f":"IFERROR(INDEX([4]Estimadores!$D$7:$AB$38,MATCH(AC$287,[4]Estimadores!$B$7:$B$38,0),MATCH($B312,[4]Estimadores!$D$6:$AB$6,0)),\"-\")","v":"-"},{"$f":"IFERROR(INDEX([4]Estimadores!$D$7:$AB$38,MATCH(AD$287,[4]Estimadores!$B$7:$B$38,0),MATCH($B312,[4]Estimadores!$D$6:$AB$6,0)),\"-\")","v":"-"},{"$f":"IFERROR(INDEX([4]Estimadores!$D$7:$AB$38,MATCH(AE$287,[4]Estimadores!$B$7:$B$38,0),MATCH($B312,[4]Estimadores!$D$6:$AB$6,0)),\"-\")","v":"-"},{"$f":"IFERROR(INDEX([4]Estimadores!$D$7:$AB$38,MATCH(AF$287,[4]Estimadores!$B$7:$B$38,0),MATCH($B312,[4]Estimadores!$D$6:$AB$6,0)),\"-\")","v":"-"},{"$f":"IFERROR(INDEX([4]Estimadores!$D$7:$AB$38,MATCH(AG$287,[4]Estimadores!$B$7:$B$38,0),MATCH($B312,[4]Estimadores!$D$6:$AB$6,0)),\"-\")","v":"-"},{"$f":"IFERROR(INDEX([4]Estimadores!$D$7:$AB$38,MATCH(AH$287,[4]Estimadores!$B$7:$B$38,0),MATCH($B312,[4]Estimadores!$D$6:$AB$6,0)),\"-\")","v":"-"},{"$f":"IFERROR(INDEX([4]Estimadores!$D$7:$AB$38,MATCH(AI$287,[4]Estimadores!$B$7:$B$38,0),MATCH($B312,[4]Estimadores!$D$6:$AB$6,0)),\"-\")","v":"-"}]
[null,"","",{"$f":"IFERROR(INDEX([4]Estimadores!$D$7:$AB$38,MATCH(D$287,[4]Estimadores!$B$7:$B$38,0),MATCH($B313,[4]Estimadores!$D$6:$AB$6,0)),\"-\")","v":"-"},{"$f":"IFERROR(INDEX([4]Estimadores!$D$7:$AB$38,MATCH(E$287,[4]Estimadores!$B$7:$B$38,0),MATCH($B313,[4]Estimadores!$D$6:$AB$6,0)),\"-\")","v":"-"},{"$f":"IFERROR(INDEX([4]Estimadores!$D$7:$AB$38,MATCH(F$287,[4]Estimadores!$B$7:$B$38,0),MATCH($B313,[4]Estimadores!$D$6:$AB$6,0)),\"-\")","v":"-"},{"$f":"IFERROR(INDEX([4]Estimadores!$D$7:$AB$38,MATCH(G$287,[4]Estimadores!$B$7:$B$38,0),MATCH($B313,[4]Estimadores!$D$6:$AB$6,0)),\"-\")","v":"-"},{"$f":"IFERROR(INDEX([4]Estimadores!$D$7:$AB$38,MATCH(H$287,[4]Estimadores!$B$7:$B$38,0),MATCH($B313,[4]Estimadores!$D$6:$AB$6,0)),\"-\")","v":"-"},{"$f":"IFERROR(INDEX([4]Estimadores!$D$7:$AB$38,MATCH(I$287,[4]Estimadores!$B$7:$B$38,0),MATCH($B313,[4]Estimadores!$D$6:$AB$6,0)),\"-\")","v":"-"},{"$f":"IFERROR(INDEX([4]Estimadores!$D$7:$AB$38,MATCH(J$287,[4]Estimadores!$B$7:$B$38,0),MATCH($B313,[4]Estimadores!$D$6:$AB$6,0)),\"-\")","v":"-"},{"$f":"IFERROR(INDEX([4]Estimadores!$D$7:$AB$38,MATCH(K$287,[4]Estimadores!$B$7:$B$38,0),MATCH($B313,[4]Estimadores!$D$6:$AB$6,0)),\"-\")","v":"-"},{"$f":"IFERROR(INDEX([4]Estimadores!$D$7:$AB$38,MATCH(L$287,[4]Estimadores!$B$7:$B$38,0),MATCH($B313,[4]Estimadores!$D$6:$AB$6,0)),\"-\")","v":"-"},{"$f":"IFERROR(INDEX([4]Estimadores!$D$7:$AB$38,MATCH(M$287,[4]Estimadores!$B$7:$B$38,0),MATCH($B313,[4]Estimadores!$D$6:$AB$6,0)),\"-\")","v":"-"},{"$f":"IFERROR(INDEX([4]Estimadores!$D$7:$AB$38,MATCH(N$287,[4]Estimadores!$B$7:$B$38,0),MATCH($B313,[4]Estimadores!$D$6:$AB$6,0)),\"-\")","v":"-"},{"$f":"IFERROR(INDEX([4]Estimadores!$D$7:$AB$38,MATCH(O$287,[4]Estimadores!$B$7:$B$38,0),MATCH($B313,[4]Estimadores!$D$6:$AB$6,0)),\"-\")","v":"-"},{"$f":"IFERROR(INDEX([4]Estimadores!$D$7:$AB$38,MATCH(P$287,[4]Estimadores!$B$7:$B$38,0),MATCH($B313,[4]Estimadores!$D$6:$AB$6,0)),\"-\")","v":"-"},{"$f":"IFERROR(INDEX([4]Estimadores!$D$7:$AB$38,MATCH(Q$287,[4]Estimadores!$B$7:$B$38,0),MATCH($B313,[4]Estimadores!$D$6:$AB$6,0)),\"-\")","v":"-"},{"$f":"IFERROR(INDEX([4]Estimadores!$D$7:$AB$38,MATCH(R$287,[4]Estimadores!$B$7:$B$38,0),MATCH($B313,[4]Estimadores!$D$6:$AB$6,0)),\"-\")","v":"-"},{"$f":"IFERROR(INDEX([4]Estimadores!$D$7:$AB$38,MATCH(S$287,[4]Estimadores!$B$7:$B$38,0),MATCH($B313,[4]Estimadores!$D$6:$AB$6,0)),\"-\")","v":"-"},{"$f":"IFERROR(INDEX([4]Estimadores!$D$7:$AB$38,MATCH(T$287,[4]Estimadores!$B$7:$B$38,0),MATCH($B313,[4]Estimadores!$D$6:$AB$6,0)),\"-\")","v":"-"},{"$f":"IFERROR(INDEX([4]Estimadores!$D$7:$AB$38,MATCH(U$287,[4]Estimadores!$B$7:$B$38,0),MATCH($B313,[4]Estimadores!$D$6:$AB$6,0)),\"-\")","v":"-"},{"$f":"IFERROR(INDEX([4]Estimadores!$D$7:$AB$38,MATCH(V$287,[4]Estimadores!$B$7:$B$38,0),MATCH($B313,[4]Estimadores!$D$6:$AB$6,0)),\"-\")","v":"-"},{"$f":"IFERROR(INDEX([4]Estimadores!$D$7:$AB$38,MATCH(W$287,[4]Estimadores!$B$7:$B$38,0),MATCH($B313,[4]Estimadores!$D$6:$AB$6,0)),\"-\")","v":"-"},{"$f":"IFERROR(INDEX([4]Estimadores!$D$7:$AB$38,MATCH(X$287,[4]Estimadores!$B$7:$B$38,0),MATCH($B313,[4]Estimadores!$D$6:$AB$6,0)),\"-\")","v":"-"},{"$f":"IFERROR(INDEX([4]Estimadores!$D$7:$AB$38,MATCH(Y$287,[4]Estimadores!$B$7:$B$38,0),MATCH($B313,[4]Estimadores!$D$6:$AB$6,0)),\"-\")","v":"-"},{"$f":"IFERROR(INDEX([4]Estimadores!$D$7:$AB$38,MATCH(Z$287,[4]Estimadores!$B$7:$B$38,0),MATCH($B313,[4]Estimadores!$D$6:$AB$6,0)),\"-\")","v":"-"},{"$f":"IFERROR(INDEX([4]Estimadores!$D$7:$AB$38,MATCH(AA$287,[4]Estimadores!$B$7:$B$38,0),MATCH($B313,[4]Estimadores!$D$6:$AB$6,0)),\"-\")","v":"-"},{"$f":"IFERROR(INDEX([4]Estimadores!$D$7:$AB$38,MATCH(AB$287,[4]Estimadores!$B$7:$B$38,0),MATCH($B313,[4]Estimadores!$D$6:$AB$6,0)),\"-\")","v":"-"},{"$f":"IFERROR(INDEX([4]Estimadores!$D$7:$AB$38,MATCH(AC$287,[4]Estimadores!$B$7:$B$38,0),MATCH($B313,[4]Estimadores!$D$6:$AB$6,0)),\"-\")","v":"-"},{"$f":"IFERROR(INDEX([4]Estimadores!$D$7:$AB$38,MATCH(AD$287,[4]Estimadores!$B$7:$B$38,0),MATCH($B313,[4]Estimadores!$D$6:$AB$6,0)),\"-\")","v":"-"},{"$f":"IFERROR(INDEX([4]Estimadores!$D$7:$AB$38,MATCH(AE$287,[4]Estimadores!$B$7:$B$38,0),MATCH($B313,[4]Estimadores!$D$6:$AB$6,0)),\"-\")","v":"-"},{"$f":"IFERROR(INDEX([4]Estimadores!$D$7:$AB$38,MATCH(AF$287,[4]Estimadores!$B$7:$B$38,0),MATCH($B313,[4]Estimadores!$D$6:$AB$6,0)),\"-\")","v":"-"},{"$f":"IFERROR(INDEX([4]Estimadores!$D$7:$AB$38,MATCH(AG$287,[4]Estimadores!$B$7:$B$38,0),MATCH($B313,[4]Estimadores!$D$6:$AB$6,0)),\"-\")","v":"-"},{"$f":"IFERROR(INDEX([4]Estimadores!$D$7:$AB$38,MATCH(AH$287,[4]Estimadores!$B$7:$B$38,0),MATCH($B313,[4]Estimadores!$D$6:$AB$6,0)),\"-\")","v":"-"},{"$f":"IFERROR(INDEX([4]Estimadores!$D$7:$AB$38,MATCH(AI$287,[4]Estimadores!$B$7:$B$38,0),MATCH($B313,[4]Estimadores!$D$6:$AB$6,0)),\"-\")","v":"-"}]
[null,"","",{"$f":"IFERROR(INDEX([4]Estimadores!$D$7:$AB$38,MATCH(D$287,[4]Estimadores!$B$7:$B$38,0),MATCH($B314,[4]Estimadores!$D$6:$AB$6,0)),\"-\")","v":"-"},{"$f":"IFERROR(INDEX([4]Estimadores!$D$7:$AB$38,MATCH(E$287,[4]Estimadores!$B$7:$B$38,0),MATCH($B314,[4]Estimadores!$D$6:$AB$6,0)),\"-\")","v":"-"},{"$f":"IFERROR(INDEX([4]Estimadores!$D$7:$AB$38,MATCH(F$287,[4]Estimadores!$B$7:$B$38,0),MATCH($B314,[4]Estimadores!$D$6:$AB$6,0)),\"-\")","v":"-"},{"$f":"IFERROR(INDEX([4]Estimadores!$D$7:$AB$38,MATCH(G$287,[4]Estimadores!$B$7:$B$38,0),MATCH($B314,[4]Estimadores!$D$6:$AB$6,0)),\"-\")","v":"-"},{"$f":"IFERROR(INDEX([4]Estimadores!$D$7:$AB$38,MATCH(H$287,[4]Estimadores!$B$7:$B$38,0),MATCH($B314,[4]Estimadores!$D$6:$AB$6,0)),\"-\")","v":"-"},{"$f":"IFERROR(INDEX([4]Estimadores!$D$7:$AB$38,MATCH(I$287,[4]Estimadores!$B$7:$B$38,0),MATCH($B314,[4]Estimadores!$D$6:$AB$6,0)),\"-\")","v":"-"},{"$f":"IFERROR(INDEX([4]Estimadores!$D$7:$AB$38,MATCH(J$287,[4]Estimadores!$B$7:$B$38,0),MATCH($B314,[4]Estimadores!$D$6:$AB$6,0)),\"-\")","v":"-"},{"$f":"IFERROR(INDEX([4]Estimadores!$D$7:$AB$38,MATCH(K$287,[4]Estimadores!$B$7:$B$38,0),MATCH($B314,[4]Estimadores!$D$6:$AB$6,0)),\"-\")","v":"-"},{"$f":"IFERROR(INDEX([4]Estimadores!$D$7:$AB$38,MATCH(L$287,[4]Estimadores!$B$7:$B$38,0),MATCH($B314,[4]Estimadores!$D$6:$AB$6,0)),\"-\")","v":"-"},{"$f":"IFERROR(INDEX([4]Estimadores!$D$7:$AB$38,MATCH(M$287,[4]Estimadores!$B$7:$B$38,0),MATCH($B314,[4]Estimadores!$D$6:$AB$6,0)),\"-\")","v":"-"},{"$f":"IFERROR(INDEX([4]Estimadores!$D$7:$AB$38,MATCH(N$287,[4]Estimadores!$B$7:$B$38,0),MATCH($B314,[4]Estimadores!$D$6:$AB$6,0)),\"-\")","v":"-"},{"$f":"IFERROR(INDEX([4]Estimadores!$D$7:$AB$38,MATCH(O$287,[4]Estimadores!$B$7:$B$38,0),MATCH($B314,[4]Estimadores!$D$6:$AB$6,0)),\"-\")","v":"-"},{"$f":"IFERROR(INDEX([4]Estimadores!$D$7:$AB$38,MATCH(P$287,[4]Estimadores!$B$7:$B$38,0),MATCH($B314,[4]Estimadores!$D$6:$AB$6,0)),\"-\")","v":"-"},{"$f":"IFERROR(INDEX([4]Estimadores!$D$7:$AB$38,MATCH(Q$287,[4]Estimadores!$B$7:$B$38,0),MATCH($B314,[4]Estimadores!$D$6:$AB$6,0)),\"-\")","v":"-"},{"$f":"IFERROR(INDEX([4]Estimadores!$D$7:$AB$38,MATCH(R$287,[4]Estimadores!$B$7:$B$38,0),MATCH($B314,[4]Estimadores!$D$6:$AB$6,0)),\"-\")","v":"-"},{"$f":"IFERROR(INDEX([4]Estimadores!$D$7:$AB$38,MATCH(S$287,[4]Estimadores!$B$7:$B$38,0),MATCH($B314,[4]Estimadores!$D$6:$AB$6,0)),\"-\")","v":"-"},{"$f":"IFERROR(INDEX([4]Estimadores!$D$7:$AB$38,MATCH(T$287,[4]Estimadores!$B$7:$B$38,0),MATCH($B314,[4]Estimadores!$D$6:$AB$6,0)),\"-\")","v":"-"},{"$f":"IFERROR(INDEX([4]Estimadores!$D$7:$AB$38,MATCH(U$287,[4]Estimadores!$B$7:$B$38,0),MATCH($B314,[4]Estimadores!$D$6:$AB$6,0)),\"-\")","v":"-"},{"$f":"IFERROR(INDEX([4]Estimadores!$D$7:$AB$38,MATCH(V$287,[4]Estimadores!$B$7:$B$38,0),MATCH($B314,[4]Estimadores!$D$6:$AB$6,0)),\"-\")","v":"-"},{"$f":"IFERROR(INDEX([4]Estimadores!$D$7:$AB$38,MATCH(W$287,[4]Estimadores!$B$7:$B$38,0),MATCH($B314,[4]Estimadores!$D$6:$AB$6,0)),\"-\")","v":"-"},{"$f":"IFERROR(INDEX([4]Estimadores!$D$7:$AB$38,MATCH(X$287,[4]Estimadores!$B$7:$B$38,0),MATCH($B314,[4]Estimadores!$D$6:$AB$6,0)),\"-\")","v":"-"},{"$f":"IFERROR(INDEX([4]Estimadores!$D$7:$AB$38,MATCH(Y$287,[4]Estimadores!$B$7:$B$38,0),MATCH($B314,[4]Estimadores!$D$6:$AB$6,0)),\"-\")","v":"-"},{"$f":"IFERROR(INDEX([4]Estimadores!$D$7:$AB$38,MATCH(Z$287,[4]Estimadores!$B$7:$B$38,0),MATCH($B314,[4]Estimadores!$D$6:$AB$6,0)),\"-\")","v":"-"},{"$f":"IFERROR(INDEX([4]Estimadores!$D$7:$AB$38,MATCH(AA$287,[4]Estimadores!$B$7:$B$38,0),MATCH($B314,[4]Estimadores!$D$6:$AB$6,0)),\"-\")","v":"-"},{"$f":"IFERROR(INDEX([4]Estimadores!$D$7:$AB$38,MATCH(AB$287,[4]Estimadores!$B$7:$B$38,0),MATCH($B314,[4]Estimadores!$D$6:$AB$6,0)),\"-\")","v":"-"},{"$f":"IFERROR(INDEX([4]Estimadores!$D$7:$AB$38,MATCH(AC$287,[4]Estimadores!$B$7:$B$38,0),MATCH($B314,[4]Estimadores!$D$6:$AB$6,0)),\"-\")","v":"-"},{"$f":"IFERROR(INDEX([4]Estimadores!$D$7:$AB$38,MATCH(AD$287,[4]Estimadores!$B$7:$B$38,0),MATCH($B314,[4]Estimadores!$D$6:$AB$6,0)),\"-\")","v":"-"},{"$f":"IFERROR(INDEX([4]Estimadores!$D$7:$AB$38,MATCH(AE$287,[4]Estimadores!$B$7:$B$38,0),MATCH($B314,[4]Estimadores!$D$6:$AB$6,0)),\"-\")","v":"-"},{"$f":"IFERROR(INDEX([4]Estimadores!$D$7:$AB$38,MATCH(AF$287,[4]Estimadores!$B$7:$B$38,0),MATCH($B314,[4]Estimadores!$D$6:$AB$6,0)),\"-\")","v":"-"},{"$f":"IFERROR(INDEX([4]Estimadores!$D$7:$AB$38,MATCH(AG$287,[4]Estimadores!$B$7:$B$38,0),MATCH($B314,[4]Estimadores!$D$6:$AB$6,0)),\"-\")","v":"-"},{"$f":"IFERROR(INDEX([4]Estimadores!$D$7:$AB$38,MATCH(AH$287,[4]Estimadores!$B$7:$B$38,0),MATCH($B314,[4]Estimadores!$D$6:$AB$6,0)),\"-\")","v":"-"},{"$f":"IFERROR(INDEX([4]Estimadores!$D$7:$AB$38,MATCH(AI$287,[4]Estimadores!$B$7:$B$38,0),MATCH($B314,[4]Estimadores!$D$6:$AB$6,0)),\"-\")","v":"-"}]
[null,"","",{"$f":"IFERROR(INDEX([4]Estimadores!$D$7:$AB$38,MATCH(D$287,[4]Estimadores!$B$7:$B$38,0),MATCH($B315,[4]Estimadores!$D$6:$AB$6,0)),\"-\")","v":"-"},{"$f":"IFERROR(INDEX([4]Estimadores!$D$7:$AB$38,MATCH(E$287,[4]Estimadores!$B$7:$B$38,0),MATCH($B315,[4]Estimadores!$D$6:$AB$6,0)),\"-\")","v":"-"},{"$f":"IFERROR(INDEX([4]Estimadores!$D$7:$AB$38,MATCH(F$287,[4]Estimadores!$B$7:$B$38,0),MATCH($B315,[4]Estimadores!$D$6:$AB$6,0)),\"-\")","v":"-"},{"$f":"IFERROR(INDEX([4]Estimadores!$D$7:$AB$38,MATCH(G$287,[4]Estimadores!$B$7:$B$38,0),MATCH($B315,[4]Estimadores!$D$6:$AB$6,0)),\"-\")","v":"-"},{"$f":"IFERROR(INDEX([4]Estimadores!$D$7:$AB$38,MATCH(H$287,[4]Estimadores!$B$7:$B$38,0),MATCH($B315,[4]Estimadores!$D$6:$AB$6,0)),\"-\")","v":"-"},{"$f":"IFERROR(INDEX([4]Estimadores!$D$7:$AB$38,MATCH(I$287,[4]Estimadores!$B$7:$B$38,0),MATCH($B315,[4]Estimadores!$D$6:$AB$6,0)),\"-\")","v":"-"},{"$f":"IFERROR(INDEX([4]Estimadores!$D$7:$AB$38,MATCH(J$287,[4]Estimadores!$B$7:$B$38,0),MATCH($B315,[4]Estimadores!$D$6:$AB$6,0)),\"-\")","v":"-"},{"$f":"IFERROR(INDEX([4]Estimadores!$D$7:$AB$38,MATCH(K$287,[4]Estimadores!$B$7:$B$38,0),MATCH($B315,[4]Estimadores!$D$6:$AB$6,0)),\"-\")","v":"-"},{"$f":"IFERROR(INDEX([4]Estimadores!$D$7:$AB$38,MATCH(L$287,[4]Estimadores!$B$7:$B$38,0),MATCH($B315,[4]Estimadores!$D$6:$AB$6,0)),\"-\")","v":"-"},{"$f":"IFERROR(INDEX([4]Estimadores!$D$7:$AB$38,MATCH(M$287,[4]Estimadores!$B$7:$B$38,0),MATCH($B315,[4]Estimadores!$D$6:$AB$6,0)),\"-\")","v":"-"},{"$f":"IFERROR(INDEX([4]Estimadores!$D$7:$AB$38,MATCH(N$287,[4]Estimadores!$B$7:$B$38,0),MATCH($B315,[4]Estimadores!$D$6:$AB$6,0)),\"-\")","v":"-"},{"$f":"IFERROR(INDEX([4]Estimadores!$D$7:$AB$38,MATCH(O$287,[4]Estimadores!$B$7:$B$38,0),MATCH($B315,[4]Estimadores!$D$6:$AB$6,0)),\"-\")","v":"-"},{"$f":"IFERROR(INDEX([4]Estimadores!$D$7:$AB$38,MATCH(P$287,[4]Estimadores!$B$7:$B$38,0),MATCH($B315,[4]Estimadores!$D$6:$AB$6,0)),\"-\")","v":"-"},{"$f":"IFERROR(INDEX([4]Estimadores!$D$7:$AB$38,MATCH(Q$287,[4]Estimadores!$B$7:$B$38,0),MATCH($B315,[4]Estimadores!$D$6:$AB$6,0)),\"-\")","v":"-"},{"$f":"IFERROR(INDEX([4]Estimadores!$D$7:$AB$38,MATCH(R$287,[4]Estimadores!$B$7:$B$38,0),MATCH($B315,[4]Estimadores!$D$6:$AB$6,0)),\"-\")","v":"-"},{"$f":"IFERROR(INDEX([4]Estimadores!$D$7:$AB$38,MATCH(S$287,[4]Estimadores!$B$7:$B$38,0),MATCH($B315,[4]Estimadores!$D$6:$AB$6,0)),\"-\")","v":"-"},{"$f":"IFERROR(INDEX([4]Estimadores!$D$7:$AB$38,MATCH(T$287,[4]Estimadores!$B$7:$B$38,0),MATCH($B315,[4]Estimadores!$D$6:$AB$6,0)),\"-\")","v":"-"},{"$f":"IFERROR(INDEX([4]Estimadores!$D$7:$AB$38,MATCH(U$287,[4]Estimadores!$B$7:$B$38,0),MATCH($B315,[4]Estimadores!$D$6:$AB$6,0)),\"-\")","v":"-"},{"$f":"IFERROR(INDEX([4]Estimadores!$D$7:$AB$38,MATCH(V$287,[4]Estimadores!$B$7:$B$38,0),MATCH($B315,[4]Estimadores!$D$6:$AB$6,0)),\"-\")","v":"-"},{"$f":"IFERROR(INDEX([4]Estimadores!$D$7:$AB$38,MATCH(W$287,[4]Estimadores!$B$7:$B$38,0),MATCH($B315,[4]Estimadores!$D$6:$AB$6,0)),\"-\")","v":"-"},{"$f":"IFERROR(INDEX([4]Estimadores!$D$7:$AB$38,MATCH(X$287,[4]Estimadores!$B$7:$B$38,0),MATCH($B315,[4]Estimadores!$D$6:$AB$6,0)),\"-\")","v":"-"},{"$f":"IFERROR(INDEX([4]Estimadores!$D$7:$AB$38,MATCH(Y$287,[4]Estimadores!$B$7:$B$38,0),MATCH($B315,[4]Estimadores!$D$6:$AB$6,0)),\"-\")","v":"-"},{"$f":"IFERROR(INDEX([4]Estimadores!$D$7:$AB$38,MATCH(Z$287,[4]Estimadores!$B$7:$B$38,0),MATCH($B315,[4]Estimadores!$D$6:$AB$6,0)),\"-\")","v":"-"},{"$f":"IFERROR(INDEX([4]Estimadores!$D$7:$AB$38,MATCH(AA$287,[4]Estimadores!$B$7:$B$38,0),MATCH($B315,[4]Estimadores!$D$6:$AB$6,0)),\"-\")","v":"-"},{"$f":"IFERROR(INDEX([4]Estimadores!$D$7:$AB$38,MATCH(AB$287,[4]Estimadores!$B$7:$B$38,0),MATCH($B315,[4]Estimadores!$D$6:$AB$6,0)),\"-\")","v":"-"},{"$f":"IFERROR(INDEX([4]Estimadores!$D$7:$AB$38,MATCH(AC$287,[4]Estimadores!$B$7:$B$38,0),MATCH($B315,[4]Estimadores!$D$6:$AB$6,0)),\"-\")","v":"-"},{"$f":"IFERROR(INDEX([4]Estimadores!$D$7:$AB$38,MATCH(AD$287,[4]Estimadores!$B$7:$B$38,0),MATCH($B315,[4]Estimadores!$D$6:$AB$6,0)),\"-\")","v":"-"},{"$f":"IFERROR(INDEX([4]Estimadores!$D$7:$AB$38,MATCH(AE$287,[4]Estimadores!$B$7:$B$38,0),MATCH($B315,[4]Estimadores!$D$6:$AB$6,0)),\"-\")","v":"-"},{"$f":"IFERROR(INDEX([4]Estimadores!$D$7:$AB$38,MATCH(AF$287,[4]Estimadores!$B$7:$B$38,0),MATCH($B315,[4]Estimadores!$D$6:$AB$6,0)),\"-\")","v":"-"},{"$f":"IFERROR(INDEX([4]Estimadores!$D$7:$AB$38,MATCH(AG$287,[4]Estimadores!$B$7:$B$38,0),MATCH($B315,[4]Estimadores!$D$6:$AB$6,0)),\"-\")","v":"-"},{"$f":"IFERROR(INDEX([4]Estimadores!$D$7:$AB$38,MATCH(AH$287,[4]Estimadores!$B$7:$B$38,0),MATCH($B315,[4]Estimadores!$D$6:$AB$6,0)),\"-\")","v":"-"},{"$f":"IFERROR(INDEX([4]Estimadores!$D$7:$AB$38,MATCH(AI$287,[4]Estimadores!$B$7:$B$38,0),MATCH($B315,[4]Estimadores!$D$6:$AB$6,0)),\"-\")","v":"-"}]
[null,"","",{"$f":"IFERROR(INDEX([4]Estimadores!$D$7:$AB$38,MATCH(D$287,[4]Estimadores!$B$7:$B$38,0),MATCH($B316,[4]Estimadores!$D$6:$AB$6,0)),\"-\")","v":"-"},{"$f":"IFERROR(INDEX([4]Estimadores!$D$7:$AB$38,MATCH(E$287,[4]Estimadores!$B$7:$B$38,0),MATCH($B316,[4]Estimadores!$D$6:$AB$6,0)),\"-\")","v":"-"},{"$f":"IFERROR(INDEX([4]Estimadores!$D$7:$AB$38,MATCH(F$287,[4]Estimadores!$B$7:$B$38,0),MATCH($B316,[4]Estimadores!$D$6:$AB$6,0)),\"-\")","v":"-"},{"$f":"IFERROR(INDEX([4]Estimadores!$D$7:$AB$38,MATCH(G$287,[4]Estimadores!$B$7:$B$38,0),MATCH($B316,[4]Estimadores!$D$6:$AB$6,0)),\"-\")","v":"-"},{"$f":"IFERROR(INDEX([4]Estimadores!$D$7:$AB$38,MATCH(H$287,[4]Estimadores!$B$7:$B$38,0),MATCH($B316,[4]Estimadores!$D$6:$AB$6,0)),\"-\")","v":"-"},{"$f":"IFERROR(INDEX([4]Estimadores!$D$7:$AB$38,MATCH(I$287,[4]Estimadores!$B$7:$B$38,0),MATCH($B316,[4]Estimadores!$D$6:$AB$6,0)),\"-\")","v":"-"},{"$f":"IFERROR(INDEX([4]Estimadores!$D$7:$AB$38,MATCH(J$287,[4]Estimadores!$B$7:$B$38,0),MATCH($B316,[4]Estimadores!$D$6:$AB$6,0)),\"-\")","v":"-"},{"$f":"IFERROR(INDEX([4]Estimadores!$D$7:$AB$38,MATCH(K$287,[4]Estimadores!$B$7:$B$38,0),MATCH($B316,[4]Estimadores!$D$6:$AB$6,0)),\"-\")","v":"-"},{"$f":"IFERROR(INDEX([4]Estimadores!$D$7:$AB$38,MATCH(L$287,[4]Estimadores!$B$7:$B$38,0),MATCH($B316,[4]Estimadores!$D$6:$AB$6,0)),\"-\")","v":"-"},{"$f":"IFERROR(INDEX([4]Estimadores!$D$7:$AB$38,MATCH(M$287,[4]Estimadores!$B$7:$B$38,0),MATCH($B316,[4]Estimadores!$D$6:$AB$6,0)),\"-\")","v":"-"},{"$f":"IFERROR(INDEX([4]Estimadores!$D$7:$AB$38,MATCH(N$287,[4]Estimadores!$B$7:$B$38,0),MATCH($B316,[4]Estimadores!$D$6:$AB$6,0)),\"-\")","v":"-"},{"$f":"IFERROR(INDEX([4]Estimadores!$D$7:$AB$38,MATCH(O$287,[4]Estimadores!$B$7:$B$38,0),MATCH($B316,[4]Estimadores!$D$6:$AB$6,0)),\"-\")","v":"-"},{"$f":"IFERROR(INDEX([4]Estimadores!$D$7:$AB$38,MATCH(P$287,[4]Estimadores!$B$7:$B$38,0),MATCH($B316,[4]Estimadores!$D$6:$AB$6,0)),\"-\")","v":"-"},{"$f":"IFERROR(INDEX([4]Estimadores!$D$7:$AB$38,MATCH(Q$287,[4]Estimadores!$B$7:$B$38,0),MATCH($B316,[4]Estimadores!$D$6:$AB$6,0)),\"-\")","v":"-"},{"$f":"IFERROR(INDEX([4]Estimadores!$D$7:$AB$38,MATCH(R$287,[4]Estimadores!$B$7:$B$38,0),MATCH($B316,[4]Estimadores!$D$6:$AB$6,0)),\"-\")","v":"-"},{"$f":"IFERROR(INDEX([4]Estimadores!$D$7:$AB$38,MATCH(S$287,[4]Estimadores!$B$7:$B$38,0),MATCH($B316,[4]Estimadores!$D$6:$AB$6,0)),\"-\")","v":"-"},{"$f":"IFERROR(INDEX([4]Estimadores!$D$7:$AB$38,MATCH(T$287,[4]Estimadores!$B$7:$B$38,0),MATCH($B316,[4]Estimadores!$D$6:$AB$6,0)),\"-\")","v":"-"},{"$f":"IFERROR(INDEX([4]Estimadores!$D$7:$AB$38,MATCH(U$287,[4]Estimadores!$B$7:$B$38,0),MATCH($B316,[4]Estimadores!$D$6:$AB$6,0)),\"-\")","v":"-"},{"$f":"IFERROR(INDEX([4]Estimadores!$D$7:$AB$38,MATCH(V$287,[4]Estimadores!$B$7:$B$38,0),MATCH($B316,[4]Estimadores!$D$6:$AB$6,0)),\"-\")","v":"-"},{"$f":"IFERROR(INDEX([4]Estimadores!$D$7:$AB$38,MATCH(W$287,[4]Estimadores!$B$7:$B$38,0),MATCH($B316,[4]Estimadores!$D$6:$AB$6,0)),\"-\")","v":"-"},{"$f":"IFERROR(INDEX([4]Estimadores!$D$7:$AB$38,MATCH(X$287,[4]Estimadores!$B$7:$B$38,0),MATCH($B316,[4]Estimadores!$D$6:$AB$6,0)),\"-\")","v":"-"},{"$f":"IFERROR(INDEX([4]Estimadores!$D$7:$AB$38,MATCH(Y$287,[4]Estimadores!$B$7:$B$38,0),MATCH($B316,[4]Estimadores!$D$6:$AB$6,0)),\"-\")","v":"-"},{"$f":"IFERROR(INDEX([4]Estimadores!$D$7:$AB$38,MATCH(Z$287,[4]Estimadores!$B$7:$B$38,0),MATCH($B316,[4]Estimadores!$D$6:$AB$6,0)),\"-\")","v":"-"},{"$f":"IFERROR(INDEX([4]Estimadores!$D$7:$AB$38,MATCH(AA$287,[4]Estimadores!$B$7:$B$38,0),MATCH($B316,[4]Estimadores!$D$6:$AB$6,0)),\"-\")","v":"-"},{"$f":"IFERROR(INDEX([4]Estimadores!$D$7:$AB$38,MATCH(AB$287,[4]Estimadores!$B$7:$B$38,0),MATCH($B316,[4]Estimadores!$D$6:$AB$6,0)),\"-\")","v":"-"},{"$f":"IFERROR(INDEX([4]Estimadores!$D$7:$AB$38,MATCH(AC$287,[4]Estimadores!$B$7:$B$38,0),MATCH($B316,[4]Estimadores!$D$6:$AB$6,0)),\"-\")","v":"-"},{"$f":"IFERROR(INDEX([4]Estimadores!$D$7:$AB$38,MATCH(AD$287,[4]Estimadores!$B$7:$B$38,0),MATCH($B316,[4]Estimadores!$D$6:$AB$6,0)),\"-\")","v":"-"},{"$f":"IFERROR(INDEX([4]Estimadores!$D$7:$AB$38,MATCH(AE$287,[4]Estimadores!$B$7:$B$38,0),MATCH($B316,[4]Estimadores!$D$6:$AB$6,0)),\"-\")","v":"-"},{"$f":"IFERROR(INDEX([4]Estimadores!$D$7:$AB$38,MATCH(AF$287,[4]Estimadores!$B$7:$B$38,0),MATCH($B316,[4]Estimadores!$D$6:$AB$6,0)),\"-\")","v":"-"},{"$f":"IFERROR(INDEX([4]Estimadores!$D$7:$AB$38,MATCH(AG$287,[4]Estimadores!$B$7:$B$38,0),MATCH($B316,[4]Estimadores!$D$6:$AB$6,0)),\"-\")","v":"-"},{"$f":"IFERROR(INDEX([4]Estimadores!$D$7:$AB$38,MATCH(AH$287,[4]Estimadores!$B$7:$B$38,0),MATCH($B316,[4]Estimadores!$D$6:$AB$6,0)),\"-\")","v":"-"},{"$f":"IFERROR(INDEX([4]Estimadores!$D$7:$AB$38,MATCH(AI$287,[4]Estimadores!$B$7:$B$38,0),MATCH($B316,[4]Estimadores!$D$6:$AB$6,0)),\"-\")","v":"-"}]
[null,"","",{"$f":"IFERROR(INDEX([4]Estimadores!$D$7:$AB$38,MATCH(D$287,[4]Estimadores!$B$7:$B$38,0),MATCH($B317,[4]Estimadores!$D$6:$AB$6,0)),\"-\")","v":"-"},{"$f":"IFERROR(INDEX([4]Estimadores!$D$7:$AB$38,MATCH(E$287,[4]Estimadores!$B$7:$B$38,0),MATCH($B317,[4]Estimadores!$D$6:$AB$6,0)),\"-\")","v":"-"},{"$f":"IFERROR(INDEX([4]Estimadores!$D$7:$AB$38,MATCH(F$287,[4]Estimadores!$B$7:$B$38,0),MATCH($B317,[4]Estimadores!$D$6:$AB$6,0)),\"-\")","v":"-"},{"$f":"IFERROR(INDEX([4]Estimadores!$D$7:$AB$38,MATCH(G$287,[4]Estimadores!$B$7:$B$38,0),MATCH($B317,[4]Estimadores!$D$6:$AB$6,0)),\"-\")","v":"-"},{"$f":"IFERROR(INDEX([4]Estimadores!$D$7:$AB$38,MATCH(H$287,[4]Estimadores!$B$7:$B$38,0),MATCH($B317,[4]Estimadores!$D$6:$AB$6,0)),\"-\")","v":"-"},{"$f":"IFERROR(INDEX([4]Estimadores!$D$7:$AB$38,MATCH(I$287,[4]Estimadores!$B$7:$B$38,0),MATCH($B317,[4]Estimadores!$D$6:$AB$6,0)),\"-\")","v":"-"},{"$f":"IFERROR(INDEX([4]Estimadores!$D$7:$AB$38,MATCH(J$287,[4]Estimadores!$B$7:$B$38,0),MATCH($B317,[4]Estimadores!$D$6:$AB$6,0)),\"-\")","v":"-"},{"$f":"IFERROR(INDEX([4]Estimadores!$D$7:$AB$38,MATCH(K$287,[4]Estimadores!$B$7:$B$38,0),MATCH($B317,[4]Estimadores!$D$6:$AB$6,0)),\"-\")","v":"-"},{"$f":"IFERROR(INDEX([4]Estimadores!$D$7:$AB$38,MATCH(L$287,[4]Estimadores!$B$7:$B$38,0),MATCH($B317,[4]Estimadores!$D$6:$AB$6,0)),\"-\")","v":"-"},{"$f":"IFERROR(INDEX([4]Estimadores!$D$7:$AB$38,MATCH(M$287,[4]Estimadores!$B$7:$B$38,0),MATCH($B317,[4]Estimadores!$D$6:$AB$6,0)),\"-\")","v":"-"},{"$f":"IFERROR(INDEX([4]Estimadores!$D$7:$AB$38,MATCH(N$287,[4]Estimadores!$B$7:$B$38,0),MATCH($B317,[4]Estimadores!$D$6:$AB$6,0)),\"-\")","v":"-"},{"$f":"IFERROR(INDEX([4]Estimadores!$D$7:$AB$38,MATCH(O$287,[4]Estimadores!$B$7:$B$38,0),MATCH($B317,[4]Estimadores!$D$6:$AB$6,0)),\"-\")","v":"-"},{"$f":"IFERROR(INDEX([4]Estimadores!$D$7:$AB$38,MATCH(P$287,[4]Estimadores!$B$7:$B$38,0),MATCH($B317,[4]Estimadores!$D$6:$AB$6,0)),\"-\")","v":"-"},{"$f":"IFERROR(INDEX([4]Estimadores!$D$7:$AB$38,MATCH(Q$287,[4]Estimadores!$B$7:$B$38,0),MATCH($B317,[4]Estimadores!$D$6:$AB$6,0)),\"-\")","v":"-"},{"$f":"IFERROR(INDEX([4]Estimadores!$D$7:$AB$38,MATCH(R$287,[4]Estimadores!$B$7:$B$38,0),MATCH($B317,[4]Estimadores!$D$6:$AB$6,0)),\"-\")","v":"-"},{"$f":"IFERROR(INDEX([4]Estimadores!$D$7:$AB$38,MATCH(S$287,[4]Estimadores!$B$7:$B$38,0),MATCH($B317,[4]Estimadores!$D$6:$AB$6,0)),\"-\")","v":"-"},{"$f":"IFERROR(INDEX([4]Estimadores!$D$7:$AB$38,MATCH(T$287,[4]Estimadores!$B$7:$B$38,0),MATCH($B317,[4]Estimadores!$D$6:$AB$6,0)),\"-\")","v":"-"},{"$f":"IFERROR(INDEX([4]Estimadores!$D$7:$AB$38,MATCH(U$287,[4]Estimadores!$B$7:$B$38,0),MATCH($B317,[4]Estimadores!$D$6:$AB$6,0)),\"-\")","v":"-"},{"$f":"IFERROR(INDEX([4]Estimadores!$D$7:$AB$38,MATCH(V$287,[4]Estimadores!$B$7:$B$38,0),MATCH($B317,[4]Estimadores!$D$6:$AB$6,0)),\"-\")","v":"-"},{"$f":"IFERROR(INDEX([4]Estimadores!$D$7:$AB$38,MATCH(W$287,[4]Estimadores!$B$7:$B$38,0),MATCH($B317,[4]Estimadores!$D$6:$AB$6,0)),\"-\")","v":"-"},{"$f":"IFERROR(INDEX([4]Estimadores!$D$7:$AB$38,MATCH(X$287,[4]Estimadores!$B$7:$B$38,0),MATCH($B317,[4]Estimadores!$D$6:$AB$6,0)),\"-\")","v":"-"},{"$f":"IFERROR(INDEX([4]Estimadores!$D$7:$AB$38,MATCH(Y$287,[4]Estimadores!$B$7:$B$38,0),MATCH($B317,[4]Estimadores!$D$6:$AB$6,0)),\"-\")","v":"-"},{"$f":"IFERROR(INDEX([4]Estimadores!$D$7:$AB$38,MATCH(Z$287,[4]Estimadores!$B$7:$B$38,0),MATCH($B317,[4]Estimadores!$D$6:$AB$6,0)),\"-\")","v":"-"},{"$f":"IFERROR(INDEX([4]Estimadores!$D$7:$AB$38,MATCH(AA$287,[4]Estimadores!$B$7:$B$38,0),MATCH($B317,[4]Estimadores!$D$6:$AB$6,0)),\"-\")","v":"-"},{"$f":"IFERROR(INDEX([4]Estimadores!$D$7:$AB$38,MATCH(AB$287,[4]Estimadores!$B$7:$B$38,0),MATCH($B317,[4]Estimadores!$D$6:$AB$6,0)),\"-\")","v":"-"},{"$f":"IFERROR(INDEX([4]Estimadores!$D$7:$AB$38,MATCH(AC$287,[4]Estimadores!$B$7:$B$38,0),MATCH($B317,[4]Estimadores!$D$6:$AB$6,0)),\"-\")","v":"-"},{"$f":"IFERROR(INDEX([4]Estimadores!$D$7:$AB$38,MATCH(AD$287,[4]Estimadores!$B$7:$B$38,0),MATCH($B317,[4]Estimadores!$D$6:$AB$6,0)),\"-\")","v":"-"},{"$f":"IFERROR(INDEX([4]Estimadores!$D$7:$AB$38,MATCH(AE$287,[4]Estimadores!$B$7:$B$38,0),MATCH($B317,[4]Estimadores!$D$6:$AB$6,0)),\"-\")","v":"-"},{"$f":"IFERROR(INDEX([4]Estimadores!$D$7:$AB$38,MATCH(AF$287,[4]Estimadores!$B$7:$B$38,0),MATCH($B317,[4]Estimadores!$D$6:$AB$6,0)),\"-\")","v":"-"},{"$f":"IFERROR(INDEX([4]Estimadores!$D$7:$AB$38,MATCH(AG$287,[4]Estimadores!$B$7:$B$38,0),MATCH($B317,[4]Estimadores!$D$6:$AB$6,0)),\"-\")","v":"-"},{"$f":"IFERROR(INDEX([4]Estimadores!$D$7:$AB$38,MATCH(AH$287,[4]Estimadores!$B$7:$B$38,0),MATCH($B317,[4]Estimadores!$D$6:$AB$6,0)),\"-\")","v":"-"},{"$f":"IFERROR(INDEX([4]Estimadores!$D$7:$AB$38,MATCH(AI$287,[4]Estimadores!$B$7:$B$38,0),MATCH($B317,[4]Estimadores!$D$6:$AB$6,0)),\"-\")","v":"-"}]
[null,"MTD","MTD",{"$f":"IFERROR(INDEX([4]Estimadores!$D$7:$AB$38,MATCH(D$287,[4]Estimadores!$B$7:$B$38,0),MATCH($B318,[4]Estimadores!$D$6:$AB$6,0)),\"-\")","v":0.31670189605836874},{"$f":"IFERROR(INDEX([4]Estimadores!$D$7:$AB$38,MATCH(E$287,[4]Estimadores!$B$7:$B$38,0),MATCH($B318,[4]Estimadores!$D$6:$AB$6,0)),\"-\")","v":0.26850525547967319},{"$f":"IFERROR(INDEX([4]Estimadores!$D$7:$AB$38,MATCH(F$287,[4]Estimadores!$B$7:$B$38,0),MATCH($B318,[4]Estimadores!$D$6:$AB$6,0)),\"-\")","v":0.41479284846195807},{"$f":"IFERROR(INDEX([4]Estimadores!$D$7:$AB$38,MATCH(G$287,[4]Estimadores!$B$7:$B$38,0),MATCH($B318,[4]Estimadores!$D$6:$AB$6,0)),\"-\")","v":0.69814177277746026},{"$f":"IFERROR(INDEX([4]Estimadores!$D$7:$AB$38,MATCH(H$287,[4]Estimadores!$B$7:$B$38,0),MATCH($B318,[4]Estimadores!$D$6:$AB$6,0)),\"-\")","v":0.80345745065139496},{"$f":"IFERROR(INDEX([4]Estimadores!$D$7:$AB$38,MATCH(I$287,[4]Estimadores!$B$7:$B$38,0),MATCH($B318,[4]Estimadores!$D$6:$AB$6,0)),\"-\")","v":0.83192686384070813},{"$f":"IFERROR(INDEX([4]Estimadores!$D$7:$AB$38,MATCH(J$287,[4]Estimadores!$B$7:$B$38,0),MATCH($B318,[4]Estimadores!$D$6:$AB$6,0)),\"-\")","v":0.78120031338431783},{"$f":"IFERROR(INDEX([4]Estimadores!$D$7:$AB$38,MATCH(K$287,[4]Estimadores!$B$7:$B$38,0),MATCH($B318,[4]Estimadores!$D$6:$AB$6,0)),\"-\")","v":0.92206290504463162},{"$f":"IFERROR(INDEX([4]Estimadores!$D$7:$AB$38,MATCH(L$287,[4]Estimadores!$B$7:$B$38,0),MATCH($B318,[4]Estimadores!$D$6:$AB$6,0)),\"-\")","v":0.96158452114112991},{"$f":"IFERROR(INDEX([4]Estimadores!$D$7:$AB$38,MATCH(M$287,[4]Estimadores!$B$7:$B$38,0),MATCH($B318,[4]Estimadores!$D$6:$AB$6,0)),\"-\")","v":0.96158452114112991},{"$f":"IFERROR(INDEX([4]Estimadores!$D$7:$AB$38,MATCH(N$287,[4]Estimadores!$B$7:$B$38,0),MATCH($B318,[4]Estimadores!$D$6:$AB$6,0)),\"-\")","v":0.92206290504463162},{"$f":"IFERROR(INDEX([4]Estimadores!$D$7:$AB$38,MATCH(O$287,[4]Estimadores!$B$7:$B$38,0),MATCH($B318,[4]Estimadores!$D$6:$AB$6,0)),\"-\")","v":0.96158452114112991},{"$f":"IFERROR(INDEX([4]Estimadores!$D$7:$AB$38,MATCH(P$287,[4]Estimadores!$B$7:$B$38,0),MATCH($B318,[4]Estimadores!$D$6:$AB$6,0)),\"-\")","v":0.96158452114112991},{"$f":"IFERROR(INDEX([4]Estimadores!$D$7:$AB$38,MATCH(Q$287,[4]Estimadores!$B$7:$B$38,0),MATCH($B318,[4]Estimadores!$D$6:$AB$6,0)),\"-\")","v":0.80937977117630244},{"$f":"IFERROR(INDEX([4]Estimadores!$D$7:$AB$38,MATCH(R$287,[4]Estimadores!$B$7:$B$38,0),MATCH($B318,[4]Estimadores!$D$6:$AB$6,0)),\"-\")","v":0.80937977117630244},{"$f":"IFERROR(INDEX([4]Estimadores!$D$7:$AB$38,MATCH(S$287,[4]Estimadores!$B$7:$B$38,0),MATCH($B318,[4]Estimadores!$D$6:$AB$6,0)),\"-\")","v":0.98616044652384371},{"$f":"IFERROR(INDEX([4]Estimadores!$D$7:$AB$38,MATCH(T$287,[4]Estimadores!$B$7:$B$38,0),MATCH($B318,[4]Estimadores!$D$6:$AB$6,0)),\"-\")","v":0.74083831102737896},{"$f":"IFERROR(INDEX([4]Estimadores!$D$7:$AB$38,MATCH(U$287,[4]Estimadores!$B$7:$B$38,0),MATCH($B318,[4]Estimadores!$D$6:$AB$6,0)),\"-\")","v":0.77259224794189463},{"$f":"IFERROR(INDEX([4]Estimadores!$D$7:$AB$38,MATCH(V$287,[4]Estimadores!$B$7:$B$38,0),MATCH($B318,[4]Estimadores!$D$6:$AB$6,0)),\"-\")","v":0.77259224794189463},{"$f":"IFERROR(INDEX([4]Estimadores!$D$7:$AB$38,MATCH(W$287,[4]Estimadores!$B$7:$B$38,0),MATCH($B318,[4]Estimadores!$D$6:$AB$6,0)),\"-\")","v":"-"},{"$f":"IFERROR(INDEX([4]Estimadores!$D$7:$AB$38,MATCH(X$287,[4]Estimadores!$B$7:$B$38,0),MATCH($B318,[4]Estimadores!$D$6:$AB$6,0)),\"-\")","v":0.92206290504463162},{"$f":"IFERROR(INDEX([4]Estimadores!$D$7:$AB$38,MATCH(Y$287,[4]Estimadores!$B$7:$B$38,0),MATCH($B318,[4]Estimadores!$D$6:$AB$6,0)),\"-\")","v":0.96158452114112991},{"$f":"IFERROR(INDEX([4]Estimadores!$D$7:$AB$38,MATCH(Z$287,[4]Estimadores!$B$7:$B$38,0),MATCH($B318,[4]Estimadores!$D$6:$AB$6,0)),\"-\")","v":0.96158452114112991},{"$f":"IFERROR(INDEX([4]Estimadores!$D$7:$AB$38,MATCH(AA$287,[4]Estimadores!$B$7:$B$38,0),MATCH($B318,[4]Estimadores!$D$6:$AB$6,0)),\"-\")","v":0.75608279964269531},{"$f":"IFERROR(INDEX([4]Estimadores!$D$7:$AB$38,MATCH(AB$287,[4]Estimadores!$B$7:$B$38,0),MATCH($B318,[4]Estimadores!$D$6:$AB$6,0)),\"-\")","v":0.75608279964269531},{"$f":"IFERROR(INDEX([4]Estimadores!$D$7:$AB$38,MATCH(AC$287,[4]Estimadores!$B$7:$B$38,0),MATCH($B318,[4]Estimadores!$D$6:$AB$6,0)),\"-\")","v":0.92122261743829092},{"$f":"IFERROR(INDEX([4]Estimadores!$D$7:$AB$38,MATCH(AD$287,[4]Estimadores!$B$7:$B$38,0),MATCH($B318,[4]Estimadores!$D$6:$AB$6,0)),\"-\")","v":0.80345745065139496},{"$f":"IFERROR(INDEX([4]Estimadores!$D$7:$AB$38,MATCH(AE$287,[4]Estimadores!$B$7:$B$38,0),MATCH($B318,[4]Estimadores!$D$6:$AB$6,0)),\"-\")","v":0.75055045890190097},{"$f":"IFERROR(INDEX([4]Estimadores!$D$7:$AB$38,MATCH(AF$287,[4]Estimadores!$B$7:$B$38,0),MATCH($B318,[4]Estimadores!$D$6:$AB$6,0)),\"-\")","v":0.92863185725592456},{"$f":"IFERROR(INDEX([4]Estimadores!$D$7:$AB$38,MATCH(AG$287,[4]Estimadores!$B$7:$B$38,0),MATCH($B318,[4]Estimadores!$D$6:$AB$6,0)),\"-\")","v":0.67024894606877239},{"$f":"IFERROR(INDEX([4]Estimadores!$D$7:$AB$38,MATCH(AH$287,[4]Estimadores!$B$7:$B$38,0),MATCH($B318,[4]Estimadores!$D$6:$AB$6,0)),\"-\")","v":1},{"$f":"IFERROR(INDEX([4]Estimadores!$D$7:$AB$38,MATCH(AI$287,[4]Estimadores!$B$7:$B$38,0),MATCH($B318,[4]Estimadores!$D$6:$AB$6,0)),\"-\")","v":1.0704909191940273}]
[null,"MTH","MTH",{"$f":"IFERROR(INDEX([4]Estimadores!$D$7:$AB$38,MATCH(D$287,[4]Estimadores!$B$7:$B$38,0),MATCH($B319,[4]Estimadores!$D$6:$AB$6,0)),\"-\")","v":0.30259899829479631},{"$f":"IFERROR(INDEX([4]Estimadores!$D$7:$AB$38,MATCH(E$287,[4]Estimadores!$B$7:$B$38,0),MATCH($B319,[4]Estimadores!$D$6:$AB$6,0)),\"-\")","v":0.28903866089722807},{"$f":"IFERROR(INDEX([4]Estimadores!$D$7:$AB$38,MATCH(F$287,[4]Estimadores!$B$7:$B$38,0),MATCH($B319,[4]Estimadores!$D$6:$AB$6,0)),\"-\")","v":0.40836234080797512},{"$f":"IFERROR(INDEX([4]Estimadores!$D$7:$AB$38,MATCH(G$287,[4]Estimadores!$B$7:$B$38,0),MATCH($B319,[4]Estimadores!$D$6:$AB$6,0)),\"-\")","v":0.65956716288831052},{"$f":"IFERROR(INDEX([4]Estimadores!$D$7:$AB$38,MATCH(H$287,[4]Estimadores!$B$7:$B$38,0),MATCH($B319,[4]Estimadores!$D$6:$AB$6,0)),\"-\")","v":0.88247462612919403},{"$f":"IFERROR(INDEX([4]Estimadores!$D$7:$AB$38,MATCH(I$287,[4]Estimadores!$B$7:$B$38,0),MATCH($B319,[4]Estimadores!$D$6:$AB$6,0)),\"-\")","v":0.90655259802035282},{"$f":"IFERROR(INDEX([4]Estimadores!$D$7:$AB$38,MATCH(J$287,[4]Estimadores!$B$7:$B$38,0),MATCH($B319,[4]Estimadores!$D$6:$AB$6,0)),\"-\")","v":0.86845595502869843},{"$f":"IFERROR(INDEX([4]Estimadores!$D$7:$AB$38,MATCH(K$287,[4]Estimadores!$B$7:$B$38,0),MATCH($B319,[4]Estimadores!$D$6:$AB$6,0)),\"-\")","v":0.77929440791917404},{"$f":"IFERROR(INDEX([4]Estimadores!$D$7:$AB$38,MATCH(L$287,[4]Estimadores!$B$7:$B$38,0),MATCH($B319,[4]Estimadores!$D$6:$AB$6,0)),\"-\")","v":0.84524898209445787},{"$f":"IFERROR(INDEX([4]Estimadores!$D$7:$AB$38,MATCH(M$287,[4]Estimadores!$B$7:$B$38,0),MATCH($B319,[4]Estimadores!$D$6:$AB$6,0)),\"-\")","v":0.84524898209445787},{"$f":"IFERROR(INDEX([4]Estimadores!$D$7:$AB$38,MATCH(N$287,[4]Estimadores!$B$7:$B$38,0),MATCH($B319,[4]Estimadores!$D$6:$AB$6,0)),\"-\")","v":0.77929440791917404},{"$f":"IFERROR(INDEX([4]Estimadores!$D$7:$AB$38,MATCH(O$287,[4]Estimadores!$B$7:$B$38,0),MATCH($B319,[4]Estimadores!$D$6:$AB$6,0)),\"-\")","v":0.84524898209445787},{"$f":"IFERROR(INDEX([4]Estimadores!$D$7:$AB$38,MATCH(P$287,[4]Estimadores!$B$7:$B$38,0),MATCH($B319,[4]Estimadores!$D$6:$AB$6,0)),\"-\")","v":0.84524898209445787},{"$f":"IFERROR(INDEX([4]Estimadores!$D$7:$AB$38,MATCH(Q$287,[4]Estimadores!$B$7:$B$38,0),MATCH($B319,[4]Estimadores!$D$6:$AB$6,0)),\"-\")","v":0.94642703929601879},{"$f":"IFERROR(INDEX([4]Estimadores!$D$7:$AB$38,MATCH(R$287,[4]Estimadores!$B$7:$B$38,0),MATCH($B319,[4]Estimadores!$D$6:$AB$6,0)),\"-\")","v":0.94642703929601879},{"$f":"IFERROR(INDEX([4]Estimadores!$D$7:$AB$38,MATCH(S$287,[4]Estimadores!$B$7:$B$38,0),MATCH($B319,[4]Estimadores!$D$6:$AB$6,0)),\"-\")","v":0.77987572778804537},{"$f":"IFERROR(INDEX([4]Estimadores!$D$7:$AB$38,MATCH(T$287,[4]Estimadores!$B$7:$B$38,0),MATCH($B319,[4]Estimadores!$D$6:$AB$6,0)),\"-\")","v":0.68770754127304479},{"$f":"IFERROR(INDEX([4]Estimadores!$D$7:$AB$38,MATCH(U$287,[4]Estimadores!$B$7:$B$38,0),MATCH($B319,[4]Estimadores!$D$6:$AB$6,0)),\"-\")","v":0.74591077945988848},{"$f":"IFERROR(INDEX([4]Estimadores!$D$7:$AB$38,MATCH(V$287,[4]Estimadores!$B$7:$B$38,0),MATCH($B319,[4]Estimadores!$D$6:$AB$6,0)),\"-\")","v":0.74591077945988848},{"$f":"IFERROR(INDEX([4]Estimadores!$D$7:$AB$38,MATCH(W$287,[4]Estimadores!$B$7:$B$38,0),MATCH($B319,[4]Estimadores!$D$6:$AB$6,0)),\"-\")","v":"-"},{"$f":"IFERROR(INDEX([4]Estimadores!$D$7:$AB$38,MATCH(X$287,[4]Estimadores!$B$7:$B$38,0),MATCH($B319,[4]Estimadores!$D$6:$AB$6,0)),\"-\")","v":0.77929440791917404},{"$f":"IFERROR(INDEX([4]Estimadores!$D$7:$AB$38,MATCH(Y$287,[4]Estimadores!$B$7:$B$38,0),MATCH($B319,[4]Estimadores!$D$6:$AB$6,0)),\"-\")","v":0.84524898209445787},{"$f":"IFERROR(INDEX([4]Estimadores!$D$7:$AB$38,MATCH(Z$287,[4]Estimadores!$B$7:$B$38,0),MATCH($B319,[4]Estimadores!$D$6:$AB$6,0)),\"-\")","v":0.84524898209445787},{"$f":"IFERROR(INDEX([4]Estimadores!$D$7:$AB$38,MATCH(AA$287,[4]Estimadores!$B$7:$B$38,0),MATCH($B319,[4]Estimadores!$D$6:$AB$6,0)),\"-\")","v":0.91704757431739714},{"$f":"IFERROR(INDEX([4]Estimadores!$D$7:$AB$38,MATCH(AB$287,[4]Estimadores!$B$7:$B$38,0),MATCH($B319,[4]Estimadores!$D$6:$AB$6,0)),\"-\")","v":0.91704757431739714},{"$f":"IFERROR(INDEX([4]Estimadores!$D$7:$AB$38,MATCH(AC$287,[4]Estimadores!$B$7:$B$38,0),MATCH($B319,[4]Estimadores!$D$6:$AB$6,0)),\"-\")","v":0.75566643253241872},{"$f":"IFERROR(INDEX([4]Estimadores!$D$7:$AB$38,MATCH(AD$287,[4]Estimadores!$B$7:$B$38,0),MATCH($B319,[4]Estimadores!$D$6:$AB$6,0)),\"-\")","v":0.88247462612919403},{"$f":"IFERROR(INDEX([4]Estimadores!$D$7:$AB$38,MATCH(AE$287,[4]Estimadores!$B$7:$B$38,0),MATCH($B319,[4]Estimadores!$D$6:$AB$6,0)),\"-\")","v":0.85508040418032638},{"$f":"IFERROR(INDEX([4]Estimadores!$D$7:$AB$38,MATCH(AF$287,[4]Estimadores!$B$7:$B$38,0),MATCH($B319,[4]Estimadores!$D$6:$AB$6,0)),\"-\")","v":0.83825432375220288},{"$f":"IFERROR(INDEX([4]Estimadores!$D$7:$AB$38,MATCH(AG$287,[4]Estimadores!$B$7:$B$38,0),MATCH($B319,[4]Estimadores!$D$6:$AB$6,0)),\"-\")","v":0.62306904843172606},{"$f":"IFERROR(INDEX([4]Estimadores!$D$7:$AB$38,MATCH(AH$287,[4]Estimadores!$B$7:$B$38,0),MATCH($B319,[4]Estimadores!$D$6:$AB$6,0)),\"-\")","v":1},{"$f":"IFERROR(INDEX([4]Estimadores!$D$7:$AB$38,MATCH(AI$287,[4]Estimadores!$B$7:$B$38,0),MATCH($B319,[4]Estimadores!$D$6:$AB$6,0)),\"-\")","v":1.0320370129112333}]
[null,"","",{"$f":"IFERROR(INDEX([4]Estimadores!$D$7:$AB$38,MATCH(D$287,[4]Estimadores!$B$7:$B$38,0),MATCH($B320,[4]Estimadores!$D$6:$AB$6,0)),\"-\")","v":"-"},{"$f":"IFERROR(INDEX([4]Estimadores!$D$7:$AB$38,MATCH(E$287,[4]Estimadores!$B$7:$B$38,0),MATCH($B320,[4]Estimadores!$D$6:$AB$6,0)),\"-\")","v":"-"},{"$f":"IFERROR(INDEX([4]Estimadores!$D$7:$AB$38,MATCH(F$287,[4]Estimadores!$B$7:$B$38,0),MATCH($B320,[4]Estimadores!$D$6:$AB$6,0)),\"-\")","v":"-"},{"$f":"IFERROR(INDEX([4]Estimadores!$D$7:$AB$38,MATCH(G$287,[4]Estimadores!$B$7:$B$38,0),MATCH($B320,[4]Estimadores!$D$6:$AB$6,0)),\"-\")","v":"-"},{"$f":"IFERROR(INDEX([4]Estimadores!$D$7:$AB$38,MATCH(H$287,[4]Estimadores!$B$7:$B$38,0),MATCH($B320,[4]Estimadores!$D$6:$AB$6,0)),\"-\")","v":"-"},{"$f":"IFERROR(INDEX([4]Estimadores!$D$7:$AB$38,MATCH(I$287,[4]Estimadores!$B$7:$B$38,0),MATCH($B320,[4]Estimadores!$D$6:$AB$6,0)),\"-\")","v":"-"},{"$f":"IFERROR(INDEX([4]Estimadores!$D$7:$AB$38,MATCH(J$287,[4]Estimadores!$B$7:$B$38,0),MATCH($B320,[4]Estimadores!$D$6:$AB$6,0)),\"-\")","v":"-"},{"$f":"IFERROR(INDEX([4]Estimadores!$D$7:$AB$38,MATCH(K$287,[4]Estimadores!$B$7:$B$38,0),MATCH($B320,[4]Estimadores!$D$6:$AB$6,0)),\"-\")","v":"-"},{"$f":"IFERROR(INDEX([4]Estimadores!$D$7:$AB$38,MATCH(L$287,[4]Estimadores!$B$7:$B$38,0),MATCH($B320,[4]Estimadores!$D$6:$AB$6,0)),\"-\")","v":"-"},{"$f":"IFERROR(INDEX([4]Estimadores!$D$7:$AB$38,MATCH(M$287,[4]Estimadores!$B$7:$B$38,0),MATCH($B320,[4]Estimadores!$D$6:$AB$6,0)),\"-\")","v":"-"},{"$f":"IFERROR(INDEX([4]Estimadores!$D$7:$AB$38,MATCH(N$287,[4]Estimadores!$B$7:$B$38,0),MATCH($B320,[4]Estimadores!$D$6:$AB$6,0)),\"-\")","v":"-"},{"$f":"IFERROR(INDEX([4]Estimadores!$D$7:$AB$38,MATCH(O$287,[4]Estimadores!$B$7:$B$38,0),MATCH($B320,[4]Estimadores!$D$6:$AB$6,0)),\"-\")","v":"-"},{"$f":"IFERROR(INDEX([4]Estimadores!$D$7:$AB$38,MATCH(P$287,[4]Estimadores!$B$7:$B$38,0),MATCH($B320,[4]Estimadores!$D$6:$AB$6,0)),\"-\")","v":"-"},{"$f":"IFERROR(INDEX([4]Estimadores!$D$7:$AB$38,MATCH(Q$287,[4]Estimadores!$B$7:$B$38,0),MATCH($B320,[4]Estimadores!$D$6:$AB$6,0)),\"-\")","v":"-"},{"$f":"IFERROR(INDEX([4]Estimadores!$D$7:$AB$38,MATCH(R$287,[4]Estimadores!$B$7:$B$38,0),MATCH($B320,[4]Estimadores!$D$6:$AB$6,0)),\"-\")","v":"-"},{"$f":"IFERROR(INDEX([4]Estimadores!$D$7:$AB$38,MATCH(S$287,[4]Estimadores!$B$7:$B$38,0),MATCH($B320,[4]Estimadores!$D$6:$AB$6,0)),\"-\")","v":"-"},{"$f":"IFERROR(INDEX([4]Estimadores!$D$7:$AB$38,MATCH(T$287,[4]Estimadores!$B$7:$B$38,0),MATCH($B320,[4]Estimadores!$D$6:$AB$6,0)),\"-\")","v":"-"},{"$f":"IFERROR(INDEX([4]Estimadores!$D$7:$AB$38,MATCH(U$287,[4]Estimadores!$B$7:$B$38,0),MATCH($B320,[4]Estimadores!$D$6:$AB$6,0)),\"-\")","v":"-"},{"$f":"IFERROR(INDEX([4]Estimadores!$D$7:$AB$38,MATCH(V$287,[4]Estimadores!$B$7:$B$38,0),MATCH($B320,[4]Estimadores!$D$6:$AB$6,0)),\"-\")","v":"-"},{"$f":"IFERROR(INDEX([4]Estimadores!$D$7:$AB$38,MATCH(W$287,[4]Estimadores!$B$7:$B$38,0),MATCH($B320,[4]Estimadores!$D$6:$AB$6,0)),\"-\")","v":"-"},{"$f":"IFERROR(INDEX([4]Estimadores!$D$7:$AB$38,MATCH(X$287,[4]Estimadores!$B$7:$B$38,0),MATCH($B320,[4]Estimadores!$D$6:$AB$6,0)),\"-\")","v":"-"},{"$f":"IFERROR(INDEX([4]Estimadores!$D$7:$AB$38,MATCH(Y$287,[4]Estimadores!$B$7:$B$38,0),MATCH($B320,[4]Estimadores!$D$6:$AB$6,0)),\"-\")","v":"-"},{"$f":"IFERROR(INDEX([4]Estimadores!$D$7:$AB$38,MATCH(Z$287,[4]Estimadores!$B$7:$B$38,0),MATCH($B320,[4]Estimadores!$D$6:$AB$6,0)),\"-\")","v":"-"},{"$f":"IFERROR(INDEX([4]Estimadores!$D$7:$AB$38,MATCH(AA$287,[4]Estimadores!$B$7:$B$38,0),MATCH($B320,[4]Estimadores!$D$6:$AB$6,0)),\"-\")","v":"-"},{"$f":"IFERROR(INDEX([4]Estimadores!$D$7:$AB$38,MATCH(AB$287,[4]Estimadores!$B$7:$B$38,0),MATCH($B320,[4]Estimadores!$D$6:$AB$6,0)),\"-\")","v":"-"},{"$f":"IFERROR(INDEX([4]Estimadores!$D$7:$AB$38,MATCH(AC$287,[4]Estimadores!$B$7:$B$38,0),MATCH($B320,[4]Estimadores!$D$6:$AB$6,0)),\"-\")","v":"-"},{"$f":"IFERROR(INDEX([4]Estimadores!$D$7:$AB$38,MATCH(AD$287,[4]Estimadores!$B$7:$B$38,0),MATCH($B320,[4]Estimadores!$D$6:$AB$6,0)),\"-\")","v":"-"},{"$f":"IFERROR(INDEX([4]Estimadores!$D$7:$AB$38,MATCH(AE$287,[4]Estimadores!$B$7:$B$38,0),MATCH($B320,[4]Estimadores!$D$6:$AB$6,0)),\"-\")","v":"-"},{"$f":"IFERROR(INDEX([4]Estimadores!$D$7:$AB$38,MATCH(AF$287,[4]Estimadores!$B$7:$B$38,0),MATCH($B320,[4]Estimadores!$D$6:$AB$6,0)),\"-\")","v":"-"},{"$f":"IFERROR(INDEX([4]Estimadores!$D$7:$AB$38,MATCH(AG$287,[4]Estimadores!$B$7:$B$38,0),MATCH($B320,[4]Estimadores!$D$6:$AB$6,0)),\"-\")","v":"-"},{"$f":"IFERROR(INDEX([4]Estimadores!$D$7:$AB$38,MATCH(AH$287,[4]Estimadores!$B$7:$B$38,0),MATCH($B320,[4]Estimadores!$D$6:$AB$6,0)),\"-\")","v":"-"},{"$f":"IFERROR(INDEX([4]Estimadores!$D$7:$AB$38,MATCH(AI$287,[4]Estimadores!$B$7:$B$38,0),MATCH($B320,[4]Estimadores!$D$6:$AB$6,0)),\"-\")","v":"-"}]
[null,"","",{"$f":"IFERROR(INDEX([4]Estimadores!$D$7:$AB$38,MATCH(D$287,[4]Estimadores!$B$7:$B$38,0),MATCH($B321,[4]Estimadores!$D$6:$AB$6,0)),\"-\")","v":"-"},{"$f":"IFERROR(INDEX([4]Estimadores!$D$7:$AB$38,MATCH(E$287,[4]Estimadores!$B$7:$B$38,0),MATCH($B321,[4]Estimadores!$D$6:$AB$6,0)),\"-\")","v":"-"},{"$f":"IFERROR(INDEX([4]Estimadores!$D$7:$AB$38,MATCH(F$287,[4]Estimadores!$B$7:$B$38,0),MATCH($B321,[4]Estimadores!$D$6:$AB$6,0)),\"-\")","v":"-"},{"$f":"IFERROR(INDEX([4]Estimadores!$D$7:$AB$38,MATCH(G$287,[4]Estimadores!$B$7:$B$38,0),MATCH($B321,[4]Estimadores!$D$6:$AB$6,0)),\"-\")","v":"-"},{"$f":"IFERROR(INDEX([4]Estimadores!$D$7:$AB$38,MATCH(H$287,[4]Estimadores!$B$7:$B$38,0),MATCH($B321,[4]Estimadores!$D$6:$AB$6,0)),\"-\")","v":"-"},{"$f":"IFERROR(INDEX([4]Estimadores!$D$7:$AB$38,MATCH(I$287,[4]Estimadores!$B$7:$B$38,0),MATCH($B321,[4]Estimadores!$D$6:$AB$6,0)),\"-\")","v":"-"},{"$f":"IFERROR(INDEX([4]Estimadores!$D$7:$AB$38,MATCH(J$287,[4]Estimadores!$B$7:$B$38,0),MATCH($B321,[4]Estimadores!$D$6:$AB$6,0)),\"-\")","v":"-"},{"$f":"IFERROR(INDEX([4]Estimadores!$D$7:$AB$38,MATCH(K$287,[4]Estimadores!$B$7:$B$38,0),MATCH($B321,[4]Estimadores!$D$6:$AB$6,0)),\"-\")","v":"-"},{"$f":"IFERROR(INDEX([4]Estimadores!$D$7:$AB$38,MATCH(L$287,[4]Estimadores!$B$7:$B$38,0),MATCH($B321,[4]Estimadores!$D$6:$AB$6,0)),\"-\")","v":"-"},{"$f":"IFERROR(INDEX([4]Estimadores!$D$7:$AB$38,MATCH(M$287,[4]Estimadores!$B$7:$B$38,0),MATCH($B321,[4]Estimadores!$D$6:$AB$6,0)),\"-\")","v":"-"},{"$f":"IFERROR(INDEX([4]Estimadores!$D$7:$AB$38,MATCH(N$287,[4]Estimadores!$B$7:$B$38,0),MATCH($B321,[4]Estimadores!$D$6:$AB$6,0)),\"-\")","v":"-"},{"$f":"IFERROR(INDEX([4]Estimadores!$D$7:$AB$38,MATCH(O$287,[4]Estimadores!$B$7:$B$38,0),MATCH($B321,[4]Estimadores!$D$6:$AB$6,0)),\"-\")","v":"-"},{"$f":"IFERROR(INDEX([4]Estimadores!$D$7:$AB$38,MATCH(P$287,[4]Estimadores!$B$7:$B$38,0),MATCH($B321,[4]Estimadores!$D$6:$AB$6,0)),\"-\")","v":"-"},{"$f":"IFERROR(INDEX([4]Estimadores!$D$7:$AB$38,MATCH(Q$287,[4]Estimadores!$B$7:$B$38,0),MATCH($B321,[4]Estimadores!$D$6:$AB$6,0)),\"-\")","v":"-"},{"$f":"IFERROR(INDEX([4]Estimadores!$D$7:$AB$38,MATCH(R$287,[4]Estimadores!$B$7:$B$38,0),MATCH($B321,[4]Estimadores!$D$6:$AB$6,0)),\"-\")","v":"-"},{"$f":"IFERROR(INDEX([4]Estimadores!$D$7:$AB$38,MATCH(S$287,[4]Estimadores!$B$7:$B$38,0),MATCH($B321,[4]Estimadores!$D$6:$AB$6,0)),\"-\")","v":"-"},{"$f":"IFERROR(INDEX([4]Estimadores!$D$7:$AB$38,MATCH(T$287,[4]Estimadores!$B$7:$B$38,0),MATCH($B321,[4]Estimadores!$D$6:$AB$6,0)),\"-\")","v":"-"},{"$f":"IFERROR(INDEX([4]Estimadores!$D$7:$AB$38,MATCH(U$287,[4]Estimadores!$B$7:$B$38,0),MATCH($B321,[4]Estimadores!$D$6:$AB$6,0)),\"-\")","v":"-"},{"$f":"IFERROR(INDEX([4]Estimadores!$D$7:$AB$38,MATCH(V$287,[4]Estimadores!$B$7:$B$38,0),MATCH($B321,[4]Estimadores!$D$6:$AB$6,0)),\"-\")","v":"-"},{"$f":"IFERROR(INDEX([4]Estimadores!$D$7:$AB$38,MATCH(W$287,[4]Estimadores!$B$7:$B$38,0),MATCH($B321,[4]Estimadores!$D$6:$AB$6,0)),\"-\")","v":"-"},{"$f":"IFERROR(INDEX([4]Estimadores!$D$7:$AB$38,MATCH(X$287,[4]Estimadores!$B$7:$B$38,0),MATCH($B321,[4]Estimadores!$D$6:$AB$6,0)),\"-\")","v":"-"},{"$f":"IFERROR(INDEX([4]Estimadores!$D$7:$AB$38,MATCH(Y$287,[4]Estimadores!$B$7:$B$38,0),MATCH($B321,[4]Estimadores!$D$6:$AB$6,0)),\"-\")","v":"-"},{"$f":"IFERROR(INDEX([4]Estimadores!$D$7:$AB$38,MATCH(Z$287,[4]Estimadores!$B$7:$B$38,0),MATCH($B321,[4]Estimadores!$D$6:$AB$6,0)),\"-\")","v":"-"},{"$f":"IFERROR(INDEX([4]Estimadores!$D$7:$AB$38,MATCH(AA$287,[4]Estimadores!$B$7:$B$38,0),MATCH($B321,[4]Estimadores!$D$6:$AB$6,0)),\"-\")","v":"-"},{"$f":"IFERROR(INDEX([4]Estimadores!$D$7:$AB$38,MATCH(AB$287,[4]Estimadores!$B$7:$B$38,0),MATCH($B321,[4]Estimadores!$D$6:$AB$6,0)),\"-\")","v":"-"},{"$f":"IFERROR(INDEX([4]Estimadores!$D$7:$AB$38,MATCH(AC$287,[4]Estimadores!$B$7:$B$38,0),MATCH($B321,[4]Estimadores!$D$6:$AB$6,0)),\"-\")","v":"-"},{"$f":"IFERROR(INDEX([4]Estimadores!$D$7:$AB$38,MATCH(AD$287,[4]Estimadores!$B$7:$B$38,0),MATCH($B321,[4]Estimadores!$D$6:$AB$6,0)),\"-\")","v":"-"},{"$f":"IFERROR(INDEX([4]Estimadores!$D$7:$AB$38,MATCH(AE$287,[4]Estimadores!$B$7:$B$38,0),MATCH($B321,[4]Estimadores!$D$6:$AB$6,0)),\"-\")","v":"-"},{"$f":"IFERROR(INDEX([4]Estimadores!$D$7:$AB$38,MATCH(AF$287,[4]Estimadores!$B$7:$B$38,0),MATCH($B321,[4]Estimadores!$D$6:$AB$6,0)),\"-\")","v":"-"},{"$f":"IFERROR(INDEX([4]Estimadores!$D$7:$AB$38,MATCH(AG$287,[4]Estimadores!$B$7:$B$38,0),MATCH($B321,[4]Estimadores!$D$6:$AB$6,0)),\"-\")","v":"-"},{"$f":"IFERROR(INDEX([4]Estimadores!$D$7:$AB$38,MATCH(AH$287,[4]Estimadores!$B$7:$B$38,0),MATCH($B321,[4]Estimadores!$D$6:$AB$6,0)),\"-\")","v":"-"},{"$f":"IFERROR(INDEX([4]Estimadores!$D$7:$AB$38,MATCH(AI$287,[4]Estimadores!$B$7:$B$38,0),MATCH($B321,[4]Estimadores!$D$6:$AB$6,0)),\"-\")","v":"-"}]
[null,"","",{"$f":"IFERROR(INDEX([4]Estimadores!$D$7:$AB$38,MATCH(D$287,[4]Estimadores!$B$7:$B$38,0),MATCH($B322,[4]Estimadores!$D$6:$AB$6,0)),\"-\")","v":"-"},{"$f":"IFERROR(INDEX([4]Estimadores!$D$7:$AB$38,MATCH(E$287,[4]Estimadores!$B$7:$B$38,0),MATCH($B322,[4]Estimadores!$D$6:$AB$6,0)),\"-\")","v":"-"},{"$f":"IFERROR(INDEX([4]Estimadores!$D$7:$AB$38,MATCH(F$287,[4]Estimadores!$B$7:$B$38,0),MATCH($B322,[4]Estimadores!$D$6:$AB$6,0)),\"-\")","v":"-"},{"$f":"IFERROR(INDEX([4]Estimadores!$D$7:$AB$38,MATCH(G$287,[4]Estimadores!$B$7:$B$38,0),MATCH($B322,[4]Estimadores!$D$6:$AB$6,0)),\"-\")","v":"-"},{"$f":"IFERROR(INDEX([4]Estimadores!$D$7:$AB$38,MATCH(H$287,[4]Estimadores!$B$7:$B$38,0),MATCH($B322,[4]Estimadores!$D$6:$AB$6,0)),\"-\")","v":"-"},{"$f":"IFERROR(INDEX([4]Estimadores!$D$7:$AB$38,MATCH(I$287,[4]Estimadores!$B$7:$B$38,0),MATCH($B322,[4]Estimadores!$D$6:$AB$6,0)),\"-\")","v":"-"},{"$f":"IFERROR(INDEX([4]Estimadores!$D$7:$AB$38,MATCH(J$287,[4]Estimadores!$B$7:$B$38,0),MATCH($B322,[4]Estimadores!$D$6:$AB$6,0)),\"-\")","v":"-"},{"$f":"IFERROR(INDEX([4]Estimadores!$D$7:$AB$38,MATCH(K$287,[4]Estimadores!$B$7:$B$38,0),MATCH($B322,[4]Estimadores!$D$6:$AB$6,0)),\"-\")","v":"-"},{"$f":"IFERROR(INDEX([4]Estimadores!$D$7:$AB$38,MATCH(L$287,[4]Estimadores!$B$7:$B$38,0),MATCH($B322,[4]Estimadores!$D$6:$AB$6,0)),\"-\")","v":"-"},{"$f":"IFERROR(INDEX([4]Estimadores!$D$7:$AB$38,MATCH(M$287,[4]Estimadores!$B$7:$B$38,0),MATCH($B322,[4]Estimadores!$D$6:$AB$6,0)),\"-\")","v":"-"},{"$f":"IFERROR(INDEX([4]Estimadores!$D$7:$AB$38,MATCH(N$287,[4]Estimadores!$B$7:$B$38,0),MATCH($B322,[4]Estimadores!$D$6:$AB$6,0)),\"-\")","v":"-"},{"$f":"IFERROR(INDEX([4]Estimadores!$D$7:$AB$38,MATCH(O$287,[4]Estimadores!$B$7:$B$38,0),MATCH($B322,[4]Estimadores!$D$6:$AB$6,0)),\"-\")","v":"-"},{"$f":"IFERROR(INDEX([4]Estimadores!$D$7:$AB$38,MATCH(P$287,[4]Estimadores!$B$7:$B$38,0),MATCH($B322,[4]Estimadores!$D$6:$AB$6,0)),\"-\")","v":"-"},{"$f":"IFERROR(INDEX([4]Estimadores!$D$7:$AB$38,MATCH(Q$287,[4]Estimadores!$B$7:$B$38,0),MATCH($B322,[4]Estimadores!$D$6:$AB$6,0)),\"-\")","v":"-"},{"$f":"IFERROR(INDEX([4]Estimadores!$D$7:$AB$38,MATCH(R$287,[4]Estimadores!$B$7:$B$38,0),MATCH($B322,[4]Estimadores!$D$6:$AB$6,0)),\"-\")","v":"-"},{"$f":"IFERROR(INDEX([4]Estimadores!$D$7:$AB$38,MATCH(S$287,[4]Estimadores!$B$7:$B$38,0),MATCH($B322,[4]Estimadores!$D$6:$AB$6,0)),\"-\")","v":"-"},{"$f":"IFERROR(INDEX([4]Estimadores!$D$7:$AB$38,MATCH(T$287,[4]Estimadores!$B$7:$B$38,0),MATCH($B322,[4]Estimadores!$D$6:$AB$6,0)),\"-\")","v":"-"},{"$f":"IFERROR(INDEX([4]Estimadores!$D$7:$AB$38,MATCH(U$287,[4]Estimadores!$B$7:$B$38,0),MATCH($B322,[4]Estimadores!$D$6:$AB$6,0)),\"-\")","v":"-"},{"$f":"IFERROR(INDEX([4]Estimadores!$D$7:$AB$38,MATCH(V$287,[4]Estimadores!$B$7:$B$38,0),MATCH($B322,[4]Estimadores!$D$6:$AB$6,0)),\"-\")","v":"-"},{"$f":"IFERROR(INDEX([4]Estimadores!$D$7:$AB$38,MATCH(W$287,[4]Estimadores!$B$7:$B$38,0),MATCH($B322,[4]Estimadores!$D$6:$AB$6,0)),\"-\")","v":"-"},{"$f":"IFERROR(INDEX([4]Estimadores!$D$7:$AB$38,MATCH(X$287,[4]Estimadores!$B$7:$B$38,0),MATCH($B322,[4]Estimadores!$D$6:$AB$6,0)),\"-\")","v":"-"},{"$f":"IFERROR(INDEX([4]Estimadores!$D$7:$AB$38,MATCH(Y$287,[4]Estimadores!$B$7:$B$38,0),MATCH($B322,[4]Estimadores!$D$6:$AB$6,0)),\"-\")","v":"-"},{"$f":"IFERROR(INDEX([4]Estimadores!$D$7:$AB$38,MATCH(Z$287,[4]Estimadores!$B$7:$B$38,0),MATCH($B322,[4]Estimadores!$D$6:$AB$6,0)),\"-\")","v":"-"},{"$f":"IFERROR(INDEX([4]Estimadores!$D$7:$AB$38,MATCH(AA$287,[4]Estimadores!$B$7:$B$38,0),MATCH($B322,[4]Estimadores!$D$6:$AB$6,0)),\"-\")","v":"-"},{"$f":"IFERROR(INDEX([4]Estimadores!$D$7:$AB$38,MATCH(AB$287,[4]Estimadores!$B$7:$B$38,0),MATCH($B322,[4]Estimadores!$D$6:$AB$6,0)),\"-\")","v":"-"},{"$f":"IFERROR(INDEX([4]Estimadores!$D$7:$AB$38,MATCH(AC$287,[4]Estimadores!$B$7:$B$38,0),MATCH($B322,[4]Estimadores!$D$6:$AB$6,0)),\"-\")","v":"-"},{"$f":"IFERROR(INDEX([4]Estimadores!$D$7:$AB$38,MATCH(AD$287,[4]Estimadores!$B$7:$B$38,0),MATCH($B322,[4]Estimadores!$D$6:$AB$6,0)),\"-\")","v":"-"},{"$f":"IFERROR(INDEX([4]Estimadores!$D$7:$AB$38,MATCH(AE$287,[4]Estimadores!$B$7:$B$38,0),MATCH($B322,[4]Estimadores!$D$6:$AB$6,0)),\"-\")","v":"-"},{"$f":"IFERROR(INDEX([4]Estimadores!$D$7:$AB$38,MATCH(AF$287,[4]Estimadores!$B$7:$B$38,0),MATCH($B322,[4]Estimadores!$D$6:$AB$6,0)),\"-\")","v":"-"},{"$f":"IFERROR(INDEX([4]Estimadores!$D$7:$AB$38,MATCH(AG$287,[4]Estimadores!$B$7:$B$38,0),MATCH($B322,[4]Estimadores!$D$6:$AB$6,0)),\"-\")","v":"-"},{"$f":"IFERROR(INDEX([4]Estimadores!$D$7:$AB$38,MATCH(AH$287,[4]Estimadores!$B$7:$B$38,0),MATCH($B322,[4]Estimadores!$D$6:$AB$6,0)),\"-\")","v":"-"},{"$f":"IFERROR(INDEX([4]Estimadores!$D$7:$AB$38,MATCH(AI$287,[4]Estimadores!$B$7:$B$38,0),MATCH($B322,[4]Estimadores!$D$6:$AB$6,0)),\"-\")","v":"-"}]
[null,"","",{"$f":"IFERROR(INDEX([4]Estimadores!$D$7:$AB$38,MATCH(D$287,[4]Estimadores!$B$7:$B$38,0),MATCH($B323,[4]Estimadores!$D$6:$AB$6,0)),\"-\")","v":"-"},{"$f":"IFERROR(INDEX([4]Estimadores!$D$7:$AB$38,MATCH(E$287,[4]Estimadores!$B$7:$B$38,0),MATCH($B323,[4]Estimadores!$D$6:$AB$6,0)),\"-\")","v":"-"},{"$f":"IFERROR(INDEX([4]Estimadores!$D$7:$AB$38,MATCH(F$287,[4]Estimadores!$B$7:$B$38,0),MATCH($B323,[4]Estimadores!$D$6:$AB$6,0)),\"-\")","v":"-"},{"$f":"IFERROR(INDEX([4]Estimadores!$D$7:$AB$38,MATCH(G$287,[4]Estimadores!$B$7:$B$38,0),MATCH($B323,[4]Estimadores!$D$6:$AB$6,0)),\"-\")","v":"-"},{"$f":"IFERROR(INDEX([4]Estimadores!$D$7:$AB$38,MATCH(H$287,[4]Estimadores!$B$7:$B$38,0),MATCH($B323,[4]Estimadores!$D$6:$AB$6,0)),\"-\")","v":"-"},{"$f":"IFERROR(INDEX([4]Estimadores!$D$7:$AB$38,MATCH(I$287,[4]Estimadores!$B$7:$B$38,0),MATCH($B323,[4]Estimadores!$D$6:$AB$6,0)),\"-\")","v":"-"},{"$f":"IFERROR(INDEX([4]Estimadores!$D$7:$AB$38,MATCH(J$287,[4]Estimadores!$B$7:$B$38,0),MATCH($B323,[4]Estimadores!$D$6:$AB$6,0)),\"-\")","v":"-"},{"$f":"IFERROR(INDEX([4]Estimadores!$D$7:$AB$38,MATCH(K$287,[4]Estimadores!$B$7:$B$38,0),MATCH($B323,[4]Estimadores!$D$6:$AB$6,0)),\"-\")","v":"-"},{"$f":"IFERROR(INDEX([4]Estimadores!$D$7:$AB$38,MATCH(L$287,[4]Estimadores!$B$7:$B$38,0),MATCH($B323,[4]Estimadores!$D$6:$AB$6,0)),\"-\")","v":"-"},{"$f":"IFERROR(INDEX([4]Estimadores!$D$7:$AB$38,MATCH(M$287,[4]Estimadores!$B$7:$B$38,0),MATCH($B323,[4]Estimadores!$D$6:$AB$6,0)),\"-\")","v":"-"},{"$f":"IFERROR(INDEX([4]Estimadores!$D$7:$AB$38,MATCH(N$287,[4]Estimadores!$B$7:$B$38,0),MATCH($B323,[4]Estimadores!$D$6:$AB$6,0)),\"-\")","v":"-"},{"$f":"IFERROR(INDEX([4]Estimadores!$D$7:$AB$38,MATCH(O$287,[4]Estimadores!$B$7:$B$38,0),MATCH($B323,[4]Estimadores!$D$6:$AB$6,0)),\"-\")","v":"-"},{"$f":"IFERROR(INDEX([4]Estimadores!$D$7:$AB$38,MATCH(P$287,[4]Estimadores!$B$7:$B$38,0),MATCH($B323,[4]Estimadores!$D$6:$AB$6,0)),\"-\")","v":"-"},{"$f":"IFERROR(INDEX([4]Estimadores!$D$7:$AB$38,MATCH(Q$287,[4]Estimadores!$B$7:$B$38,0),MATCH($B323,[4]Estimadores!$D$6:$AB$6,0)),\"-\")","v":"-"},{"$f":"IFERROR(INDEX([4]Estimadores!$D$7:$AB$38,MATCH(R$287,[4]Estimadores!$B$7:$B$38,0),MATCH($B323,[4]Estimadores!$D$6:$AB$6,0)),\"-\")","v":"-"},{"$f":"IFERROR(INDEX([4]Estimadores!$D$7:$AB$38,MATCH(S$287,[4]Estimadores!$B$7:$B$38,0),MATCH($B323,[4]Estimadores!$D$6:$AB$6,0)),\"-\")","v":"-"},{"$f":"IFERROR(INDEX([4]Estimadores!$D$7:$AB$38,MATCH(T$287,[4]Estimadores!$B$7:$B$38,0),MATCH($B323,[4]Estimadores!$D$6:$AB$6,0)),\"-\")","v":"-"},{"$f":"IFERROR(INDEX([4]Estimadores!$D$7:$AB$38,MATCH(U$287,[4]Estimadores!$B$7:$B$38,0),MATCH($B323,[4]Estimadores!$D$6:$AB$6,0)),\"-\")","v":"-"},{"$f":"IFERROR(INDEX([4]Estimadores!$D$7:$AB$38,MATCH(V$287,[4]Estimadores!$B$7:$B$38,0),MATCH($B323,[4]Estimadores!$D$6:$AB$6,0)),\"-\")","v":"-"},{"$f":"IFERROR(INDEX([4]Estimadores!$D$7:$AB$38,MATCH(W$287,[4]Estimadores!$B$7:$B$38,0),MATCH($B323,[4]Estimadores!$D$6:$AB$6,0)),\"-\")","v":"-"},{"$f":"IFERROR(INDEX([4]Estimadores!$D$7:$AB$38,MATCH(X$287,[4]Estimadores!$B$7:$B$38,0),MATCH($B323,[4]Estimadores!$D$6:$AB$6,0)),\"-\")","v":"-"},{"$f":"IFERROR(INDEX([4]Estimadores!$D$7:$AB$38,MATCH(Y$287,[4]Estimadores!$B$7:$B$38,0),MATCH($B323,[4]Estimadores!$D$6:$AB$6,0)),\"-\")","v":"-"},{"$f":"IFERROR(INDEX([4]Estimadores!$D$7:$AB$38,MATCH(Z$287,[4]Estimadores!$B$7:$B$38,0),MATCH($B323,[4]Estimadores!$D$6:$AB$6,0)),\"-\")","v":"-"},{"$f":"IFERROR(INDEX([4]Estimadores!$D$7:$AB$38,MATCH(AA$287,[4]Estimadores!$B$7:$B$38,0),MATCH($B323,[4]Estimadores!$D$6:$AB$6,0)),\"-\")","v":"-"},{"$f":"IFERROR(INDEX([4]Estimadores!$D$7:$AB$38,MATCH(AB$287,[4]Estimadores!$B$7:$B$38,0),MATCH($B323,[4]Estimadores!$D$6:$AB$6,0)),\"-\")","v":"-"},{"$f":"IFERROR(INDEX([4]Estimadores!$D$7:$AB$38,MATCH(AC$287,[4]Estimadores!$B$7:$B$38,0),MATCH($B323,[4]Estimadores!$D$6:$AB$6,0)),\"-\")","v":"-"},{"$f":"IFERROR(INDEX([4]Estimadores!$D$7:$AB$38,MATCH(AD$287,[4]Estimadores!$B$7:$B$38,0),MATCH($B323,[4]Estimadores!$D$6:$AB$6,0)),\"-\")","v":"-"},{"$f":"IFERROR(INDEX([4]Estimadores!$D$7:$AB$38,MATCH(AE$287,[4]Estimadores!$B$7:$B$38,0),MATCH($B323,[4]Estimadores!$D$6:$AB$6,0)),\"-\")","v":"-"},{"$f":"IFERROR(INDEX([4]Estimadores!$D$7:$AB$38,MATCH(AF$287,[4]Estimadores!$B$7:$B$38,0),MATCH($B323,[4]Estimadores!$D$6:$AB$6,0)),\"-\")","v":"-"},{"$f":"IFERROR(INDEX([4]Estimadores!$D$7:$AB$38,MATCH(AG$287,[4]Estimadores!$B$7:$B$38,0),MATCH($B323,[4]Estimadores!$D$6:$AB$6,0)),\"-\")","v":"-"},{"$f":"IFERROR(INDEX([4]Estimadores!$D$7:$AB$38,MATCH(AH$287,[4]Estimadores!$B$7:$B$38,0),MATCH($B323,[4]Estimadores!$D$6:$AB$6,0)),\"-\")","v":"-"},{"$f":"IFERROR(INDEX([4]Estimadores!$D$7:$AB$38,MATCH(AI$287,[4]Estimadores!$B$7:$B$38,0),MATCH($B323,[4]Estimadores!$D$6:$AB$6,0)),\"-\")","v":"-"}]
[null,"","",{"$f":"IFERROR(INDEX([4]Estimadores!$D$7:$AB$38,MATCH(D$287,[4]Estimadores!$B$7:$B$38,0),MATCH($B324,[4]Estimadores!$D$6:$AB$6,0)),\"-\")","v":"-"},{"$f":"IFERROR(INDEX([4]Estimadores!$D$7:$AB$38,MATCH(E$287,[4]Estimadores!$B$7:$B$38,0),MATCH($B324,[4]Estimadores!$D$6:$AB$6,0)),\"-\")","v":"-"},{"$f":"IFERROR(INDEX([4]Estimadores!$D$7:$AB$38,MATCH(F$287,[4]Estimadores!$B$7:$B$38,0),MATCH($B324,[4]Estimadores!$D$6:$AB$6,0)),\"-\")","v":"-"},{"$f":"IFERROR(INDEX([4]Estimadores!$D$7:$AB$38,MATCH(G$287,[4]Estimadores!$B$7:$B$38,0),MATCH($B324,[4]Estimadores!$D$6:$AB$6,0)),\"-\")","v":"-"},{"$f":"IFERROR(INDEX([4]Estimadores!$D$7:$AB$38,MATCH(H$287,[4]Estimadores!$B$7:$B$38,0),MATCH($B324,[4]Estimadores!$D$6:$AB$6,0)),\"-\")","v":"-"},{"$f":"IFERROR(INDEX([4]Estimadores!$D$7:$AB$38,MATCH(I$287,[4]Estimadores!$B$7:$B$38,0),MATCH($B324,[4]Estimadores!$D$6:$AB$6,0)),\"-\")","v":"-"},{"$f":"IFERROR(INDEX([4]Estimadores!$D$7:$AB$38,MATCH(J$287,[4]Estimadores!$B$7:$B$38,0),MATCH($B324,[4]Estimadores!$D$6:$AB$6,0)),\"-\")","v":"-"},{"$f":"IFERROR(INDEX([4]Estimadores!$D$7:$AB$38,MATCH(K$287,[4]Estimadores!$B$7:$B$38,0),MATCH($B324,[4]Estimadores!$D$6:$AB$6,0)),\"-\")","v":"-"},{"$f":"IFERROR(INDEX([4]Estimadores!$D$7:$AB$38,MATCH(L$287,[4]Estimadores!$B$7:$B$38,0),MATCH($B324,[4]Estimadores!$D$6:$AB$6,0)),\"-\")","v":"-"},{"$f":"IFERROR(INDEX([4]Estimadores!$D$7:$AB$38,MATCH(M$287,[4]Estimadores!$B$7:$B$38,0),MATCH($B324,[4]Estimadores!$D$6:$AB$6,0)),\"-\")","v":"-"},{"$f":"IFERROR(INDEX([4]Estimadores!$D$7:$AB$38,MATCH(N$287,[4]Estimadores!$B$7:$B$38,0),MATCH($B324,[4]Estimadores!$D$6:$AB$6,0)),\"-\")","v":"-"},{"$f":"IFERROR(INDEX([4]Estimadores!$D$7:$AB$38,MATCH(O$287,[4]Estimadores!$B$7:$B$38,0),MATCH($B324,[4]Estimadores!$D$6:$AB$6,0)),\"-\")","v":"-"},{"$f":"IFERROR(INDEX([4]Estimadores!$D$7:$AB$38,MATCH(P$287,[4]Estimadores!$B$7:$B$38,0),MATCH($B324,[4]Estimadores!$D$6:$AB$6,0)),\"-\")","v":"-"},{"$f":"IFERROR(INDEX([4]Estimadores!$D$7:$AB$38,MATCH(Q$287,[4]Estimadores!$B$7:$B$38,0),MATCH($B324,[4]Estimadores!$D$6:$AB$6,0)),\"-\")","v":"-"},{"$f":"IFERROR(INDEX([4]Estimadores!$D$7:$AB$38,MATCH(R$287,[4]Estimadores!$B$7:$B$38,0),MATCH($B324,[4]Estimadores!$D$6:$AB$6,0)),\"-\")","v":"-"},{"$f":"IFERROR(INDEX([4]Estimadores!$D$7:$AB$38,MATCH(S$287,[4]Estimadores!$B$7:$B$38,0),MATCH($B324,[4]Estimadores!$D$6:$AB$6,0)),\"-\")","v":"-"},{"$f":"IFERROR(INDEX([4]Estimadores!$D$7:$AB$38,MATCH(T$287,[4]Estimadores!$B$7:$B$38,0),MATCH($B324,[4]Estimadores!$D$6:$AB$6,0)),\"-\")","v":"-"},{"$f":"IFERROR(INDEX([4]Estimadores!$D$7:$AB$38,MATCH(U$287,[4]Estimadores!$B$7:$B$38,0),MATCH($B324,[4]Estimadores!$D$6:$AB$6,0)),\"-\")","v":"-"},{"$f":"IFERROR(INDEX([4]Estimadores!$D$7:$AB$38,MATCH(V$287,[4]Estimadores!$B$7:$B$38,0),MATCH($B324,[4]Estimadores!$D$6:$AB$6,0)),\"-\")","v":"-"},{"$f":"IFERROR(INDEX([4]Estimadores!$D$7:$AB$38,MATCH(W$287,[4]Estimadores!$B$7:$B$38,0),MATCH($B324,[4]Estimadores!$D$6:$AB$6,0)),\"-\")","v":"-"},{"$f":"IFERROR(INDEX([4]Estimadores!$D$7:$AB$38,MATCH(X$287,[4]Estimadores!$B$7:$B$38,0),MATCH($B324,[4]Estimadores!$D$6:$AB$6,0)),\"-\")","v":"-"},{"$f":"IFERROR(INDEX([4]Estimadores!$D$7:$AB$38,MATCH(Y$287,[4]Estimadores!$B$7:$B$38,0),MATCH($B324,[4]Estimadores!$D$6:$AB$6,0)),\"-\")","v":"-"},{"$f":"IFERROR(INDEX([4]Estimadores!$D$7:$AB$38,MATCH(Z$287,[4]Estimadores!$B$7:$B$38,0),MATCH($B324,[4]Estimadores!$D$6:$AB$6,0)),\"-\")","v":"-"},{"$f":"IFERROR(INDEX([4]Estimadores!$D$7:$AB$38,MATCH(AA$287,[4]Estimadores!$B$7:$B$38,0),MATCH($B324,[4]Estimadores!$D$6:$AB$6,0)),\"-\")","v":"-"},{"$f":"IFERROR(INDEX([4]Estimadores!$D$7:$AB$38,MATCH(AB$287,[4]Estimadores!$B$7:$B$38,0),MATCH($B324,[4]Estimadores!$D$6:$AB$6,0)),\"-\")","v":"-"},{"$f":"IFERROR(INDEX([4]Estimadores!$D$7:$AB$38,MATCH(AC$287,[4]Estimadores!$B$7:$B$38,0),MATCH($B324,[4]Estimadores!$D$6:$AB$6,0)),\"-\")","v":"-"},{"$f":"IFERROR(INDEX([4]Estimadores!$D$7:$AB$38,MATCH(AD$287,[4]Estimadores!$B$7:$B$38,0),MATCH($B324,[4]Estimadores!$D$6:$AB$6,0)),\"-\")","v":"-"},{"$f":"IFERROR(INDEX([4]Estimadores!$D$7:$AB$38,MATCH(AE$287,[4]Estimadores!$B$7:$B$38,0),MATCH($B324,[4]Estimadores!$D$6:$AB$6,0)),\"-\")","v":"-"},{"$f":"IFERROR(INDEX([4]Estimadores!$D$7:$AB$38,MATCH(AF$287,[4]Estimadores!$B$7:$B$38,0),MATCH($B324,[4]Estimadores!$D$6:$AB$6,0)),\"-\")","v":"-"},{"$f":"IFERROR(INDEX([4]Estimadores!$D$7:$AB$38,MATCH(AG$287,[4]Estimadores!$B$7:$B$38,0),MATCH($B324,[4]Estimadores!$D$6:$AB$6,0)),\"-\")","v":"-"},{"$f":"IFERROR(INDEX([4]Estimadores!$D$7:$AB$38,MATCH(AH$287,[4]Estimadores!$B$7:$B$38,0),MATCH($B324,[4]Estimadores!$D$6:$AB$6,0)),\"-\")","v":"-"},{"$f":"IFERROR(INDEX([4]Estimadores!$D$7:$AB$38,MATCH(AI$287,[4]Estimadores!$B$7:$B$38,0),MATCH($B324,[4]Estimadores!$D$6:$AB$6,0)),\"-\")","v":"-"}]
[null,"","",{"$f":"IFERROR(INDEX([4]Estimadores!$D$7:$AB$38,MATCH(D$287,[4]Estimadores!$B$7:$B$38,0),MATCH($B325,[4]Estimadores!$D$6:$AB$6,0)),\"-\")","v":"-"},{"$f":"IFERROR(INDEX([4]Estimadores!$D$7:$AB$38,MATCH(E$287,[4]Estimadores!$B$7:$B$38,0),MATCH($B325,[4]Estimadores!$D$6:$AB$6,0)),\"-\")","v":"-"},{"$f":"IFERROR(INDEX([4]Estimadores!$D$7:$AB$38,MATCH(F$287,[4]Estimadores!$B$7:$B$38,0),MATCH($B325,[4]Estimadores!$D$6:$AB$6,0)),\"-\")","v":"-"},{"$f":"IFERROR(INDEX([4]Estimadores!$D$7:$AB$38,MATCH(G$287,[4]Estimadores!$B$7:$B$38,0),MATCH($B325,[4]Estimadores!$D$6:$AB$6,0)),\"-\")","v":"-"},{"$f":"IFERROR(INDEX([4]Estimadores!$D$7:$AB$38,MATCH(H$287,[4]Estimadores!$B$7:$B$38,0),MATCH($B325,[4]Estimadores!$D$6:$AB$6,0)),\"-\")","v":"-"},{"$f":"IFERROR(INDEX([4]Estimadores!$D$7:$AB$38,MATCH(I$287,[4]Estimadores!$B$7:$B$38,0),MATCH($B325,[4]Estimadores!$D$6:$AB$6,0)),\"-\")","v":"-"},{"$f":"IFERROR(INDEX([4]Estimadores!$D$7:$AB$38,MATCH(J$287,[4]Estimadores!$B$7:$B$38,0),MATCH($B325,[4]Estimadores!$D$6:$AB$6,0)),\"-\")","v":"-"},{"$f":"IFERROR(INDEX([4]Estimadores!$D$7:$AB$38,MATCH(K$287,[4]Estimadores!$B$7:$B$38,0),MATCH($B325,[4]Estimadores!$D$6:$AB$6,0)),\"-\")","v":"-"},{"$f":"IFERROR(INDEX([4]Estimadores!$D$7:$AB$38,MATCH(L$287,[4]Estimadores!$B$7:$B$38,0),MATCH($B325,[4]Estimadores!$D$6:$AB$6,0)),\"-\")","v":"-"},{"$f":"IFERROR(INDEX([4]Estimadores!$D$7:$AB$38,MATCH(M$287,[4]Estimadores!$B$7:$B$38,0),MATCH($B325,[4]Estimadores!$D$6:$AB$6,0)),\"-\")","v":"-"},{"$f":"IFERROR(INDEX([4]Estimadores!$D$7:$AB$38,MATCH(N$287,[4]Estimadores!$B$7:$B$38,0),MATCH($B325,[4]Estimadores!$D$6:$AB$6,0)),\"-\")","v":"-"},{"$f":"IFERROR(INDEX([4]Estimadores!$D$7:$AB$38,MATCH(O$287,[4]Estimadores!$B$7:$B$38,0),MATCH($B325,[4]Estimadores!$D$6:$AB$6,0)),\"-\")","v":"-"},{"$f":"IFERROR(INDEX([4]Estimadores!$D$7:$AB$38,MATCH(P$287,[4]Estimadores!$B$7:$B$38,0),MATCH($B325,[4]Estimadores!$D$6:$AB$6,0)),\"-\")","v":"-"},{"$f":"IFERROR(INDEX([4]Estimadores!$D$7:$AB$38,MATCH(Q$287,[4]Estimadores!$B$7:$B$38,0),MATCH($B325,[4]Estimadores!$D$6:$AB$6,0)),\"-\")","v":"-"},{"$f":"IFERROR(INDEX([4]Estimadores!$D$7:$AB$38,MATCH(R$287,[4]Estimadores!$B$7:$B$38,0),MATCH($B325,[4]Estimadores!$D$6:$AB$6,0)),\"-\")","v":"-"},{"$f":"IFERROR(INDEX([4]Estimadores!$D$7:$AB$38,MATCH(S$287,[4]Estimadores!$B$7:$B$38,0),MATCH($B325,[4]Estimadores!$D$6:$AB$6,0)),\"-\")","v":"-"},{"$f":"IFERROR(INDEX([4]Estimadores!$D$7:$AB$38,MATCH(T$287,[4]Estimadores!$B$7:$B$38,0),MATCH($B325,[4]Estimadores!$D$6:$AB$6,0)),\"-\")","v":"-"},{"$f":"IFERROR(INDEX([4]Estimadores!$D$7:$AB$38,MATCH(U$287,[4]Estimadores!$B$7:$B$38,0),MATCH($B325,[4]Estimadores!$D$6:$AB$6,0)),\"-\")","v":"-"},{"$f":"IFERROR(INDEX([4]Estimadores!$D$7:$AB$38,MATCH(V$287,[4]Estimadores!$B$7:$B$38,0),MATCH($B325,[4]Estimadores!$D$6:$AB$6,0)),\"-\")","v":"-"},{"$f":"IFERROR(INDEX([4]Estimadores!$D$7:$AB$38,MATCH(W$287,[4]Estimadores!$B$7:$B$38,0),MATCH($B325,[4]Estimadores!$D$6:$AB$6,0)),\"-\")","v":"-"},{"$f":"IFERROR(INDEX([4]Estimadores!$D$7:$AB$38,MATCH(X$287,[4]Estimadores!$B$7:$B$38,0),MATCH($B325,[4]Estimadores!$D$6:$AB$6,0)),\"-\")","v":"-"},{"$f":"IFERROR(INDEX([4]Estimadores!$D$7:$AB$38,MATCH(Y$287,[4]Estimadores!$B$7:$B$38,0),MATCH($B325,[4]Estimadores!$D$6:$AB$6,0)),\"-\")","v":"-"},{"$f":"IFERROR(INDEX([4]Estimadores!$D$7:$AB$38,MATCH(Z$287,[4]Estimadores!$B$7:$B$38,0),MATCH($B325,[4]Estimadores!$D$6:$AB$6,0)),\"-\")","v":"-"},{"$f":"IFERROR(INDEX([4]Estimadores!$D$7:$AB$38,MATCH(AA$287,[4]Estimadores!$B$7:$B$38,0),MATCH($B325,[4]Estimadores!$D$6:$AB$6,0)),\"-\")","v":"-"},{"$f":"IFERROR(INDEX([4]Estimadores!$D$7:$AB$38,MATCH(AB$287,[4]Estimadores!$B$7:$B$38,0),MATCH($B325,[4]Estimadores!$D$6:$AB$6,0)),\"-\")","v":"-"},{"$f":"IFERROR(INDEX([4]Estimadores!$D$7:$AB$38,MATCH(AC$287,[4]Estimadores!$B$7:$B$38,0),MATCH($B325,[4]Estimadores!$D$6:$AB$6,0)),\"-\")","v":"-"},{"$f":"IFERROR(INDEX([4]Estimadores!$D$7:$AB$38,MATCH(AD$287,[4]Estimadores!$B$7:$B$38,0),MATCH($B325,[4]Estimadores!$D$6:$AB$6,0)),\"-\")","v":"-"},{"$f":"IFERROR(INDEX([4]Estimadores!$D$7:$AB$38,MATCH(AE$287,[4]Estimadores!$B$7:$B$38,0),MATCH($B325,[4]Estimadores!$D$6:$AB$6,0)),\"-\")","v":"-"},{"$f":"IFERROR(INDEX([4]Estimadores!$D$7:$AB$38,MATCH(AF$287,[4]Estimadores!$B$7:$B$38,0),MATCH($B325,[4]Estimadores!$D$6:$AB$6,0)),\"-\")","v":"-"},{"$f":"IFERROR(INDEX([4]Estimadores!$D$7:$AB$38,MATCH(AG$287,[4]Estimadores!$B$7:$B$38,0),MATCH($B325,[4]Estimadores!$D$6:$AB$6,0)),\"-\")","v":"-"},{"$f":"IFERROR(INDEX([4]Estimadores!$D$7:$AB$38,MATCH(AH$287,[4]Estimadores!$B$7:$B$38,0),MATCH($B325,[4]Estimadores!$D$6:$AB$6,0)),\"-\")","v":"-"},{"$f":"IFERROR(INDEX([4]Estimadores!$D$7:$AB$38,MATCH(AI$287,[4]Estimadores!$B$7:$B$38,0),MATCH($B325,[4]Estimadores!$D$6:$AB$6,0)),\"-\")","v":"-"}]
[null,"","",{"$f":"IFERROR(INDEX([4]Estimadores!$D$7:$AB$38,MATCH(D$287,[4]Estimadores!$B$7:$B$38,0),MATCH($B326,[4]Estimadores!$D$6:$AB$6,0)),\"-\")","v":"-"},{"$f":"IFERROR(INDEX([4]Estimadores!$D$7:$AB$38,MATCH(E$287,[4]Estimadores!$B$7:$B$38,0),MATCH($B326,[4]Estimadores!$D$6:$AB$6,0)),\"-\")","v":"-"},{"$f":"IFERROR(INDEX([4]Estimadores!$D$7:$AB$38,MATCH(F$287,[4]Estimadores!$B$7:$B$38,0),MATCH($B326,[4]Estimadores!$D$6:$AB$6,0)),\"-\")","v":"-"},{"$f":"IFERROR(INDEX([4]Estimadores!$D$7:$AB$38,MATCH(G$287,[4]Estimadores!$B$7:$B$38,0),MATCH($B326,[4]Estimadores!$D$6:$AB$6,0)),\"-\")","v":"-"},{"$f":"IFERROR(INDEX([4]Estimadores!$D$7:$AB$38,MATCH(H$287,[4]Estimadores!$B$7:$B$38,0),MATCH($B326,[4]Estimadores!$D$6:$AB$6,0)),\"-\")","v":"-"},{"$f":"IFERROR(INDEX([4]Estimadores!$D$7:$AB$38,MATCH(I$287,[4]Estimadores!$B$7:$B$38,0),MATCH($B326,[4]Estimadores!$D$6:$AB$6,0)),\"-\")","v":"-"},{"$f":"IFERROR(INDEX([4]Estimadores!$D$7:$AB$38,MATCH(J$287,[4]Estimadores!$B$7:$B$38,0),MATCH($B326,[4]Estimadores!$D$6:$AB$6,0)),\"-\")","v":"-"},{"$f":"IFERROR(INDEX([4]Estimadores!$D$7:$AB$38,MATCH(K$287,[4]Estimadores!$B$7:$B$38,0),MATCH($B326,[4]Estimadores!$D$6:$AB$6,0)),\"-\")","v":"-"},{"$f":"IFERROR(INDEX([4]Estimadores!$D$7:$AB$38,MATCH(L$287,[4]Estimadores!$B$7:$B$38,0),MATCH($B326,[4]Estimadores!$D$6:$AB$6,0)),\"-\")","v":"-"},{"$f":"IFERROR(INDEX([4]Estimadores!$D$7:$AB$38,MATCH(M$287,[4]Estimadores!$B$7:$B$38,0),MATCH($B326,[4]Estimadores!$D$6:$AB$6,0)),\"-\")","v":"-"},{"$f":"IFERROR(INDEX([4]Estimadores!$D$7:$AB$38,MATCH(N$287,[4]Estimadores!$B$7:$B$38,0),MATCH($B326,[4]Estimadores!$D$6:$AB$6,0)),\"-\")","v":"-"},{"$f":"IFERROR(INDEX([4]Estimadores!$D$7:$AB$38,MATCH(O$287,[4]Estimadores!$B$7:$B$38,0),MATCH($B326,[4]Estimadores!$D$6:$AB$6,0)),\"-\")","v":"-"},{"$f":"IFERROR(INDEX([4]Estimadores!$D$7:$AB$38,MATCH(P$287,[4]Estimadores!$B$7:$B$38,0),MATCH($B326,[4]Estimadores!$D$6:$AB$6,0)),\"-\")","v":"-"},{"$f":"IFERROR(INDEX([4]Estimadores!$D$7:$AB$38,MATCH(Q$287,[4]Estimadores!$B$7:$B$38,0),MATCH($B326,[4]Estimadores!$D$6:$AB$6,0)),\"-\")","v":"-"},{"$f":"IFERROR(INDEX([4]Estimadores!$D$7:$AB$38,MATCH(R$287,[4]Estimadores!$B$7:$B$38,0),MATCH($B326,[4]Estimadores!$D$6:$AB$6,0)),\"-\")","v":"-"},{"$f":"IFERROR(INDEX([4]Estimadores!$D$7:$AB$38,MATCH(S$287,[4]Estimadores!$B$7:$B$38,0),MATCH($B326,[4]Estimadores!$D$6:$AB$6,0)),\"-\")","v":"-"},{"$f":"IFERROR(INDEX([4]Estimadores!$D$7:$AB$38,MATCH(T$287,[4]Estimadores!$B$7:$B$38,0),MATCH($B326,[4]Estimadores!$D$6:$AB$6,0)),\"-\")","v":"-"},{"$f":"IFERROR(INDEX([4]Estimadores!$D$7:$AB$38,MATCH(U$287,[4]Estimadores!$B$7:$B$38,0),MATCH($B326,[4]Estimadores!$D$6:$AB$6,0)),\"-\")","v":"-"},{"$f":"IFERROR(INDEX([4]Estimadores!$D$7:$AB$38,MATCH(V$287,[4]Estimadores!$B$7:$B$38,0),MATCH($B326,[4]Estimadores!$D$6:$AB$6,0)),\"-\")","v":"-"},{"$f":"IFERROR(INDEX([4]Estimadores!$D$7:$AB$38,MATCH(W$287,[4]Estimadores!$B$7:$B$38,0),MATCH($B326,[4]Estimadores!$D$6:$AB$6,0)),\"-\")","v":"-"},{"$f":"IFERROR(INDEX([4]Estimadores!$D$7:$AB$38,MATCH(X$287,[4]Estimadores!$B$7:$B$38,0),MATCH($B326,[4]Estimadores!$D$6:$AB$6,0)),\"-\")","v":"-"},{"$f":"IFERROR(INDEX([4]Estimadores!$D$7:$AB$38,MATCH(Y$287,[4]Estimadores!$B$7:$B$38,0),MATCH($B326,[4]Estimadores!$D$6:$AB$6,0)),\"-\")","v":"-"},{"$f":"IFERROR(INDEX([4]Estimadores!$D$7:$AB$38,MATCH(Z$287,[4]Estimadores!$B$7:$B$38,0),MATCH($B326,[4]Estimadores!$D$6:$AB$6,0)),\"-\")","v":"-"},{"$f":"IFERROR(INDEX([4]Estimadores!$D$7:$AB$38,MATCH(AA$287,[4]Estimadores!$B$7:$B$38,0),MATCH($B326,[4]Estimadores!$D$6:$AB$6,0)),\"-\")","v":"-"},{"$f":"IFERROR(INDEX([4]Estimadores!$D$7:$AB$38,MATCH(AB$287,[4]Estimadores!$B$7:$B$38,0),MATCH($B326,[4]Estimadores!$D$6:$AB$6,0)),\"-\")","v":"-"},{"$f":"IFERROR(INDEX([4]Estimadores!$D$7:$AB$38,MATCH(AC$287,[4]Estimadores!$B$7:$B$38,0),MATCH($B326,[4]Estimadores!$D$6:$AB$6,0)),\"-\")","v":"-"},{"$f":"IFERROR(INDEX([4]Estimadores!$D$7:$AB$38,MATCH(AD$287,[4]Estimadores!$B$7:$B$38,0),MATCH($B326,[4]Estimadores!$D$6:$AB$6,0)),\"-\")","v":"-"},{"$f":"IFERROR(INDEX([4]Estimadores!$D$7:$AB$38,MATCH(AE$287,[4]Estimadores!$B$7:$B$38,0),MATCH($B326,[4]Estimadores!$D$6:$AB$6,0)),\"-\")","v":"-"},{"$f":"IFERROR(INDEX([4]Estimadores!$D$7:$AB$38,MATCH(AF$287,[4]Estimadores!$B$7:$B$38,0),MATCH($B326,[4]Estimadores!$D$6:$AB$6,0)),\"-\")","v":"-"},{"$f":"IFERROR(INDEX([4]Estimadores!$D$7:$AB$38,MATCH(AG$287,[4]Estimadores!$B$7:$B$38,0),MATCH($B326,[4]Estimadores!$D$6:$AB$6,0)),\"-\")","v":"-"},{"$f":"IFERROR(INDEX([4]Estimadores!$D$7:$AB$38,MATCH(AH$287,[4]Estimadores!$B$7:$B$38,0),MATCH($B326,[4]Estimadores!$D$6:$AB$6,0)),\"-\")","v":"-"},{"$f":"IFERROR(INDEX([4]Estimadores!$D$7:$AB$38,MATCH(AI$287,[4]Estimadores!$B$7:$B$38,0),MATCH($B326,[4]Estimadores!$D$6:$AB$6,0)),\"-\")","v":"-"}]
[null,"","",{"$f":"IFERROR(INDEX([4]Estimadores!$D$7:$AB$38,MATCH(D$287,[4]Estimadores!$B$7:$B$38,0),MATCH($B327,[4]Estimadores!$D$6:$AB$6,0)),\"-\")","v":"-"},{"$f":"IFERROR(INDEX([4]Estimadores!$D$7:$AB$38,MATCH(E$287,[4]Estimadores!$B$7:$B$38,0),MATCH($B327,[4]Estimadores!$D$6:$AB$6,0)),\"-\")","v":"-"},{"$f":"IFERROR(INDEX([4]Estimadores!$D$7:$AB$38,MATCH(F$287,[4]Estimadores!$B$7:$B$38,0),MATCH($B327,[4]Estimadores!$D$6:$AB$6,0)),\"-\")","v":"-"},{"$f":"IFERROR(INDEX([4]Estimadores!$D$7:$AB$38,MATCH(G$287,[4]Estimadores!$B$7:$B$38,0),MATCH($B327,[4]Estimadores!$D$6:$AB$6,0)),\"-\")","v":"-"},{"$f":"IFERROR(INDEX([4]Estimadores!$D$7:$AB$38,MATCH(H$287,[4]Estimadores!$B$7:$B$38,0),MATCH($B327,[4]Estimadores!$D$6:$AB$6,0)),\"-\")","v":"-"},{"$f":"IFERROR(INDEX([4]Estimadores!$D$7:$AB$38,MATCH(I$287,[4]Estimadores!$B$7:$B$38,0),MATCH($B327,[4]Estimadores!$D$6:$AB$6,0)),\"-\")","v":"-"},{"$f":"IFERROR(INDEX([4]Estimadores!$D$7:$AB$38,MATCH(J$287,[4]Estimadores!$B$7:$B$38,0),MATCH($B327,[4]Estimadores!$D$6:$AB$6,0)),\"-\")","v":"-"},{"$f":"IFERROR(INDEX([4]Estimadores!$D$7:$AB$38,MATCH(K$287,[4]Estimadores!$B$7:$B$38,0),MATCH($B327,[4]Estimadores!$D$6:$AB$6,0)),\"-\")","v":"-"},{"$f":"IFERROR(INDEX([4]Estimadores!$D$7:$AB$38,MATCH(L$287,[4]Estimadores!$B$7:$B$38,0),MATCH($B327,[4]Estimadores!$D$6:$AB$6,0)),\"-\")","v":"-"},{"$f":"IFERROR(INDEX([4]Estimadores!$D$7:$AB$38,MATCH(M$287,[4]Estimadores!$B$7:$B$38,0),MATCH($B327,[4]Estimadores!$D$6:$AB$6,0)),\"-\")","v":"-"},{"$f":"IFERROR(INDEX([4]Estimadores!$D$7:$AB$38,MATCH(N$287,[4]Estimadores!$B$7:$B$38,0),MATCH($B327,[4]Estimadores!$D$6:$AB$6,0)),\"-\")","v":"-"},{"$f":"IFERROR(INDEX([4]Estimadores!$D$7:$AB$38,MATCH(O$287,[4]Estimadores!$B$7:$B$38,0),MATCH($B327,[4]Estimadores!$D$6:$AB$6,0)),\"-\")","v":"-"},{"$f":"IFERROR(INDEX([4]Estimadores!$D$7:$AB$38,MATCH(P$287,[4]Estimadores!$B$7:$B$38,0),MATCH($B327,[4]Estimadores!$D$6:$AB$6,0)),\"-\")","v":"-"},{"$f":"IFERROR(INDEX([4]Estimadores!$D$7:$AB$38,MATCH(Q$287,[4]Estimadores!$B$7:$B$38,0),MATCH($B327,[4]Estimadores!$D$6:$AB$6,0)),\"-\")","v":"-"},{"$f":"IFERROR(INDEX([4]Estimadores!$D$7:$AB$38,MATCH(R$287,[4]Estimadores!$B$7:$B$38,0),MATCH($B327,[4]Estimadores!$D$6:$AB$6,0)),\"-\")","v":"-"},{"$f":"IFERROR(INDEX([4]Estimadores!$D$7:$AB$38,MATCH(S$287,[4]Estimadores!$B$7:$B$38,0),MATCH($B327,[4]Estimadores!$D$6:$AB$6,0)),\"-\")","v":"-"},{"$f":"IFERROR(INDEX([4]Estimadores!$D$7:$AB$38,MATCH(T$287,[4]Estimadores!$B$7:$B$38,0),MATCH($B327,[4]Estimadores!$D$6:$AB$6,0)),\"-\")","v":"-"},{"$f":"IFERROR(INDEX([4]Estimadores!$D$7:$AB$38,MATCH(U$287,[4]Estimadores!$B$7:$B$38,0),MATCH($B327,[4]Estimadores!$D$6:$AB$6,0)),\"-\")","v":"-"},{"$f":"IFERROR(INDEX([4]Estimadores!$D$7:$AB$38,MATCH(V$287,[4]Estimadores!$B$7:$B$38,0),MATCH($B327,[4]Estimadores!$D$6:$AB$6,0)),\"-\")","v":"-"},{"$f":"IFERROR(INDEX([4]Estimadores!$D$7:$AB$38,MATCH(W$287,[4]Estimadores!$B$7:$B$38,0),MATCH($B327,[4]Estimadores!$D$6:$AB$6,0)),\"-\")","v":"-"},{"$f":"IFERROR(INDEX([4]Estimadores!$D$7:$AB$38,MATCH(X$287,[4]Estimadores!$B$7:$B$38,0),MATCH($B327,[4]Estimadores!$D$6:$AB$6,0)),\"-\")","v":"-"},{"$f":"IFERROR(INDEX([4]Estimadores!$D$7:$AB$38,MATCH(Y$287,[4]Estimadores!$B$7:$B$38,0),MATCH($B327,[4]Estimadores!$D$6:$AB$6,0)),\"-\")","v":"-"},{"$f":"IFERROR(INDEX([4]Estimadores!$D$7:$AB$38,MATCH(Z$287,[4]Estimadores!$B$7:$B$38,0),MATCH($B327,[4]Estimadores!$D$6:$AB$6,0)),\"-\")","v":"-"},{"$f":"IFERROR(INDEX([4]Estimadores!$D$7:$AB$38,MATCH(AA$287,[4]Estimadores!$B$7:$B$38,0),MATCH($B327,[4]Estimadores!$D$6:$AB$6,0)),\"-\")","v":"-"},{"$f":"IFERROR(INDEX([4]Estimadores!$D$7:$AB$38,MATCH(AB$287,[4]Estimadores!$B$7:$B$38,0),MATCH($B327,[4]Estimadores!$D$6:$AB$6,0)),\"-\")","v":"-"},{"$f":"IFERROR(INDEX([4]Estimadores!$D$7:$AB$38,MATCH(AC$287,[4]Estimadores!$B$7:$B$38,0),MATCH($B327,[4]Estimadores!$D$6:$AB$6,0)),\"-\")","v":"-"},{"$f":"IFERROR(INDEX([4]Estimadores!$D$7:$AB$38,MATCH(AD$287,[4]Estimadores!$B$7:$B$38,0),MATCH($B327,[4]Estimadores!$D$6:$AB$6,0)),\"-\")","v":"-"},{"$f":"IFERROR(INDEX([4]Estimadores!$D$7:$AB$38,MATCH(AE$287,[4]Estimadores!$B$7:$B$38,0),MATCH($B327,[4]Estimadores!$D$6:$AB$6,0)),\"-\")","v":"-"},{"$f":"IFERROR(INDEX([4]Estimadores!$D$7:$AB$38,MATCH(AF$287,[4]Estimadores!$B$7:$B$38,0),MATCH($B327,[4]Estimadores!$D$6:$AB$6,0)),\"-\")","v":"-"},{"$f":"IFERROR(INDEX([4]Estimadores!$D$7:$AB$38,MATCH(AG$287,[4]Estimadores!$B$7:$B$38,0),MATCH($B327,[4]Estimadores!$D$6:$AB$6,0)),\"-\")","v":"-"},{"$f":"IFERROR(INDEX([4]Estimadores!$D$7:$AB$38,MATCH(AH$287,[4]Estimadores!$B$7:$B$38,0),MATCH($B327,[4]Estimadores!$D$6:$AB$6,0)),\"-\")","v":"-"},{"$f":"IFERROR(INDEX([4]Estimadores!$D$7:$AB$38,MATCH(AI$287,[4]Estimadores!$B$7:$B$38,0),MATCH($B327,[4]Estimadores!$D$6:$AB$6,0)),\"-\")","v":"-"}]
[null,"","",{"$f":"IFERROR(INDEX([4]Estimadores!$D$7:$AB$38,MATCH(D$287,[4]Estimadores!$B$7:$B$38,0),MATCH($B328,[4]Estimadores!$D$6:$AB$6,0)),\"-\")","v":"-"},{"$f":"IFERROR(INDEX([4]Estimadores!$D$7:$AB$38,MATCH(E$287,[4]Estimadores!$B$7:$B$38,0),MATCH($B328,[4]Estimadores!$D$6:$AB$6,0)),\"-\")","v":"-"},{"$f":"IFERROR(INDEX([4]Estimadores!$D$7:$AB$38,MATCH(F$287,[4]Estimadores!$B$7:$B$38,0),MATCH($B328,[4]Estimadores!$D$6:$AB$6,0)),\"-\")","v":"-"},{"$f":"IFERROR(INDEX([4]Estimadores!$D$7:$AB$38,MATCH(G$287,[4]Estimadores!$B$7:$B$38,0),MATCH($B328,[4]Estimadores!$D$6:$AB$6,0)),\"-\")","v":"-"},{"$f":"IFERROR(INDEX([4]Estimadores!$D$7:$AB$38,MATCH(H$287,[4]Estimadores!$B$7:$B$38,0),MATCH($B328,[4]Estimadores!$D$6:$AB$6,0)),\"-\")","v":"-"},{"$f":"IFERROR(INDEX([4]Estimadores!$D$7:$AB$38,MATCH(I$287,[4]Estimadores!$B$7:$B$38,0),MATCH($B328,[4]Estimadores!$D$6:$AB$6,0)),\"-\")","v":"-"},{"$f":"IFERROR(INDEX([4]Estimadores!$D$7:$AB$38,MATCH(J$287,[4]Estimadores!$B$7:$B$38,0),MATCH($B328,[4]Estimadores!$D$6:$AB$6,0)),\"-\")","v":"-"},{"$f":"IFERROR(INDEX([4]Estimadores!$D$7:$AB$38,MATCH(K$287,[4]Estimadores!$B$7:$B$38,0),MATCH($B328,[4]Estimadores!$D$6:$AB$6,0)),\"-\")","v":"-"},{"$f":"IFERROR(INDEX([4]Estimadores!$D$7:$AB$38,MATCH(L$287,[4]Estimadores!$B$7:$B$38,0),MATCH($B328,[4]Estimadores!$D$6:$AB$6,0)),\"-\")","v":"-"},{"$f":"IFERROR(INDEX([4]Estimadores!$D$7:$AB$38,MATCH(M$287,[4]Estimadores!$B$7:$B$38,0),MATCH($B328,[4]Estimadores!$D$6:$AB$6,0)),\"-\")","v":"-"},{"$f":"IFERROR(INDEX([4]Estimadores!$D$7:$AB$38,MATCH(N$287,[4]Estimadores!$B$7:$B$38,0),MATCH($B328,[4]Estimadores!$D$6:$AB$6,0)),\"-\")","v":"-"},{"$f":"IFERROR(INDEX([4]Estimadores!$D$7:$AB$38,MATCH(O$287,[4]Estimadores!$B$7:$B$38,0),MATCH($B328,[4]Estimadores!$D$6:$AB$6,0)),\"-\")","v":"-"},{"$f":"IFERROR(INDEX([4]Estimadores!$D$7:$AB$38,MATCH(P$287,[4]Estimadores!$B$7:$B$38,0),MATCH($B328,[4]Estimadores!$D$6:$AB$6,0)),\"-\")","v":"-"},{"$f":"IFERROR(INDEX([4]Estimadores!$D$7:$AB$38,MATCH(Q$287,[4]Estimadores!$B$7:$B$38,0),MATCH($B328,[4]Estimadores!$D$6:$AB$6,0)),\"-\")","v":"-"},{"$f":"IFERROR(INDEX([4]Estimadores!$D$7:$AB$38,MATCH(R$287,[4]Estimadores!$B$7:$B$38,0),MATCH($B328,[4]Estimadores!$D$6:$AB$6,0)),\"-\")","v":"-"},{"$f":"IFERROR(INDEX([4]Estimadores!$D$7:$AB$38,MATCH(S$287,[4]Estimadores!$B$7:$B$38,0),MATCH($B328,[4]Estimadores!$D$6:$AB$6,0)),\"-\")","v":"-"},{"$f":"IFERROR(INDEX([4]Estimadores!$D$7:$AB$38,MATCH(T$287,[4]Estimadores!$B$7:$B$38,0),MATCH($B328,[4]Estimadores!$D$6:$AB$6,0)),\"-\")","v":"-"},{"$f":"IFERROR(INDEX([4]Estimadores!$D$7:$AB$38,MATCH(U$287,[4]Estimadores!$B$7:$B$38,0),MATCH($B328,[4]Estimadores!$D$6:$AB$6,0)),\"-\")","v":"-"},{"$f":"IFERROR(INDEX([4]Estimadores!$D$7:$AB$38,MATCH(V$287,[4]Estimadores!$B$7:$B$38,0),MATCH($B328,[4]Estimadores!$D$6:$AB$6,0)),\"-\")","v":"-"},{"$f":"IFERROR(INDEX([4]Estimadores!$D$7:$AB$38,MATCH(W$287,[4]Estimadores!$B$7:$B$38,0),MATCH($B328,[4]Estimadores!$D$6:$AB$6,0)),\"-\")","v":"-"},{"$f":"IFERROR(INDEX([4]Estimadores!$D$7:$AB$38,MATCH(X$287,[4]Estimadores!$B$7:$B$38,0),MATCH($B328,[4]Estimadores!$D$6:$AB$6,0)),\"-\")","v":"-"},{"$f":"IFERROR(INDEX([4]Estimadores!$D$7:$AB$38,MATCH(Y$287,[4]Estimadores!$B$7:$B$38,0),MATCH($B328,[4]Estimadores!$D$6:$AB$6,0)),\"-\")","v":"-"},{"$f":"IFERROR(INDEX([4]Estimadores!$D$7:$AB$38,MATCH(Z$287,[4]Estimadores!$B$7:$B$38,0),MATCH($B328,[4]Estimadores!$D$6:$AB$6,0)),\"-\")","v":"-"},{"$f":"IFERROR(INDEX([4]Estimadores!$D$7:$AB$38,MATCH(AA$287,[4]Estimadores!$B$7:$B$38,0),MATCH($B328,[4]Estimadores!$D$6:$AB$6,0)),\"-\")","v":"-"},{"$f":"IFERROR(INDEX([4]Estimadores!$D$7:$AB$38,MATCH(AB$287,[4]Estimadores!$B$7:$B$38,0),MATCH($B328,[4]Estimadores!$D$6:$AB$6,0)),\"-\")","v":"-"},{"$f":"IFERROR(INDEX([4]Estimadores!$D$7:$AB$38,MATCH(AC$287,[4]Estimadores!$B$7:$B$38,0),MATCH($B328,[4]Estimadores!$D$6:$AB$6,0)),\"-\")","v":"-"},{"$f":"IFERROR(INDEX([4]Estimadores!$D$7:$AB$38,MATCH(AD$287,[4]Estimadores!$B$7:$B$38,0),MATCH($B328,[4]Estimadores!$D$6:$AB$6,0)),\"-\")","v":"-"},{"$f":"IFERROR(INDEX([4]Estimadores!$D$7:$AB$38,MATCH(AE$287,[4]Estimadores!$B$7:$B$38,0),MATCH($B328,[4]Estimadores!$D$6:$AB$6,0)),\"-\")","v":"-"},{"$f":"IFERROR(INDEX([4]Estimadores!$D$7:$AB$38,MATCH(AF$287,[4]Estimadores!$B$7:$B$38,0),MATCH($B328,[4]Estimadores!$D$6:$AB$6,0)),\"-\")","v":"-"},{"$f":"IFERROR(INDEX([4]Estimadores!$D$7:$AB$38,MATCH(AG$287,[4]Estimadores!$B$7:$B$38,0),MATCH($B328,[4]Estimadores!$D$6:$AB$6,0)),\"-\")","v":"-"},{"$f":"IFERROR(INDEX([4]Estimadores!$D$7:$AB$38,MATCH(AH$287,[4]Estimadores!$B$7:$B$38,0),MATCH($B328,[4]Estimadores!$D$6:$AB$6,0)),\"-\")","v":"-"},{"$f":"IFERROR(INDEX([4]Estimadores!$D$7:$AB$38,MATCH(AI$287,[4]Estimadores!$B$7:$B$38,0),MATCH($B328,[4]Estimadores!$D$6:$AB$6,0)),\"-\")","v":"-"}]
[null,"",{"$f":"C264","v":""},{"$f":"IFERROR(INDEX([4]Estimadores!$D$7:$AB$38,MATCH(D$287,[4]Estimadores!$B$7:$B$38,0),MATCH($B329,[4]Estimadores!$D$6:$AB$6,0)),\"-\")","v":"-"},{"$f":"IFERROR(INDEX([4]Estimadores!$D$7:$AB$38,MATCH(E$287,[4]Estimadores!$B$7:$B$38,0),MATCH($B329,[4]Estimadores!$D$6:$AB$6,0)),\"-\")","v":"-"},{"$f":"IFERROR(INDEX([4]Estimadores!$D$7:$AB$38,MATCH(F$287,[4]Estimadores!$B$7:$B$38,0),MATCH($B329,[4]Estimadores!$D$6:$AB$6,0)),\"-\")","v":"-"},{"$f":"IFERROR(INDEX([4]Estimadores!$D$7:$AB$38,MATCH(G$287,[4]Estimadores!$B$7:$B$38,0),MATCH($B329,[4]Estimadores!$D$6:$AB$6,0)),\"-\")","v":"-"},{"$f":"IFERROR(INDEX([4]Estimadores!$D$7:$AB$38,MATCH(H$287,[4]Estimadores!$B$7:$B$38,0),MATCH($B329,[4]Estimadores!$D$6:$AB$6,0)),\"-\")","v":"-"},{"$f":"IFERROR(INDEX([4]Estimadores!$D$7:$AB$38,MATCH(I$287,[4]Estimadores!$B$7:$B$38,0),MATCH($B329,[4]Estimadores!$D$6:$AB$6,0)),\"-\")","v":"-"},{"$f":"IFERROR(INDEX([4]Estimadores!$D$7:$AB$38,MATCH(J$287,[4]Estimadores!$B$7:$B$38,0),MATCH($B329,[4]Estimadores!$D$6:$AB$6,0)),\"-\")","v":"-"},{"$f":"IFERROR(INDEX([4]Estimadores!$D$7:$AB$38,MATCH(K$287,[4]Estimadores!$B$7:$B$38,0),MATCH($B329,[4]Estimadores!$D$6:$AB$6,0)),\"-\")","v":"-"},{"$f":"IFERROR(INDEX([4]Estimadores!$D$7:$AB$38,MATCH(L$287,[4]Estimadores!$B$7:$B$38,0),MATCH($B329,[4]Estimadores!$D$6:$AB$6,0)),\"-\")","v":"-"},{"$f":"IFERROR(INDEX([4]Estimadores!$D$7:$AB$38,MATCH(M$287,[4]Estimadores!$B$7:$B$38,0),MATCH($B329,[4]Estimadores!$D$6:$AB$6,0)),\"-\")","v":"-"},{"$f":"IFERROR(INDEX([4]Estimadores!$D$7:$AB$38,MATCH(N$287,[4]Estimadores!$B$7:$B$38,0),MATCH($B329,[4]Estimadores!$D$6:$AB$6,0)),\"-\")","v":"-"},{"$f":"IFERROR(INDEX([4]Estimadores!$D$7:$AB$38,MATCH(O$287,[4]Estimadores!$B$7:$B$38,0),MATCH($B329,[4]Estimadores!$D$6:$AB$6,0)),\"-\")","v":"-"},{"$f":"IFERROR(INDEX([4]Estimadores!$D$7:$AB$38,MATCH(P$287,[4]Estimadores!$B$7:$B$38,0),MATCH($B329,[4]Estimadores!$D$6:$AB$6,0)),\"-\")","v":"-"},{"$f":"IFERROR(INDEX([4]Estimadores!$D$7:$AB$38,MATCH(Q$287,[4]Estimadores!$B$7:$B$38,0),MATCH($B329,[4]Estimadores!$D$6:$AB$6,0)),\"-\")","v":"-"},{"$f":"IFERROR(INDEX([4]Estimadores!$D$7:$AB$38,MATCH(R$287,[4]Estimadores!$B$7:$B$38,0),MATCH($B329,[4]Estimadores!$D$6:$AB$6,0)),\"-\")","v":"-"},{"$f":"IFERROR(INDEX([4]Estimadores!$D$7:$AB$38,MATCH(S$287,[4]Estimadores!$B$7:$B$38,0),MATCH($B329,[4]Estimadores!$D$6:$AB$6,0)),\"-\")","v":"-"},{"$f":"IFERROR(INDEX([4]Estimadores!$D$7:$AB$38,MATCH(T$287,[4]Estimadores!$B$7:$B$38,0),MATCH($B329,[4]Estimadores!$D$6:$AB$6,0)),\"-\")","v":"-"},{"$f":"IFERROR(INDEX([4]Estimadores!$D$7:$AB$38,MATCH(U$287,[4]Estimadores!$B$7:$B$38,0),MATCH($B329,[4]Estimadores!$D$6:$AB$6,0)),\"-\")","v":"-"},{"$f":"IFERROR(INDEX([4]Estimadores!$D$7:$AB$38,MATCH(V$287,[4]Estimadores!$B$7:$B$38,0),MATCH($B329,[4]Estimadores!$D$6:$AB$6,0)),\"-\")","v":"-"},{"$f":"IFERROR(INDEX([4]Estimadores!$D$7:$AB$38,MATCH(W$287,[4]Estimadores!$B$7:$B$38,0),MATCH($B329,[4]Estimadores!$D$6:$AB$6,0)),\"-\")","v":"-"},{"$f":"IFERROR(INDEX([4]Estimadores!$D$7:$AB$38,MATCH(X$287,[4]Estimadores!$B$7:$B$38,0),MATCH($B329,[4]Estimadores!$D$6:$AB$6,0)),\"-\")","v":"-"},{"$f":"IFERROR(INDEX([4]Estimadores!$D$7:$AB$38,MATCH(Y$287,[4]Estimadores!$B$7:$B$38,0),MATCH($B329,[4]Estimadores!$D$6:$AB$6,0)),\"-\")","v":"-"},{"$f":"IFERROR(INDEX([4]Estimadores!$D$7:$AB$38,MATCH(Z$287,[4]Estimadores!$B$7:$B$38,0),MATCH($B329,[4]Estimadores!$D$6:$AB$6,0)),\"-\")","v":"-"},{"$f":"IFERROR(INDEX([4]Estimadores!$D$7:$AB$38,MATCH(AA$287,[4]Estimadores!$B$7:$B$38,0),MATCH($B329,[4]Estimadores!$D$6:$AB$6,0)),\"-\")","v":"-"},{"$f":"IFERROR(INDEX([4]Estimadores!$D$7:$AB$38,MATCH(AB$287,[4]Estimadores!$B$7:$B$38,0),MATCH($B329,[4]Estimadores!$D$6:$AB$6,0)),\"-\")","v":"-"},{"$f":"IFERROR(INDEX([4]Estimadores!$D$7:$AB$38,MATCH(AC$287,[4]Estimadores!$B$7:$B$38,0),MATCH($B329,[4]Estimadores!$D$6:$AB$6,0)),\"-\")","v":"-"},{"$f":"IFERROR(INDEX([4]Estimadores!$D$7:$AB$38,MATCH(AD$287,[4]Estimadores!$B$7:$B$38,0),MATCH($B329,[4]Estimadores!$D$6:$AB$6,0)),\"-\")","v":"-"},{"$f":"IFERROR(INDEX([4]Estimadores!$D$7:$AB$38,MATCH(AE$287,[4]Estimadores!$B$7:$B$38,0),MATCH($B329,[4]Estimadores!$D$6:$AB$6,0)),\"-\")","v":"-"},{"$f":"IFERROR(INDEX([4]Estimadores!$D$7:$AB$38,MATCH(AF$287,[4]Estimadores!$B$7:$B$38,0),MATCH($B329,[4]Estimadores!$D$6:$AB$6,0)),\"-\")","v":"-"},{"$f":"IFERROR(INDEX([4]Estimadores!$D$7:$AB$38,MATCH(AG$287,[4]Estimadores!$B$7:$B$38,0),MATCH($B329,[4]Estimadores!$D$6:$AB$6,0)),\"-\")","v":"-"},{"$f":"IFERROR(INDEX([4]Estimadores!$D$7:$AB$38,MATCH(AH$287,[4]Estimadores!$B$7:$B$38,0),MATCH($B329,[4]Estimadores!$D$6:$AB$6,0)),\"-\")","v":"-"},{"$f":"IFERROR(INDEX([4]Estimadores!$D$7:$AB$38,MATCH(AI$287,[4]Estimadores!$B$7:$B$38,0),MATCH($B329,[4]Estimadores!$D$6:$AB$6,0)),\"-\")","v":"-"}]
[null,"",{"$f":"C265","v":""},{"$f":"IFERROR(INDEX([4]Estimadores!$D$7:$AB$38,MATCH(D$287,[4]Estimadores!$B$7:$B$38,0),MATCH($B330,[4]Estimadores!$D$6:$AB$6,0)),\"-\")","v":"-"},{"$f":"IFERROR(INDEX([4]Estimadores!$D$7:$AB$38,MATCH(E$287,[4]Estimadores!$B$7:$B$38,0),MATCH($B330,[4]Estimadores!$D$6:$AB$6,0)),\"-\")","v":"-"},{"$f":"IFERROR(INDEX([4]Estimadores!$D$7:$AB$38,MATCH(F$287,[4]Estimadores!$B$7:$B$38,0),MATCH($B330,[4]Estimadores!$D$6:$AB$6,0)),\"-\")","v":"-"},{"$f":"IFERROR(INDEX([4]Estimadores!$D$7:$AB$38,MATCH(G$287,[4]Estimadores!$B$7:$B$38,0),MATCH($B330,[4]Estimadores!$D$6:$AB$6,0)),\"-\")","v":"-"},{"$f":"IFERROR(INDEX([4]Estimadores!$D$7:$AB$38,MATCH(H$287,[4]Estimadores!$B$7:$B$38,0),MATCH($B330,[4]Estimadores!$D$6:$AB$6,0)),\"-\")","v":"-"},{"$f":"IFERROR(INDEX([4]Estimadores!$D$7:$AB$38,MATCH(I$287,[4]Estimadores!$B$7:$B$38,0),MATCH($B330,[4]Estimadores!$D$6:$AB$6,0)),\"-\")","v":"-"},{"$f":"IFERROR(INDEX([4]Estimadores!$D$7:$AB$38,MATCH(J$287,[4]Estimadores!$B$7:$B$38,0),MATCH($B330,[4]Estimadores!$D$6:$AB$6,0)),\"-\")","v":"-"},{"$f":"IFERROR(INDEX([4]Estimadores!$D$7:$AB$38,MATCH(K$287,[4]Estimadores!$B$7:$B$38,0),MATCH($B330,[4]Estimadores!$D$6:$AB$6,0)),\"-\")","v":"-"},{"$f":"IFERROR(INDEX([4]Estimadores!$D$7:$AB$38,MATCH(L$287,[4]Estimadores!$B$7:$B$38,0),MATCH($B330,[4]Estimadores!$D$6:$AB$6,0)),\"-\")","v":"-"},{"$f":"IFERROR(INDEX([4]Estimadores!$D$7:$AB$38,MATCH(M$287,[4]Estimadores!$B$7:$B$38,0),MATCH($B330,[4]Estimadores!$D$6:$AB$6,0)),\"-\")","v":"-"},{"$f":"IFERROR(INDEX([4]Estimadores!$D$7:$AB$38,MATCH(N$287,[4]Estimadores!$B$7:$B$38,0),MATCH($B330,[4]Estimadores!$D$6:$AB$6,0)),\"-\")","v":"-"},{"$f":"IFERROR(INDEX([4]Estimadores!$D$7:$AB$38,MATCH(O$287,[4]Estimadores!$B$7:$B$38,0),MATCH($B330,[4]Estimadores!$D$6:$AB$6,0)),\"-\")","v":"-"},{"$f":"IFERROR(INDEX([4]Estimadores!$D$7:$AB$38,MATCH(P$287,[4]Estimadores!$B$7:$B$38,0),MATCH($B330,[4]Estimadores!$D$6:$AB$6,0)),\"-\")","v":"-"},{"$f":"IFERROR(INDEX([4]Estimadores!$D$7:$AB$38,MATCH(Q$287,[4]Estimadores!$B$7:$B$38,0),MATCH($B330,[4]Estimadores!$D$6:$AB$6,0)),\"-\")","v":"-"},{"$f":"IFERROR(INDEX([4]Estimadores!$D$7:$AB$38,MATCH(R$287,[4]Estimadores!$B$7:$B$38,0),MATCH($B330,[4]Estimadores!$D$6:$AB$6,0)),\"-\")","v":"-"},{"$f":"IFERROR(INDEX([4]Estimadores!$D$7:$AB$38,MATCH(S$287,[4]Estimadores!$B$7:$B$38,0),MATCH($B330,[4]Estimadores!$D$6:$AB$6,0)),\"-\")","v":"-"},{"$f":"IFERROR(INDEX([4]Estimadores!$D$7:$AB$38,MATCH(T$287,[4]Estimadores!$B$7:$B$38,0),MATCH($B330,[4]Estimadores!$D$6:$AB$6,0)),\"-\")","v":"-"},{"$f":"IFERROR(INDEX([4]Estimadores!$D$7:$AB$38,MATCH(U$287,[4]Estimadores!$B$7:$B$38,0),MATCH($B330,[4]Estimadores!$D$6:$AB$6,0)),\"-\")","v":"-"},{"$f":"IFERROR(INDEX([4]Estimadores!$D$7:$AB$38,MATCH(V$287,[4]Estimadores!$B$7:$B$38,0),MATCH($B330,[4]Estimadores!$D$6:$AB$6,0)),\"-\")","v":"-"},{"$f":"IFERROR(INDEX([4]Estimadores!$D$7:$AB$38,MATCH(W$287,[4]Estimadores!$B$7:$B$38,0),MATCH($B330,[4]Estimadores!$D$6:$AB$6,0)),\"-\")","v":"-"},{"$f":"IFERROR(INDEX([4]Estimadores!$D$7:$AB$38,MATCH(X$287,[4]Estimadores!$B$7:$B$38,0),MATCH($B330,[4]Estimadores!$D$6:$AB$6,0)),\"-\")","v":"-"},{"$f":"IFERROR(INDEX([4]Estimadores!$D$7:$AB$38,MATCH(Y$287,[4]Estimadores!$B$7:$B$38,0),MATCH($B330,[4]Estimadores!$D$6:$AB$6,0)),\"-\")","v":"-"},{"$f":"IFERROR(INDEX([4]Estimadores!$D$7:$AB$38,MATCH(Z$287,[4]Estimadores!$B$7:$B$38,0),MATCH($B330,[4]Estimadores!$D$6:$AB$6,0)),\"-\")","v":"-"},{"$f":"IFERROR(INDEX([4]Estimadores!$D$7:$AB$38,MATCH(AA$287,[4]Estimadores!$B$7:$B$38,0),MATCH($B330,[4]Estimadores!$D$6:$AB$6,0)),\"-\")","v":"-"},{"$f":"IFERROR(INDEX([4]Estimadores!$D$7:$AB$38,MATCH(AB$287,[4]Estimadores!$B$7:$B$38,0),MATCH($B330,[4]Estimadores!$D$6:$AB$6,0)),\"-\")","v":"-"},{"$f":"IFERROR(INDEX([4]Estimadores!$D$7:$AB$38,MATCH(AC$287,[4]Estimadores!$B$7:$B$38,0),MATCH($B330,[4]Estimadores!$D$6:$AB$6,0)),\"-\")","v":"-"},{"$f":"IFERROR(INDEX([4]Estimadores!$D$7:$AB$38,MATCH(AD$287,[4]Estimadores!$B$7:$B$38,0),MATCH($B330,[4]Estimadores!$D$6:$AB$6,0)),\"-\")","v":"-"},{"$f":"IFERROR(INDEX([4]Estimadores!$D$7:$AB$38,MATCH(AE$287,[4]Estimadores!$B$7:$B$38,0),MATCH($B330,[4]Estimadores!$D$6:$AB$6,0)),\"-\")","v":"-"},{"$f":"IFERROR(INDEX([4]Estimadores!$D$7:$AB$38,MATCH(AF$287,[4]Estimadores!$B$7:$B$38,0),MATCH($B330,[4]Estimadores!$D$6:$AB$6,0)),\"-\")","v":"-"},{"$f":"IFERROR(INDEX([4]Estimadores!$D$7:$AB$38,MATCH(AG$287,[4]Estimadores!$B$7:$B$38,0),MATCH($B330,[4]Estimadores!$D$6:$AB$6,0)),\"-\")","v":"-"},{"$f":"IFERROR(INDEX([4]Estimadores!$D$7:$AB$38,MATCH(AH$287,[4]Estimadores!$B$7:$B$38,0),MATCH($B330,[4]Estimadores!$D$6:$AB$6,0)),\"-\")","v":"-"},{"$f":"IFERROR(INDEX([4]Estimadores!$D$7:$AB$38,MATCH(AI$287,[4]Estimadores!$B$7:$B$38,0),MATCH($B330,[4]Estimadores!$D$6:$AB$6,0)),\"-\")","v":"-"}]
[null,"","",{"$f":"IFERROR(INDEX([4]Estimadores!$D$7:$AB$38,MATCH(D$287,[4]Estimadores!$B$7:$B$38,0),MATCH($B331,[4]Estimadores!$D$6:$AB$6,0)),\"-\")","v":"-"},{"$f":"IFERROR(INDEX([4]Estimadores!$D$7:$AB$38,MATCH(E$287,[4]Estimadores!$B$7:$B$38,0),MATCH($B331,[4]Estimadores!$D$6:$AB$6,0)),\"-\")","v":"-"},{"$f":"IFERROR(INDEX([4]Estimadores!$D$7:$AB$38,MATCH(F$287,[4]Estimadores!$B$7:$B$38,0),MATCH($B331,[4]Estimadores!$D$6:$AB$6,0)),\"-\")","v":"-"},{"$f":"IFERROR(INDEX([4]Estimadores!$D$7:$AB$38,MATCH(G$287,[4]Estimadores!$B$7:$B$38,0),MATCH($B331,[4]Estimadores!$D$6:$AB$6,0)),\"-\")","v":"-"},{"$f":"IFERROR(INDEX([4]Estimadores!$D$7:$AB$38,MATCH(H$287,[4]Estimadores!$B$7:$B$38,0),MATCH($B331,[4]Estimadores!$D$6:$AB$6,0)),\"-\")","v":"-"},{"$f":"IFERROR(INDEX([4]Estimadores!$D$7:$AB$38,MATCH(I$287,[4]Estimadores!$B$7:$B$38,0),MATCH($B331,[4]Estimadores!$D$6:$AB$6,0)),\"-\")","v":"-"},{"$f":"IFERROR(INDEX([4]Estimadores!$D$7:$AB$38,MATCH(J$287,[4]Estimadores!$B$7:$B$38,0),MATCH($B331,[4]Estimadores!$D$6:$AB$6,0)),\"-\")","v":"-"},{"$f":"IFERROR(INDEX([4]Estimadores!$D$7:$AB$38,MATCH(K$287,[4]Estimadores!$B$7:$B$38,0),MATCH($B331,[4]Estimadores!$D$6:$AB$6,0)),\"-\")","v":"-"},{"$f":"IFERROR(INDEX([4]Estimadores!$D$7:$AB$38,MATCH(L$287,[4]Estimadores!$B$7:$B$38,0),MATCH($B331,[4]Estimadores!$D$6:$AB$6,0)),\"-\")","v":"-"},{"$f":"IFERROR(INDEX([4]Estimadores!$D$7:$AB$38,MATCH(M$287,[4]Estimadores!$B$7:$B$38,0),MATCH($B331,[4]Estimadores!$D$6:$AB$6,0)),\"-\")","v":"-"},{"$f":"IFERROR(INDEX([4]Estimadores!$D$7:$AB$38,MATCH(N$287,[4]Estimadores!$B$7:$B$38,0),MATCH($B331,[4]Estimadores!$D$6:$AB$6,0)),\"-\")","v":"-"},{"$f":"IFERROR(INDEX([4]Estimadores!$D$7:$AB$38,MATCH(O$287,[4]Estimadores!$B$7:$B$38,0),MATCH($B331,[4]Estimadores!$D$6:$AB$6,0)),\"-\")","v":"-"},{"$f":"IFERROR(INDEX([4]Estimadores!$D$7:$AB$38,MATCH(P$287,[4]Estimadores!$B$7:$B$38,0),MATCH($B331,[4]Estimadores!$D$6:$AB$6,0)),\"-\")","v":"-"},{"$f":"IFERROR(INDEX([4]Estimadores!$D$7:$AB$38,MATCH(Q$287,[4]Estimadores!$B$7:$B$38,0),MATCH($B331,[4]Estimadores!$D$6:$AB$6,0)),\"-\")","v":"-"},{"$f":"IFERROR(INDEX([4]Estimadores!$D$7:$AB$38,MATCH(R$287,[4]Estimadores!$B$7:$B$38,0),MATCH($B331,[4]Estimadores!$D$6:$AB$6,0)),\"-\")","v":"-"},{"$f":"IFERROR(INDEX([4]Estimadores!$D$7:$AB$38,MATCH(S$287,[4]Estimadores!$B$7:$B$38,0),MATCH($B331,[4]Estimadores!$D$6:$AB$6,0)),\"-\")","v":"-"},{"$f":"IFERROR(INDEX([4]Estimadores!$D$7:$AB$38,MATCH(T$287,[4]Estimadores!$B$7:$B$38,0),MATCH($B331,[4]Estimadores!$D$6:$AB$6,0)),\"-\")","v":"-"},{"$f":"IFERROR(INDEX([4]Estimadores!$D$7:$AB$38,MATCH(U$287,[4]Estimadores!$B$7:$B$38,0),MATCH($B331,[4]Estimadores!$D$6:$AB$6,0)),\"-\")","v":"-"},{"$f":"IFERROR(INDEX([4]Estimadores!$D$7:$AB$38,MATCH(V$287,[4]Estimadores!$B$7:$B$38,0),MATCH($B331,[4]Estimadores!$D$6:$AB$6,0)),\"-\")","v":"-"},{"$f":"IFERROR(INDEX([4]Estimadores!$D$7:$AB$38,MATCH(W$287,[4]Estimadores!$B$7:$B$38,0),MATCH($B331,[4]Estimadores!$D$6:$AB$6,0)),\"-\")","v":"-"},{"$f":"IFERROR(INDEX([4]Estimadores!$D$7:$AB$38,MATCH(X$287,[4]Estimadores!$B$7:$B$38,0),MATCH($B331,[4]Estimadores!$D$6:$AB$6,0)),\"-\")","v":"-"},{"$f":"IFERROR(INDEX([4]Estimadores!$D$7:$AB$38,MATCH(Y$287,[4]Estimadores!$B$7:$B$38,0),MATCH($B331,[4]Estimadores!$D$6:$AB$6,0)),\"-\")","v":"-"},{"$f":"IFERROR(INDEX([4]Estimadores!$D$7:$AB$38,MATCH(Z$287,[4]Estimadores!$B$7:$B$38,0),MATCH($B331,[4]Estimadores!$D$6:$AB$6,0)),\"-\")","v":"-"},{"$f":"IFERROR(INDEX([4]Estimadores!$D$7:$AB$38,MATCH(AA$287,[4]Estimadores!$B$7:$B$38,0),MATCH($B331,[4]Estimadores!$D$6:$AB$6,0)),\"-\")","v":"-"},{"$f":"IFERROR(INDEX([4]Estimadores!$D$7:$AB$38,MATCH(AB$287,[4]Estimadores!$B$7:$B$38,0),MATCH($B331,[4]Estimadores!$D$6:$AB$6,0)),\"-\")","v":"-"},{"$f":"IFERROR(INDEX([4]Estimadores!$D$7:$AB$38,MATCH(AC$287,[4]Estimadores!$B$7:$B$38,0),MATCH($B331,[4]Estimadores!$D$6:$AB$6,0)),\"-\")","v":"-"},{"$f":"IFERROR(INDEX([4]Estimadores!$D$7:$AB$38,MATCH(AD$287,[4]Estimadores!$B$7:$B$38,0),MATCH($B331,[4]Estimadores!$D$6:$AB$6,0)),\"-\")","v":"-"},{"$f":"IFERROR(INDEX([4]Estimadores!$D$7:$AB$38,MATCH(AE$287,[4]Estimadores!$B$7:$B$38,0),MATCH($B331,[4]Estimadores!$D$6:$AB$6,0)),\"-\")","v":"-"},{"$f":"IFERROR(INDEX([4]Estimadores!$D$7:$AB$38,MATCH(AF$287,[4]Estimadores!$B$7:$B$38,0),MATCH($B331,[4]Estimadores!$D$6:$AB$6,0)),\"-\")","v":"-"},{"$f":"IFERROR(INDEX([4]Estimadores!$D$7:$AB$38,MATCH(AG$287,[4]Estimadores!$B$7:$B$38,0),MATCH($B331,[4]Estimadores!$D$6:$AB$6,0)),\"-\")","v":"-"},{"$f":"IFERROR(INDEX([4]Estimadores!$D$7:$AB$38,MATCH(AH$287,[4]Estimadores!$B$7:$B$38,0),MATCH($B331,[4]Estimadores!$D$6:$AB$6,0)),\"-\")","v":"-"},{"$f":"IFERROR(INDEX([4]Estimadores!$D$7:$AB$38,MATCH(AI$287,[4]Estimadores!$B$7:$B$38,0),MATCH($B331,[4]Estimadores!$D$6:$AB$6,0)),\"-\")","v":"-"}]
[null,"","",{"$f":"IFERROR(INDEX([4]Estimadores!$D$7:$AB$38,MATCH(D$287,[4]Estimadores!$B$7:$B$38,0),MATCH($B332,[4]Estimadores!$D$6:$AB$6,0)),\"-\")","v":"-"},{"$f":"IFERROR(INDEX([4]Estimadores!$D$7:$AB$38,MATCH(E$287,[4]Estimadores!$B$7:$B$38,0),MATCH($B332,[4]Estimadores!$D$6:$AB$6,0)),\"-\")","v":"-"},{"$f":"IFERROR(INDEX([4]Estimadores!$D$7:$AB$38,MATCH(F$287,[4]Estimadores!$B$7:$B$38,0),MATCH($B332,[4]Estimadores!$D$6:$AB$6,0)),\"-\")","v":"-"},{"$f":"IFERROR(INDEX([4]Estimadores!$D$7:$AB$38,MATCH(G$287,[4]Estimadores!$B$7:$B$38,0),MATCH($B332,[4]Estimadores!$D$6:$AB$6,0)),\"-\")","v":"-"},{"$f":"IFERROR(INDEX([4]Estimadores!$D$7:$AB$38,MATCH(H$287,[4]Estimadores!$B$7:$B$38,0),MATCH($B332,[4]Estimadores!$D$6:$AB$6,0)),\"-\")","v":"-"},{"$f":"IFERROR(INDEX([4]Estimadores!$D$7:$AB$38,MATCH(I$287,[4]Estimadores!$B$7:$B$38,0),MATCH($B332,[4]Estimadores!$D$6:$AB$6,0)),\"-\")","v":"-"},{"$f":"IFERROR(INDEX([4]Estimadores!$D$7:$AB$38,MATCH(J$287,[4]Estimadores!$B$7:$B$38,0),MATCH($B332,[4]Estimadores!$D$6:$AB$6,0)),\"-\")","v":"-"},{"$f":"IFERROR(INDEX([4]Estimadores!$D$7:$AB$38,MATCH(K$287,[4]Estimadores!$B$7:$B$38,0),MATCH($B332,[4]Estimadores!$D$6:$AB$6,0)),\"-\")","v":"-"},{"$f":"IFERROR(INDEX([4]Estimadores!$D$7:$AB$38,MATCH(L$287,[4]Estimadores!$B$7:$B$38,0),MATCH($B332,[4]Estimadores!$D$6:$AB$6,0)),\"-\")","v":"-"},{"$f":"IFERROR(INDEX([4]Estimadores!$D$7:$AB$38,MATCH(M$287,[4]Estimadores!$B$7:$B$38,0),MATCH($B332,[4]Estimadores!$D$6:$AB$6,0)),\"-\")","v":"-"},{"$f":"IFERROR(INDEX([4]Estimadores!$D$7:$AB$38,MATCH(N$287,[4]Estimadores!$B$7:$B$38,0),MATCH($B332,[4]Estimadores!$D$6:$AB$6,0)),\"-\")","v":"-"},{"$f":"IFERROR(INDEX([4]Estimadores!$D$7:$AB$38,MATCH(O$287,[4]Estimadores!$B$7:$B$38,0),MATCH($B332,[4]Estimadores!$D$6:$AB$6,0)),\"-\")","v":"-"},{"$f":"IFERROR(INDEX([4]Estimadores!$D$7:$AB$38,MATCH(P$287,[4]Estimadores!$B$7:$B$38,0),MATCH($B332,[4]Estimadores!$D$6:$AB$6,0)),\"-\")","v":"-"},{"$f":"IFERROR(INDEX([4]Estimadores!$D$7:$AB$38,MATCH(Q$287,[4]Estimadores!$B$7:$B$38,0),MATCH($B332,[4]Estimadores!$D$6:$AB$6,0)),\"-\")","v":"-"},{"$f":"IFERROR(INDEX([4]Estimadores!$D$7:$AB$38,MATCH(R$287,[4]Estimadores!$B$7:$B$38,0),MATCH($B332,[4]Estimadores!$D$6:$AB$6,0)),\"-\")","v":"-"},{"$f":"IFERROR(INDEX([4]Estimadores!$D$7:$AB$38,MATCH(S$287,[4]Estimadores!$B$7:$B$38,0),MATCH($B332,[4]Estimadores!$D$6:$AB$6,0)),\"-\")","v":"-"},{"$f":"IFERROR(INDEX([4]Estimadores!$D$7:$AB$38,MATCH(T$287,[4]Estimadores!$B$7:$B$38,0),MATCH($B332,[4]Estimadores!$D$6:$AB$6,0)),\"-\")","v":"-"},{"$f":"IFERROR(INDEX([4]Estimadores!$D$7:$AB$38,MATCH(U$287,[4]Estimadores!$B$7:$B$38,0),MATCH($B332,[4]Estimadores!$D$6:$AB$6,0)),\"-\")","v":"-"},{"$f":"IFERROR(INDEX([4]Estimadores!$D$7:$AB$38,MATCH(V$287,[4]Estimadores!$B$7:$B$38,0),MATCH($B332,[4]Estimadores!$D$6:$AB$6,0)),\"-\")","v":"-"},{"$f":"IFERROR(INDEX([4]Estimadores!$D$7:$AB$38,MATCH(W$287,[4]Estimadores!$B$7:$B$38,0),MATCH($B332,[4]Estimadores!$D$6:$AB$6,0)),\"-\")","v":"-"},{"$f":"IFERROR(INDEX([4]Estimadores!$D$7:$AB$38,MATCH(X$287,[4]Estimadores!$B$7:$B$38,0),MATCH($B332,[4]Estimadores!$D$6:$AB$6,0)),\"-\")","v":"-"},{"$f":"IFERROR(INDEX([4]Estimadores!$D$7:$AB$38,MATCH(Y$287,[4]Estimadores!$B$7:$B$38,0),MATCH($B332,[4]Estimadores!$D$6:$AB$6,0)),\"-\")","v":"-"},{"$f":"IFERROR(INDEX([4]Estimadores!$D$7:$AB$38,MATCH(Z$287,[4]Estimadores!$B$7:$B$38,0),MATCH($B332,[4]Estimadores!$D$6:$AB$6,0)),\"-\")","v":"-"},{"$f":"IFERROR(INDEX([4]Estimadores!$D$7:$AB$38,MATCH(AA$287,[4]Estimadores!$B$7:$B$38,0),MATCH($B332,[4]Estimadores!$D$6:$AB$6,0)),\"-\")","v":"-"},{"$f":"IFERROR(INDEX([4]Estimadores!$D$7:$AB$38,MATCH(AB$287,[4]Estimadores!$B$7:$B$38,0),MATCH($B332,[4]Estimadores!$D$6:$AB$6,0)),\"-\")","v":"-"},{"$f":"IFERROR(INDEX([4]Estimadores!$D$7:$AB$38,MATCH(AC$287,[4]Estimadores!$B$7:$B$38,0),MATCH($B332,[4]Estimadores!$D$6:$AB$6,0)),\"-\")","v":"-"},{"$f":"IFERROR(INDEX([4]Estimadores!$D$7:$AB$38,MATCH(AD$287,[4]Estimadores!$B$7:$B$38,0),MATCH($B332,[4]Estimadores!$D$6:$AB$6,0)),\"-\")","v":"-"},{"$f":"IFERROR(INDEX([4]Estimadores!$D$7:$AB$38,MATCH(AE$287,[4]Estimadores!$B$7:$B$38,0),MATCH($B332,[4]Estimadores!$D$6:$AB$6,0)),\"-\")","v":"-"},{"$f":"IFERROR(INDEX([4]Estimadores!$D$7:$AB$38,MATCH(AF$287,[4]Estimadores!$B$7:$B$38,0),MATCH($B332,[4]Estimadores!$D$6:$AB$6,0)),\"-\")","v":"-"},{"$f":"IFERROR(INDEX([4]Estimadores!$D$7:$AB$38,MATCH(AG$287,[4]Estimadores!$B$7:$B$38,0),MATCH($B332,[4]Estimadores!$D$6:$AB$6,0)),\"-\")","v":"-"},{"$f":"IFERROR(INDEX([4]Estimadores!$D$7:$AB$38,MATCH(AH$287,[4]Estimadores!$B$7:$B$38,0),MATCH($B332,[4]Estimadores!$D$6:$AB$6,0)),\"-\")","v":"-"},{"$f":"IFERROR(INDEX([4]Estimadores!$D$7:$AB$38,MATCH(AI$287,[4]Estimadores!$B$7:$B$38,0),MATCH($B332,[4]Estimadores!$D$6:$AB$6,0)),\"-\")","v":"-"}]
[null,"","",{"$f":"IFERROR(INDEX([4]Estimadores!$D$7:$AB$38,MATCH(D$287,[4]Estimadores!$B$7:$B$38,0),MATCH($B333,[4]Estimadores!$D$6:$AB$6,0)),\"-\")","v":"-"},{"$f":"IFERROR(INDEX([4]Estimadores!$D$7:$AB$38,MATCH(E$287,[4]Estimadores!$B$7:$B$38,0),MATCH($B333,[4]Estimadores!$D$6:$AB$6,0)),\"-\")","v":"-"},{"$f":"IFERROR(INDEX([4]Estimadores!$D$7:$AB$38,MATCH(F$287,[4]Estimadores!$B$7:$B$38,0),MATCH($B333,[4]Estimadores!$D$6:$AB$6,0)),\"-\")","v":"-"},{"$f":"IFERROR(INDEX([4]Estimadores!$D$7:$AB$38,MATCH(G$287,[4]Estimadores!$B$7:$B$38,0),MATCH($B333,[4]Estimadores!$D$6:$AB$6,0)),\"-\")","v":"-"},{"$f":"IFERROR(INDEX([4]Estimadores!$D$7:$AB$38,MATCH(H$287,[4]Estimadores!$B$7:$B$38,0),MATCH($B333,[4]Estimadores!$D$6:$AB$6,0)),\"-\")","v":"-"},{"$f":"IFERROR(INDEX([4]Estimadores!$D$7:$AB$38,MATCH(I$287,[4]Estimadores!$B$7:$B$38,0),MATCH($B333,[4]Estimadores!$D$6:$AB$6,0)),\"-\")","v":"-"},{"$f":"IFERROR(INDEX([4]Estimadores!$D$7:$AB$38,MATCH(J$287,[4]Estimadores!$B$7:$B$38,0),MATCH($B333,[4]Estimadores!$D$6:$AB$6,0)),\"-\")","v":"-"},{"$f":"IFERROR(INDEX([4]Estimadores!$D$7:$AB$38,MATCH(K$287,[4]Estimadores!$B$7:$B$38,0),MATCH($B333,[4]Estimadores!$D$6:$AB$6,0)),\"-\")","v":"-"},{"$f":"IFERROR(INDEX([4]Estimadores!$D$7:$AB$38,MATCH(L$287,[4]Estimadores!$B$7:$B$38,0),MATCH($B333,[4]Estimadores!$D$6:$AB$6,0)),\"-\")","v":"-"},{"$f":"IFERROR(INDEX([4]Estimadores!$D$7:$AB$38,MATCH(M$287,[4]Estimadores!$B$7:$B$38,0),MATCH($B333,[4]Estimadores!$D$6:$AB$6,0)),\"-\")","v":"-"},{"$f":"IFERROR(INDEX([4]Estimadores!$D$7:$AB$38,MATCH(N$287,[4]Estimadores!$B$7:$B$38,0),MATCH($B333,[4]Estimadores!$D$6:$AB$6,0)),\"-\")","v":"-"},{"$f":"IFERROR(INDEX([4]Estimadores!$D$7:$AB$38,MATCH(O$287,[4]Estimadores!$B$7:$B$38,0),MATCH($B333,[4]Estimadores!$D$6:$AB$6,0)),\"-\")","v":"-"},{"$f":"IFERROR(INDEX([4]Estimadores!$D$7:$AB$38,MATCH(P$287,[4]Estimadores!$B$7:$B$38,0),MATCH($B333,[4]Estimadores!$D$6:$AB$6,0)),\"-\")","v":"-"},{"$f":"IFERROR(INDEX([4]Estimadores!$D$7:$AB$38,MATCH(Q$287,[4]Estimadores!$B$7:$B$38,0),MATCH($B333,[4]Estimadores!$D$6:$AB$6,0)),\"-\")","v":"-"},{"$f":"IFERROR(INDEX([4]Estimadores!$D$7:$AB$38,MATCH(R$287,[4]Estimadores!$B$7:$B$38,0),MATCH($B333,[4]Estimadores!$D$6:$AB$6,0)),\"-\")","v":"-"},{"$f":"IFERROR(INDEX([4]Estimadores!$D$7:$AB$38,MATCH(S$287,[4]Estimadores!$B$7:$B$38,0),MATCH($B333,[4]Estimadores!$D$6:$AB$6,0)),\"-\")","v":"-"},{"$f":"IFERROR(INDEX([4]Estimadores!$D$7:$AB$38,MATCH(T$287,[4]Estimadores!$B$7:$B$38,0),MATCH($B333,[4]Estimadores!$D$6:$AB$6,0)),\"-\")","v":"-"},{"$f":"IFERROR(INDEX([4]Estimadores!$D$7:$AB$38,MATCH(U$287,[4]Estimadores!$B$7:$B$38,0),MATCH($B333,[4]Estimadores!$D$6:$AB$6,0)),\"-\")","v":"-"},{"$f":"IFERROR(INDEX([4]Estimadores!$D$7:$AB$38,MATCH(V$287,[4]Estimadores!$B$7:$B$38,0),MATCH($B333,[4]Estimadores!$D$6:$AB$6,0)),\"-\")","v":"-"},{"$f":"IFERROR(INDEX([4]Estimadores!$D$7:$AB$38,MATCH(W$287,[4]Estimadores!$B$7:$B$38,0),MATCH($B333,[4]Estimadores!$D$6:$AB$6,0)),\"-\")","v":"-"},{"$f":"IFERROR(INDEX([4]Estimadores!$D$7:$AB$38,MATCH(X$287,[4]Estimadores!$B$7:$B$38,0),MATCH($B333,[4]Estimadores!$D$6:$AB$6,0)),\"-\")","v":"-"},{"$f":"IFERROR(INDEX([4]Estimadores!$D$7:$AB$38,MATCH(Y$287,[4]Estimadores!$B$7:$B$38,0),MATCH($B333,[4]Estimadores!$D$6:$AB$6,0)),\"-\")","v":"-"},{"$f":"IFERROR(INDEX([4]Estimadores!$D$7:$AB$38,MATCH(Z$287,[4]Estimadores!$B$7:$B$38,0),MATCH($B333,[4]Estimadores!$D$6:$AB$6,0)),\"-\")","v":"-"},{"$f":"IFERROR(INDEX([4]Estimadores!$D$7:$AB$38,MATCH(AA$287,[4]Estimadores!$B$7:$B$38,0),MATCH($B333,[4]Estimadores!$D$6:$AB$6,0)),\"-\")","v":"-"},{"$f":"IFERROR(INDEX([4]Estimadores!$D$7:$AB$38,MATCH(AB$287,[4]Estimadores!$B$7:$B$38,0),MATCH($B333,[4]Estimadores!$D$6:$AB$6,0)),\"-\")","v":"-"},{"$f":"IFERROR(INDEX([4]Estimadores!$D$7:$AB$38,MATCH(AC$287,[4]Estimadores!$B$7:$B$38,0),MATCH($B333,[4]Estimadores!$D$6:$AB$6,0)),\"-\")","v":"-"},{"$f":"IFERROR(INDEX([4]Estimadores!$D$7:$AB$38,MATCH(AD$287,[4]Estimadores!$B$7:$B$38,0),MATCH($B333,[4]Estimadores!$D$6:$AB$6,0)),\"-\")","v":"-"},{"$f":"IFERROR(INDEX([4]Estimadores!$D$7:$AB$38,MATCH(AE$287,[4]Estimadores!$B$7:$B$38,0),MATCH($B333,[4]Estimadores!$D$6:$AB$6,0)),\"-\")","v":"-"},{"$f":"IFERROR(INDEX([4]Estimadores!$D$7:$AB$38,MATCH(AF$287,[4]Estimadores!$B$7:$B$38,0),MATCH($B333,[4]Estimadores!$D$6:$AB$6,0)),\"-\")","v":"-"},{"$f":"IFERROR(INDEX([4]Estimadores!$D$7:$AB$38,MATCH(AG$287,[4]Estimadores!$B$7:$B$38,0),MATCH($B333,[4]Estimadores!$D$6:$AB$6,0)),\"-\")","v":"-"},{"$f":"IFERROR(INDEX([4]Estimadores!$D$7:$AB$38,MATCH(AH$287,[4]Estimadores!$B$7:$B$38,0),MATCH($B333,[4]Estimadores!$D$6:$AB$6,0)),\"-\")","v":"-"},{"$f":"IFERROR(INDEX([4]Estimadores!$D$7:$AB$38,MATCH(AI$287,[4]Estimadores!$B$7:$B$38,0),MATCH($B333,[4]Estimadores!$D$6:$AB$6,0)),\"-\")","v":"-"}]
[null,"","",{"$f":"IFERROR(INDEX([4]Estimadores!$D$7:$AB$38,MATCH(D$287,[4]Estimadores!$B$7:$B$38,0),MATCH($B334,[4]Estimadores!$D$6:$AB$6,0)),\"-\")","v":"-"},{"$f":"IFERROR(INDEX([4]Estimadores!$D$7:$AB$38,MATCH(E$287,[4]Estimadores!$B$7:$B$38,0),MATCH($B334,[4]Estimadores!$D$6:$AB$6,0)),\"-\")","v":"-"},{"$f":"IFERROR(INDEX([4]Estimadores!$D$7:$AB$38,MATCH(F$287,[4]Estimadores!$B$7:$B$38,0),MATCH($B334,[4]Estimadores!$D$6:$AB$6,0)),\"-\")","v":"-"},{"$f":"IFERROR(INDEX([4]Estimadores!$D$7:$AB$38,MATCH(G$287,[4]Estimadores!$B$7:$B$38,0),MATCH($B334,[4]Estimadores!$D$6:$AB$6,0)),\"-\")","v":"-"},{"$f":"IFERROR(INDEX([4]Estimadores!$D$7:$AB$38,MATCH(H$287,[4]Estimadores!$B$7:$B$38,0),MATCH($B334,[4]Estimadores!$D$6:$AB$6,0)),\"-\")","v":"-"},{"$f":"IFERROR(INDEX([4]Estimadores!$D$7:$AB$38,MATCH(I$287,[4]Estimadores!$B$7:$B$38,0),MATCH($B334,[4]Estimadores!$D$6:$AB$6,0)),\"-\")","v":"-"},{"$f":"IFERROR(INDEX([4]Estimadores!$D$7:$AB$38,MATCH(J$287,[4]Estimadores!$B$7:$B$38,0),MATCH($B334,[4]Estimadores!$D$6:$AB$6,0)),\"-\")","v":"-"},{"$f":"IFERROR(INDEX([4]Estimadores!$D$7:$AB$38,MATCH(K$287,[4]Estimadores!$B$7:$B$38,0),MATCH($B334,[4]Estimadores!$D$6:$AB$6,0)),\"-\")","v":"-"},{"$f":"IFERROR(INDEX([4]Estimadores!$D$7:$AB$38,MATCH(L$287,[4]Estimadores!$B$7:$B$38,0),MATCH($B334,[4]Estimadores!$D$6:$AB$6,0)),\"-\")","v":"-"},{"$f":"IFERROR(INDEX([4]Estimadores!$D$7:$AB$38,MATCH(M$287,[4]Estimadores!$B$7:$B$38,0),MATCH($B334,[4]Estimadores!$D$6:$AB$6,0)),\"-\")","v":"-"},{"$f":"IFERROR(INDEX([4]Estimadores!$D$7:$AB$38,MATCH(N$287,[4]Estimadores!$B$7:$B$38,0),MATCH($B334,[4]Estimadores!$D$6:$AB$6,0)),\"-\")","v":"-"},{"$f":"IFERROR(INDEX([4]Estimadores!$D$7:$AB$38,MATCH(O$287,[4]Estimadores!$B$7:$B$38,0),MATCH($B334,[4]Estimadores!$D$6:$AB$6,0)),\"-\")","v":"-"},{"$f":"IFERROR(INDEX([4]Estimadores!$D$7:$AB$38,MATCH(P$287,[4]Estimadores!$B$7:$B$38,0),MATCH($B334,[4]Estimadores!$D$6:$AB$6,0)),\"-\")","v":"-"},{"$f":"IFERROR(INDEX([4]Estimadores!$D$7:$AB$38,MATCH(Q$287,[4]Estimadores!$B$7:$B$38,0),MATCH($B334,[4]Estimadores!$D$6:$AB$6,0)),\"-\")","v":"-"},{"$f":"IFERROR(INDEX([4]Estimadores!$D$7:$AB$38,MATCH(R$287,[4]Estimadores!$B$7:$B$38,0),MATCH($B334,[4]Estimadores!$D$6:$AB$6,0)),\"-\")","v":"-"},{"$f":"IFERROR(INDEX([4]Estimadores!$D$7:$AB$38,MATCH(S$287,[4]Estimadores!$B$7:$B$38,0),MATCH($B334,[4]Estimadores!$D$6:$AB$6,0)),\"-\")","v":"-"},{"$f":"IFERROR(INDEX([4]Estimadores!$D$7:$AB$38,MATCH(T$287,[4]Estimadores!$B$7:$B$38,0),MATCH($B334,[4]Estimadores!$D$6:$AB$6,0)),\"-\")","v":"-"},{"$f":"IFERROR(INDEX([4]Estimadores!$D$7:$AB$38,MATCH(U$287,[4]Estimadores!$B$7:$B$38,0),MATCH($B334,[4]Estimadores!$D$6:$AB$6,0)),\"-\")","v":"-"},{"$f":"IFERROR(INDEX([4]Estimadores!$D$7:$AB$38,MATCH(V$287,[4]Estimadores!$B$7:$B$38,0),MATCH($B334,[4]Estimadores!$D$6:$AB$6,0)),\"-\")","v":"-"},{"$f":"IFERROR(INDEX([4]Estimadores!$D$7:$AB$38,MATCH(W$287,[4]Estimadores!$B$7:$B$38,0),MATCH($B334,[4]Estimadores!$D$6:$AB$6,0)),\"-\")","v":"-"},{"$f":"IFERROR(INDEX([4]Estimadores!$D$7:$AB$38,MATCH(X$287,[4]Estimadores!$B$7:$B$38,0),MATCH($B334,[4]Estimadores!$D$6:$AB$6,0)),\"-\")","v":"-"},{"$f":"IFERROR(INDEX([4]Estimadores!$D$7:$AB$38,MATCH(Y$287,[4]Estimadores!$B$7:$B$38,0),MATCH($B334,[4]Estimadores!$D$6:$AB$6,0)),\"-\")","v":"-"},{"$f":"IFERROR(INDEX([4]Estimadores!$D$7:$AB$38,MATCH(Z$287,[4]Estimadores!$B$7:$B$38,0),MATCH($B334,[4]Estimadores!$D$6:$AB$6,0)),\"-\")","v":"-"},{"$f":"IFERROR(INDEX([4]Estimadores!$D$7:$AB$38,MATCH(AA$287,[4]Estimadores!$B$7:$B$38,0),MATCH($B334,[4]Estimadores!$D$6:$AB$6,0)),\"-\")","v":"-"},{"$f":"IFERROR(INDEX([4]Estimadores!$D$7:$AB$38,MATCH(AB$287,[4]Estimadores!$B$7:$B$38,0),MATCH($B334,[4]Estimadores!$D$6:$AB$6,0)),\"-\")","v":"-"},{"$f":"IFERROR(INDEX([4]Estimadores!$D$7:$AB$38,MATCH(AC$287,[4]Estimadores!$B$7:$B$38,0),MATCH($B334,[4]Estimadores!$D$6:$AB$6,0)),\"-\")","v":"-"},{"$f":"IFERROR(INDEX([4]Estimadores!$D$7:$AB$38,MATCH(AD$287,[4]Estimadores!$B$7:$B$38,0),MATCH($B334,[4]Estimadores!$D$6:$AB$6,0)),\"-\")","v":"-"},{"$f":"IFERROR(INDEX([4]Estimadores!$D$7:$AB$38,MATCH(AE$287,[4]Estimadores!$B$7:$B$38,0),MATCH($B334,[4]Estimadores!$D$6:$AB$6,0)),\"-\")","v":"-"},{"$f":"IFERROR(INDEX([4]Estimadores!$D$7:$AB$38,MATCH(AF$287,[4]Estimadores!$B$7:$B$38,0),MATCH($B334,[4]Estimadores!$D$6:$AB$6,0)),\"-\")","v":"-"},{"$f":"IFERROR(INDEX([4]Estimadores!$D$7:$AB$38,MATCH(AG$287,[4]Estimadores!$B$7:$B$38,0),MATCH($B334,[4]Estimadores!$D$6:$AB$6,0)),\"-\")","v":"-"},{"$f":"IFERROR(INDEX([4]Estimadores!$D$7:$AB$38,MATCH(AH$287,[4]Estimadores!$B$7:$B$38,0),MATCH($B334,[4]Estimadores!$D$6:$AB$6,0)),\"-\")","v":"-"},{"$f":"IFERROR(INDEX([4]Estimadores!$D$7:$AB$38,MATCH(AI$287,[4]Estimadores!$B$7:$B$38,0),MATCH($B334,[4]Estimadores!$D$6:$AB$6,0)),\"-\")","v":"-"}]
[null,"","",{"$f":"IFERROR(INDEX([4]Estimadores!$D$7:$AB$38,MATCH(D$287,[4]Estimadores!$B$7:$B$38,0),MATCH($B335,[4]Estimadores!$D$6:$AB$6,0)),\"-\")","v":"-"},{"$f":"IFERROR(INDEX([4]Estimadores!$D$7:$AB$38,MATCH(E$287,[4]Estimadores!$B$7:$B$38,0),MATCH($B335,[4]Estimadores!$D$6:$AB$6,0)),\"-\")","v":"-"},{"$f":"IFERROR(INDEX([4]Estimadores!$D$7:$AB$38,MATCH(F$287,[4]Estimadores!$B$7:$B$38,0),MATCH($B335,[4]Estimadores!$D$6:$AB$6,0)),\"-\")","v":"-"},{"$f":"IFERROR(INDEX([4]Estimadores!$D$7:$AB$38,MATCH(G$287,[4]Estimadores!$B$7:$B$38,0),MATCH($B335,[4]Estimadores!$D$6:$AB$6,0)),\"-\")","v":"-"},{"$f":"IFERROR(INDEX([4]Estimadores!$D$7:$AB$38,MATCH(H$287,[4]Estimadores!$B$7:$B$38,0),MATCH($B335,[4]Estimadores!$D$6:$AB$6,0)),\"-\")","v":"-"},{"$f":"IFERROR(INDEX([4]Estimadores!$D$7:$AB$38,MATCH(I$287,[4]Estimadores!$B$7:$B$38,0),MATCH($B335,[4]Estimadores!$D$6:$AB$6,0)),\"-\")","v":"-"},{"$f":"IFERROR(INDEX([4]Estimadores!$D$7:$AB$38,MATCH(J$287,[4]Estimadores!$B$7:$B$38,0),MATCH($B335,[4]Estimadores!$D$6:$AB$6,0)),\"-\")","v":"-"},{"$f":"IFERROR(INDEX([4]Estimadores!$D$7:$AB$38,MATCH(K$287,[4]Estimadores!$B$7:$B$38,0),MATCH($B335,[4]Estimadores!$D$6:$AB$6,0)),\"-\")","v":"-"},{"$f":"IFERROR(INDEX([4]Estimadores!$D$7:$AB$38,MATCH(L$287,[4]Estimadores!$B$7:$B$38,0),MATCH($B335,[4]Estimadores!$D$6:$AB$6,0)),\"-\")","v":"-"},{"$f":"IFERROR(INDEX([4]Estimadores!$D$7:$AB$38,MATCH(M$287,[4]Estimadores!$B$7:$B$38,0),MATCH($B335,[4]Estimadores!$D$6:$AB$6,0)),\"-\")","v":"-"},{"$f":"IFERROR(INDEX([4]Estimadores!$D$7:$AB$38,MATCH(N$287,[4]Estimadores!$B$7:$B$38,0),MATCH($B335,[4]Estimadores!$D$6:$AB$6,0)),\"-\")","v":"-"},{"$f":"IFERROR(INDEX([4]Estimadores!$D$7:$AB$38,MATCH(O$287,[4]Estimadores!$B$7:$B$38,0),MATCH($B335,[4]Estimadores!$D$6:$AB$6,0)),\"-\")","v":"-"},{"$f":"IFERROR(INDEX([4]Estimadores!$D$7:$AB$38,MATCH(P$287,[4]Estimadores!$B$7:$B$38,0),MATCH($B335,[4]Estimadores!$D$6:$AB$6,0)),\"-\")","v":"-"},{"$f":"IFERROR(INDEX([4]Estimadores!$D$7:$AB$38,MATCH(Q$287,[4]Estimadores!$B$7:$B$38,0),MATCH($B335,[4]Estimadores!$D$6:$AB$6,0)),\"-\")","v":"-"},{"$f":"IFERROR(INDEX([4]Estimadores!$D$7:$AB$38,MATCH(R$287,[4]Estimadores!$B$7:$B$38,0),MATCH($B335,[4]Estimadores!$D$6:$AB$6,0)),\"-\")","v":"-"},{"$f":"IFERROR(INDEX([4]Estimadores!$D$7:$AB$38,MATCH(S$287,[4]Estimadores!$B$7:$B$38,0),MATCH($B335,[4]Estimadores!$D$6:$AB$6,0)),\"-\")","v":"-"},{"$f":"IFERROR(INDEX([4]Estimadores!$D$7:$AB$38,MATCH(T$287,[4]Estimadores!$B$7:$B$38,0),MATCH($B335,[4]Estimadores!$D$6:$AB$6,0)),\"-\")","v":"-"},{"$f":"IFERROR(INDEX([4]Estimadores!$D$7:$AB$38,MATCH(U$287,[4]Estimadores!$B$7:$B$38,0),MATCH($B335,[4]Estimadores!$D$6:$AB$6,0)),\"-\")","v":"-"},{"$f":"IFERROR(INDEX([4]Estimadores!$D$7:$AB$38,MATCH(V$287,[4]Estimadores!$B$7:$B$38,0),MATCH($B335,[4]Estimadores!$D$6:$AB$6,0)),\"-\")","v":"-"},{"$f":"IFERROR(INDEX([4]Estimadores!$D$7:$AB$38,MATCH(W$287,[4]Estimadores!$B$7:$B$38,0),MATCH($B335,[4]Estimadores!$D$6:$AB$6,0)),\"-\")","v":"-"},{"$f":"IFERROR(INDEX([4]Estimadores!$D$7:$AB$38,MATCH(X$287,[4]Estimadores!$B$7:$B$38,0),MATCH($B335,[4]Estimadores!$D$6:$AB$6,0)),\"-\")","v":"-"},{"$f":"IFERROR(INDEX([4]Estimadores!$D$7:$AB$38,MATCH(Y$287,[4]Estimadores!$B$7:$B$38,0),MATCH($B335,[4]Estimadores!$D$6:$AB$6,0)),\"-\")","v":"-"},{"$f":"IFERROR(INDEX([4]Estimadores!$D$7:$AB$38,MATCH(Z$287,[4]Estimadores!$B$7:$B$38,0),MATCH($B335,[4]Estimadores!$D$6:$AB$6,0)),\"-\")","v":"-"},{"$f":"IFERROR(INDEX([4]Estimadores!$D$7:$AB$38,MATCH(AA$287,[4]Estimadores!$B$7:$B$38,0),MATCH($B335,[4]Estimadores!$D$6:$AB$6,0)),\"-\")","v":"-"},{"$f":"IFERROR(INDEX([4]Estimadores!$D$7:$AB$38,MATCH(AB$287,[4]Estimadores!$B$7:$B$38,0),MATCH($B335,[4]Estimadores!$D$6:$AB$6,0)),\"-\")","v":"-"},{"$f":"IFERROR(INDEX([4]Estimadores!$D$7:$AB$38,MATCH(AC$287,[4]Estimadores!$B$7:$B$38,0),MATCH($B335,[4]Estimadores!$D$6:$AB$6,0)),\"-\")","v":"-"},{"$f":"IFERROR(INDEX([4]Estimadores!$D$7:$AB$38,MATCH(AD$287,[4]Estimadores!$B$7:$B$38,0),MATCH($B335,[4]Estimadores!$D$6:$AB$6,0)),\"-\")","v":"-"},{"$f":"IFERROR(INDEX([4]Estimadores!$D$7:$AB$38,MATCH(AE$287,[4]Estimadores!$B$7:$B$38,0),MATCH($B335,[4]Estimadores!$D$6:$AB$6,0)),\"-\")","v":"-"},{"$f":"IFERROR(INDEX([4]Estimadores!$D$7:$AB$38,MATCH(AF$287,[4]Estimadores!$B$7:$B$38,0),MATCH($B335,[4]Estimadores!$D$6:$AB$6,0)),\"-\")","v":"-"},{"$f":"IFERROR(INDEX([4]Estimadores!$D$7:$AB$38,MATCH(AG$287,[4]Estimadores!$B$7:$B$38,0),MATCH($B335,[4]Estimadores!$D$6:$AB$6,0)),\"-\")","v":"-"},{"$f":"IFERROR(INDEX([4]Estimadores!$D$7:$AB$38,MATCH(AH$287,[4]Estimadores!$B$7:$B$38,0),MATCH($B335,[4]Estimadores!$D$6:$AB$6,0)),\"-\")","v":"-"},{"$f":"IFERROR(INDEX([4]Estimadores!$D$7:$AB$38,MATCH(AI$287,[4]Estimadores!$B$7:$B$38,0),MATCH($B335,[4]Estimadores!$D$6:$AB$6,0)),\"-\")","v":"-"}]
[null,"","",{"$f":"IFERROR(INDEX([4]Estimadores!$D$7:$AB$38,MATCH(D$287,[4]Estimadores!$B$7:$B$38,0),MATCH($B336,[4]Estimadores!$D$6:$AB$6,0)),\"-\")","v":"-"},{"$f":"IFERROR(INDEX([4]Estimadores!$D$7:$AB$38,MATCH(E$287,[4]Estimadores!$B$7:$B$38,0),MATCH($B336,[4]Estimadores!$D$6:$AB$6,0)),\"-\")","v":"-"},{"$f":"IFERROR(INDEX([4]Estimadores!$D$7:$AB$38,MATCH(F$287,[4]Estimadores!$B$7:$B$38,0),MATCH($B336,[4]Estimadores!$D$6:$AB$6,0)),\"-\")","v":"-"},{"$f":"IFERROR(INDEX([4]Estimadores!$D$7:$AB$38,MATCH(G$287,[4]Estimadores!$B$7:$B$38,0),MATCH($B336,[4]Estimadores!$D$6:$AB$6,0)),\"-\")","v":"-"},{"$f":"IFERROR(INDEX([4]Estimadores!$D$7:$AB$38,MATCH(H$287,[4]Estimadores!$B$7:$B$38,0),MATCH($B336,[4]Estimadores!$D$6:$AB$6,0)),\"-\")","v":"-"},{"$f":"IFERROR(INDEX([4]Estimadores!$D$7:$AB$38,MATCH(I$287,[4]Estimadores!$B$7:$B$38,0),MATCH($B336,[4]Estimadores!$D$6:$AB$6,0)),\"-\")","v":"-"},{"$f":"IFERROR(INDEX([4]Estimadores!$D$7:$AB$38,MATCH(J$287,[4]Estimadores!$B$7:$B$38,0),MATCH($B336,[4]Estimadores!$D$6:$AB$6,0)),\"-\")","v":"-"},{"$f":"IFERROR(INDEX([4]Estimadores!$D$7:$AB$38,MATCH(K$287,[4]Estimadores!$B$7:$B$38,0),MATCH($B336,[4]Estimadores!$D$6:$AB$6,0)),\"-\")","v":"-"},{"$f":"IFERROR(INDEX([4]Estimadores!$D$7:$AB$38,MATCH(L$287,[4]Estimadores!$B$7:$B$38,0),MATCH($B336,[4]Estimadores!$D$6:$AB$6,0)),\"-\")","v":"-"},{"$f":"IFERROR(INDEX([4]Estimadores!$D$7:$AB$38,MATCH(M$287,[4]Estimadores!$B$7:$B$38,0),MATCH($B336,[4]Estimadores!$D$6:$AB$6,0)),\"-\")","v":"-"},{"$f":"IFERROR(INDEX([4]Estimadores!$D$7:$AB$38,MATCH(N$287,[4]Estimadores!$B$7:$B$38,0),MATCH($B336,[4]Estimadores!$D$6:$AB$6,0)),\"-\")","v":"-"},{"$f":"IFERROR(INDEX([4]Estimadores!$D$7:$AB$38,MATCH(O$287,[4]Estimadores!$B$7:$B$38,0),MATCH($B336,[4]Estimadores!$D$6:$AB$6,0)),\"-\")","v":"-"},{"$f":"IFERROR(INDEX([4]Estimadores!$D$7:$AB$38,MATCH(P$287,[4]Estimadores!$B$7:$B$38,0),MATCH($B336,[4]Estimadores!$D$6:$AB$6,0)),\"-\")","v":"-"},{"$f":"IFERROR(INDEX([4]Estimadores!$D$7:$AB$38,MATCH(Q$287,[4]Estimadores!$B$7:$B$38,0),MATCH($B336,[4]Estimadores!$D$6:$AB$6,0)),\"-\")","v":"-"},{"$f":"IFERROR(INDEX([4]Estimadores!$D$7:$AB$38,MATCH(R$287,[4]Estimadores!$B$7:$B$38,0),MATCH($B336,[4]Estimadores!$D$6:$AB$6,0)),\"-\")","v":"-"},{"$f":"IFERROR(INDEX([4]Estimadores!$D$7:$AB$38,MATCH(S$287,[4]Estimadores!$B$7:$B$38,0),MATCH($B336,[4]Estimadores!$D$6:$AB$6,0)),\"-\")","v":"-"},{"$f":"IFERROR(INDEX([4]Estimadores!$D$7:$AB$38,MATCH(T$287,[4]Estimadores!$B$7:$B$38,0),MATCH($B336,[4]Estimadores!$D$6:$AB$6,0)),\"-\")","v":"-"},{"$f":"IFERROR(INDEX([4]Estimadores!$D$7:$AB$38,MATCH(U$287,[4]Estimadores!$B$7:$B$38,0),MATCH($B336,[4]Estimadores!$D$6:$AB$6,0)),\"-\")","v":"-"},{"$f":"IFERROR(INDEX([4]Estimadores!$D$7:$AB$38,MATCH(V$287,[4]Estimadores!$B$7:$B$38,0),MATCH($B336,[4]Estimadores!$D$6:$AB$6,0)),\"-\")","v":"-"},{"$f":"IFERROR(INDEX([4]Estimadores!$D$7:$AB$38,MATCH(W$287,[4]Estimadores!$B$7:$B$38,0),MATCH($B336,[4]Estimadores!$D$6:$AB$6,0)),\"-\")","v":"-"},{"$f":"IFERROR(INDEX([4]Estimadores!$D$7:$AB$38,MATCH(X$287,[4]Estimadores!$B$7:$B$38,0),MATCH($B336,[4]Estimadores!$D$6:$AB$6,0)),\"-\")","v":"-"},{"$f":"IFERROR(INDEX([4]Estimadores!$D$7:$AB$38,MATCH(Y$287,[4]Estimadores!$B$7:$B$38,0),MATCH($B336,[4]Estimadores!$D$6:$AB$6,0)),\"-\")","v":"-"},{"$f":"IFERROR(INDEX([4]Estimadores!$D$7:$AB$38,MATCH(Z$287,[4]Estimadores!$B$7:$B$38,0),MATCH($B336,[4]Estimadores!$D$6:$AB$6,0)),\"-\")","v":"-"},{"$f":"IFERROR(INDEX([4]Estimadores!$D$7:$AB$38,MATCH(AA$287,[4]Estimadores!$B$7:$B$38,0),MATCH($B336,[4]Estimadores!$D$6:$AB$6,0)),\"-\")","v":"-"},{"$f":"IFERROR(INDEX([4]Estimadores!$D$7:$AB$38,MATCH(AB$287,[4]Estimadores!$B$7:$B$38,0),MATCH($B336,[4]Estimadores!$D$6:$AB$6,0)),\"-\")","v":"-"},{"$f":"IFERROR(INDEX([4]Estimadores!$D$7:$AB$38,MATCH(AC$287,[4]Estimadores!$B$7:$B$38,0),MATCH($B336,[4]Estimadores!$D$6:$AB$6,0)),\"-\")","v":"-"},{"$f":"IFERROR(INDEX([4]Estimadores!$D$7:$AB$38,MATCH(AD$287,[4]Estimadores!$B$7:$B$38,0),MATCH($B336,[4]Estimadores!$D$6:$AB$6,0)),\"-\")","v":"-"},{"$f":"IFERROR(INDEX([4]Estimadores!$D$7:$AB$38,MATCH(AE$287,[4]Estimadores!$B$7:$B$38,0),MATCH($B336,[4]Estimadores!$D$6:$AB$6,0)),\"-\")","v":"-"},{"$f":"IFERROR(INDEX([4]Estimadores!$D$7:$AB$38,MATCH(AF$287,[4]Estimadores!$B$7:$B$38,0),MATCH($B336,[4]Estimadores!$D$6:$AB$6,0)),\"-\")","v":"-"},{"$f":"IFERROR(INDEX([4]Estimadores!$D$7:$AB$38,MATCH(AG$287,[4]Estimadores!$B$7:$B$38,0),MATCH($B336,[4]Estimadores!$D$6:$AB$6,0)),\"-\")","v":"-"},{"$f":"IFERROR(INDEX([4]Estimadores!$D$7:$AB$38,MATCH(AH$287,[4]Estimadores!$B$7:$B$38,0),MATCH($B336,[4]Estimadores!$D$6:$AB$6,0)),\"-\")","v":"-"},{"$f":"IFERROR(INDEX([4]Estimadores!$D$7:$AB$38,MATCH(AI$287,[4]Estimadores!$B$7:$B$38,0),MATCH($B336,[4]Estimadores!$D$6:$AB$6,0)),\"-\")","v":"-"}]
[null,"","",{"$f":"IFERROR(INDEX([4]Estimadores!$D$7:$AB$38,MATCH(D$287,[4]Estimadores!$B$7:$B$38,0),MATCH($B337,[4]Estimadores!$D$6:$AB$6,0)),\"-\")","v":"-"},{"$f":"IFERROR(INDEX([4]Estimadores!$D$7:$AB$38,MATCH(E$287,[4]Estimadores!$B$7:$B$38,0),MATCH($B337,[4]Estimadores!$D$6:$AB$6,0)),\"-\")","v":"-"},{"$f":"IFERROR(INDEX([4]Estimadores!$D$7:$AB$38,MATCH(F$287,[4]Estimadores!$B$7:$B$38,0),MATCH($B337,[4]Estimadores!$D$6:$AB$6,0)),\"-\")","v":"-"},{"$f":"IFERROR(INDEX([4]Estimadores!$D$7:$AB$38,MATCH(G$287,[4]Estimadores!$B$7:$B$38,0),MATCH($B337,[4]Estimadores!$D$6:$AB$6,0)),\"-\")","v":"-"},{"$f":"IFERROR(INDEX([4]Estimadores!$D$7:$AB$38,MATCH(H$287,[4]Estimadores!$B$7:$B$38,0),MATCH($B337,[4]Estimadores!$D$6:$AB$6,0)),\"-\")","v":"-"},{"$f":"IFERROR(INDEX([4]Estimadores!$D$7:$AB$38,MATCH(I$287,[4]Estimadores!$B$7:$B$38,0),MATCH($B337,[4]Estimadores!$D$6:$AB$6,0)),\"-\")","v":"-"},{"$f":"IFERROR(INDEX([4]Estimadores!$D$7:$AB$38,MATCH(J$287,[4]Estimadores!$B$7:$B$38,0),MATCH($B337,[4]Estimadores!$D$6:$AB$6,0)),\"-\")","v":"-"},{"$f":"IFERROR(INDEX([4]Estimadores!$D$7:$AB$38,MATCH(K$287,[4]Estimadores!$B$7:$B$38,0),MATCH($B337,[4]Estimadores!$D$6:$AB$6,0)),\"-\")","v":"-"},{"$f":"IFERROR(INDEX([4]Estimadores!$D$7:$AB$38,MATCH(L$287,[4]Estimadores!$B$7:$B$38,0),MATCH($B337,[4]Estimadores!$D$6:$AB$6,0)),\"-\")","v":"-"},{"$f":"IFERROR(INDEX([4]Estimadores!$D$7:$AB$38,MATCH(M$287,[4]Estimadores!$B$7:$B$38,0),MATCH($B337,[4]Estimadores!$D$6:$AB$6,0)),\"-\")","v":"-"},{"$f":"IFERROR(INDEX([4]Estimadores!$D$7:$AB$38,MATCH(N$287,[4]Estimadores!$B$7:$B$38,0),MATCH($B337,[4]Estimadores!$D$6:$AB$6,0)),\"-\")","v":"-"},{"$f":"IFERROR(INDEX([4]Estimadores!$D$7:$AB$38,MATCH(O$287,[4]Estimadores!$B$7:$B$38,0),MATCH($B337,[4]Estimadores!$D$6:$AB$6,0)),\"-\")","v":"-"},{"$f":"IFERROR(INDEX([4]Estimadores!$D$7:$AB$38,MATCH(P$287,[4]Estimadores!$B$7:$B$38,0),MATCH($B337,[4]Estimadores!$D$6:$AB$6,0)),\"-\")","v":"-"},{"$f":"IFERROR(INDEX([4]Estimadores!$D$7:$AB$38,MATCH(Q$287,[4]Estimadores!$B$7:$B$38,0),MATCH($B337,[4]Estimadores!$D$6:$AB$6,0)),\"-\")","v":"-"},{"$f":"IFERROR(INDEX([4]Estimadores!$D$7:$AB$38,MATCH(R$287,[4]Estimadores!$B$7:$B$38,0),MATCH($B337,[4]Estimadores!$D$6:$AB$6,0)),\"-\")","v":"-"},{"$f":"IFERROR(INDEX([4]Estimadores!$D$7:$AB$38,MATCH(S$287,[4]Estimadores!$B$7:$B$38,0),MATCH($B337,[4]Estimadores!$D$6:$AB$6,0)),\"-\")","v":"-"},{"$f":"IFERROR(INDEX([4]Estimadores!$D$7:$AB$38,MATCH(T$287,[4]Estimadores!$B$7:$B$38,0),MATCH($B337,[4]Estimadores!$D$6:$AB$6,0)),\"-\")","v":"-"},{"$f":"IFERROR(INDEX([4]Estimadores!$D$7:$AB$38,MATCH(U$287,[4]Estimadores!$B$7:$B$38,0),MATCH($B337,[4]Estimadores!$D$6:$AB$6,0)),\"-\")","v":"-"},{"$f":"IFERROR(INDEX([4]Estimadores!$D$7:$AB$38,MATCH(V$287,[4]Estimadores!$B$7:$B$38,0),MATCH($B337,[4]Estimadores!$D$6:$AB$6,0)),\"-\")","v":"-"},{"$f":"IFERROR(INDEX([4]Estimadores!$D$7:$AB$38,MATCH(W$287,[4]Estimadores!$B$7:$B$38,0),MATCH($B337,[4]Estimadores!$D$6:$AB$6,0)),\"-\")","v":"-"},{"$f":"IFERROR(INDEX([4]Estimadores!$D$7:$AB$38,MATCH(X$287,[4]Estimadores!$B$7:$B$38,0),MATCH($B337,[4]Estimadores!$D$6:$AB$6,0)),\"-\")","v":"-"},{"$f":"IFERROR(INDEX([4]Estimadores!$D$7:$AB$38,MATCH(Y$287,[4]Estimadores!$B$7:$B$38,0),MATCH($B337,[4]Estimadores!$D$6:$AB$6,0)),\"-\")","v":"-"},{"$f":"IFERROR(INDEX([4]Estimadores!$D$7:$AB$38,MATCH(Z$287,[4]Estimadores!$B$7:$B$38,0),MATCH($B337,[4]Estimadores!$D$6:$AB$6,0)),\"-\")","v":"-"},{"$f":"IFERROR(INDEX([4]Estimadores!$D$7:$AB$38,MATCH(AA$287,[4]Estimadores!$B$7:$B$38,0),MATCH($B337,[4]Estimadores!$D$6:$AB$6,0)),\"-\")","v":"-"},{"$f":"IFERROR(INDEX([4]Estimadores!$D$7:$AB$38,MATCH(AB$287,[4]Estimadores!$B$7:$B$38,0),MATCH($B337,[4]Estimadores!$D$6:$AB$6,0)),\"-\")","v":"-"},{"$f":"IFERROR(INDEX([4]Estimadores!$D$7:$AB$38,MATCH(AC$287,[4]Estimadores!$B$7:$B$38,0),MATCH($B337,[4]Estimadores!$D$6:$AB$6,0)),\"-\")","v":"-"},{"$f":"IFERROR(INDEX([4]Estimadores!$D$7:$AB$38,MATCH(AD$287,[4]Estimadores!$B$7:$B$38,0),MATCH($B337,[4]Estimadores!$D$6:$AB$6,0)),\"-\")","v":"-"},{"$f":"IFERROR(INDEX([4]Estimadores!$D$7:$AB$38,MATCH(AE$287,[4]Estimadores!$B$7:$B$38,0),MATCH($B337,[4]Estimadores!$D$6:$AB$6,0)),\"-\")","v":"-"},{"$f":"IFERROR(INDEX([4]Estimadores!$D$7:$AB$38,MATCH(AF$287,[4]Estimadores!$B$7:$B$38,0),MATCH($B337,[4]Estimadores!$D$6:$AB$6,0)),\"-\")","v":"-"},{"$f":"IFERROR(INDEX([4]Estimadores!$D$7:$AB$38,MATCH(AG$287,[4]Estimadores!$B$7:$B$38,0),MATCH($B337,[4]Estimadores!$D$6:$AB$6,0)),\"-\")","v":"-"},{"$f":"IFERROR(INDEX([4]Estimadores!$D$7:$AB$38,MATCH(AH$287,[4]Estimadores!$B$7:$B$38,0),MATCH($B337,[4]Estimadores!$D$6:$AB$6,0)),\"-\")","v":"-"},{"$f":"IFERROR(INDEX([4]Estimadores!$D$7:$AB$38,MATCH(AI$287,[4]Estimadores!$B$7:$B$38,0),MATCH($B337,[4]Estimadores!$D$6:$AB$6,0)),\"-\")","v":"-"}]
[null,"","",{"$f":"IFERROR(INDEX([4]Estimadores!$D$7:$AB$38,MATCH(D$287,[4]Estimadores!$B$7:$B$38,0),MATCH($B338,[4]Estimadores!$D$6:$AB$6,0)),\"-\")","v":"-"},{"$f":"IFERROR(INDEX([4]Estimadores!$D$7:$AB$38,MATCH(E$287,[4]Estimadores!$B$7:$B$38,0),MATCH($B338,[4]Estimadores!$D$6:$AB$6,0)),\"-\")","v":"-"},{"$f":"IFERROR(INDEX([4]Estimadores!$D$7:$AB$38,MATCH(F$287,[4]Estimadores!$B$7:$B$38,0),MATCH($B338,[4]Estimadores!$D$6:$AB$6,0)),\"-\")","v":"-"},{"$f":"IFERROR(INDEX([4]Estimadores!$D$7:$AB$38,MATCH(G$287,[4]Estimadores!$B$7:$B$38,0),MATCH($B338,[4]Estimadores!$D$6:$AB$6,0)),\"-\")","v":"-"},{"$f":"IFERROR(INDEX([4]Estimadores!$D$7:$AB$38,MATCH(H$287,[4]Estimadores!$B$7:$B$38,0),MATCH($B338,[4]Estimadores!$D$6:$AB$6,0)),\"-\")","v":"-"},{"$f":"IFERROR(INDEX([4]Estimadores!$D$7:$AB$38,MATCH(I$287,[4]Estimadores!$B$7:$B$38,0),MATCH($B338,[4]Estimadores!$D$6:$AB$6,0)),\"-\")","v":"-"},{"$f":"IFERROR(INDEX([4]Estimadores!$D$7:$AB$38,MATCH(J$287,[4]Estimadores!$B$7:$B$38,0),MATCH($B338,[4]Estimadores!$D$6:$AB$6,0)),\"-\")","v":"-"},{"$f":"IFERROR(INDEX([4]Estimadores!$D$7:$AB$38,MATCH(K$287,[4]Estimadores!$B$7:$B$38,0),MATCH($B338,[4]Estimadores!$D$6:$AB$6,0)),\"-\")","v":"-"},{"$f":"IFERROR(INDEX([4]Estimadores!$D$7:$AB$38,MATCH(L$287,[4]Estimadores!$B$7:$B$38,0),MATCH($B338,[4]Estimadores!$D$6:$AB$6,0)),\"-\")","v":"-"},{"$f":"IFERROR(INDEX([4]Estimadores!$D$7:$AB$38,MATCH(M$287,[4]Estimadores!$B$7:$B$38,0),MATCH($B338,[4]Estimadores!$D$6:$AB$6,0)),\"-\")","v":"-"},{"$f":"IFERROR(INDEX([4]Estimadores!$D$7:$AB$38,MATCH(N$287,[4]Estimadores!$B$7:$B$38,0),MATCH($B338,[4]Estimadores!$D$6:$AB$6,0)),\"-\")","v":"-"},{"$f":"IFERROR(INDEX([4]Estimadores!$D$7:$AB$38,MATCH(O$287,[4]Estimadores!$B$7:$B$38,0),MATCH($B338,[4]Estimadores!$D$6:$AB$6,0)),\"-\")","v":"-"},{"$f":"IFERROR(INDEX([4]Estimadores!$D$7:$AB$38,MATCH(P$287,[4]Estimadores!$B$7:$B$38,0),MATCH($B338,[4]Estimadores!$D$6:$AB$6,0)),\"-\")","v":"-"},{"$f":"IFERROR(INDEX([4]Estimadores!$D$7:$AB$38,MATCH(Q$287,[4]Estimadores!$B$7:$B$38,0),MATCH($B338,[4]Estimadores!$D$6:$AB$6,0)),\"-\")","v":"-"},{"$f":"IFERROR(INDEX([4]Estimadores!$D$7:$AB$38,MATCH(R$287,[4]Estimadores!$B$7:$B$38,0),MATCH($B338,[4]Estimadores!$D$6:$AB$6,0)),\"-\")","v":"-"},{"$f":"IFERROR(INDEX([4]Estimadores!$D$7:$AB$38,MATCH(S$287,[4]Estimadores!$B$7:$B$38,0),MATCH($B338,[4]Estimadores!$D$6:$AB$6,0)),\"-\")","v":"-"},{"$f":"IFERROR(INDEX([4]Estimadores!$D$7:$AB$38,MATCH(T$287,[4]Estimadores!$B$7:$B$38,0),MATCH($B338,[4]Estimadores!$D$6:$AB$6,0)),\"-\")","v":"-"},{"$f":"IFERROR(INDEX([4]Estimadores!$D$7:$AB$38,MATCH(U$287,[4]Estimadores!$B$7:$B$38,0),MATCH($B338,[4]Estimadores!$D$6:$AB$6,0)),\"-\")","v":"-"},{"$f":"IFERROR(INDEX([4]Estimadores!$D$7:$AB$38,MATCH(V$287,[4]Estimadores!$B$7:$B$38,0),MATCH($B338,[4]Estimadores!$D$6:$AB$6,0)),\"-\")","v":"-"},{"$f":"IFERROR(INDEX([4]Estimadores!$D$7:$AB$38,MATCH(W$287,[4]Estimadores!$B$7:$B$38,0),MATCH($B338,[4]Estimadores!$D$6:$AB$6,0)),\"-\")","v":"-"},{"$f":"IFERROR(INDEX([4]Estimadores!$D$7:$AB$38,MATCH(X$287,[4]Estimadores!$B$7:$B$38,0),MATCH($B338,[4]Estimadores!$D$6:$AB$6,0)),\"-\")","v":"-"},{"$f":"IFERROR(INDEX([4]Estimadores!$D$7:$AB$38,MATCH(Y$287,[4]Estimadores!$B$7:$B$38,0),MATCH($B338,[4]Estimadores!$D$6:$AB$6,0)),\"-\")","v":"-"},{"$f":"IFERROR(INDEX([4]Estimadores!$D$7:$AB$38,MATCH(Z$287,[4]Estimadores!$B$7:$B$38,0),MATCH($B338,[4]Estimadores!$D$6:$AB$6,0)),\"-\")","v":"-"},{"$f":"IFERROR(INDEX([4]Estimadores!$D$7:$AB$38,MATCH(AA$287,[4]Estimadores!$B$7:$B$38,0),MATCH($B338,[4]Estimadores!$D$6:$AB$6,0)),\"-\")","v":"-"},{"$f":"IFERROR(INDEX([4]Estimadores!$D$7:$AB$38,MATCH(AB$287,[4]Estimadores!$B$7:$B$38,0),MATCH($B338,[4]Estimadores!$D$6:$AB$6,0)),\"-\")","v":"-"},{"$f":"IFERROR(INDEX([4]Estimadores!$D$7:$AB$38,MATCH(AC$287,[4]Estimadores!$B$7:$B$38,0),MATCH($B338,[4]Estimadores!$D$6:$AB$6,0)),\"-\")","v":"-"},{"$f":"IFERROR(INDEX([4]Estimadores!$D$7:$AB$38,MATCH(AD$287,[4]Estimadores!$B$7:$B$38,0),MATCH($B338,[4]Estimadores!$D$6:$AB$6,0)),\"-\")","v":"-"},{"$f":"IFERROR(INDEX([4]Estimadores!$D$7:$AB$38,MATCH(AE$287,[4]Estimadores!$B$7:$B$38,0),MATCH($B338,[4]Estimadores!$D$6:$AB$6,0)),\"-\")","v":"-"},{"$f":"IFERROR(INDEX([4]Estimadores!$D$7:$AB$38,MATCH(AF$287,[4]Estimadores!$B$7:$B$38,0),MATCH($B338,[4]Estimadores!$D$6:$AB$6,0)),\"-\")","v":"-"},{"$f":"IFERROR(INDEX([4]Estimadores!$D$7:$AB$38,MATCH(AG$287,[4]Estimadores!$B$7:$B$38,0),MATCH($B338,[4]Estimadores!$D$6:$AB$6,0)),\"-\")","v":"-"},{"$f":"IFERROR(INDEX([4]Estimadores!$D$7:$AB$38,MATCH(AH$287,[4]Estimadores!$B$7:$B$38,0),MATCH($B338,[4]Estimadores!$D$6:$AB$6,0)),\"-\")","v":"-"},{"$f":"IFERROR(INDEX([4]Estimadores!$D$7:$AB$38,MATCH(AI$287,[4]Estimadores!$B$7:$B$38,0),MATCH($B338,[4]Estimadores!$D$6:$AB$6,0)),\"-\")","v":"-"}]
[null,"","",{"$f":"IFERROR(INDEX([4]Estimadores!$D$7:$AB$38,MATCH(D$287,[4]Estimadores!$B$7:$B$38,0),MATCH($B339,[4]Estimadores!$D$6:$AB$6,0)),\"-\")","v":"-"},{"$f":"IFERROR(INDEX([4]Estimadores!$D$7:$AB$38,MATCH(E$287,[4]Estimadores!$B$7:$B$38,0),MATCH($B339,[4]Estimadores!$D$6:$AB$6,0)),\"-\")","v":"-"},{"$f":"IFERROR(INDEX([4]Estimadores!$D$7:$AB$38,MATCH(F$287,[4]Estimadores!$B$7:$B$38,0),MATCH($B339,[4]Estimadores!$D$6:$AB$6,0)),\"-\")","v":"-"},{"$f":"IFERROR(INDEX([4]Estimadores!$D$7:$AB$38,MATCH(G$287,[4]Estimadores!$B$7:$B$38,0),MATCH($B339,[4]Estimadores!$D$6:$AB$6,0)),\"-\")","v":"-"},{"$f":"IFERROR(INDEX([4]Estimadores!$D$7:$AB$38,MATCH(H$287,[4]Estimadores!$B$7:$B$38,0),MATCH($B339,[4]Estimadores!$D$6:$AB$6,0)),\"-\")","v":"-"},{"$f":"IFERROR(INDEX([4]Estimadores!$D$7:$AB$38,MATCH(I$287,[4]Estimadores!$B$7:$B$38,0),MATCH($B339,[4]Estimadores!$D$6:$AB$6,0)),\"-\")","v":"-"},{"$f":"IFERROR(INDEX([4]Estimadores!$D$7:$AB$38,MATCH(J$287,[4]Estimadores!$B$7:$B$38,0),MATCH($B339,[4]Estimadores!$D$6:$AB$6,0)),\"-\")","v":"-"},{"$f":"IFERROR(INDEX([4]Estimadores!$D$7:$AB$38,MATCH(K$287,[4]Estimadores!$B$7:$B$38,0),MATCH($B339,[4]Estimadores!$D$6:$AB$6,0)),\"-\")","v":"-"},{"$f":"IFERROR(INDEX([4]Estimadores!$D$7:$AB$38,MATCH(L$287,[4]Estimadores!$B$7:$B$38,0),MATCH($B339,[4]Estimadores!$D$6:$AB$6,0)),\"-\")","v":"-"},{"$f":"IFERROR(INDEX([4]Estimadores!$D$7:$AB$38,MATCH(M$287,[4]Estimadores!$B$7:$B$38,0),MATCH($B339,[4]Estimadores!$D$6:$AB$6,0)),\"-\")","v":"-"},{"$f":"IFERROR(INDEX([4]Estimadores!$D$7:$AB$38,MATCH(N$287,[4]Estimadores!$B$7:$B$38,0),MATCH($B339,[4]Estimadores!$D$6:$AB$6,0)),\"-\")","v":"-"},{"$f":"IFERROR(INDEX([4]Estimadores!$D$7:$AB$38,MATCH(O$287,[4]Estimadores!$B$7:$B$38,0),MATCH($B339,[4]Estimadores!$D$6:$AB$6,0)),\"-\")","v":"-"},{"$f":"IFERROR(INDEX([4]Estimadores!$D$7:$AB$38,MATCH(P$287,[4]Estimadores!$B$7:$B$38,0),MATCH($B339,[4]Estimadores!$D$6:$AB$6,0)),\"-\")","v":"-"},{"$f":"IFERROR(INDEX([4]Estimadores!$D$7:$AB$38,MATCH(Q$287,[4]Estimadores!$B$7:$B$38,0),MATCH($B339,[4]Estimadores!$D$6:$AB$6,0)),\"-\")","v":"-"},{"$f":"IFERROR(INDEX([4]Estimadores!$D$7:$AB$38,MATCH(R$287,[4]Estimadores!$B$7:$B$38,0),MATCH($B339,[4]Estimadores!$D$6:$AB$6,0)),\"-\")","v":"-"},{"$f":"IFERROR(INDEX([4]Estimadores!$D$7:$AB$38,MATCH(S$287,[4]Estimadores!$B$7:$B$38,0),MATCH($B339,[4]Estimadores!$D$6:$AB$6,0)),\"-\")","v":"-"},{"$f":"IFERROR(INDEX([4]Estimadores!$D$7:$AB$38,MATCH(T$287,[4]Estimadores!$B$7:$B$38,0),MATCH($B339,[4]Estimadores!$D$6:$AB$6,0)),\"-\")","v":"-"},{"$f":"IFERROR(INDEX([4]Estimadores!$D$7:$AB$38,MATCH(U$287,[4]Estimadores!$B$7:$B$38,0),MATCH($B339,[4]Estimadores!$D$6:$AB$6,0)),\"-\")","v":"-"},{"$f":"IFERROR(INDEX([4]Estimadores!$D$7:$AB$38,MATCH(V$287,[4]Estimadores!$B$7:$B$38,0),MATCH($B339,[4]Estimadores!$D$6:$AB$6,0)),\"-\")","v":"-"},{"$f":"IFERROR(INDEX([4]Estimadores!$D$7:$AB$38,MATCH(W$287,[4]Estimadores!$B$7:$B$38,0),MATCH($B339,[4]Estimadores!$D$6:$AB$6,0)),\"-\")","v":"-"},{"$f":"IFERROR(INDEX([4]Estimadores!$D$7:$AB$38,MATCH(X$287,[4]Estimadores!$B$7:$B$38,0),MATCH($B339,[4]Estimadores!$D$6:$AB$6,0)),\"-\")","v":"-"},{"$f":"IFERROR(INDEX([4]Estimadores!$D$7:$AB$38,MATCH(Y$287,[4]Estimadores!$B$7:$B$38,0),MATCH($B339,[4]Estimadores!$D$6:$AB$6,0)),\"-\")","v":"-"},{"$f":"IFERROR(INDEX([4]Estimadores!$D$7:$AB$38,MATCH(Z$287,[4]Estimadores!$B$7:$B$38,0),MATCH($B339,[4]Estimadores!$D$6:$AB$6,0)),\"-\")","v":"-"},{"$f":"IFERROR(INDEX([4]Estimadores!$D$7:$AB$38,MATCH(AA$287,[4]Estimadores!$B$7:$B$38,0),MATCH($B339,[4]Estimadores!$D$6:$AB$6,0)),\"-\")","v":"-"},{"$f":"IFERROR(INDEX([4]Estimadores!$D$7:$AB$38,MATCH(AB$287,[4]Estimadores!$B$7:$B$38,0),MATCH($B339,[4]Estimadores!$D$6:$AB$6,0)),\"-\")","v":"-"},{"$f":"IFERROR(INDEX([4]Estimadores!$D$7:$AB$38,MATCH(AC$287,[4]Estimadores!$B$7:$B$38,0),MATCH($B339,[4]Estimadores!$D$6:$AB$6,0)),\"-\")","v":"-"},{"$f":"IFERROR(INDEX([4]Estimadores!$D$7:$AB$38,MATCH(AD$287,[4]Estimadores!$B$7:$B$38,0),MATCH($B339,[4]Estimadores!$D$6:$AB$6,0)),\"-\")","v":"-"},{"$f":"IFERROR(INDEX([4]Estimadores!$D$7:$AB$38,MATCH(AE$287,[4]Estimadores!$B$7:$B$38,0),MATCH($B339,[4]Estimadores!$D$6:$AB$6,0)),\"-\")","v":"-"},{"$f":"IFERROR(INDEX([4]Estimadores!$D$7:$AB$38,MATCH(AF$287,[4]Estimadores!$B$7:$B$38,0),MATCH($B339,[4]Estimadores!$D$6:$AB$6,0)),\"-\")","v":"-"},{"$f":"IFERROR(INDEX([4]Estimadores!$D$7:$AB$38,MATCH(AG$287,[4]Estimadores!$B$7:$B$38,0),MATCH($B339,[4]Estimadores!$D$6:$AB$6,0)),\"-\")","v":"-"},{"$f":"IFERROR(INDEX([4]Estimadores!$D$7:$AB$38,MATCH(AH$287,[4]Estimadores!$B$7:$B$38,0),MATCH($B339,[4]Estimadores!$D$6:$AB$6,0)),\"-\")","v":"-"},{"$f":"IFERROR(INDEX([4]Estimadores!$D$7:$AB$38,MATCH(AI$287,[4]Estimadores!$B$7:$B$38,0),MATCH($B339,[4]Estimadores!$D$6:$AB$6,0)),\"-\")","v":"-"}]
[null,"","",{"$f":"IFERROR(INDEX([4]Estimadores!$D$7:$AB$38,MATCH(D$287,[4]Estimadores!$B$7:$B$38,0),MATCH($B340,[4]Estimadores!$D$6:$AB$6,0)),\"-\")","v":"-"},{"$f":"IFERROR(INDEX([4]Estimadores!$D$7:$AB$38,MATCH(E$287,[4]Estimadores!$B$7:$B$38,0),MATCH($B340,[4]Estimadores!$D$6:$AB$6,0)),\"-\")","v":"-"},{"$f":"IFERROR(INDEX([4]Estimadores!$D$7:$AB$38,MATCH(F$287,[4]Estimadores!$B$7:$B$38,0),MATCH($B340,[4]Estimadores!$D$6:$AB$6,0)),\"-\")","v":"-"},{"$f":"IFERROR(INDEX([4]Estimadores!$D$7:$AB$38,MATCH(G$287,[4]Estimadores!$B$7:$B$38,0),MATCH($B340,[4]Estimadores!$D$6:$AB$6,0)),\"-\")","v":"-"},{"$f":"IFERROR(INDEX([4]Estimadores!$D$7:$AB$38,MATCH(H$287,[4]Estimadores!$B$7:$B$38,0),MATCH($B340,[4]Estimadores!$D$6:$AB$6,0)),\"-\")","v":"-"},{"$f":"IFERROR(INDEX([4]Estimadores!$D$7:$AB$38,MATCH(I$287,[4]Estimadores!$B$7:$B$38,0),MATCH($B340,[4]Estimadores!$D$6:$AB$6,0)),\"-\")","v":"-"},{"$f":"IFERROR(INDEX([4]Estimadores!$D$7:$AB$38,MATCH(J$287,[4]Estimadores!$B$7:$B$38,0),MATCH($B340,[4]Estimadores!$D$6:$AB$6,0)),\"-\")","v":"-"},{"$f":"IFERROR(INDEX([4]Estimadores!$D$7:$AB$38,MATCH(K$287,[4]Estimadores!$B$7:$B$38,0),MATCH($B340,[4]Estimadores!$D$6:$AB$6,0)),\"-\")","v":"-"},{"$f":"IFERROR(INDEX([4]Estimadores!$D$7:$AB$38,MATCH(L$287,[4]Estimadores!$B$7:$B$38,0),MATCH($B340,[4]Estimadores!$D$6:$AB$6,0)),\"-\")","v":"-"},{"$f":"IFERROR(INDEX([4]Estimadores!$D$7:$AB$38,MATCH(M$287,[4]Estimadores!$B$7:$B$38,0),MATCH($B340,[4]Estimadores!$D$6:$AB$6,0)),\"-\")","v":"-"},{"$f":"IFERROR(INDEX([4]Estimadores!$D$7:$AB$38,MATCH(N$287,[4]Estimadores!$B$7:$B$38,0),MATCH($B340,[4]Estimadores!$D$6:$AB$6,0)),\"-\")","v":"-"},{"$f":"IFERROR(INDEX([4]Estimadores!$D$7:$AB$38,MATCH(O$287,[4]Estimadores!$B$7:$B$38,0),MATCH($B340,[4]Estimadores!$D$6:$AB$6,0)),\"-\")","v":"-"},{"$f":"IFERROR(INDEX([4]Estimadores!$D$7:$AB$38,MATCH(P$287,[4]Estimadores!$B$7:$B$38,0),MATCH($B340,[4]Estimadores!$D$6:$AB$6,0)),\"-\")","v":"-"},{"$f":"IFERROR(INDEX([4]Estimadores!$D$7:$AB$38,MATCH(Q$287,[4]Estimadores!$B$7:$B$38,0),MATCH($B340,[4]Estimadores!$D$6:$AB$6,0)),\"-\")","v":"-"},{"$f":"IFERROR(INDEX([4]Estimadores!$D$7:$AB$38,MATCH(R$287,[4]Estimadores!$B$7:$B$38,0),MATCH($B340,[4]Estimadores!$D$6:$AB$6,0)),\"-\")","v":"-"},{"$f":"IFERROR(INDEX([4]Estimadores!$D$7:$AB$38,MATCH(S$287,[4]Estimadores!$B$7:$B$38,0),MATCH($B340,[4]Estimadores!$D$6:$AB$6,0)),\"-\")","v":"-"},{"$f":"IFERROR(INDEX([4]Estimadores!$D$7:$AB$38,MATCH(T$287,[4]Estimadores!$B$7:$B$38,0),MATCH($B340,[4]Estimadores!$D$6:$AB$6,0)),\"-\")","v":"-"},{"$f":"IFERROR(INDEX([4]Estimadores!$D$7:$AB$38,MATCH(U$287,[4]Estimadores!$B$7:$B$38,0),MATCH($B340,[4]Estimadores!$D$6:$AB$6,0)),\"-\")","v":"-"},{"$f":"IFERROR(INDEX([4]Estimadores!$D$7:$AB$38,MATCH(V$287,[4]Estimadores!$B$7:$B$38,0),MATCH($B340,[4]Estimadores!$D$6:$AB$6,0)),\"-\")","v":"-"},{"$f":"IFERROR(INDEX([4]Estimadores!$D$7:$AB$38,MATCH(W$287,[4]Estimadores!$B$7:$B$38,0),MATCH($B340,[4]Estimadores!$D$6:$AB$6,0)),\"-\")","v":"-"},{"$f":"IFERROR(INDEX([4]Estimadores!$D$7:$AB$38,MATCH(X$287,[4]Estimadores!$B$7:$B$38,0),MATCH($B340,[4]Estimadores!$D$6:$AB$6,0)),\"-\")","v":"-"},{"$f":"IFERROR(INDEX([4]Estimadores!$D$7:$AB$38,MATCH(Y$287,[4]Estimadores!$B$7:$B$38,0),MATCH($B340,[4]Estimadores!$D$6:$AB$6,0)),\"-\")","v":"-"},{"$f":"IFERROR(INDEX([4]Estimadores!$D$7:$AB$38,MATCH(Z$287,[4]Estimadores!$B$7:$B$38,0),MATCH($B340,[4]Estimadores!$D$6:$AB$6,0)),\"-\")","v":"-"},{"$f":"IFERROR(INDEX([4]Estimadores!$D$7:$AB$38,MATCH(AA$287,[4]Estimadores!$B$7:$B$38,0),MATCH($B340,[4]Estimadores!$D$6:$AB$6,0)),\"-\")","v":"-"},{"$f":"IFERROR(INDEX([4]Estimadores!$D$7:$AB$38,MATCH(AB$287,[4]Estimadores!$B$7:$B$38,0),MATCH($B340,[4]Estimadores!$D$6:$AB$6,0)),\"-\")","v":"-"},{"$f":"IFERROR(INDEX([4]Estimadores!$D$7:$AB$38,MATCH(AC$287,[4]Estimadores!$B$7:$B$38,0),MATCH($B340,[4]Estimadores!$D$6:$AB$6,0)),\"-\")","v":"-"},{"$f":"IFERROR(INDEX([4]Estimadores!$D$7:$AB$38,MATCH(AD$287,[4]Estimadores!$B$7:$B$38,0),MATCH($B340,[4]Estimadores!$D$6:$AB$6,0)),\"-\")","v":"-"},{"$f":"IFERROR(INDEX([4]Estimadores!$D$7:$AB$38,MATCH(AE$287,[4]Estimadores!$B$7:$B$38,0),MATCH($B340,[4]Estimadores!$D$6:$AB$6,0)),\"-\")","v":"-"},{"$f":"IFERROR(INDEX([4]Estimadores!$D$7:$AB$38,MATCH(AF$287,[4]Estimadores!$B$7:$B$38,0),MATCH($B340,[4]Estimadores!$D$6:$AB$6,0)),\"-\")","v":"-"},{"$f":"IFERROR(INDEX([4]Estimadores!$D$7:$AB$38,MATCH(AG$287,[4]Estimadores!$B$7:$B$38,0),MATCH($B340,[4]Estimadores!$D$6:$AB$6,0)),\"-\")","v":"-"},{"$f":"IFERROR(INDEX([4]Estimadores!$D$7:$AB$38,MATCH(AH$287,[4]Estimadores!$B$7:$B$38,0),MATCH($B340,[4]Estimadores!$D$6:$AB$6,0)),\"-\")","v":"-"},{"$f":"IFERROR(INDEX([4]Estimadores!$D$7:$AB$38,MATCH(AI$287,[4]Estimadores!$B$7:$B$38,0),MATCH($B340,[4]Estimadores!$D$6:$AB$6,0)),\"-\")","v":"-"}]
[null,"ATD","ATD",{"$f":"IFERROR(INDEX([4]Estimadores!$D$7:$AB$38,MATCH(D$287,[4]Estimadores!$B$7:$B$38,0),MATCH($B341,[4]Estimadores!$D$6:$AB$6,0)),\"-\")","v":0.23152022561996702},{"$f":"IFERROR(INDEX([4]Estimadores!$D$7:$AB$38,MATCH(E$287,[4]Estimadores!$B$7:$B$38,0),MATCH($B341,[4]Estimadores!$D$6:$AB$6,0)),\"-\")","v":0.28527235043855576},{"$f":"IFERROR(INDEX([4]Estimadores!$D$7:$AB$38,MATCH(F$287,[4]Estimadores!$B$7:$B$38,0),MATCH($B341,[4]Estimadores!$D$6:$AB$6,0)),\"-\")","v":0.48320742394147653},{"$f":"IFERROR(INDEX([4]Estimadores!$D$7:$AB$38,MATCH(G$287,[4]Estimadores!$B$7:$B$38,0),MATCH($B341,[4]Estimadores!$D$6:$AB$6,0)),\"-\")","v":0.91494568565945211},{"$f":"IFERROR(INDEX([4]Estimadores!$D$7:$AB$38,MATCH(H$287,[4]Estimadores!$B$7:$B$38,0),MATCH($B341,[4]Estimadores!$D$6:$AB$6,0)),\"-\")","v":1},{"$f":"IFERROR(INDEX([4]Estimadores!$D$7:$AB$38,MATCH(I$287,[4]Estimadores!$B$7:$B$38,0),MATCH($B341,[4]Estimadores!$D$6:$AB$6,0)),\"-\")","v":1},{"$f":"IFERROR(INDEX([4]Estimadores!$D$7:$AB$38,MATCH(J$287,[4]Estimadores!$B$7:$B$38,0),MATCH($B341,[4]Estimadores!$D$6:$AB$6,0)),\"-\")","v":0.98894902661523776},{"$f":"IFERROR(INDEX([4]Estimadores!$D$7:$AB$38,MATCH(K$287,[4]Estimadores!$B$7:$B$38,0),MATCH($B341,[4]Estimadores!$D$6:$AB$6,0)),\"-\")","v":0.83418725075663624},{"$f":"IFERROR(INDEX([4]Estimadores!$D$7:$AB$38,MATCH(L$287,[4]Estimadores!$B$7:$B$38,0),MATCH($B341,[4]Estimadores!$D$6:$AB$6,0)),\"-\")","v":0.86984923832547922},{"$f":"IFERROR(INDEX([4]Estimadores!$D$7:$AB$38,MATCH(M$287,[4]Estimadores!$B$7:$B$38,0),MATCH($B341,[4]Estimadores!$D$6:$AB$6,0)),\"-\")","v":0.86984923832547922},{"$f":"IFERROR(INDEX([4]Estimadores!$D$7:$AB$38,MATCH(N$287,[4]Estimadores!$B$7:$B$38,0),MATCH($B341,[4]Estimadores!$D$6:$AB$6,0)),\"-\")","v":0.85880638400752929},{"$f":"IFERROR(INDEX([4]Estimadores!$D$7:$AB$38,MATCH(O$287,[4]Estimadores!$B$7:$B$38,0),MATCH($B341,[4]Estimadores!$D$6:$AB$6,0)),\"-\")","v":0.89552085376565627},{"$f":"IFERROR(INDEX([4]Estimadores!$D$7:$AB$38,MATCH(P$287,[4]Estimadores!$B$7:$B$38,0),MATCH($B341,[4]Estimadores!$D$6:$AB$6,0)),\"-\")","v":0.89552085376565627},{"$f":"IFERROR(INDEX([4]Estimadores!$D$7:$AB$38,MATCH(Q$287,[4]Estimadores!$B$7:$B$38,0),MATCH($B341,[4]Estimadores!$D$6:$AB$6,0)),\"-\")","v":0.95597223105906404},{"$f":"IFERROR(INDEX([4]Estimadores!$D$7:$AB$38,MATCH(R$287,[4]Estimadores!$B$7:$B$38,0),MATCH($B341,[4]Estimadores!$D$6:$AB$6,0)),\"-\")","v":0.95597223105906404},{"$f":"IFERROR(INDEX([4]Estimadores!$D$7:$AB$38,MATCH(S$287,[4]Estimadores!$B$7:$B$38,0),MATCH($B341,[4]Estimadores!$D$6:$AB$6,0)),\"-\")","v":0.94206663499329957},{"$f":"IFERROR(INDEX([4]Estimadores!$D$7:$AB$38,MATCH(T$287,[4]Estimadores!$B$7:$B$38,0),MATCH($B341,[4]Estimadores!$D$6:$AB$6,0)),\"-\")","v":0.83418725075663624},{"$f":"IFERROR(INDEX([4]Estimadores!$D$7:$AB$38,MATCH(U$287,[4]Estimadores!$B$7:$B$38,0),MATCH($B341,[4]Estimadores!$D$6:$AB$6,0)),\"-\")","v":0.86984923832547922},{"$f":"IFERROR(INDEX([4]Estimadores!$D$7:$AB$38,MATCH(V$287,[4]Estimadores!$B$7:$B$38,0),MATCH($B341,[4]Estimadores!$D$6:$AB$6,0)),\"-\")","v":0.86984923832547922},{"$f":"IFERROR(INDEX([4]Estimadores!$D$7:$AB$38,MATCH(W$287,[4]Estimadores!$B$7:$B$38,0),MATCH($B341,[4]Estimadores!$D$6:$AB$6,0)),\"-\")","v":"-"},{"$f":"IFERROR(INDEX([4]Estimadores!$D$7:$AB$38,MATCH(X$287,[4]Estimadores!$B$7:$B$38,0),MATCH($B341,[4]Estimadores!$D$6:$AB$6,0)),\"-\")","v":0.83418725075663624},{"$f":"IFERROR(INDEX([4]Estimadores!$D$7:$AB$38,MATCH(Y$287,[4]Estimadores!$B$7:$B$38,0),MATCH($B341,[4]Estimadores!$D$6:$AB$6,0)),\"-\")","v":0.86984923832547922},{"$f":"IFERROR(INDEX([4]Estimadores!$D$7:$AB$38,MATCH(Z$287,[4]Estimadores!$B$7:$B$38,0),MATCH($B341,[4]Estimadores!$D$6:$AB$6,0)),\"-\")","v":0.86984923832547922},{"$f":"IFERROR(INDEX([4]Estimadores!$D$7:$AB$38,MATCH(AA$287,[4]Estimadores!$B$7:$B$38,0),MATCH($B341,[4]Estimadores!$D$6:$AB$6,0)),\"-\")","v":0.94540780737705865},{"$f":"IFERROR(INDEX([4]Estimadores!$D$7:$AB$38,MATCH(AB$287,[4]Estimadores!$B$7:$B$38,0),MATCH($B341,[4]Estimadores!$D$6:$AB$6,0)),\"-\")","v":0.94540780737705865},{"$f":"IFERROR(INDEX([4]Estimadores!$D$7:$AB$38,MATCH(AC$287,[4]Estimadores!$B$7:$B$38,0),MATCH($B341,[4]Estimadores!$D$6:$AB$6,0)),\"-\")","v":0.93165588168331614},{"$f":"IFERROR(INDEX([4]Estimadores!$D$7:$AB$38,MATCH(AD$287,[4]Estimadores!$B$7:$B$38,0),MATCH($B341,[4]Estimadores!$D$6:$AB$6,0)),\"-\")","v":0.97133331364397812},{"$f":"IFERROR(INDEX([4]Estimadores!$D$7:$AB$38,MATCH(AE$287,[4]Estimadores!$B$7:$B$38,0),MATCH($B341,[4]Estimadores!$D$6:$AB$6,0)),\"-\")","v":0.98894902661523776},{"$f":"IFERROR(INDEX([4]Estimadores!$D$7:$AB$38,MATCH(AF$287,[4]Estimadores!$B$7:$B$38,0),MATCH($B341,[4]Estimadores!$D$6:$AB$6,0)),\"-\")","v":0.91593627039588887},{"$f":"IFERROR(INDEX([4]Estimadores!$D$7:$AB$38,MATCH(AG$287,[4]Estimadores!$B$7:$B$38,0),MATCH($B341,[4]Estimadores!$D$6:$AB$6,0)),\"-\")","v":0.93315365216122459},{"$f":"IFERROR(INDEX([4]Estimadores!$D$7:$AB$38,MATCH(AH$287,[4]Estimadores!$B$7:$B$38,0),MATCH($B341,[4]Estimadores!$D$6:$AB$6,0)),\"-\")","v":1.0295127181919439},{"$f":"IFERROR(INDEX([4]Estimadores!$D$7:$AB$38,MATCH(AI$287,[4]Estimadores!$B$7:$B$38,0),MATCH($B341,[4]Estimadores!$D$6:$AB$6,0)),\"-\")","v":1.011174462067661}]
[null,"ATH","ATH",{"$f":"IFERROR(INDEX([4]Estimadores!$D$7:$AB$38,MATCH(D$287,[4]Estimadores!$B$7:$B$38,0),MATCH($B342,[4]Estimadores!$D$6:$AB$6,0)),\"-\")","v":0.24477253243345296},{"$f":"IFERROR(INDEX([4]Estimadores!$D$7:$AB$38,MATCH(E$287,[4]Estimadores!$B$7:$B$38,0),MATCH($B342,[4]Estimadores!$D$6:$AB$6,0)),\"-\")","v":0.28323909445181944},{"$f":"IFERROR(INDEX([4]Estimadores!$D$7:$AB$38,MATCH(F$287,[4]Estimadores!$B$7:$B$38,0),MATCH($B342,[4]Estimadores!$D$6:$AB$6,0)),\"-\")","v":0.47198837311472763},{"$f":"IFERROR(INDEX([4]Estimadores!$D$7:$AB$38,MATCH(G$287,[4]Estimadores!$B$7:$B$38,0),MATCH($B342,[4]Estimadores!$D$6:$AB$6,0)),\"-\")","v":0.917461915219968},{"$f":"IFERROR(INDEX([4]Estimadores!$D$7:$AB$38,MATCH(H$287,[4]Estimadores!$B$7:$B$38,0),MATCH($B342,[4]Estimadores!$D$6:$AB$6,0)),\"-\")","v":0.99853801169590639},{"$f":"IFERROR(INDEX([4]Estimadores!$D$7:$AB$38,MATCH(I$287,[4]Estimadores!$B$7:$B$38,0),MATCH($B342,[4]Estimadores!$D$6:$AB$6,0)),\"-\")","v":0.99853801169590639},{"$f":"IFERROR(INDEX([4]Estimadores!$D$7:$AB$38,MATCH(J$287,[4]Estimadores!$B$7:$B$38,0),MATCH($B342,[4]Estimadores!$D$6:$AB$6,0)),\"-\")","v":0.99852724594992626},{"$f":"IFERROR(INDEX([4]Estimadores!$D$7:$AB$38,MATCH(K$287,[4]Estimadores!$B$7:$B$38,0),MATCH($B342,[4]Estimadores!$D$6:$AB$6,0)),\"-\")","v":0.92459736456808206},{"$f":"IFERROR(INDEX([4]Estimadores!$D$7:$AB$38,MATCH(L$287,[4]Estimadores!$B$7:$B$38,0),MATCH($B342,[4]Estimadores!$D$6:$AB$6,0)),\"-\")","v":0.91947291361639838},{"$f":"IFERROR(INDEX([4]Estimadores!$D$7:$AB$38,MATCH(M$287,[4]Estimadores!$B$7:$B$38,0),MATCH($B342,[4]Estimadores!$D$6:$AB$6,0)),\"-\")","v":0.91947291361639838},{"$f":"IFERROR(INDEX([4]Estimadores!$D$7:$AB$38,MATCH(N$287,[4]Estimadores!$B$7:$B$38,0),MATCH($B342,[4]Estimadores!$D$6:$AB$6,0)),\"-\")","v":0.92459736456808206},{"$f":"IFERROR(INDEX([4]Estimadores!$D$7:$AB$38,MATCH(O$287,[4]Estimadores!$B$7:$B$38,0),MATCH($B342,[4]Estimadores!$D$6:$AB$6,0)),\"-\")","v":0.91947291361639838},{"$f":"IFERROR(INDEX([4]Estimadores!$D$7:$AB$38,MATCH(P$287,[4]Estimadores!$B$7:$B$38,0),MATCH($B342,[4]Estimadores!$D$6:$AB$6,0)),\"-\")","v":0.91947291361639838},{"$f":"IFERROR(INDEX([4]Estimadores!$D$7:$AB$38,MATCH(Q$287,[4]Estimadores!$B$7:$B$38,0),MATCH($B342,[4]Estimadores!$D$6:$AB$6,0)),\"-\")","v":0.94100294985250732},{"$f":"IFERROR(INDEX([4]Estimadores!$D$7:$AB$38,MATCH(R$287,[4]Estimadores!$B$7:$B$38,0),MATCH($B342,[4]Estimadores!$D$6:$AB$6,0)),\"-\")","v":0.94100294985250732},{"$f":"IFERROR(INDEX([4]Estimadores!$D$7:$AB$38,MATCH(S$287,[4]Estimadores!$B$7:$B$38,0),MATCH($B342,[4]Estimadores!$D$6:$AB$6,0)),\"-\")","v":0.95353982300884954},{"$f":"IFERROR(INDEX([4]Estimadores!$D$7:$AB$38,MATCH(T$287,[4]Estimadores!$B$7:$B$38,0),MATCH($B342,[4]Estimadores!$D$6:$AB$6,0)),\"-\")","v":0.92324561403508776},{"$f":"IFERROR(INDEX([4]Estimadores!$D$7:$AB$38,MATCH(U$287,[4]Estimadores!$B$7:$B$38,0),MATCH($B342,[4]Estimadores!$D$6:$AB$6,0)),\"-\")","v":0.91812865497076035},{"$f":"IFERROR(INDEX([4]Estimadores!$D$7:$AB$38,MATCH(V$287,[4]Estimadores!$B$7:$B$38,0),MATCH($B342,[4]Estimadores!$D$6:$AB$6,0)),\"-\")","v":0.91812865497076035},{"$f":"IFERROR(INDEX([4]Estimadores!$D$7:$AB$38,MATCH(W$287,[4]Estimadores!$B$7:$B$38,0),MATCH($B342,[4]Estimadores!$D$6:$AB$6,0)),\"-\")","v":"-"},{"$f":"IFERROR(INDEX([4]Estimadores!$D$7:$AB$38,MATCH(X$287,[4]Estimadores!$B$7:$B$38,0),MATCH($B342,[4]Estimadores!$D$6:$AB$6,0)),\"-\")","v":0.92459736456808206},{"$f":"IFERROR(INDEX([4]Estimadores!$D$7:$AB$38,MATCH(Y$287,[4]Estimadores!$B$7:$B$38,0),MATCH($B342,[4]Estimadores!$D$6:$AB$6,0)),\"-\")","v":0.91947291361639838},{"$f":"IFERROR(INDEX([4]Estimadores!$D$7:$AB$38,MATCH(Z$287,[4]Estimadores!$B$7:$B$38,0),MATCH($B342,[4]Estimadores!$D$6:$AB$6,0)),\"-\")","v":0.91947291361639838},{"$f":"IFERROR(INDEX([4]Estimadores!$D$7:$AB$38,MATCH(AA$287,[4]Estimadores!$B$7:$B$38,0),MATCH($B342,[4]Estimadores!$D$6:$AB$6,0)),\"-\")","v":0.93411420204978035},{"$f":"IFERROR(INDEX([4]Estimadores!$D$7:$AB$38,MATCH(AB$287,[4]Estimadores!$B$7:$B$38,0),MATCH($B342,[4]Estimadores!$D$6:$AB$6,0)),\"-\")","v":0.93411420204978035},{"$f":"IFERROR(INDEX([4]Estimadores!$D$7:$AB$38,MATCH(AC$287,[4]Estimadores!$B$7:$B$38,0),MATCH($B342,[4]Estimadores!$D$6:$AB$6,0)),\"-\")","v":0.94655929721815524},{"$f":"IFERROR(INDEX([4]Estimadores!$D$7:$AB$38,MATCH(AD$287,[4]Estimadores!$B$7:$B$38,0),MATCH($B342,[4]Estimadores!$D$6:$AB$6,0)),\"-\")","v":0.99853801169590639},{"$f":"IFERROR(INDEX([4]Estimadores!$D$7:$AB$38,MATCH(AE$287,[4]Estimadores!$B$7:$B$38,0),MATCH($B342,[4]Estimadores!$D$6:$AB$6,0)),\"-\")","v":0.99122807017543857},{"$f":"IFERROR(INDEX([4]Estimadores!$D$7:$AB$38,MATCH(AF$287,[4]Estimadores!$B$7:$B$38,0),MATCH($B342,[4]Estimadores!$D$6:$AB$6,0)),\"-\")","v":0.94319180087847743},{"$f":"IFERROR(INDEX([4]Estimadores!$D$7:$AB$38,MATCH(AG$287,[4]Estimadores!$B$7:$B$38,0),MATCH($B342,[4]Estimadores!$D$6:$AB$6,0)),\"-\")","v":0.91612797289823011},{"$f":"IFERROR(INDEX([4]Estimadores!$D$7:$AB$38,MATCH(AH$287,[4]Estimadores!$B$7:$B$38,0),MATCH($B342,[4]Estimadores!$D$6:$AB$6,0)),\"-\")","v":1},{"$f":"IFERROR(INDEX([4]Estimadores!$D$7:$AB$38,MATCH(AI$287,[4]Estimadores!$B$7:$B$38,0),MATCH($B342,[4]Estimadores!$D$6:$AB$6,0)),\"-\")","v":1.0073746312684364}]
[null,"EDEMET","EDEMET",{"$f":"IFERROR(INDEX([4]Estimadores!$D$7:$AB$38,MATCH(D$287,[4]Estimadores!$B$7:$B$38,0),MATCH($B343,[4]Estimadores!$D$6:$AB$6,0)),\"-\")","v":0.3047701382178501},{"$f":"IFERROR(INDEX([4]Estimadores!$D$7:$AB$38,MATCH(E$287,[4]Estimadores!$B$7:$B$38,0),MATCH($B343,[4]Estimadores!$D$6:$AB$6,0)),\"-\")","v":0.27111417923078823},{"$f":"IFERROR(INDEX([4]Estimadores!$D$7:$AB$38,MATCH(F$287,[4]Estimadores!$B$7:$B$38,0),MATCH($B343,[4]Estimadores!$D$6:$AB$6,0)),\"-\")","v":0.42411568255136212},{"$f":"IFERROR(INDEX([4]Estimadores!$D$7:$AB$38,MATCH(G$287,[4]Estimadores!$B$7:$B$38,0),MATCH($B343,[4]Estimadores!$D$6:$AB$6,0)),\"-\")","v":0.7268920949474128},{"$f":"IFERROR(INDEX([4]Estimadores!$D$7:$AB$38,MATCH(H$287,[4]Estimadores!$B$7:$B$38,0),MATCH($B343,[4]Estimadores!$D$6:$AB$6,0)),\"-\")","v":1},{"$f":"IFERROR(INDEX([4]Estimadores!$D$7:$AB$38,MATCH(I$287,[4]Estimadores!$B$7:$B$38,0),MATCH($B343,[4]Estimadores!$D$6:$AB$6,0)),\"-\")","v":1},{"$f":"IFERROR(INDEX([4]Estimadores!$D$7:$AB$38,MATCH(J$287,[4]Estimadores!$B$7:$B$38,0),MATCH($B343,[4]Estimadores!$D$6:$AB$6,0)),\"-\")","v":0.99389014248437124},{"$f":"IFERROR(INDEX([4]Estimadores!$D$7:$AB$38,MATCH(K$287,[4]Estimadores!$B$7:$B$38,0),MATCH($B343,[4]Estimadores!$D$6:$AB$6,0)),\"-\")","v":0.94430944952042284},{"$f":"IFERROR(INDEX([4]Estimadores!$D$7:$AB$38,MATCH(L$287,[4]Estimadores!$B$7:$B$38,0),MATCH($B343,[4]Estimadores!$D$6:$AB$6,0)),\"-\")","v":0.95970264662158267},{"$f":"IFERROR(INDEX([4]Estimadores!$D$7:$AB$38,MATCH(M$287,[4]Estimadores!$B$7:$B$38,0),MATCH($B343,[4]Estimadores!$D$6:$AB$6,0)),\"-\")","v":0.95970264662158267},{"$f":"IFERROR(INDEX([4]Estimadores!$D$7:$AB$38,MATCH(N$287,[4]Estimadores!$B$7:$B$38,0),MATCH($B343,[4]Estimadores!$D$6:$AB$6,0)),\"-\")","v":0.94430944952042284},{"$f":"IFERROR(INDEX([4]Estimadores!$D$7:$AB$38,MATCH(O$287,[4]Estimadores!$B$7:$B$38,0),MATCH($B343,[4]Estimadores!$D$6:$AB$6,0)),\"-\")","v":0.95970264662158267},{"$f":"IFERROR(INDEX([4]Estimadores!$D$7:$AB$38,MATCH(P$287,[4]Estimadores!$B$7:$B$38,0),MATCH($B343,[4]Estimadores!$D$6:$AB$6,0)),\"-\")","v":0.95970264662158267},{"$f":"IFERROR(INDEX([4]Estimadores!$D$7:$AB$38,MATCH(Q$287,[4]Estimadores!$B$7:$B$38,0),MATCH($B343,[4]Estimadores!$D$6:$AB$6,0)),\"-\")","v":0.81612542037844094},{"$f":"IFERROR(INDEX([4]Estimadores!$D$7:$AB$38,MATCH(R$287,[4]Estimadores!$B$7:$B$38,0),MATCH($B343,[4]Estimadores!$D$6:$AB$6,0)),\"-\")","v":0.81612542037844094},{"$f":"IFERROR(INDEX([4]Estimadores!$D$7:$AB$38,MATCH(S$287,[4]Estimadores!$B$7:$B$38,0),MATCH($B343,[4]Estimadores!$D$6:$AB$6,0)),\"-\")","v":0.99979382780182446},{"$f":"IFERROR(INDEX([4]Estimadores!$D$7:$AB$38,MATCH(T$287,[4]Estimadores!$B$7:$B$38,0),MATCH($B343,[4]Estimadores!$D$6:$AB$6,0)),\"-\")","v":0.94430944952042284},{"$f":"IFERROR(INDEX([4]Estimadores!$D$7:$AB$38,MATCH(U$287,[4]Estimadores!$B$7:$B$38,0),MATCH($B343,[4]Estimadores!$D$6:$AB$6,0)),\"-\")","v":0.95970264662158267},{"$f":"IFERROR(INDEX([4]Estimadores!$D$7:$AB$38,MATCH(V$287,[4]Estimadores!$B$7:$B$38,0),MATCH($B343,[4]Estimadores!$D$6:$AB$6,0)),\"-\")","v":0.95970264662158267},{"$f":"IFERROR(INDEX([4]Estimadores!$D$7:$AB$38,MATCH(W$287,[4]Estimadores!$B$7:$B$38,0),MATCH($B343,[4]Estimadores!$D$6:$AB$6,0)),\"-\")","v":"-"},{"$f":"IFERROR(INDEX([4]Estimadores!$D$7:$AB$38,MATCH(X$287,[4]Estimadores!$B$7:$B$38,0),MATCH($B343,[4]Estimadores!$D$6:$AB$6,0)),\"-\")","v":0.94430944952042284},{"$f":"IFERROR(INDEX([4]Estimadores!$D$7:$AB$38,MATCH(Y$287,[4]Estimadores!$B$7:$B$38,0),MATCH($B343,[4]Estimadores!$D$6:$AB$6,0)),\"-\")","v":0.95970264662158267},{"$f":"IFERROR(INDEX([4]Estimadores!$D$7:$AB$38,MATCH(Z$287,[4]Estimadores!$B$7:$B$38,0),MATCH($B343,[4]Estimadores!$D$6:$AB$6,0)),\"-\")","v":0.95970264662158267},{"$f":"IFERROR(INDEX([4]Estimadores!$D$7:$AB$38,MATCH(AA$287,[4]Estimadores!$B$7:$B$38,0),MATCH($B343,[4]Estimadores!$D$6:$AB$6,0)),\"-\")","v":0.77256321659165128},{"$f":"IFERROR(INDEX([4]Estimadores!$D$7:$AB$38,MATCH(AB$287,[4]Estimadores!$B$7:$B$38,0),MATCH($B343,[4]Estimadores!$D$6:$AB$6,0)),\"-\")","v":0.77256321659165128},{"$f":"IFERROR(INDEX([4]Estimadores!$D$7:$AB$38,MATCH(AC$287,[4]Estimadores!$B$7:$B$38,0),MATCH($B343,[4]Estimadores!$D$6:$AB$6,0)),\"-\")","v":0.9464279830628114},{"$f":"IFERROR(INDEX([4]Estimadores!$D$7:$AB$38,MATCH(AD$287,[4]Estimadores!$B$7:$B$38,0),MATCH($B343,[4]Estimadores!$D$6:$AB$6,0)),\"-\")","v":1},{"$f":"IFERROR(INDEX([4]Estimadores!$D$7:$AB$38,MATCH(AE$287,[4]Estimadores!$B$7:$B$38,0),MATCH($B343,[4]Estimadores!$D$6:$AB$6,0)),\"-\")","v":0.94662315043858125},{"$f":"IFERROR(INDEX([4]Estimadores!$D$7:$AB$38,MATCH(AF$287,[4]Estimadores!$B$7:$B$38,0),MATCH($B343,[4]Estimadores!$D$6:$AB$6,0)),\"-\")","v":0.93044701783565975},{"$f":"IFERROR(INDEX([4]Estimadores!$D$7:$AB$38,MATCH(AG$287,[4]Estimadores!$B$7:$B$38,0),MATCH($B343,[4]Estimadores!$D$6:$AB$6,0)),\"-\")","v":0.70068134424721185},{"$f":"IFERROR(INDEX([4]Estimadores!$D$7:$AB$38,MATCH(AH$287,[4]Estimadores!$B$7:$B$38,0),MATCH($B343,[4]Estimadores!$D$6:$AB$6,0)),\"-\")","v":1},{"$f":"IFERROR(INDEX([4]Estimadores!$D$7:$AB$38,MATCH(AI$287,[4]Estimadores!$B$7:$B$38,0),MATCH($B343,[4]Estimadores!$D$6:$AB$6,0)),\"-\")","v":1.0563865879856082}]
[null,"","",{"$f":"IFERROR(INDEX([4]Estimadores!$D$7:$AB$38,MATCH(D$287,[4]Estimadores!$B$7:$B$38,0),MATCH($B344,[4]Estimadores!$D$6:$AB$6,0)),\"-\")","v":"-"},{"$f":"IFERROR(INDEX([4]Estimadores!$D$7:$AB$38,MATCH(E$287,[4]Estimadores!$B$7:$B$38,0),MATCH($B344,[4]Estimadores!$D$6:$AB$6,0)),\"-\")","v":"-"},{"$f":"IFERROR(INDEX([4]Estimadores!$D$7:$AB$38,MATCH(F$287,[4]Estimadores!$B$7:$B$38,0),MATCH($B344,[4]Estimadores!$D$6:$AB$6,0)),\"-\")","v":"-"},{"$f":"IFERROR(INDEX([4]Estimadores!$D$7:$AB$38,MATCH(G$287,[4]Estimadores!$B$7:$B$38,0),MATCH($B344,[4]Estimadores!$D$6:$AB$6,0)),\"-\")","v":"-"},{"$f":"IFERROR(INDEX([4]Estimadores!$D$7:$AB$38,MATCH(H$287,[4]Estimadores!$B$7:$B$38,0),MATCH($B344,[4]Estimadores!$D$6:$AB$6,0)),\"-\")","v":"-"},{"$f":"IFERROR(INDEX([4]Estimadores!$D$7:$AB$38,MATCH(I$287,[4]Estimadores!$B$7:$B$38,0),MATCH($B344,[4]Estimadores!$D$6:$AB$6,0)),\"-\")","v":"-"},{"$f":"IFERROR(INDEX([4]Estimadores!$D$7:$AB$38,MATCH(J$287,[4]Estimadores!$B$7:$B$38,0),MATCH($B344,[4]Estimadores!$D$6:$AB$6,0)),\"-\")","v":"-"},{"$f":"IFERROR(INDEX([4]Estimadores!$D$7:$AB$38,MATCH(K$287,[4]Estimadores!$B$7:$B$38,0),MATCH($B344,[4]Estimadores!$D$6:$AB$6,0)),\"-\")","v":"-"},{"$f":"IFERROR(INDEX([4]Estimadores!$D$7:$AB$38,MATCH(L$287,[4]Estimadores!$B$7:$B$38,0),MATCH($B344,[4]Estimadores!$D$6:$AB$6,0)),\"-\")","v":"-"},{"$f":"IFERROR(INDEX([4]Estimadores!$D$7:$AB$38,MATCH(M$287,[4]Estimadores!$B$7:$B$38,0),MATCH($B344,[4]Estimadores!$D$6:$AB$6,0)),\"-\")","v":"-"},{"$f":"IFERROR(INDEX([4]Estimadores!$D$7:$AB$38,MATCH(N$287,[4]Estimadores!$B$7:$B$38,0),MATCH($B344,[4]Estimadores!$D$6:$AB$6,0)),\"-\")","v":"-"},{"$f":"IFERROR(INDEX([4]Estimadores!$D$7:$AB$38,MATCH(O$287,[4]Estimadores!$B$7:$B$38,0),MATCH($B344,[4]Estimadores!$D$6:$AB$6,0)),\"-\")","v":"-"},{"$f":"IFERROR(INDEX([4]Estimadores!$D$7:$AB$38,MATCH(P$287,[4]Estimadores!$B$7:$B$38,0),MATCH($B344,[4]Estimadores!$D$6:$AB$6,0)),\"-\")","v":"-"},{"$f":"IFERROR(INDEX([4]Estimadores!$D$7:$AB$38,MATCH(Q$287,[4]Estimadores!$B$7:$B$38,0),MATCH($B344,[4]Estimadores!$D$6:$AB$6,0)),\"-\")","v":"-"},{"$f":"IFERROR(INDEX([4]Estimadores!$D$7:$AB$38,MATCH(R$287,[4]Estimadores!$B$7:$B$38,0),MATCH($B344,[4]Estimadores!$D$6:$AB$6,0)),\"-\")","v":"-"},{"$f":"IFERROR(INDEX([4]Estimadores!$D$7:$AB$38,MATCH(S$287,[4]Estimadores!$B$7:$B$38,0),MATCH($B344,[4]Estimadores!$D$6:$AB$6,0)),\"-\")","v":"-"},{"$f":"IFERROR(INDEX([4]Estimadores!$D$7:$AB$38,MATCH(T$287,[4]Estimadores!$B$7:$B$38,0),MATCH($B344,[4]Estimadores!$D$6:$AB$6,0)),\"-\")","v":"-"},{"$f":"IFERROR(INDEX([4]Estimadores!$D$7:$AB$38,MATCH(U$287,[4]Estimadores!$B$7:$B$38,0),MATCH($B344,[4]Estimadores!$D$6:$AB$6,0)),\"-\")","v":"-"},{"$f":"IFERROR(INDEX([4]Estimadores!$D$7:$AB$38,MATCH(V$287,[4]Estimadores!$B$7:$B$38,0),MATCH($B344,[4]Estimadores!$D$6:$AB$6,0)),\"-\")","v":"-"},{"$f":"IFERROR(INDEX([4]Estimadores!$D$7:$AB$38,MATCH(W$287,[4]Estimadores!$B$7:$B$38,0),MATCH($B344,[4]Estimadores!$D$6:$AB$6,0)),\"-\")","v":"-"},{"$f":"IFERROR(INDEX([4]Estimadores!$D$7:$AB$38,MATCH(X$287,[4]Estimadores!$B$7:$B$38,0),MATCH($B344,[4]Estimadores!$D$6:$AB$6,0)),\"-\")","v":"-"},{"$f":"IFERROR(INDEX([4]Estimadores!$D$7:$AB$38,MATCH(Y$287,[4]Estimadores!$B$7:$B$38,0),MATCH($B344,[4]Estimadores!$D$6:$AB$6,0)),\"-\")","v":"-"},{"$f":"IFERROR(INDEX([4]Estimadores!$D$7:$AB$38,MATCH(Z$287,[4]Estimadores!$B$7:$B$38,0),MATCH($B344,[4]Estimadores!$D$6:$AB$6,0)),\"-\")","v":"-"},{"$f":"IFERROR(INDEX([4]Estimadores!$D$7:$AB$38,MATCH(AA$287,[4]Estimadores!$B$7:$B$38,0),MATCH($B344,[4]Estimadores!$D$6:$AB$6,0)),\"-\")","v":"-"},{"$f":"IFERROR(INDEX([4]Estimadores!$D$7:$AB$38,MATCH(AB$287,[4]Estimadores!$B$7:$B$38,0),MATCH($B344,[4]Estimadores!$D$6:$AB$6,0)),\"-\")","v":"-"},{"$f":"IFERROR(INDEX([4]Estimadores!$D$7:$AB$38,MATCH(AC$287,[4]Estimadores!$B$7:$B$38,0),MATCH($B344,[4]Estimadores!$D$6:$AB$6,0)),\"-\")","v":"-"},{"$f":"IFERROR(INDEX([4]Estimadores!$D$7:$AB$38,MATCH(AD$287,[4]Estimadores!$B$7:$B$38,0),MATCH($B344,[4]Estimadores!$D$6:$AB$6,0)),\"-\")","v":"-"},{"$f":"IFERROR(INDEX([4]Estimadores!$D$7:$AB$38,MATCH(AE$287,[4]Estimadores!$B$7:$B$38,0),MATCH($B344,[4]Estimadores!$D$6:$AB$6,0)),\"-\")","v":"-"},{"$f":"IFERROR(INDEX([4]Estimadores!$D$7:$AB$38,MATCH(AF$287,[4]Estimadores!$B$7:$B$38,0),MATCH($B344,[4]Estimadores!$D$6:$AB$6,0)),\"-\")","v":"-"},{"$f":"IFERROR(INDEX([4]Estimadores!$D$7:$AB$38,MATCH(AG$287,[4]Estimadores!$B$7:$B$38,0),MATCH($B344,[4]Estimadores!$D$6:$AB$6,0)),\"-\")","v":"-"},{"$f":"IFERROR(INDEX([4]Estimadores!$D$7:$AB$38,MATCH(AH$287,[4]Estimadores!$B$7:$B$38,0),MATCH($B344,[4]Estimadores!$D$6:$AB$6,0)),\"-\")","v":"-"},{"$f":"IFERROR(INDEX([4]Estimadores!$D$7:$AB$38,MATCH(AI$287,[4]Estimadores!$B$7:$B$38,0),MATCH($B344,[4]Estimadores!$D$6:$AB$6,0)),\"-\")","v":"-"}]
[null,"","",{"$f":"IFERROR(INDEX([4]Estimadores!$D$7:$AB$38,MATCH(D$287,[4]Estimadores!$B$7:$B$38,0),MATCH($B345,[4]Estimadores!$D$6:$AB$6,0)),\"-\")","v":"-"},{"$f":"IFERROR(INDEX([4]Estimadores!$D$7:$AB$38,MATCH(E$287,[4]Estimadores!$B$7:$B$38,0),MATCH($B345,[4]Estimadores!$D$6:$AB$6,0)),\"-\")","v":"-"},{"$f":"IFERROR(INDEX([4]Estimadores!$D$7:$AB$38,MATCH(F$287,[4]Estimadores!$B$7:$B$38,0),MATCH($B345,[4]Estimadores!$D$6:$AB$6,0)),\"-\")","v":"-"},{"$f":"IFERROR(INDEX([4]Estimadores!$D$7:$AB$38,MATCH(G$287,[4]Estimadores!$B$7:$B$38,0),MATCH($B345,[4]Estimadores!$D$6:$AB$6,0)),\"-\")","v":"-"},{"$f":"IFERROR(INDEX([4]Estimadores!$D$7:$AB$38,MATCH(H$287,[4]Estimadores!$B$7:$B$38,0),MATCH($B345,[4]Estimadores!$D$6:$AB$6,0)),\"-\")","v":"-"},{"$f":"IFERROR(INDEX([4]Estimadores!$D$7:$AB$38,MATCH(I$287,[4]Estimadores!$B$7:$B$38,0),MATCH($B345,[4]Estimadores!$D$6:$AB$6,0)),\"-\")","v":"-"},{"$f":"IFERROR(INDEX([4]Estimadores!$D$7:$AB$38,MATCH(J$287,[4]Estimadores!$B$7:$B$38,0),MATCH($B345,[4]Estimadores!$D$6:$AB$6,0)),\"-\")","v":"-"},{"$f":"IFERROR(INDEX([4]Estimadores!$D$7:$AB$38,MATCH(K$287,[4]Estimadores!$B$7:$B$38,0),MATCH($B345,[4]Estimadores!$D$6:$AB$6,0)),\"-\")","v":"-"},{"$f":"IFERROR(INDEX([4]Estimadores!$D$7:$AB$38,MATCH(L$287,[4]Estimadores!$B$7:$B$38,0),MATCH($B345,[4]Estimadores!$D$6:$AB$6,0)),\"-\")","v":"-"},{"$f":"IFERROR(INDEX([4]Estimadores!$D$7:$AB$38,MATCH(M$287,[4]Estimadores!$B$7:$B$38,0),MATCH($B345,[4]Estimadores!$D$6:$AB$6,0)),\"-\")","v":"-"},{"$f":"IFERROR(INDEX([4]Estimadores!$D$7:$AB$38,MATCH(N$287,[4]Estimadores!$B$7:$B$38,0),MATCH($B345,[4]Estimadores!$D$6:$AB$6,0)),\"-\")","v":"-"},{"$f":"IFERROR(INDEX([4]Estimadores!$D$7:$AB$38,MATCH(O$287,[4]Estimadores!$B$7:$B$38,0),MATCH($B345,[4]Estimadores!$D$6:$AB$6,0)),\"-\")","v":"-"},{"$f":"IFERROR(INDEX([4]Estimadores!$D$7:$AB$38,MATCH(P$287,[4]Estimadores!$B$7:$B$38,0),MATCH($B345,[4]Estimadores!$D$6:$AB$6,0)),\"-\")","v":"-"},{"$f":"IFERROR(INDEX([4]Estimadores!$D$7:$AB$38,MATCH(Q$287,[4]Estimadores!$B$7:$B$38,0),MATCH($B345,[4]Estimadores!$D$6:$AB$6,0)),\"-\")","v":"-"},{"$f":"IFERROR(INDEX([4]Estimadores!$D$7:$AB$38,MATCH(R$287,[4]Estimadores!$B$7:$B$38,0),MATCH($B345,[4]Estimadores!$D$6:$AB$6,0)),\"-\")","v":"-"},{"$f":"IFERROR(INDEX([4]Estimadores!$D$7:$AB$38,MATCH(S$287,[4]Estimadores!$B$7:$B$38,0),MATCH($B345,[4]Estimadores!$D$6:$AB$6,0)),\"-\")","v":"-"},{"$f":"IFERROR(INDEX([4]Estimadores!$D$7:$AB$38,MATCH(T$287,[4]Estimadores!$B$7:$B$38,0),MATCH($B345,[4]Estimadores!$D$6:$AB$6,0)),\"-\")","v":"-"},{"$f":"IFERROR(INDEX([4]Estimadores!$D$7:$AB$38,MATCH(U$287,[4]Estimadores!$B$7:$B$38,0),MATCH($B345,[4]Estimadores!$D$6:$AB$6,0)),\"-\")","v":"-"},{"$f":"IFERROR(INDEX([4]Estimadores!$D$7:$AB$38,MATCH(V$287,[4]Estimadores!$B$7:$B$38,0),MATCH($B345,[4]Estimadores!$D$6:$AB$6,0)),\"-\")","v":"-"},{"$f":"IFERROR(INDEX([4]Estimadores!$D$7:$AB$38,MATCH(W$287,[4]Estimadores!$B$7:$B$38,0),MATCH($B345,[4]Estimadores!$D$6:$AB$6,0)),\"-\")","v":"-"},{"$f":"IFERROR(INDEX([4]Estimadores!$D$7:$AB$38,MATCH(X$287,[4]Estimadores!$B$7:$B$38,0),MATCH($B345,[4]Estimadores!$D$6:$AB$6,0)),\"-\")","v":"-"},{"$f":"IFERROR(INDEX([4]Estimadores!$D$7:$AB$38,MATCH(Y$287,[4]Estimadores!$B$7:$B$38,0),MATCH($B345,[4]Estimadores!$D$6:$AB$6,0)),\"-\")","v":"-"},{"$f":"IFERROR(INDEX([4]Estimadores!$D$7:$AB$38,MATCH(Z$287,[4]Estimadores!$B$7:$B$38,0),MATCH($B345,[4]Estimadores!$D$6:$AB$6,0)),\"-\")","v":"-"},{"$f":"IFERROR(INDEX([4]Estimadores!$D$7:$AB$38,MATCH(AA$287,[4]Estimadores!$B$7:$B$38,0),MATCH($B345,[4]Estimadores!$D$6:$AB$6,0)),\"-\")","v":"-"},{"$f":"IFERROR(INDEX([4]Estimadores!$D$7:$AB$38,MATCH(AB$287,[4]Estimadores!$B$7:$B$38,0),MATCH($B345,[4]Estimadores!$D$6:$AB$6,0)),\"-\")","v":"-"},{"$f":"IFERROR(INDEX([4]Estimadores!$D$7:$AB$38,MATCH(AC$287,[4]Estimadores!$B$7:$B$38,0),MATCH($B345,[4]Estimadores!$D$6:$AB$6,0)),\"-\")","v":"-"},{"$f":"IFERROR(INDEX([4]Estimadores!$D$7:$AB$38,MATCH(AD$287,[4]Estimadores!$B$7:$B$38,0),MATCH($B345,[4]Estimadores!$D$6:$AB$6,0)),\"-\")","v":"-"},{"$f":"IFERROR(INDEX([4]Estimadores!$D$7:$AB$38,MATCH(AE$287,[4]Estimadores!$B$7:$B$38,0),MATCH($B345,[4]Estimadores!$D$6:$AB$6,0)),\"-\")","v":"-"},{"$f":"IFERROR(INDEX([4]Estimadores!$D$7:$AB$38,MATCH(AF$287,[4]Estimadores!$B$7:$B$38,0),MATCH($B345,[4]Estimadores!$D$6:$AB$6,0)),\"-\")","v":"-"},{"$f":"IFERROR(INDEX([4]Estimadores!$D$7:$AB$38,MATCH(AG$287,[4]Estimadores!$B$7:$B$38,0),MATCH($B345,[4]Estimadores!$D$6:$AB$6,0)),\"-\")","v":"-"},{"$f":"IFERROR(INDEX([4]Estimadores!$D$7:$AB$38,MATCH(AH$287,[4]Estimadores!$B$7:$B$38,0),MATCH($B345,[4]Estimadores!$D$6:$AB$6,0)),\"-\")","v":"-"},{"$f":"IFERROR(INDEX([4]Estimadores!$D$7:$AB$38,MATCH(AI$287,[4]Estimadores!$B$7:$B$38,0),MATCH($B345,[4]Estimadores!$D$6:$AB$6,0)),\"-\")","v":"-"}]
[null,"","",{"$f":"IFERROR(INDEX([4]Estimadores!$D$7:$AB$38,MATCH(D$287,[4]Estimadores!$B$7:$B$38,0),MATCH($B346,[4]Estimadores!$D$6:$AB$6,0)),\"-\")","v":"-"},{"$f":"IFERROR(INDEX([4]Estimadores!$D$7:$AB$38,MATCH(E$287,[4]Estimadores!$B$7:$B$38,0),MATCH($B346,[4]Estimadores!$D$6:$AB$6,0)),\"-\")","v":"-"},{"$f":"IFERROR(INDEX([4]Estimadores!$D$7:$AB$38,MATCH(F$287,[4]Estimadores!$B$7:$B$38,0),MATCH($B346,[4]Estimadores!$D$6:$AB$6,0)),\"-\")","v":"-"},{"$f":"IFERROR(INDEX([4]Estimadores!$D$7:$AB$38,MATCH(G$287,[4]Estimadores!$B$7:$B$38,0),MATCH($B346,[4]Estimadores!$D$6:$AB$6,0)),\"-\")","v":"-"},{"$f":"IFERROR(INDEX([4]Estimadores!$D$7:$AB$38,MATCH(H$287,[4]Estimadores!$B$7:$B$38,0),MATCH($B346,[4]Estimadores!$D$6:$AB$6,0)),\"-\")","v":"-"},{"$f":"IFERROR(INDEX([4]Estimadores!$D$7:$AB$38,MATCH(I$287,[4]Estimadores!$B$7:$B$38,0),MATCH($B346,[4]Estimadores!$D$6:$AB$6,0)),\"-\")","v":"-"},{"$f":"IFERROR(INDEX([4]Estimadores!$D$7:$AB$38,MATCH(J$287,[4]Estimadores!$B$7:$B$38,0),MATCH($B346,[4]Estimadores!$D$6:$AB$6,0)),\"-\")","v":"-"},{"$f":"IFERROR(INDEX([4]Estimadores!$D$7:$AB$38,MATCH(K$287,[4]Estimadores!$B$7:$B$38,0),MATCH($B346,[4]Estimadores!$D$6:$AB$6,0)),\"-\")","v":"-"},{"$f":"IFERROR(INDEX([4]Estimadores!$D$7:$AB$38,MATCH(L$287,[4]Estimadores!$B$7:$B$38,0),MATCH($B346,[4]Estimadores!$D$6:$AB$6,0)),\"-\")","v":"-"},{"$f":"IFERROR(INDEX([4]Estimadores!$D$7:$AB$38,MATCH(M$287,[4]Estimadores!$B$7:$B$38,0),MATCH($B346,[4]Estimadores!$D$6:$AB$6,0)),\"-\")","v":"-"},{"$f":"IFERROR(INDEX([4]Estimadores!$D$7:$AB$38,MATCH(N$287,[4]Estimadores!$B$7:$B$38,0),MATCH($B346,[4]Estimadores!$D$6:$AB$6,0)),\"-\")","v":"-"},{"$f":"IFERROR(INDEX([4]Estimadores!$D$7:$AB$38,MATCH(O$287,[4]Estimadores!$B$7:$B$38,0),MATCH($B346,[4]Estimadores!$D$6:$AB$6,0)),\"-\")","v":"-"},{"$f":"IFERROR(INDEX([4]Estimadores!$D$7:$AB$38,MATCH(P$287,[4]Estimadores!$B$7:$B$38,0),MATCH($B346,[4]Estimadores!$D$6:$AB$6,0)),\"-\")","v":"-"},{"$f":"IFERROR(INDEX([4]Estimadores!$D$7:$AB$38,MATCH(Q$287,[4]Estimadores!$B$7:$B$38,0),MATCH($B346,[4]Estimadores!$D$6:$AB$6,0)),\"-\")","v":"-"},{"$f":"IFERROR(INDEX([4]Estimadores!$D$7:$AB$38,MATCH(R$287,[4]Estimadores!$B$7:$B$38,0),MATCH($B346,[4]Estimadores!$D$6:$AB$6,0)),\"-\")","v":"-"},{"$f":"IFERROR(INDEX([4]Estimadores!$D$7:$AB$38,MATCH(S$287,[4]Estimadores!$B$7:$B$38,0),MATCH($B346,[4]Estimadores!$D$6:$AB$6,0)),\"-\")","v":"-"},{"$f":"IFERROR(INDEX([4]Estimadores!$D$7:$AB$38,MATCH(T$287,[4]Estimadores!$B$7:$B$38,0),MATCH($B346,[4]Estimadores!$D$6:$AB$6,0)),\"-\")","v":"-"},{"$f":"IFERROR(INDEX([4]Estimadores!$D$7:$AB$38,MATCH(U$287,[4]Estimadores!$B$7:$B$38,0),MATCH($B346,[4]Estimadores!$D$6:$AB$6,0)),\"-\")","v":"-"},{"$f":"IFERROR(INDEX([4]Estimadores!$D$7:$AB$38,MATCH(V$287,[4]Estimadores!$B$7:$B$38,0),MATCH($B346,[4]Estimadores!$D$6:$AB$6,0)),\"-\")","v":"-"},{"$f":"IFERROR(INDEX([4]Estimadores!$D$7:$AB$38,MATCH(W$287,[4]Estimadores!$B$7:$B$38,0),MATCH($B346,[4]Estimadores!$D$6:$AB$6,0)),\"-\")","v":"-"},{"$f":"IFERROR(INDEX([4]Estimadores!$D$7:$AB$38,MATCH(X$287,[4]Estimadores!$B$7:$B$38,0),MATCH($B346,[4]Estimadores!$D$6:$AB$6,0)),\"-\")","v":"-"},{"$f":"IFERROR(INDEX([4]Estimadores!$D$7:$AB$38,MATCH(Y$287,[4]Estimadores!$B$7:$B$38,0),MATCH($B346,[4]Estimadores!$D$6:$AB$6,0)),\"-\")","v":"-"},{"$f":"IFERROR(INDEX([4]Estimadores!$D$7:$AB$38,MATCH(Z$287,[4]Estimadores!$B$7:$B$38,0),MATCH($B346,[4]Estimadores!$D$6:$AB$6,0)),\"-\")","v":"-"},{"$f":"IFERROR(INDEX([4]Estimadores!$D$7:$AB$38,MATCH(AA$287,[4]Estimadores!$B$7:$B$38,0),MATCH($B346,[4]Estimadores!$D$6:$AB$6,0)),\"-\")","v":"-"},{"$f":"IFERROR(INDEX([4]Estimadores!$D$7:$AB$38,MATCH(AB$287,[4]Estimadores!$B$7:$B$38,0),MATCH($B346,[4]Estimadores!$D$6:$AB$6,0)),\"-\")","v":"-"},{"$f":"IFERROR(INDEX([4]Estimadores!$D$7:$AB$38,MATCH(AC$287,[4]Estimadores!$B$7:$B$38,0),MATCH($B346,[4]Estimadores!$D$6:$AB$6,0)),\"-\")","v":"-"},{"$f":"IFERROR(INDEX([4]Estimadores!$D$7:$AB$38,MATCH(AD$287,[4]Estimadores!$B$7:$B$38,0),MATCH($B346,[4]Estimadores!$D$6:$AB$6,0)),\"-\")","v":"-"},{"$f":"IFERROR(INDEX([4]Estimadores!$D$7:$AB$38,MATCH(AE$287,[4]Estimadores!$B$7:$B$38,0),MATCH($B346,[4]Estimadores!$D$6:$AB$6,0)),\"-\")","v":"-"},{"$f":"IFERROR(INDEX([4]Estimadores!$D$7:$AB$38,MATCH(AF$287,[4]Estimadores!$B$7:$B$38,0),MATCH($B346,[4]Estimadores!$D$6:$AB$6,0)),\"-\")","v":"-"},{"$f":"IFERROR(INDEX([4]Estimadores!$D$7:$AB$38,MATCH(AG$287,[4]Estimadores!$B$7:$B$38,0),MATCH($B346,[4]Estimadores!$D$6:$AB$6,0)),\"-\")","v":"-"},{"$f":"IFERROR(INDEX([4]Estimadores!$D$7:$AB$38,MATCH(AH$287,[4]Estimadores!$B$7:$B$38,0),MATCH($B346,[4]Estimadores!$D$6:$AB$6,0)),\"-\")","v":"-"},{"$f":"IFERROR(INDEX([4]Estimadores!$D$7:$AB$38,MATCH(AI$287,[4]Estimadores!$B$7:$B$38,0),MATCH($B346,[4]Estimadores!$D$6:$AB$6,0)),\"-\")","v":"-"}]
[null,"","",{"$f":"IFERROR(INDEX([4]Estimadores!$D$7:$AB$38,MATCH(D$287,[4]Estimadores!$B$7:$B$38,0),MATCH($B347,[4]Estimadores!$D$6:$AB$6,0)),\"-\")","v":"-"},{"$f":"IFERROR(INDEX([4]Estimadores!$D$7:$AB$38,MATCH(E$287,[4]Estimadores!$B$7:$B$38,0),MATCH($B347,[4]Estimadores!$D$6:$AB$6,0)),\"-\")","v":"-"},{"$f":"IFERROR(INDEX([4]Estimadores!$D$7:$AB$38,MATCH(F$287,[4]Estimadores!$B$7:$B$38,0),MATCH($B347,[4]Estimadores!$D$6:$AB$6,0)),\"-\")","v":"-"},{"$f":"IFERROR(INDEX([4]Estimadores!$D$7:$AB$38,MATCH(G$287,[4]Estimadores!$B$7:$B$38,0),MATCH($B347,[4]Estimadores!$D$6:$AB$6,0)),\"-\")","v":"-"},{"$f":"IFERROR(INDEX([4]Estimadores!$D$7:$AB$38,MATCH(H$287,[4]Estimadores!$B$7:$B$38,0),MATCH($B347,[4]Estimadores!$D$6:$AB$6,0)),\"-\")","v":"-"},{"$f":"IFERROR(INDEX([4]Estimadores!$D$7:$AB$38,MATCH(I$287,[4]Estimadores!$B$7:$B$38,0),MATCH($B347,[4]Estimadores!$D$6:$AB$6,0)),\"-\")","v":"-"},{"$f":"IFERROR(INDEX([4]Estimadores!$D$7:$AB$38,MATCH(J$287,[4]Estimadores!$B$7:$B$38,0),MATCH($B347,[4]Estimadores!$D$6:$AB$6,0)),\"-\")","v":"-"},{"$f":"IFERROR(INDEX([4]Estimadores!$D$7:$AB$38,MATCH(K$287,[4]Estimadores!$B$7:$B$38,0),MATCH($B347,[4]Estimadores!$D$6:$AB$6,0)),\"-\")","v":"-"},{"$f":"IFERROR(INDEX([4]Estimadores!$D$7:$AB$38,MATCH(L$287,[4]Estimadores!$B$7:$B$38,0),MATCH($B347,[4]Estimadores!$D$6:$AB$6,0)),\"-\")","v":"-"},{"$f":"IFERROR(INDEX([4]Estimadores!$D$7:$AB$38,MATCH(M$287,[4]Estimadores!$B$7:$B$38,0),MATCH($B347,[4]Estimadores!$D$6:$AB$6,0)),\"-\")","v":"-"},{"$f":"IFERROR(INDEX([4]Estimadores!$D$7:$AB$38,MATCH(N$287,[4]Estimadores!$B$7:$B$38,0),MATCH($B347,[4]Estimadores!$D$6:$AB$6,0)),\"-\")","v":"-"},{"$f":"IFERROR(INDEX([4]Estimadores!$D$7:$AB$38,MATCH(O$287,[4]Estimadores!$B$7:$B$38,0),MATCH($B347,[4]Estimadores!$D$6:$AB$6,0)),\"-\")","v":"-"},{"$f":"IFERROR(INDEX([4]Estimadores!$D$7:$AB$38,MATCH(P$287,[4]Estimadores!$B$7:$B$38,0),MATCH($B347,[4]Estimadores!$D$6:$AB$6,0)),\"-\")","v":"-"},{"$f":"IFERROR(INDEX([4]Estimadores!$D$7:$AB$38,MATCH(Q$287,[4]Estimadores!$B$7:$B$38,0),MATCH($B347,[4]Estimadores!$D$6:$AB$6,0)),\"-\")","v":"-"},{"$f":"IFERROR(INDEX([4]Estimadores!$D$7:$AB$38,MATCH(R$287,[4]Estimadores!$B$7:$B$38,0),MATCH($B347,[4]Estimadores!$D$6:$AB$6,0)),\"-\")","v":"-"},{"$f":"IFERROR(INDEX([4]Estimadores!$D$7:$AB$38,MATCH(S$287,[4]Estimadores!$B$7:$B$38,0),MATCH($B347,[4]Estimadores!$D$6:$AB$6,0)),\"-\")","v":"-"},{"$f":"IFERROR(INDEX([4]Estimadores!$D$7:$AB$38,MATCH(T$287,[4]Estimadores!$B$7:$B$38,0),MATCH($B347,[4]Estimadores!$D$6:$AB$6,0)),\"-\")","v":"-"},{"$f":"IFERROR(INDEX([4]Estimadores!$D$7:$AB$38,MATCH(U$287,[4]Estimadores!$B$7:$B$38,0),MATCH($B347,[4]Estimadores!$D$6:$AB$6,0)),\"-\")","v":"-"},{"$f":"IFERROR(INDEX([4]Estimadores!$D$7:$AB$38,MATCH(V$287,[4]Estimadores!$B$7:$B$38,0),MATCH($B347,[4]Estimadores!$D$6:$AB$6,0)),\"-\")","v":"-"},{"$f":"IFERROR(INDEX([4]Estimadores!$D$7:$AB$38,MATCH(W$287,[4]Estimadores!$B$7:$B$38,0),MATCH($B347,[4]Estimadores!$D$6:$AB$6,0)),\"-\")","v":"-"},{"$f":"IFERROR(INDEX([4]Estimadores!$D$7:$AB$38,MATCH(X$287,[4]Estimadores!$B$7:$B$38,0),MATCH($B347,[4]Estimadores!$D$6:$AB$6,0)),\"-\")","v":"-"},{"$f":"IFERROR(INDEX([4]Estimadores!$D$7:$AB$38,MATCH(Y$287,[4]Estimadores!$B$7:$B$38,0),MATCH($B347,[4]Estimadores!$D$6:$AB$6,0)),\"-\")","v":"-"},{"$f":"IFERROR(INDEX([4]Estimadores!$D$7:$AB$38,MATCH(Z$287,[4]Estimadores!$B$7:$B$38,0),MATCH($B347,[4]Estimadores!$D$6:$AB$6,0)),\"-\")","v":"-"},{"$f":"IFERROR(INDEX([4]Estimadores!$D$7:$AB$38,MATCH(AA$287,[4]Estimadores!$B$7:$B$38,0),MATCH($B347,[4]Estimadores!$D$6:$AB$6,0)),\"-\")","v":"-"},{"$f":"IFERROR(INDEX([4]Estimadores!$D$7:$AB$38,MATCH(AB$287,[4]Estimadores!$B$7:$B$38,0),MATCH($B347,[4]Estimadores!$D$6:$AB$6,0)),\"-\")","v":"-"},{"$f":"IFERROR(INDEX([4]Estimadores!$D$7:$AB$38,MATCH(AC$287,[4]Estimadores!$B$7:$B$38,0),MATCH($B347,[4]Estimadores!$D$6:$AB$6,0)),\"-\")","v":"-"},{"$f":"IFERROR(INDEX([4]Estimadores!$D$7:$AB$38,MATCH(AD$287,[4]Estimadores!$B$7:$B$38,0),MATCH($B347,[4]Estimadores!$D$6:$AB$6,0)),\"-\")","v":"-"},{"$f":"IFERROR(INDEX([4]Estimadores!$D$7:$AB$38,MATCH(AE$287,[4]Estimadores!$B$7:$B$38,0),MATCH($B347,[4]Estimadores!$D$6:$AB$6,0)),\"-\")","v":"-"},{"$f":"IFERROR(INDEX([4]Estimadores!$D$7:$AB$38,MATCH(AF$287,[4]Estimadores!$B$7:$B$38,0),MATCH($B347,[4]Estimadores!$D$6:$AB$6,0)),\"-\")","v":"-"},{"$f":"IFERROR(INDEX([4]Estimadores!$D$7:$AB$38,MATCH(AG$287,[4]Estimadores!$B$7:$B$38,0),MATCH($B347,[4]Estimadores!$D$6:$AB$6,0)),\"-\")","v":"-"},{"$f":"IFERROR(INDEX([4]Estimadores!$D$7:$AB$38,MATCH(AH$287,[4]Estimadores!$B$7:$B$38,0),MATCH($B347,[4]Estimadores!$D$6:$AB$6,0)),\"-\")","v":"-"},{"$f":"IFERROR(INDEX([4]Estimadores!$D$7:$AB$38,MATCH(AI$287,[4]Estimadores!$B$7:$B$38,0),MATCH($B347,[4]Estimadores!$D$6:$AB$6,0)),\"-\")","v":"-"}]
[null,"","",{"$f":"IFERROR(INDEX([4]Estimadores!$D$7:$AB$38,MATCH(D$287,[4]Estimadores!$B$7:$B$38,0),MATCH($B348,[4]Estimadores!$D$6:$AB$6,0)),\"-\")","v":"-"},{"$f":"IFERROR(INDEX([4]Estimadores!$D$7:$AB$38,MATCH(E$287,[4]Estimadores!$B$7:$B$38,0),MATCH($B348,[4]Estimadores!$D$6:$AB$6,0)),\"-\")","v":"-"},{"$f":"IFERROR(INDEX([4]Estimadores!$D$7:$AB$38,MATCH(F$287,[4]Estimadores!$B$7:$B$38,0),MATCH($B348,[4]Estimadores!$D$6:$AB$6,0)),\"-\")","v":"-"},{"$f":"IFERROR(INDEX([4]Estimadores!$D$7:$AB$38,MATCH(G$287,[4]Estimadores!$B$7:$B$38,0),MATCH($B348,[4]Estimadores!$D$6:$AB$6,0)),\"-\")","v":"-"},{"$f":"IFERROR(INDEX([4]Estimadores!$D$7:$AB$38,MATCH(H$287,[4]Estimadores!$B$7:$B$38,0),MATCH($B348,[4]Estimadores!$D$6:$AB$6,0)),\"-\")","v":"-"},{"$f":"IFERROR(INDEX([4]Estimadores!$D$7:$AB$38,MATCH(I$287,[4]Estimadores!$B$7:$B$38,0),MATCH($B348,[4]Estimadores!$D$6:$AB$6,0)),\"-\")","v":"-"},{"$f":"IFERROR(INDEX([4]Estimadores!$D$7:$AB$38,MATCH(J$287,[4]Estimadores!$B$7:$B$38,0),MATCH($B348,[4]Estimadores!$D$6:$AB$6,0)),\"-\")","v":"-"},{"$f":"IFERROR(INDEX([4]Estimadores!$D$7:$AB$38,MATCH(K$287,[4]Estimadores!$B$7:$B$38,0),MATCH($B348,[4]Estimadores!$D$6:$AB$6,0)),\"-\")","v":"-"},{"$f":"IFERROR(INDEX([4]Estimadores!$D$7:$AB$38,MATCH(L$287,[4]Estimadores!$B$7:$B$38,0),MATCH($B348,[4]Estimadores!$D$6:$AB$6,0)),\"-\")","v":"-"},{"$f":"IFERROR(INDEX([4]Estimadores!$D$7:$AB$38,MATCH(M$287,[4]Estimadores!$B$7:$B$38,0),MATCH($B348,[4]Estimadores!$D$6:$AB$6,0)),\"-\")","v":"-"},{"$f":"IFERROR(INDEX([4]Estimadores!$D$7:$AB$38,MATCH(N$287,[4]Estimadores!$B$7:$B$38,0),MATCH($B348,[4]Estimadores!$D$6:$AB$6,0)),\"-\")","v":"-"},{"$f":"IFERROR(INDEX([4]Estimadores!$D$7:$AB$38,MATCH(O$287,[4]Estimadores!$B$7:$B$38,0),MATCH($B348,[4]Estimadores!$D$6:$AB$6,0)),\"-\")","v":"-"},{"$f":"IFERROR(INDEX([4]Estimadores!$D$7:$AB$38,MATCH(P$287,[4]Estimadores!$B$7:$B$38,0),MATCH($B348,[4]Estimadores!$D$6:$AB$6,0)),\"-\")","v":"-"},{"$f":"IFERROR(INDEX([4]Estimadores!$D$7:$AB$38,MATCH(Q$287,[4]Estimadores!$B$7:$B$38,0),MATCH($B348,[4]Estimadores!$D$6:$AB$6,0)),\"-\")","v":"-"},{"$f":"IFERROR(INDEX([4]Estimadores!$D$7:$AB$38,MATCH(R$287,[4]Estimadores!$B$7:$B$38,0),MATCH($B348,[4]Estimadores!$D$6:$AB$6,0)),\"-\")","v":"-"},{"$f":"IFERROR(INDEX([4]Estimadores!$D$7:$AB$38,MATCH(S$287,[4]Estimadores!$B$7:$B$38,0),MATCH($B348,[4]Estimadores!$D$6:$AB$6,0)),\"-\")","v":"-"},{"$f":"IFERROR(INDEX([4]Estimadores!$D$7:$AB$38,MATCH(T$287,[4]Estimadores!$B$7:$B$38,0),MATCH($B348,[4]Estimadores!$D$6:$AB$6,0)),\"-\")","v":"-"},{"$f":"IFERROR(INDEX([4]Estimadores!$D$7:$AB$38,MATCH(U$287,[4]Estimadores!$B$7:$B$38,0),MATCH($B348,[4]Estimadores!$D$6:$AB$6,0)),\"-\")","v":"-"},{"$f":"IFERROR(INDEX([4]Estimadores!$D$7:$AB$38,MATCH(V$287,[4]Estimadores!$B$7:$B$38,0),MATCH($B348,[4]Estimadores!$D$6:$AB$6,0)),\"-\")","v":"-"},{"$f":"IFERROR(INDEX([4]Estimadores!$D$7:$AB$38,MATCH(W$287,[4]Estimadores!$B$7:$B$38,0),MATCH($B348,[4]Estimadores!$D$6:$AB$6,0)),\"-\")","v":"-"},{"$f":"IFERROR(INDEX([4]Estimadores!$D$7:$AB$38,MATCH(X$287,[4]Estimadores!$B$7:$B$38,0),MATCH($B348,[4]Estimadores!$D$6:$AB$6,0)),\"-\")","v":"-"},{"$f":"IFERROR(INDEX([4]Estimadores!$D$7:$AB$38,MATCH(Y$287,[4]Estimadores!$B$7:$B$38,0),MATCH($B348,[4]Estimadores!$D$6:$AB$6,0)),\"-\")","v":"-"},{"$f":"IFERROR(INDEX([4]Estimadores!$D$7:$AB$38,MATCH(Z$287,[4]Estimadores!$B$7:$B$38,0),MATCH($B348,[4]Estimadores!$D$6:$AB$6,0)),\"-\")","v":"-"},{"$f":"IFERROR(INDEX([4]Estimadores!$D$7:$AB$38,MATCH(AA$287,[4]Estimadores!$B$7:$B$38,0),MATCH($B348,[4]Estimadores!$D$6:$AB$6,0)),\"-\")","v":"-"},{"$f":"IFERROR(INDEX([4]Estimadores!$D$7:$AB$38,MATCH(AB$287,[4]Estimadores!$B$7:$B$38,0),MATCH($B348,[4]Estimadores!$D$6:$AB$6,0)),\"-\")","v":"-"},{"$f":"IFERROR(INDEX([4]Estimadores!$D$7:$AB$38,MATCH(AC$287,[4]Estimadores!$B$7:$B$38,0),MATCH($B348,[4]Estimadores!$D$6:$AB$6,0)),\"-\")","v":"-"},{"$f":"IFERROR(INDEX([4]Estimadores!$D$7:$AB$38,MATCH(AD$287,[4]Estimadores!$B$7:$B$38,0),MATCH($B348,[4]Estimadores!$D$6:$AB$6,0)),\"-\")","v":"-"},{"$f":"IFERROR(INDEX([4]Estimadores!$D$7:$AB$38,MATCH(AE$287,[4]Estimadores!$B$7:$B$38,0),MATCH($B348,[4]Estimadores!$D$6:$AB$6,0)),\"-\")","v":"-"},{"$f":"IFERROR(INDEX([4]Estimadores!$D$7:$AB$38,MATCH(AF$287,[4]Estimadores!$B$7:$B$38,0),MATCH($B348,[4]Estimadores!$D$6:$AB$6,0)),\"-\")","v":"-"},{"$f":"IFERROR(INDEX([4]Estimadores!$D$7:$AB$38,MATCH(AG$287,[4]Estimadores!$B$7:$B$38,0),MATCH($B348,[4]Estimadores!$D$6:$AB$6,0)),\"-\")","v":"-"},{"$f":"IFERROR(INDEX([4]Estimadores!$D$7:$AB$38,MATCH(AH$287,[4]Estimadores!$B$7:$B$38,0),MATCH($B348,[4]Estimadores!$D$6:$AB$6,0)),\"-\")","v":"-"},{"$f":"IFERROR(INDEX([4]Estimadores!$D$7:$AB$38,MATCH(AI$287,[4]Estimadores!$B$7:$B$38,0),MATCH($B348,[4]Estimadores!$D$6:$AB$6,0)),\"-\")","v":"-"}]
[]
[]
[]
[null,null,null,"Variable para construir Balance en Punta"]
[null,null,{"$f":"C30","v":"BTS_R"},"Energia"]
[null,null,{"$f":"C31","v":"BTS_O"},"Energia"]
[null,null,"","Energia"]
[null,null,"BTS_P1","Energia"]
[null,null,"BTS_P2","Energia"]
[null,null,"BTD","Energia"]
[null,null,"BTH","Energia"]
[null,null,"BTS_A","Energia"]
[null,null,"BTD_A","Energia"]
[null,null,""]
[null,null,""]
[null,null,""]
[null,null,""]
[null,null,""]
[null,null,""]
[null,null,""]
[null,null,""]
[null,null,""]
[null,null,""]
[null,null,""]
[null,null,"AP","Energia"]
[null,null,""]
[null,null,""]
[null,null,""]
[null,null,""]
[null,null,""]
[null,null,""]
[null,null,""]
[null,null,""]
[null,null,""]
[null,null,"MTD","Energia"]
[null,null,"MTH","Energia"]
[null,null,""]
[null,null,""]
[null,null,""]
[null,null,""]
[null,null,""]
[null,null,""]
[null,null,""]
[null,null,""]
[null,null,""]
[null,null,""]
[null,null,""]
[null,null,""]
[null,null,""]
[null,null,""]
[null,null,""]
[null,null,""]
[null,null,""]
[null,null,""]
[null,null,""]
[null,null,""]
[null,null,""]
[null,null,"ATD","Energia"]
[null,null,"ATH","Energia"]
[null,null,"EDEMET","Energia"]
[null,null,""]
[null,null,""]
[null,null,""]
[null,null,""]
[null,null,""]
[]
[]
[null,null,null,"Variable para construir Balance en Fuera de Punta"]
[null,null,{"$f":"C30","v":"BTS_R"},"Energia"]
[null,null,{"$f":"C31","v":"BTS_O"},"Energia"]
[null,null,"","Energia"]
[null,null,"BTS_P1","Energia"]
[null,null,"BTS_P2","Energia"]
[null,null,"BTD","Energia"]
[null,null,"BTH","Energia"]
[null,null,"BTS_A","Energia"]
[null,null,"BTD_A","Energia"]
[null,null,""]
[null,null,""]
[null,null,""]
[null,null,""]
[null,null,""]
[null,null,""]
[null,null,""]
[null,null,""]
[null,null,""]
[null,null,""]
[null,null,""]
[null,null,"AP","Energia"]
[null,null,""]
[null,null,""]
[null,null,""]
[null,null,""]
[null,null,""]
[null,null,""]
[null,null,"","Energia"]
[null,null,"","Energia"]
[null,null,""]
[null,null,"MTD","Energia"]
[null,null,"MTH","Energia"]
[null,null,""]
[null,null,""]
[null,null,""]
[null,null,""]
[null,null,""]
[null,null,""]
[null,null,""]
[null,null,""]
[null,null,""]
[null,null,""]
[null,null,""]
[null,null,""]
[null,null,""]
[null,null,""]
[null,null,""]
[null,null,""]
[null,null,""]
[null,null,""]
[null,null,""]
[null,null,"","Energia"]
[null,null,"","Energia"]
[null,null,"ATD","Energia"]
[null,null,"ATH","Energia"]
[null,null,"EDEMET","Energia"]
[null,null,""]
[null,null,""]
[null,null,""]
[null,null,""]
[null,null,""]

{"sheet":"Balance","index":5,"n_rows":393,"n_cols":8,"rows_kept":393,"cut":false,"hidden":false,"merged":[[75,3,78,3],[79,3,82,3],[75,2,82,2],[67,3,70,3],[71,3,74,3],[67,2,74,2],[59,3,62,3],[63,3,66,3],[59,2,66,2],[33,3,35,3],[36,3,38,3],[30,2,38,2],[51,3,54,3],[55,3,58,3],[51,2,58,2],[43,3,46,3],[47,3,50,3],[17,3,20,3],[21,3,23,3],[21,2,29,2],[39,3,42,3],[39,2,50,2],[24,3,26,3],[27,3,29,3],[30,3,32,3]]}
[]
[]
[null,null,null,null,"Pérdidas Totales (%)",{"$f":"(Datos!D10-Datos!D91)/Datos!D10","v":9.8887143164115371E-2}]
[]
[null,null,null,null,null,{"$f":"Datos!D4","v":"Jul 2024 - Jun 2025"}]
[null,null,null,null,"Ventas BT",{"$f":"SUM(Datos!D30:D50)","v":2857009.9381748047},null,{"$f":"Datos!D30","v":1406874.7287542946}]
[null,null,null,null,"Pérdidas NT BT",{"$f":"F16-SUM(F6,F8,F10,F11,F13,F14)","v":264271.84291957691}]
[null,null,null,null,"Pérdidas T BT",{"$f":"SUMPRODUCT(Info_Perdidas!B$10:B$36,Info_Perdidas!$I$10:$I$36)","v":46992.598667372418}]
[null,null,null,null,"Energía Ingresada BT",{"$f":"SUM(F6:F8)","v":3168274.3797617541}]
[null,null,null,null,"Ventas MT",{"$f":"SUM(Datos!D51:D70)","v":975944.53192538989}]
[null,null,null,null,"Pérdidas MT",{"$f":"SUMPRODUCT(Info_Perdidas!C$10:C$36,Info_Perdidas!$I$10:$I$36)","v":149811.83579430095}]
[null,null,null,null,"Energía Ingresada MT",{"$f":"SUM(F9:F11)","v":4294030.7474814449}]
[null,null,null,null,"Ventas AT",{"$f":"SUM(Datos!D71:D90)","v":651181.85355999996}]
[null,null,null,null,"Pérdidas AT",{"$f":"SUMPRODUCT(Info_Perdidas!F$10:F$36,Info_Perdidas!$I$10:$I$36)","v":31007.957397295471}]
[null,null,null,null,"Energía Ingresada AT",{"$f":"SUM(F12:F14)","v":4976220.5584387397}]
[null,null,null,null,"Energía Ingresada",{"$f":"Datos!D10","v":4976220.5584387397}]
[null,null,null,null,"para Balance de potencia campaña",{"$f":"F7/F9","v":8.3411918048413927E-2}]
[null,null,null,"Pérdidas de Energía (respecto del nivel de tensión correspondiente)","BT NT",{"$f":"F7/(H6+F7)","v":0.15813803971417909},{"$f":"F7/F9","v":8.3411918048413927E-2}]
[null,null,null,null,"BT T",{"$f":"F8/F9","v":1.4832237689876512E-2}]
[null,null,null,null,"MT",{"$f":"F11/F12","v":3.488839382022807E-2}]
[null,null,null,null,"AT",{"$f":"F14/F15","v":6.2312264967258682E-3}]
[null,null,"Factores de carga","PUNTA","BT",{"$f":"(H6+F7)/(8760*H116)","v":1.0643052121275516},{"$f":"F9/(8760*F116)","v":0.82922118381514176}]
[null,null,null,null,"MT",{"$f":"F12/(8760*F165)","v":0.81509807034536585}]
[null,null,null,null,"AT",{"$f":"F15/(8760*F236)","v":0.82784674497558774}]
[null,null,null,"PUNTA","BT",{"$f":"(F9*Datos!$D$11)/(8760*(Datos!$D$6/(Datos!$D$6+Datos!$D$7))*F116)","v":0.96086780321716625}]
[null,null,null,null,"MT",{"$f":"(F12*Datos!$D$11)/(8760*(Datos!$D$6/(Datos!$D$6+Datos!$D$7))*F165)","v":0.94450251337754298}]
[null,null,null,null,"AT",{"$f":"(F15*Datos!$D$11)/(8760*(Datos!$D$6/(Datos!$D$6+Datos!$D$7))*F236)","v":0.95927515935543761}]
[null,null,null,"FUERA DE PUNTA","BT",{"$f":"(F9*Datos!$D$12)/(8760*(Datos!$D$7/(Datos!$D$6+Datos!$D$7))*F271)","v":0.86772649121279521}]
[null,null,null,null,"MT",{"$f":"(F12*Datos!$D$12)/(8760*(Datos!$D$7/(Datos!$D$6+Datos!$D$7))*F320)","v":0.86291737444636241}]
[null,null,null,null,"AT",{"$f":"(F15*Datos!$D$12)/(8760*(Datos!$D$7/(Datos!$D$6+Datos!$D$7))*F391)","v":0.85853749784131639}]
[null,null,"Factores de carga de pérdidas",null,"BT",{"$f":"0.7*F22^2+0.3*F22","v":1.1122134728315762},{"$f":"0.7*F22^2+0.3*F22","v":1.1122134728315762}]
[null,null,null,null,"MT",{"$f":"0.7*F23^2+0.3*F23","v":0.70959882610012692}]
[null,null,null,null,"AT",0.72808518670934941]
[null,null,null,"PUNTA","BT",0.93454719564671784]
[null,null,null,null,"MT",0.90781025245680991]
[null,null,null,null,"AT",0.93192872975611141]
[null,null,null,"FUERA DE PUNTA","BT",0.78738243185056689]
[null,null,null,null,"MT",0.7801136889188911]
[null,null,null,null,"AT",0.77352189399213467]
[null,null,"Pérdida Potencia",null,"BT NT",{"$f":"F18*F22/F31","v":0.15132629123341099},{"$f":"F18*F22/F31","v":0.15132629123341099}]
[null,null,null,null,"BT T",{"$f":"F19*F22/F31","v":1.4193343514047489E-2}]
[null,null,null,null,"MT",{"$f":"F20*F23/F32","v":4.0075408011321118E-2}]
[null,null,null,null,"AT",{"$f":"F21*F24/F33","v":7.0850233828193667E-3}]
[null,null,null,"PUNTA","BT NT",{"$f":"F40","v":0.15132629123341099}]
[null,null,null,null,"BT T",{"$f":"F41","v":1.4193343514047489E-2}]
[null,null,null,null,"MT",{"$f":"F42","v":4.0075408011321118E-2}]
[null,null,null,null,"AT",{"$f":"F43","v":7.0850233828193667E-3}]
[null,null,null,"FUERA DE PUNTA","BT NT",{"$f":"F40","v":0.15132629123341099}]
[null,null,null,null,"BT T",{"$f":"F41","v":1.4193343514047489E-2}]
[null,null,null,null,"MT",{"$f":"F42","v":4.0075408011321118E-2}]
[null,null,null,null,"AT",{"$f":"F43","v":7.0850233828193667E-3}]
[null,null,"Pérdida Potencia","PUNTA","BT NT",0.15132629084961494]
[null,null,null,null,"BT T",1.4193343478050116E-2]
[null,null,null,null,"MT",4.0075408004873969E-2]
[null,null,null,null,"AT",7.0850233828193667E-3]
[null,null,null,"FUERA DE PUNTA","BT NT",0.15132629123341099]
[null,null,null,null,"BT T",1.4193343514047489E-2]
[null,null,null,null,"MT",4.0075408011321118E-2]
[null,null,null,null,"AT",7.0850233828193667E-3]
[null,null,"Cierre","PUNTA","BT NT",{"$f":"F52-F40","v":-3.8379605049598808E-10}]
[null,null,null,null,"BT T",{"$f":"F53-F41","v":-3.599737348480847E-11}]
[null,null,null,null,"MT",{"$f":"F54-F42","v":-6.4471483707251309E-12}]
[null,null,null,null,"AT",{"$f":"F55-F43","v":0}]
[null,null,null,"FUERA DE PUNTA","BT NT",{"$f":"F56-F40","v":0}]
[null,null,null,null,"BT T",{"$f":"F57-F41","v":0}]
[null,null,null,null,"MT",{"$f":"F58-F42","v":0}]
[null,null,null,null,"AT",{"$f":"F59-F43","v":0}]
[null,null,"Factores pérdidas Punta","PUNTA","BT NT",{"$f":"1/(1-F52)","v":1.1783091537042063}]
[null,null,null,null,"BT T",1.0143976949071596]
[null,null,null,null,"MT",1.0417484960163177]
[null,null,null,null,"AT",1.0071355791277896]
[null,null,null,"FUERA DE PUNTA","BT NT",1.1783091542370736]
[null,null,null,null,"BT T",1.0143976949442008]
[null,null,null,null,"MT",1.0417484960233145]
[null,null,null,null,"AT",1.0071355791277896]
[null,null,"Factores pérdidas Punta Acumulados","PUNTA","BT NT",{"$f":"PRODUCT(F$68:F68)","v":1.1783091537042063}]
[null,null,null,null,"BT T",{"$f":"PRODUCT(F$68:F69)","v":1.1952740894055529}]
[null,null,null,null,"MT",{"$f":"PRODUCT(F$68:F70)","v":1.2451749849655085}]
[null,null,null,null,"AT",{"$f":"PRODUCT(F$68:F71)","v":1.2540600295986741}]
[null,null,null,"FUERA DE PUNTA","BT NT",{"$f":"PRODUCT(F$72:F72)","v":1.1783091542370736}]
[null,null,null,null,"BT T",{"$f":"PRODUCT(F$72:F73)","v":1.1952740899897383}]
[null,null,null,null,"MT",{"$f":"PRODUCT(F$72:F74)","v":1.2451749855824459}]
[null,null,null,null,"AT",{"$f":"PRODUCT(F$72:F75)","v":1.2540600302200138}]
[]
[]
[null,null,null,null,"FaP",0.95350045197067668]
[null,null,null,null,"FaFP",0.96533643602938934]
[]
["BALANCE DE POTENCIA HORAS PUNTA"]
[null,null,null,null,null,{"$f":"Datos!D4","v":"Jul 2024 - Jun 2025"}]
[null,null,"Coeficientes de responsabilidad (Tipo de medición)",null,null,"Potencia coincidente con máxima BT"]
["Variable Facturación",null,"Energía","Potencia máxima","Potencia por franja horaria"]
[{"$f":"Datos!D353","v":"Energia"},{"$f":"Datos!C30","v":"BTS_R"},{"$f":"1/(Datos!$G288*8760)*Datos!$X288*$F$86","v":1.0812585808896949E-4},{"$f":"Datos!$H288*Datos!$X288*$F$86","v":0.26136601918300006},{"$f":"Datos!$I288*Datos!$N288*$F$86","v":0.36840548578823512},{"$f":"IFERROR(SUMIFS(Datos!D:D,Datos!$A:$A,$A93,Datos!$C:$C,$B93)*IF($A93=Datos!$D$24,$C93,IF($A93=Datos!$D$25,$D93,$E93)),\"-\")","v":152.11953727024431}]
[{"$f":"Datos!D354","v":"Energia"},{"$f":"Datos!C31","v":"BTS_O"},{"$f":"1/(Datos!$G289*8760)*Datos!$X289*$F$86","v":1.8211613551127878E-4},{"$f":"Datos!$H289*Datos!$X289*$F$86","v":0.54395119747887244},{"$f":"Datos!$I289*Datos!$N289*$F$86","v":0.61282788421071632},{"$f":"IFERROR(SUMIFS(Datos!D:D,Datos!$A:$A,$A94,Datos!$C:$C,$B94)*IF($A94=Datos!$D$24,$C94,IF($A94=Datos!$D$25,$D94,$E94)),\"-\")","v":69.411966479433346}]
[{"$f":"Datos!D355","v":"Energia"},{"$f":"Datos!C32","v":""},{"$f":"1/(Datos!$G290*8760)*Datos!$X290*$F$86","v":{"$error":"#VALUE!"}},{"$f":"Datos!$H290*Datos!$X290*$F$86","v":{"$error":"#VALUE!"}},{"$f":"Datos!$I290*Datos!$N290*$F$86","v":{"$error":"#VALUE!"}},{"$f":"IFERROR(SUMIFS(Datos!D:D,Datos!$A:$A,$A95,Datos!$C:$C,$B95)*IF($A95=Datos!$D$24,$C95,IF($A95=Datos!$D$25,$D95,$E95)),\"-\")","v":"-"}]
[{"$f":"Datos!D356","v":"Energia"},{"$f":"Datos!C33","v":"BTS_P1"},{"$f":"1/(Datos!$G291*8760)*Datos!$X291*$F$86","v":9.9414075453322702E-5},{"$f":"Datos!$H291*Datos!$X291*$F$86","v":0.22195380195446032},{"$f":"Datos!$I291*Datos!$N291*$F$86","v":0.28566254682152264},{"$f":"IFERROR(SUMIFS(Datos!D:D,Datos!$A:$A,$A96,Datos!$C:$C,$B96)*IF($A96=Datos!$D$24,$C96,IF($A96=Datos!$D$25,$D96,$E96)),\"-\")","v":8.8704145180471343}]
[{"$f":"Datos!D357","v":"Energia"},{"$f":"Datos!C34","v":"BTS_P2"},{"$f":"1/(Datos!$G292*8760)*Datos!$X292*$F$86","v":1.0018630839055132E-4},{"$f":"Datos!$H292*Datos!$X292*$F$86","v":0.26469602035798384},{"$f":"Datos!$I292*Datos!$N292*$F$86","v":0.36073103234517229},{"$f":"IFERROR(SUMIFS(Datos!D:D,Datos!$A:$A,$A97,Datos!$C:$C,$B97)*IF($A97=Datos!$D$24,$C97,IF($A97=Datos!$D$25,$D97,$E97)),\"-\")","v":4.7976555357566655}]
[{"$f":"Datos!D358","v":"Energia"},{"$f":"Datos!C35","v":"BTD"},{"$f":"1/(Datos!$G293*8760)*Datos!$X293*$F$86","v":2.0891441032079989E-4},{"$f":"Datos!$H293*Datos!$X293*$F$86","v":0.70784322587635395},{"$f":"Datos!$I293*Datos!$N293*$F$86","v":0.73754860625127106},{"$f":"IFERROR(SUMIFS(Datos!D:D,Datos!$A:$A,$A98,Datos!$C:$C,$B98)*IF($A98=Datos!$D$24,$C98,IF($A98=Datos!$D$25,$D98,$E98)),\"-\")","v":157.83437548416026}]
[{"$f":"Datos!D359","v":"Energia"},{"$f":"Datos!C36","v":"BTH"},{"$f":"1/(Datos!$G294*8760)*Datos!$X294*$F$86","v":1.1648068536866171E-4},{"$f":"Datos!$H294*Datos!$X294*$F$86","v":0.72888058000239808},{"$f":"Datos!$I294*Datos!$N294*$F$86","v":0.81105368790620291},{"$f":"IFERROR(SUMIFS(Datos!D:D,Datos!$A:$A,$A99,Datos!$C:$C,$B99)*IF($A99=Datos!$D$24,$C99,IF($A99=Datos!$D$25,$D99,$E99)),\"-\")","v":4.3635582665570318}]
[{"$f":"Datos!D360","v":"Energia"},{"$f":"Datos!C37","v":"BTS_A"},{"$f":"1/(Datos!$G295*8760)*Datos!$X295*$F$86","v":3.0111616413608403E-5},{"$f":"Datos!$H295*Datos!$X295*$F$86","v":8.6362422384261367E-2},{"$f":"Datos!$I295*Datos!$N295*$F$86","v":0.16579730589639435},{"$f":"IFERROR(SUMIFS(Datos!D:D,Datos!$A:$A,$A100,Datos!$C:$C,$B100)*IF($A100=Datos!$D$24,$C100,IF($A100=Datos!$D$25,$D100,$E100)),\"-\")","v":0.6363653811694302}]
[{"$f":"Datos!D361","v":"Energia"},{"$f":"Datos!C38","v":"BTD_A"},{"$f":"1/(Datos!$G296*8760)*Datos!$X296*$F$86","v":1.2728064911388416E-4},{"$f":"Datos!$H296*Datos!$X296*$F$86","v":0.32543191075385297},{"$f":"Datos!$I296*Datos!$N296*$F$86","v":0.339752543088845},{"$f":"IFERROR(SUMIFS(Datos!D:D,Datos!$A:$A,$A101,Datos!$C:$C,$B101)*IF($A101=Datos!$D$24,$C101,IF($A101=Datos!$D$25,$D101,$E101)),\"-\")","v":4.8136847452379818}]
[{"$f":"Datos!D362","v":0},{"$f":"Datos!C39","v":""},{"$f":"1/(Datos!$G297*8760)*Datos!$X297*$F$86","v":{"$error":"#VALUE!"}},{"$f":"Datos!$H297*Datos!$X297*$F$86","v":{"$error":"#VALUE!"}},{"$f":"Datos!$I297*Datos!$N297*$F$86","v":{"$error":"#VALUE!"}},{"$f":"IFERROR(SUMIFS(Datos!D:D,Datos!$A:$A,$A102,Datos!$C:$C,$B102)*IF($A102=Datos!$D$24,$C102,IF($A102=Datos!$D$25,$D102,$E102)),\"-\")","v":"-"}]
[{"$f":"Datos!D363","v":0},{"$f":"Datos!C40","v":""},{"$f":"1/(Datos!$G298*8760)*Datos!$X298*$F$86","v":{"$error":"#VALUE!"}},{"$f":"Datos!$H298*Datos!$X298*$F$86","v":{"$error":"#VALUE!"}},{"$f":"Datos!$I298*Datos!$N298*$F$86","v":{"$error":"#VALUE!"}},{"$f":"IFERROR(SUMIFS(Datos!D:D,Datos!$A:$A,$A103,Datos!$C:$C,$B103)*IF($A103=Datos!$D$24,$C103,IF($A103=Datos!$D$25,$D103,$E103)),\"-\")","v":"-"}]
[{"$f":"Datos!D364","v":0},{"$f":"Datos!C41","v":""},{"$f":"1/(Datos!$G299*8760)*Datos!$X299*$F$86","v":{"$error":"#VALUE!"}},{"$f":"Datos!$H299*Datos!$X299*$F$86","v":{"$error":"#VALUE!"}},{"$f":"Datos!$I299*Datos!$N299*$F$86","v":{"$error":"#VALUE!"}},{"$f":"IFERROR(SUMIFS(Datos!D:D,Datos!$A:$A,$A104,Datos!$C:$C,$B104)*IF($A104=Datos!$D$24,$C104,IF($A104=Datos!$D$25,$D104,$E104)),\"-\")","v":"-"}]
[{"$f":"Datos!D365","v":0},{"$f":"Datos!C42","v":""},{"$f":"1/(Datos!$G300*8760)*Datos!$X300*$F$86","v":{"$error":"#VALUE!"}},{"$f":"Datos!$H300*Datos!$X300*$F$86","v":{"$error":"#VALUE!"}},{"$f":"Datos!$I300*Datos!$N300*$F$86","v":{"$error":"#VALUE!"}},{"$f":"IFERROR(SUMIFS(Datos!D:D,Datos!$A:$A,$A105,Datos!$C:$C,$B105)*IF($A105=Datos!$D$24,$C105,IF($A105=Datos!$D$25,$D105,$E105)),\"-\")","v":"-"}]
[{"$f":"Datos!D366","v":0},{"$f":"Datos!C43","v":""},{"$f":"1/(Datos!$G301*8760)*Datos!$X301*$F$86","v":{"$error":"#VALUE!"}},{"$f":"Datos!$H301*Datos!$X301*$F$86","v":{"$error":"#VALUE!"}},{"$f":"Datos!$I301*Datos!$N301*$F$86","v":{"$error":"#VALUE!"}},{"$f":"IFERROR(SUMIFS(Datos!D:D,Datos!$A:$A,$A106,Datos!$C:$C,$B106)*IF($A106=Datos!$D$24,$C106,IF($A106=Datos!$D$25,$D106,$E106)),\"-\")","v":"-"}]
[{"$f":"Datos!D367","v":0},{"$f":"Datos!C44","v":""},{"$f":"1/(Datos!$G302*8760)*Datos!$X302*$F$86","v":{"$error":"#VALUE!"}},{"$f":"Datos!$H302*Datos!$X302*$F$86","v":{"$error":"#VALUE!"}},{"$f":"Datos!$I302*Datos!$N302*$F$86","v":{"$error":"#VALUE!"}},{"$f":"IFERROR(SUMIFS(Datos!D:D,Datos!$A:$A,$A107,Datos!$C:$C,$B107)*IF($A107=Datos!$D$24,$C107,IF($A107=Datos!$D$25,$D107,$E107)),\"-\")","v":"-"}]
[{"$f":"Datos!D368","v":0},{"$f":"Datos!C45","v":""},{"$f":"1/(Datos!$G303*8760)*Datos!$X303*$F$86","v":{"$error":"#VALUE!"}},{"$f":"Datos!$H303*Datos!$X303*$F$86","v":{"$error":"#VALUE!"}},{"$f":"Datos!$I303*Datos!$N303*$F$86","v":{"$error":"#VALUE!"}},{"$f":"IFERROR(SUMIFS(Datos!D:D,Datos!$A:$A,$A108,Datos!$C:$C,$B108)*IF($A108=Datos!$D$24,$C108,IF($A108=Datos!$D$25,$D108,$E108)),\"-\")","v":"-"}]
[{"$f":"Datos!D369","v":0},{"$f":"Datos!C46","v":""},{"$f":"1/(Datos!$G304*8760)*Datos!$X304*$F$86","v":{"$error":"#VALUE!"}},{"$f":"Datos!$H304*Datos!$X304*$F$86","v":{"$error":"#VALUE!"}},{"$f":"Datos!$I304*Datos!$N304*$F$86","v":{"$error":"#VALUE!"}},{"$f":"IFERROR(SUMIFS(Datos!D:D,Datos!$A:$A,$A109,Datos!$C:$C,$B109)*IF($A109=Datos!$D$24,$C109,IF($A109=Datos!$D$25,$D109,$E109)),\"-\")","v":"-"}]
[{"$f":"Datos!D370","v":0},{"$f":"Datos!C47","v":""},{"$f":"1/(Datos!$G305*8760)*Datos!$X305*$F$86","v":{"$error":"#VALUE!"}},{"$f":"Datos!$H305*Datos!$X305*$F$86","v":{"$error":"#VALUE!"}},{"$f":"Datos!$I305*Datos!$N305*$F$86","v":{"$error":"#VALUE!"}},{"$f":"IFERROR(SUMIFS(Datos!D:D,Datos!$A:$A,$A110,Datos!$C:$C,$B110)*IF($A110=Datos!$D$24,$C110,IF($A110=Datos!$D$25,$D110,$E110)),\"-\")","v":"-"}]
[{"$f":"Datos!D371","v":0},{"$f":"Datos!C48","v":""},{"$f":"1/(Datos!$G306*8760)*Datos!$X306*$F$86","v":{"$error":"#VALUE!"}},{"$f":"Datos!$H306*Datos!$X306*$F$86","v":{"$error":"#VALUE!"}},{"$f":"Datos!$I306*Datos!$N306*$F$86","v":{"$error":"#VALUE!"}},{"$f":"IFERROR(SUMIFS(Datos!D:D,Datos!$A:$A,$A111,Datos!$C:$C,$B111)*IF($A111=Datos!$D$24,$C111,IF($A111=Datos!$D$25,$D111,$E111)),\"-\")","v":"-"}]
[{"$f":"Datos!D372","v":0},{"$f":"Datos!C49","v":""},{"$f":"1/(Datos!$G307*8760)*Datos!$X307*$F$86","v":{"$error":"#VALUE!"}},{"$f":"Datos!$H307*Datos!$X307*$F$86","v":{"$error":"#VALUE!"}},{"$f":"Datos!$I307*Datos!$N307*$F$86","v":{"$error":"#VALUE!"}},{"$f":"IFERROR(SUMIFS(Datos!D:D,Datos!$A:$A,$A112,Datos!$C:$C,$B112)*IF($A112=Datos!$D$24,$C112,IF($A112=Datos!$D$25,$D112,$E112)),\"-\")","v":"-"}]
[{"$f":"Datos!D373","v":"Energia"},{"$f":"Datos!C50","v":"AP"},{"$f":"1/(Datos!$G308*8760)*Datos!$X308*$F$86","v":0},{"$f":"Datos!$H308*Datos!$X308*$F$86","v":0},{"$f":"Datos!$I308*Datos!$N308*$F$86","v":0},{"$f":"IFERROR(SUMIFS(Datos!D:D,Datos!$A:$A,$A113,Datos!$C:$C,$B113)*IF($A113=Datos!$D$24,$C113,IF($A113=Datos!$D$25,$D113,$E113)),\"-\")","v":0}]
[null,"Pérdida NT BT",null,null,null,{"$f":"SUM(F93)*(F68-1)","v":27.124305952532733},{"$f":"SUM(F93:F113)*(F68-1)","v":71.831407081835309}]
[null,"Pérdida T BT",null,null,null,{"$f":"SUM(F93:F114)*(F69-1)","v":6.1906037112527592}]
[null,"Potencia Máxima BT",null,null,null,{"$f":"SUM(F93:F115)","v":436.16246734439164},null,{"$f":"F93+F114","v":179.24384322277703}]
[]
[null,null,"Coeficientes de responsabilidad (Tipo de medición)",null,null,"Potencia coincidente con máxima MT"]
[null,null,"Energía","Potencia máxima","Potencia por franja horaria"]
[{"$f":"A93","v":"Energia"},{"$f":"Datos!C30","v":"BTS_R"},{"$f":"1/(Datos!$G288*8760)*Datos!$Y288*$F$86","v":1.0701530938884988E-4},{"$f":"Datos!$H288*Datos!$Y288*$F$86","v":0.25868155777858487},{"$f":"Datos!$I288*Datos!$O288*$F$86","v":0.36462163389017749},{"$f":"IFERROR(SUMIFS(Datos!D:D,Datos!$A:$A,$A120,Datos!$C:$C,$B120)*IF($A120=Datos!$D$24,$C120,IF($A120=Datos!$D$25,$D120,$E120)),\"-\")","v":150.55713436899509}]
["Energia",{"$f":"Datos!C31","v":"BTS_O"},{"$f":"1/(Datos!$G289*8760)*Datos!$Y289*$F$86","v":1.8606719544487824E-4},{"$f":"Datos!$H289*Datos!$Y289*$F$86","v":0.55575236916615056},{"$f":"Datos!$I289*Datos!$O289*$F$86","v":0.62612335466806934},{"$f":"IFERROR(SUMIFS(Datos!D:D,Datos!$A:$A,$A121,Datos!$C:$C,$B121)*IF($A121=Datos!$D$24,$C121,IF($A121=Datos!$D$25,$D121,$E121)),\"-\")","v":70.91787829169148}]
["Energia",{"$f":"Datos!C32","v":""},{"$f":"1/(Datos!$G290*8760)*Datos!$Y290*$F$86","v":{"$error":"#VALUE!"}},{"$f":"Datos!$H290*Datos!$Y290*$F$86","v":{"$error":"#VALUE!"}},{"$f":"Datos!$I290*Datos!$O290*$F$86","v":{"$error":"#VALUE!"}},{"$f":"IFERROR(SUMIFS(Datos!D:D,Datos!$A:$A,$A122,Datos!$C:$C,$B122)*IF($A122=Datos!$D$24,$C122,IF($A122=Datos!$D$25,$D122,$E122)),\"-\")","v":"-"}]
["Energia",{"$f":"Datos!C33","v":"BTS_P1"},{"$f":"1/(Datos!$G291*8760)*Datos!$Y291*$F$86","v":9.2933681093027137E-5},{"$f":"Datos!$H291*Datos!$Y291*$F$86","v":0.20748554723426044},{"$f":"Datos!$I291*Datos!$O291*$F$86","v":0.26704138126796834},{"$f":"IFERROR(SUMIFS(Datos!D:D,Datos!$A:$A,$A123,Datos!$C:$C,$B123)*IF($A123=Datos!$D$24,$C123,IF($A123=Datos!$D$25,$D123,$E123)),\"-\")","v":8.292188708933951}]
["Energia",{"$f":"Datos!C34","v":"BTS_P2"},{"$f":"1/(Datos!$G292*8760)*Datos!$Y292*$F$86","v":1.0719542618519393E-4},{"$f":"Datos!$H292*Datos!$Y292*$F$86","v":0.28321437497416413},{"$f":"Datos!$I292*Datos!$O292*$F$86","v":0.38596807659311477},{"$f":"IFERROR(SUMIFS(Datos!D:D,Datos!$A:$A,$A124,Datos!$C:$C,$B124)*IF($A124=Datos!$D$24,$C124,IF($A124=Datos!$D$25,$D124,$E124)),\"-\")","v":5.1333035232755782}]
["Energia",{"$f":"Datos!C35","v":"BTD"},{"$f":"1/(Datos!$G293*8760)*Datos!$Y293*$F$86","v":2.0502356448200251E-4},{"$f":"Datos!$H293*Datos!$Y293*$F$86","v":0.694660272791917},{"$f":"Datos!$I293*Datos!$O293*$F$86","v":0.72381241676995667},{"$f":"IFERROR(SUMIFS(Datos!D:D,Datos!$A:$A,$A125,Datos!$C:$C,$B125)*IF($A125=Datos!$D$24,$C125,IF($A125=Datos!$D$25,$D125,$E125)),\"-\")","v":154.89485004822345}]
["Energia",{"$f":"Datos!C36","v":"BTH"},{"$f":"1/(Datos!$G294*8760)*Datos!$Y294*$F$86","v":1.1363655719281799E-4},{"$f":"Datos!$H294*Datos!$Y294*$F$86","v":0.71108338222794309},{"$f":"Datos!$I294*Datos!$O294*$F$86","v":0.79125005575384089},{"$f":"IFERROR(SUMIFS(Datos!D:D,Datos!$A:$A,$A126,Datos!$C:$C,$B126)*IF($A126=Datos!$D$24,$C126,IF($A126=Datos!$D$25,$D126,$E126)),\"-\")","v":4.257012542057117}]
["Energia",{"$f":"Datos!C37","v":"BTS_A"},{"$f":"1/(Datos!$G295*8760)*Datos!$Y295*$F$86","v":4.1524987598365776E-5},{"$f":"Datos!$H295*Datos!$Y295*$F$86","v":0.11909684519129839},{"$f":"Datos!$I295*Datos!$O295*$F$86","v":0.22864036844195454},{"$f":"IFERROR(SUMIFS(Datos!D:D,Datos!$A:$A,$A127,Datos!$C:$C,$B127)*IF($A127=Datos!$D$24,$C127,IF($A127=Datos!$D$25,$D127,$E127)),\"-\")","v":0.87757044318443067}]
["Energia",{"$f":"Datos!C38","v":"BTD_A"},{"$f":"1/(Datos!$G296*8760)*Datos!$Y296*$F$86","v":1.2657244622721236E-4},{"$f":"Datos!$H296*Datos!$Y296*$F$86","v":0.32362117345627062},{"$f":"Datos!$I296*Datos!$O296*$F$86","v":0.33786212429034945},{"$f":"IFERROR(SUMIFS(Datos!D:D,Datos!$A:$A,$A128,Datos!$C:$C,$B128)*IF($A128=Datos!$D$24,$C128,IF($A128=Datos!$D$25,$D128,$E128)),\"-\")","v":4.7869008982365795}]
[0,{"$f":"Datos!C39","v":""},{"$f":"1/(Datos!$G297*8760)*Datos!$Y297*$F$86","v":{"$error":"#VALUE!"}},{"$f":"Datos!$H297*Datos!$Y297*$F$86","v":{"$error":"#VALUE!"}},{"$f":"Datos!$I297*Datos!$O297*$F$86","v":{"$error":"#VALUE!"}},{"$f":"IFERROR(SUMIFS(Datos!D:D,Datos!$A:$A,$A129,Datos!$C:$C,$B129)*IF($A129=Datos!$D$24,$C129,IF($A129=Datos!$D$25,$D129,$E129)),\"-\")","v":"-"}]
[0,{"$f":"Datos!C40","v":""},{"$f":"1/(Datos!$G298*8760)*Datos!$Y298*$F$86","v":{"$error":"#VALUE!"}},{"$f":"Datos!$H298*Datos!$Y298*$F$86","v":{"$error":"#VALUE!"}},{"$f":"Datos!$I298*Datos!$O298*$F$86","v":{"$error":"#VALUE!"}},{"$f":"IFERROR(SUMIFS(Datos!D:D,Datos!$A:$A,$A130,Datos!$C:$C,$B130)*IF($A130=Datos!$D$24,$C130,IF($A130=Datos!$D$25,$D130,$E130)),\"-\")","v":"-"}]
[0,{"$f":"Datos!C41","v":""},{"$f":"1/(Datos!$G299*8760)*Datos!$Y299*$F$86","v":{"$error":"#VALUE!"}},{"$f":"Datos!$H299*Datos!$Y299*$F$86","v":{"$error":"#VALUE!"}},{"$f":"Datos!$I299*Datos!$O299*$F$86","v":{"$error":"#VALUE!"}},{"$f":"IFERROR(SUMIFS(Datos!D:D,Datos!$A:$A,$A131,Datos!$C:$C,$B131)*IF($A131=Datos!$D$24,$C131,IF($A131=Datos!$D$25,$D131,$E131)),\"-\")","v":"-"}]
[0,{"$f":"Datos!C42","v":""},{"$f":"1/(Datos!$G300*8760)*Datos!$Y300*$F$86","v":{"$error":"#VALUE!"}},{"$f":"Datos!$H300*Datos!$Y300*$F$86","v":{"$error":"#VALUE!"}},{"$f":"Datos!$I300*Datos!$O300*$F$86","v":{"$error":"#VALUE!"}},{"$f":"IFERROR(SUMIFS(Datos!D:D,Datos!$A:$A,$A132,Datos!$C:$C,$B132)*IF($A132=Datos!$D$24,$C132,IF($A132=Datos!$D$25,$D132,$E132)),\"-\")","v":"-"}]
[0,{"$f":"Datos!C43","v":""},{"$f":"1/(Datos!$G301*8760)*Datos!$Y301*$F$86","v":{"$error":"#VALUE!"}},{"$f":"Datos!$H301*Datos!$Y301*$F$86","v":{"$error":"#VALUE!"}},{"$f":"Datos!$I301*Datos!$O301*$F$86","v":{"$error":"#VALUE!"}},{"$f":"IFERROR(SUMIFS(Datos!D:D,Datos!$A:$A,$A133,Datos!$C:$C,$B133)*IF($A133=Datos!$D$24,$C133,IF($A133=Datos!$D$25,$D133,$E133)),\"-\")","v":"-"}]
[0,{"$f":"Datos!C44","v":""},{"$f":"1/(Datos!$G302*8760)*Datos!$Y302*$F$86","v":{"$error":"#VALUE!"}},{"$f":"Datos!$H302*Datos!$Y302*$F$86","v":{"$error":"#VALUE!"}},{"$f":"Datos!$I302*Datos!$O302*$F$86","v":{"$error":"#VALUE!"}},{"$f":"IFERROR(SUMIFS(Datos!D:D,Datos!$A:$A,$A134,Datos!$C:$C,$B134)*IF($A134=Datos!$D$24,$C134,IF($A134=Datos!$D$25,$D134,$E134)),\"-\")","v":"-"}]
[0,{"$f":"Datos!C45","v":""},{"$f":"1/(Datos!$G303*8760)*Datos!$Y303*$F$86","v":{"$error":"#VALUE!"}},{"$f":"Datos!$H303*Datos!$Y303*$F$86","v":{"$error":"#VALUE!"}},{"$f":"Datos!$I303*Datos!$O303*$F$86","v":{"$error":"#VALUE!"}},{"$f":"IFERROR(SUMIFS(Datos!D:D,Datos!$A:$A,$A135,Datos!$C:$C,$B135)*IF($A135=Datos!$D$24,$C135,IF($A135=Datos!$D$25,$D135,$E135)),\"-\")","v":"-"}]
[0,{"$f":"Datos!C46","v":""},{"$f":"1/(Datos!$G304*8760)*Datos!$Y304*$F$86","v":{"$error":"#VALUE!"}},{"$f":"Datos!$H304*Datos!$Y304*$F$86","v":{"$error":"#VALUE!"}},{"$f":"Datos!$I304*Datos!$O304*$F$86","v":{"$error":"#VALUE!"}},{"$f":"IFERROR(SUMIFS(Datos!D:D,Datos!$A:$A,$A136,Datos!$C:$C,$B136)*IF($A136=Datos!$D$24,$C136,IF($A136=Datos!$D$25,$D136,$E136)),\"-\")","v":"-"}]
[0,{"$f":"Datos!C47","v":""},{"$f":"1/(Datos!$G305*8760)*Datos!$Y305*$F$86","v":{"$error":"#VALUE!"}},{"$f":"Datos!$H305*Datos!$Y305*$F$86","v":{"$error":"#VALUE!"}},{"$f":"Datos!$I305*Datos!$O305*$F$86","v":{"$error":"#VALUE!"}},{"$f":"IFERROR(SUMIFS(Datos!D:D,Datos!$A:$A,$A137,Datos!$C:$C,$B137)*IF($A137=Datos!$D$24,$C137,IF($A137=Datos!$D$25,$D137,$E137)),\"-\")","v":"-"}]
[0,{"$f":"Datos!C48","v":""},{"$f":"1/(Datos!$G306*8760)*Datos!$Y306*$F$86","v":{"$error":"#VALUE!"}},{"$f":"Datos!$H306*Datos!$Y306*$F$86","v":{"$error":"#VALUE!"}},{"$f":"Datos!$I306*Datos!$O306*$F$86","v":{"$error":"#VALUE!"}},{"$f":"IFERROR(SUMIFS(Datos!D:D,Datos!$A:$A,$A138,Datos!$C:$C,$B138)*IF($A138=Datos!$D$24,$C138,IF($A138=Datos!$D$25,$D138,$E138)),\"-\")","v":"-"}]
[0,{"$f":"Datos!C49","v":""},{"$f":"1/(Datos!$G307*8760)*Datos!$Y307*$F$86","v":{"$error":"#VALUE!"}},{"$f":"Datos!$H307*Datos!$Y307*$F$86","v":{"$error":"#VALUE!"}},{"$f":"Datos!$I307*Datos!$O307*$F$86","v":{"$error":"#VALUE!"}},{"$f":"IFERROR(SUMIFS(Datos!D:D,Datos!$A:$A,$A139,Datos!$C:$C,$B139)*IF($A139=Datos!$D$24,$C139,IF($A139=Datos!$D$25,$D139,$E139)),\"-\")","v":"-"}]
["Energia",{"$f":"Datos!C50","v":"AP"},{"$f":"1/(Datos!$G308*8760)*Datos!$Y308*$F$86","v":0},{"$f":"Datos!$H308*Datos!$Y308*$F$86","v":0},{"$f":"Datos!$I308*Datos!$O308*$F$86","v":0},{"$f":"IFERROR(SUMIFS(Datos!D:D,Datos!$A:$A,$A140,Datos!$C:$C,$B140)*IF($A140=Datos!$D$24,$C140,IF($A140=Datos!$D$25,$D140,$E140)),\"-\")","v":0}]
[null,"Pérdida NT BT",null,null,null,{"$f":"SUM(F120:F120)*(F68-1)","v":26.845715213465986},{"$f":"SUM(F120:F140)*(F68-1)","v":71.273171252134631}]
[null,"Pérdida T BT",null,null,null,{"$f":"SUM(F120:F141)*(F69-1)","v":6.1415175118588143}]
[null,"Potencia BT coincidente con Máx MT",null,null,null,{"$f":"SUM(F120:F142)","v":432.70407154992245}]
[{"$f":"Datos!D374","v":0},{"$f":"Datos!C51","v":""},{"$f":"1/(Datos!$G309*8760)*Datos!$Y309*$F$86","v":{"$error":"#VALUE!"}},{"$f":"Datos!$H309*Datos!$Y309*$F$86","v":{"$error":"#VALUE!"}},{"$f":"Datos!$I309*Datos!$O309*$F$86","v":{"$error":"#VALUE!"}},{"$f":"IFERROR(SUMIFS(Datos!D:D,Datos!$A:$A,$A144,Datos!$C:$C,$B144)*IF($A144=Datos!$D$24,$C144,IF($A144=Datos!$D$25,$D144,$E144)),\"-\")","v":"-"}]
[{"$f":"Datos!D375","v":0},{"$f":"Datos!C52","v":""},{"$f":"1/(Datos!$G310*8760)*Datos!$Y310*$F$86","v":{"$error":"#VALUE!"}},{"$f":"Datos!$H310*Datos!$Y310*$F$86","v":{"$error":"#VALUE!"}},{"$f":"Datos!$I310*Datos!$O310*$F$86","v":{"$error":"#VALUE!"}},{"$f":"IFERROR(SUMIFS(Datos!D:D,Datos!$A:$A,$A145,Datos!$C:$C,$B145)*IF($A145=Datos!$D$24,$C145,IF($A145=Datos!$D$25,$D145,$E145)),\"-\")","v":"-"}]
[{"$f":"Datos!D376","v":0},{"$f":"Datos!C53","v":""},{"$f":"1/(Datos!$G311*8760)*Datos!$Y311*$F$86","v":{"$error":"#VALUE!"}},{"$f":"Datos!$H311*Datos!$Y311*$F$86","v":{"$error":"#VALUE!"}},{"$f":"Datos!$I311*Datos!$O311*$F$86","v":{"$error":"#VALUE!"}},{"$f":"IFERROR(SUMIFS(Datos!D:D,Datos!$A:$A,$A146,Datos!$C:$C,$B146)*IF($A146=Datos!$D$24,$C146,IF($A146=Datos!$D$25,$D146,$E146)),\"-\")","v":"-"}]
[{"$f":"Datos!D377","v":0},{"$f":"Datos!C54","v":""},{"$f":"1/(Datos!$G312*8760)*Datos!$Y312*$F$86","v":{"$error":"#VALUE!"}},{"$f":"Datos!$H312*Datos!$Y312*$F$86","v":{"$error":"#VALUE!"}},{"$f":"Datos!$I312*Datos!$O312*$F$86","v":{"$error":"#VALUE!"}},{"$f":"IFERROR(SUMIFS(Datos!D:D,Datos!$A:$A,$A147,Datos!$C:$C,$B147)*IF($A147=Datos!$D$24,$C147,IF($A147=Datos!$D$25,$D147,$E147)),\"-\")","v":"-"}]
[{"$f":"Datos!D378","v":0},{"$f":"Datos!C55","v":""},{"$f":"1/(Datos!$G313*8760)*Datos!$Y313*$F$86","v":{"$error":"#VALUE!"}},{"$f":"Datos!$H313*Datos!$Y313*$F$86","v":{"$error":"#VALUE!"}},{"$f":"Datos!$I313*Datos!$O313*$F$86","v":{"$error":"#VALUE!"}},{"$f":"IFERROR(SUMIFS(Datos!D:D,Datos!$A:$A,$A148,Datos!$C:$C,$B148)*IF($A148=Datos!$D$24,$C148,IF($A148=Datos!$D$25,$D148,$E148)),\"-\")","v":"-"}]
[{"$f":"Datos!D379","v":0},{"$f":"Datos!C56","v":""},{"$f":"1/(Datos!$G314*8760)*Datos!$Y314*$F$86","v":{"$error":"#VALUE!"}},{"$f":"Datos!$H314*Datos!$Y314*$F$86","v":{"$error":"#VALUE!"}},{"$f":"Datos!$I314*Datos!$O314*$F$86","v":{"$error":"#VALUE!"}},{"$f":"IFERROR(SUMIFS(Datos!D:D,Datos!$A:$A,$A149,Datos!$C:$C,$B149)*IF($A149=Datos!$D$24,$C149,IF($A149=Datos!$D$25,$D149,$E149)),\"-\")","v":"-"}]
[{"$f":"Datos!D380","v":0},{"$f":"Datos!C57","v":""},{"$f":"1/(Datos!$G315*8760)*Datos!$Y315*$F$86","v":{"$error":"#VALUE!"}},{"$f":"Datos!$H315*Datos!$Y315*$F$86","v":{"$error":"#VALUE!"}},{"$f":"Datos!$I315*Datos!$O315*$F$86","v":{"$error":"#VALUE!"}},{"$f":"IFERROR(SUMIFS(Datos!D:D,Datos!$A:$A,$A150,Datos!$C:$C,$B150)*IF($A150=Datos!$D$24,$C150,IF($A150=Datos!$D$25,$D150,$E150)),\"-\")","v":"-"}]
[{"$f":"Datos!D381","v":0},{"$f":"Datos!C58","v":""},{"$f":"1/(Datos!$G316*8760)*Datos!$Y316*$F$86","v":{"$error":"#VALUE!"}},{"$f":"Datos!$H316*Datos!$Y316*$F$86","v":{"$error":"#VALUE!"}},{"$f":"Datos!$I316*Datos!$O316*$F$86","v":{"$error":"#VALUE!"}},{"$f":"IFERROR(SUMIFS(Datos!D:D,Datos!$A:$A,$A151,Datos!$C:$C,$B151)*IF($A151=Datos!$D$24,$C151,IF($A151=Datos!$D$25,$D151,$E151)),\"-\")","v":"-"}]
[{"$f":"Datos!D382","v":0},{"$f":"Datos!C59","v":""},{"$f":"1/(Datos!$G317*8760)*Datos!$Y317*$F$86","v":{"$error":"#VALUE!"}},{"$f":"Datos!$H317*Datos!$Y317*$F$86","v":{"$error":"#VALUE!"}},{"$f":"Datos!$I317*Datos!$O317*$F$86","v":{"$error":"#VALUE!"}},{"$f":"IFERROR(SUMIFS(Datos!D:D,Datos!$A:$A,$A152,Datos!$C:$C,$B152)*IF($A152=Datos!$D$24,$C152,IF($A152=Datos!$D$25,$D152,$E152)),\"-\")","v":"-"}]
[{"$f":"Datos!D383","v":"Energia"},{"$f":"Datos!C60","v":"MTD"},{"$f":"1/(Datos!$G318*8760)*Datos!$Y318*$F$86","v":1.4992036689713488E-4},{"$f":"Datos!$H318*Datos!$Y318*$F$86","v":0.73666705760163764},{"$f":"Datos!$I318*Datos!$O318*$F$86","v":0.76276984478571741},{"$f":"IFERROR(SUMIFS(Datos!D:D,Datos!$A:$A,$A153,Datos!$C:$C,$B153)*IF($A153=Datos!$D$24,$C153,IF($A153=Datos!$D$25,$D153,$E153)),\"-\")","v":121.36701969609646}]
[{"$f":"Datos!D384","v":"Energia"},{"$f":"Datos!C61","v":"MTH"},{"$f":"1/(Datos!$G319*8760)*Datos!$Y319*$F$86","v":1.3948979233397644E-4},{"$f":"Datos!$H319*Datos!$Y319*$F$86","v":0.71122626534480338},{"$f":"Datos!$I319*Datos!$O319*$F$86","v":0.73063179329787453},{"$f":"IFERROR(SUMIFS(Datos!D:D,Datos!$A:$A,$A154,Datos!$C:$C,$B154)*IF($A154=Datos!$D$24,$C154,IF($A154=Datos!$D$25,$D154,$E154)),\"-\")","v":23.211281528052961}]
[{"$f":"Datos!D385","v":0},{"$f":"Datos!C62","v":""},{"$f":"1/(Datos!$G320*8760)*Datos!$Y320*$F$86","v":{"$error":"#VALUE!"}},{"$f":"Datos!$H320*Datos!$Y320*$F$86","v":{"$error":"#VALUE!"}},{"$f":"Datos!$I320*Datos!$O320*$F$86","v":{"$error":"#VALUE!"}},{"$f":"IFERROR(SUMIFS(Datos!D:D,Datos!$A:$A,$A155,Datos!$C:$C,$B155)*IF($A155=Datos!$D$24,$C155,IF($A155=Datos!$D$25,$D155,$E155)),\"-\")","v":"-"}]
[{"$f":"Datos!D386","v":0},{"$f":"Datos!C63","v":""},{"$f":"1/(Datos!$G321*8760)*Datos!$Y321*$F$86","v":{"$error":"#VALUE!"}},{"$f":"Datos!$H321*Datos!$Y321*$F$86","v":{"$error":"#VALUE!"}},{"$f":"Datos!$I321*Datos!$O321*$F$86","v":{"$error":"#VALUE!"}},{"$f":"IFERROR(SUMIFS(Datos!D:D,Datos!$A:$A,$A156,Datos!$C:$C,$B156)*IF($A156=Datos!$D$24,$C156,IF($A156=Datos!$D$25,$D156,$E156)),\"-\")","v":"-"}]
[{"$f":"Datos!D387","v":0},{"$f":"Datos!C64","v":""},{"$f":"1/(Datos!$G322*8760)*Datos!$Y322*$F$86","v":{"$error":"#VALUE!"}},{"$f":"Datos!$H322*Datos!$Y322*$F$86","v":{"$error":"#VALUE!"}},{"$f":"Datos!$I322*Datos!$O322*$F$86","v":{"$error":"#VALUE!"}},{"$f":"IFERROR(SUMIFS(Datos!D:D,Datos!$A:$A,$A157,Datos!$C:$C,$B157)*IF($A157=Datos!$D$24,$C157,IF($A157=Datos!$D$25,$D157,$E157)),\"-\")","v":"-"}]
[{"$f":"Datos!D388","v":0},{"$f":"Datos!C65","v":""},{"$f":"1/(Datos!$G323*8760)*Datos!$Y323*$F$86","v":{"$error":"#VALUE!"}},{"$f":"Datos!$H323*Datos!$Y323*$F$86","v":{"$error":"#VALUE!"}},{"$f":"Datos!$I323*Datos!$O323*$F$86","v":{"$error":"#VALUE!"}},{"$f":"IFERROR(SUMIFS(Datos!D:D,Datos!$A:$A,$A158,Datos!$C:$C,$B158)*IF($A158=Datos!$D$24,$C158,IF($A158=Datos!$D$25,$D158,$E158)),\"-\")","v":"-"}]
[{"$f":"Datos!D389","v":0},{"$f":"Datos!C66","v":""},{"$f":"1/(Datos!$G324*8760)*Datos!$Y324*$F$86","v":{"$error":"#VALUE!"}},{"$f":"Datos!$H324*Datos!$Y324*$F$86","v":{"$error":"#VALUE!"}},{"$f":"Datos!$I324*Datos!$O324*$F$86","v":{"$error":"#VALUE!"}},{"$f":"IFERROR(SUMIFS(Datos!D:D,Datos!$A:$A,$A159,Datos!$C:$C,$B159)*IF($A159=Datos!$D$24,$C159,IF($A159=Datos!$D$25,$D159,$E159)),\"-\")","v":"-"}]
[{"$f":"Datos!D390","v":0},{"$f":"Datos!C67","v":""},{"$f":"1/(Datos!$G325*8760)*Datos!$Y325*$F$86","v":{"$error":"#VALUE!"}},{"$f":"Datos!$H325*Datos!$Y325*$F$86","v":{"$error":"#VALUE!"}},{"$f":"Datos!$I325*Datos!$O325*$F$86","v":{"$error":"#VALUE!"}},{"$f":"IFERROR(SUMIFS(Datos!D:D,Datos!$A:$A,$A160,Datos!$C:$C,$B160)*IF($A160=Datos!$D$24,$C160,IF($A160=Datos!$D$25,$D160,$E160)),\"-\")","v":"-"}]
[{"$f":"Datos!D391","v":0},{"$f":"Datos!C68","v":""},{"$f":"1/(Datos!$G326*8760)*Datos!$Y326*$F$86","v":{"$error":"#VALUE!"}},{"$f":"Datos!$H326*Datos!$Y326*$F$86","v":{"$error":"#VALUE!"}},{"$f":"Datos!$I326*Datos!$O326*$F$86","v":{"$error":"#VALUE!"}},{"$f":"IFERROR(SUMIFS(Datos!D:D,Datos!$A:$A,$A161,Datos!$C:$C,$B161)*IF($A161=Datos!$D$24,$C161,IF($A161=Datos!$D$25,$D161,$E161)),\"-\")","v":"-"}]
[{"$f":"Datos!D392","v":0},{"$f":"Datos!C69","v":""},{"$f":"1/(Datos!$G327*8760)*Datos!$Y327*$F$86","v":{"$error":"#VALUE!"}},{"$f":"Datos!$H327*Datos!$Y327*$F$86","v":{"$error":"#VALUE!"}},{"$f":"Datos!$I327*Datos!$O327*$F$86","v":{"$error":"#VALUE!"}},{"$f":"IFERROR(SUMIFS(Datos!D:D,Datos!$A:$A,$A162,Datos!$C:$C,$B162)*IF($A162=Datos!$D$24,$C162,IF($A162=Datos!$D$25,$D162,$E162)),\"-\")","v":"-"}]
[{"$f":"Datos!D393","v":0},{"$f":"Datos!C70","v":""},{"$f":"1/(Datos!$G328*8760)*Datos!$Y328*$F$86","v":{"$error":"#VALUE!"}},{"$f":"Datos!$H328*Datos!$Y328*$F$86","v":{"$error":"#VALUE!"}},{"$f":"Datos!$I328*Datos!$O328*$F$86","v":{"$error":"#VALUE!"}},{"$f":"IFERROR(SUMIFS(Datos!D:D,Datos!$A:$A,$A163,Datos!$C:$C,$B163)*IF($A163=Datos!$D$24,$C163,IF($A163=Datos!$D$25,$D163,$E163)),\"-\")","v":"-"}]
[null,"Pérdida MT",null,null,null,{"$f":"SUM(F143:F163)*(F70-1)","v":24.100670840048764}]
[null,"Potencia Máxima MT",null,null,null,{"$f":"SUM(F143:F164)","v":601.38304361412065}]
[]
[null,null,"Coeficientes de responsabilidad (Tipo de medición)",null,null,"Potencia coincidente con máxima AT"]
[null,null,"Energía","Potencia máxima","Potencia por franja horaria"]
[{"$f":"A93","v":"Energia"},{"$f":"Datos!C30","v":"BTS_R"},{"$f":"1/(Datos!$G288*8760)*Datos!$Z288*$F$86","v":1.0701530938884988E-4},{"$f":"Datos!$H288*Datos!$Z288*$F$86","v":0.25868155777858487},{"$f":"Datos!$I288*Datos!$P288*$F$86","v":0.36462163389017749},{"$f":"IFERROR(SUMIFS(Datos!D:D,Datos!$A:$A,$A169,Datos!$C:$C,$B169)*IF($A169=Datos!$D$24,$C169,IF($A169=Datos!$D$25,$D169,$E169)),\"-\")","v":150.55713436899509}]
["Energia",{"$f":"Datos!C31","v":"BTS_O"},{"$f":"1/(Datos!$G289*8760)*Datos!$Z289*$F$86","v":1.8606719544487824E-4},{"$f":"Datos!$H289*Datos!$Z289*$F$86","v":0.55575236916615056},{"$f":"Datos!$I289*Datos!$P289*$F$86","v":0.62612335466806934},{"$f":"IFERROR(SUMIFS(Datos!D:D,Datos!$A:$A,$A170,Datos!$C:$C,$B170)*IF($A170=Datos!$D$24,$C170,IF($A170=Datos!$D$25,$D170,$E170)),\"-\")","v":70.91787829169148}]
["Energia",{"$f":"Datos!C32","v":""},{"$f":"1/(Datos!$G290*8760)*Datos!$Z290*$F$86","v":{"$error":"#VALUE!"}},{"$f":"Datos!$H290*Datos!$Z290*$F$86","v":{"$error":"#VALUE!"}},{"$f":"Datos!$I290*Datos!$P290*$F$86","v":{"$error":"#VALUE!"}},{"$f":"IFERROR(SUMIFS(Datos!D:D,Datos!$A:$A,$A171,Datos!$C:$C,$B171)*IF($A171=Datos!$D$24,$C171,IF($A171=Datos!$D$25,$D171,$E171)),\"-\")","v":"-"}]
["Energia",{"$f":"Datos!C33","v":"BTS_P1"},{"$f":"1/(Datos!$G291*8760)*Datos!$Z291*$F$86","v":9.2933681093027137E-5},{"$f":"Datos!$H291*Datos!$Z291*$F$86","v":0.20748554723426044},{"$f":"Datos!$I291*Datos!$P291*$F$86","v":0.26704138126796834},{"$f":"IFERROR(SUMIFS(Datos!D:D,Datos!$A:$A,$A172,Datos!$C:$C,$B172)*IF($A172=Datos!$D$24,$C172,IF($A172=Datos!$D$25,$D172,$E172)),\"-\")","v":8.292188708933951}]
["Energia",{"$f":"Datos!C34","v":"BTS_P2"},{"$f":"1/(Datos!$G292*8760)*Datos!$Z292*$F$86","v":1.0719542618519393E-4},{"$f":"Datos!$H292*Datos!$Z292*$F$86","v":0.28321437497416413},{"$f":"Datos!$I292*Datos!$P292*$F$86","v":0.38596807659311477},{"$f":"IFERROR(SUMIFS(Datos!D:D,Datos!$A:$A,$A173,Datos!$C:$C,$B173)*IF($A173=Datos!$D$24,$C173,IF($A173=Datos!$D$25,$D173,$E173)),\"-\")","v":5.1333035232755782}]
["Energia",{"$f":"Datos!C35","v":"BTD"},{"$f":"1/(Datos!$G293*8760)*Datos!$Z293*$F$86","v":2.0502356448200251E-4},{"$f":"Datos!$H293*Datos!$Z293*$F$86","v":0.694660272791917},{"$f":"Datos!$I293*Datos!$P293*$F$86","v":0.72381241676995667},{"$f":"IFERROR(SUMIFS(Datos!D:D,Datos!$A:$A,$A174,Datos!$C:$C,$B174)*IF($A174=Datos!$D$24,$C174,IF($A174=Datos!$D$25,$D174,$E174)),\"-\")","v":154.89485004822345}]
["Energia",{"$f":"Datos!C36","v":"BTH"},{"$f":"1/(Datos!$G294*8760)*Datos!$Z294*$F$86","v":1.1363655719281799E-4},{"$f":"Datos!$H294*Datos!$Z294*$F$86","v":0.71108338222794309},{"$f":"Datos!$I294*Datos!$P294*$F$86","v":0.79125005575384089},{"$f":"IFERROR(SUMIFS(Datos!D:D,Datos!$A:$A,$A175,Datos!$C:$C,$B175)*IF($A175=Datos!$D$24,$C175,IF($A175=Datos!$D$25,$D175,$E175)),\"-\")","v":4.257012542057117}]
["Energia",{"$f":"Datos!C37","v":"BTS_A"},{"$f":"1/(Datos!$G295*8760)*Datos!$Z295*$F$86","v":4.1524987598365776E-5},{"$f":"Datos!$H295*Datos!$Z295*$F$86","v":0.11909684519129839},{"$f":"Datos!$I295*Datos!$P295*$F$86","v":0.22864036844195454},{"$f":"IFERROR(SUMIFS(Datos!D:D,Datos!$A:$A,$A176,Datos!$C:$C,$B176)*IF($A176=Datos!$D$24,$C176,IF($A176=Datos!$D$25,$D176,$E176)),\"-\")","v":0.87757044318443067}]
["Energia",{"$f":"Datos!C38","v":"BTD_A"},{"$f":"1/(Datos!$G296*8760)*Datos!$Z296*$F$86","v":1.2657244622721236E-4},{"$f":"Datos!$H296*Datos!$Z296*$F$86","v":0.32362117345627062},{"$f":"Datos!$I296*Datos!$P296*$F$86","v":0.33786212429034945},{"$f":"IFERROR(SUMIFS(Datos!D:D,Datos!$A:$A,$A177,Datos!$C:$C,$B177)*IF($A177=Datos!$D$24,$C177,IF($A177=Datos!$D$25,$D177,$E177)),\"-\")","v":4.7869008982365795}]
[0,{"$f":"Datos!C39","v":""},{"$f":"1/(Datos!$G297*8760)*Datos!$Z297*$F$86","v":{"$error":"#VALUE!"}},{"$f":"Datos!$H297*Datos!$Z297*$F$86","v":{"$error":"#VALUE!"}},{"$f":"Datos!$I297*Datos!$P297*$F$86","v":{"$error":"#VALUE!"}},{"$f":"IFERROR(SUMIFS(Datos!D:D,Datos!$A:$A,$A178,Datos!$C:$C,$B178)*IF($A178=Datos!$D$24,$C178,IF($A178=Datos!$D$25,$D178,$E178)),\"-\")","v":"-"}]
[0,{"$f":"Datos!C40","v":""},{"$f":"1/(Datos!$G298*8760)*Datos!$Z298*$F$86","v":{"$error":"#VALUE!"}},{"$f":"Datos!$H298*Datos!$Z298*$F$86","v":{"$error":"#VALUE!"}},{"$f":"Datos!$I298*Datos!$P298*$F$86","v":{"$error":"#VALUE!"}},{"$f":"IFERROR(SUMIFS(Datos!D:D,Datos!$A:$A,$A179,Datos!$C:$C,$B179)*IF($A179=Datos!$D$24,$C179,IF($A179=Datos!$D$25,$D179,$E179)),\"-\")","v":"-"}]
[0,{"$f":"Datos!C41","v":""},{"$f":"1/(Datos!$G299*8760)*Datos!$Z299*$F$86","v":{"$error":"#VALUE!"}},{"$f":"Datos!$H299*Datos!$Z299*$F$86","v":{"$error":"#VALUE!"}},{"$f":"Datos!$I299*Datos!$P299*$F$86","v":{"$error":"#VALUE!"}},{"$f":"IFERROR(SUMIFS(Datos!D:D,Datos!$A:$A,$A180,Datos!$C:$C,$B180)*IF($A180=Datos!$D$24,$C180,IF($A180=Datos!$D$25,$D180,$E180)),\"-\")","v":"-"}]
[0,{"$f":"Datos!C42","v":""},{"$f":"1/(Datos!$G300*8760)*Datos!$Z300*$F$86","v":{"$error":"#VALUE!"}},{"$f":"Datos!$H300*Datos!$Z300*$F$86","v":{"$error":"#VALUE!"}},{"$f":"Datos!$I300*Datos!$P300*$F$86","v":{"$error":"#VALUE!"}},{"$f":"IFERROR(SUMIFS(Datos!D:D,Datos!$A:$A,$A181,Datos!$C:$C,$B181)*IF($A181=Datos!$D$24,$C181,IF($A181=Datos!$D$25,$D181,$E181)),\"-\")","v":"-"}]
[0,{"$f":"Datos!C43","v":""},{"$f":"1/(Datos!$G301*8760)*Datos!$Z301*$F$86","v":{"$error":"#VALUE!"}},{"$f":"Datos!$H301*Datos!$Z301*$F$86","v":{"$error":"#VALUE!"}},{"$f":"Datos!$I301*Datos!$P301*$F$86","v":{"$error":"#VALUE!"}},{"$f":"IFERROR(SUMIFS(Datos!D:D,Datos!$A:$A,$A182,Datos!$C:$C,$B182)*IF($A182=Datos!$D$24,$C182,IF($A182=Datos!$D$25,$D182,$E182)),\"-\")","v":"-"}]
[0,{"$f":"Datos!C44","v":""},{"$f":"1/(Datos!$G302*8760)*Datos!$Z302*$F$86","v":{"$error":"#VALUE!"}},{"$f":"Datos!$H302*Datos!$Z302*$F$86","v":{"$error":"#VALUE!"}},{"$f":"Datos!$I302*Datos!$P302*$F$86","v":{"$error":"#VALUE!"}},{"$f":"IFERROR(SUMIFS(Datos!D:D,Datos!$A:$A,$A183,Datos!$C:$C,$B183)*IF($A183=Datos!$D$24,$C183,IF($A183=Datos!$D$25,$D183,$E183)),\"-\")","v":"-"}]
[0,{"$f":"Datos!C45","v":""},{"$f":"1/(Datos!$G303*8760)*Datos!$Z303*$F$86","v":{"$error":"#VALUE!"}},{"$f":"Datos!$H303*Datos!$Z303*$F$86","v":{"$error":"#VALUE!"}},{"$f":"Datos!$I303*Datos!$P303*$F$86","v":{"$error":"#VALUE!"}},{"$f":"IFERROR(SUMIFS(Datos!D:D,Datos!$A:$A,$A184,Datos!$C:$C,$B184)*IF($A184=Datos!$D$24,$C184,IF($A184=Datos!$D$25,$D184,$E184)),\"-\")","v":"-"}]
[0,{"$f":"Datos!C46","v":""},{"$f":"1/(Datos!$G304*8760)*Datos!$Z304*$F$86","v":{"$error":"#VALUE!"}},{"$f":"Datos!$H304*Datos!$Z304*$F$86","v":{"$error":"#VALUE!"}},{"$f":"Datos!$I304*Datos!$P304*$F$86","v":{"$error":"#VALUE!"}},{"$f":"IFERROR(SUMIFS(Datos!D:D,Datos!$A:$A,$A185,Datos!$C:$C,$B185)*IF($A185=Datos!$D$24,$C185,IF($A185=Datos!$D$25,$D185,$E185)),\"-\")","v":"-"}]
[0,{"$f":"Datos!C47","v":""},{"$f":"1/(Datos!$G305*8760)*Datos!$Z305*$F$86","v":{"$error":"#VALUE!"}},{"$f":"Datos!$H305*Datos!$Z305*$F$86","v":{"$error":"#VALUE!"}},{"$f":"Datos!$I305*Datos!$P305*$F$86","v":{"$error":"#VALUE!"}},{"$f":"IFERROR(SUMIFS(Datos!D:D,Datos!$A:$A,$A186,Datos!$C:$C,$B186)*IF($A186=Datos!$D$24,$C186,IF($A186=Datos!$D$25,$D186,$E186)),\"-\")","v":"-"}]
[0,{"$f":"Datos!C48","v":""},{"$f":"1/(Datos!$G306*8760)*Datos!$Z306*$F$86","v":{"$error":"#VALUE!"}},{"$f":"Datos!$H306*Datos!$Z306*$F$86","v":{"$error":"#VALUE!"}},{"$f":"Datos!$I306*Datos!$P306*$F$86","v":{"$error":"#VALUE!"}},{"$f":"IFERROR(SUMIFS(Datos!D:D,Datos!$A:$A,$A187,Datos!$C:$C,$B187)*IF($A187=Datos!$D$24,$C187,IF($A187=Datos!$D$25,$D187,$E187)),\"-\")","v":"-"}]
[0,{"$f":"Datos!C49","v":""},{"$f":"1/(Datos!$G307*8760)*Datos!$Z307*$F$86","v":{"$error":"#VALUE!"}},{"$f":"Datos!$H307*Datos!$Z307*$F$86","v":{"$error":"#VALUE!"}},{"$f":"Datos!$I307*Datos!$P307*$F$86","v":{"$error":"#VALUE!"}},{"$f":"IFERROR(SUMIFS(Datos!D:D,Datos!$A:$A,$A188,Datos!$C:$C,$B188)*IF($A188=Datos!$D$24,$C188,IF($A188=Datos!$D$25,$D188,$E188)),\"-\")","v":"-"}]
["Energia",{"$f":"Datos!C50","v":"AP"},{"$f":"1/(Datos!$G308*8760)*Datos!$Z308*$F$86","v":0},{"$f":"Datos!$H308*Datos!$Z308*$F$86","v":0},{"$f":"Datos!$I308*Datos!$P308*$F$86","v":0},{"$f":"IFERROR(SUMIFS(Datos!D:D,Datos!$A:$A,$A189,Datos!$C:$C,$B189)*IF($A189=Datos!$D$24,$C189,IF($A189=Datos!$D$25,$D189,$E189)),\"-\")","v":0}]
[null,"Pérdida NT BT",null,null,null,{"$f":"SUM(F169:F169)*(F68-1)","v":26.845715213465986},{"$f":"SUM(F169:F189)*(F68-1)","v":71.273171252134631}]
[null,"Pérdida T BT",null,null,null,{"$f":"SUM(F169:F190)*(F69-1)","v":6.1415175118588143}]
[null,"Potencia BT coincidente con Máx AT",null,null,null,{"$f":"SUM(F169:F191)","v":432.70407154992245}]
[{"$f":"A144","v":0},{"$f":"Datos!C51","v":""},{"$f":"1/(Datos!$G309*8760)*Datos!$Z309*$F$86","v":{"$error":"#VALUE!"}},{"$f":"Datos!$H309*Datos!$Z309*$F$86","v":{"$error":"#VALUE!"}},{"$f":"Datos!$I309*Datos!$P309*$F$86","v":{"$error":"#VALUE!"}},{"$f":"IFERROR(SUMIFS(Datos!D:D,Datos!$A:$A,$A193,Datos!$C:$C,$B193)*IF($A193=Datos!$D$24,$C193,IF($A193=Datos!$D$25,$D193,$E193)),\"-\")","v":"-"}]
[0,{"$f":"Datos!C52","v":""},{"$f":"1/(Datos!$G310*8760)*Datos!$Z310*$F$86","v":{"$error":"#VALUE!"}},{"$f":"Datos!$H310*Datos!$Z310*$F$86","v":{"$error":"#VALUE!"}},{"$f":"Datos!$I310*Datos!$P310*$F$86","v":{"$error":"#VALUE!"}},{"$f":"IFERROR(SUMIFS(Datos!D:D,Datos!$A:$A,$A194,Datos!$C:$C,$B194)*IF($A194=Datos!$D$24,$C194,IF($A194=Datos!$D$25,$D194,$E194)),\"-\")","v":"-"}]
[0,{"$f":"Datos!C53","v":""},{"$f":"1/(Datos!$G311*8760)*Datos!$Z311*$F$86","v":{"$error":"#VALUE!"}},{"$f":"Datos!$H311*Datos!$Z311*$F$86","v":{"$error":"#VALUE!"}},{"$f":"Datos!$I311*Datos!$P311*$F$86","v":{"$error":"#VALUE!"}},{"$f":"IFERROR(SUMIFS(Datos!D:D,Datos!$A:$A,$A195,Datos!$C:$C,$B195)*IF($A195=Datos!$D$24,$C195,IF($A195=Datos!$D$25,$D195,$E195)),\"-\")","v":"-"}]
[0,{"$f":"Datos!C54","v":""},{"$f":"1/(Datos!$G312*8760)*Datos!$Z312*$F$86","v":{"$error":"#VALUE!"}},{"$f":"Datos!$H312*Datos!$Z312*$F$86","v":{"$error":"#VALUE!"}},{"$f":"Datos!$I312*Datos!$P312*$F$86","v":{"$error":"#VALUE!"}},{"$f":"IFERROR(SUMIFS(Datos!D:D,Datos!$A:$A,$A196,Datos!$C:$C,$B196)*IF($A196=Datos!$D$24,$C196,IF($A196=Datos!$D$25,$D196,$E196)),\"-\")","v":"-"}]
[0,{"$f":"Datos!C55","v":""},{"$f":"1/(Datos!$G313*8760)*Datos!$Z313*$F$86","v":{"$error":"#VALUE!"}},{"$f":"Datos!$H313*Datos!$Z313*$F$86","v":{"$error":"#VALUE!"}},{"$f":"Datos!$I313*Datos!$P313*$F$86","v":{"$error":"#VALUE!"}},{"$f":"IFERROR(SUMIFS(Datos!D:D,Datos!$A:$A,$A197,Datos!$C:$C,$B197)*IF($A197=Datos!$D$24,$C197,IF($A197=Datos!$D$25,$D197,$E197)),\"-\")","v":"-"}]
[0,{"$f":"Datos!C56","v":""},{"$f":"1/(Datos!$G314*8760)*Datos!$Z314*$F$86","v":{"$error":"#VALUE!"}},{"$f":"Datos!$H314*Datos!$Z314*$F$86","v":{"$error":"#VALUE!"}},{"$f":"Datos!$I314*Datos!$P314*$F$86","v":{"$error":"#VALUE!"}},{"$f":"IFERROR(SUMIFS(Datos!D:D,Datos!$A:$A,$A198,Datos!$C:$C,$B198)*IF($A198=Datos!$D$24,$C198,IF($A198=Datos!$D$25,$D198,$E198)),\"-\")","v":"-"}]
[0,{"$f":"Datos!C57","v":""},{"$f":"1/(Datos!$G315*8760)*Datos!$Z315*$F$86","v":{"$error":"#VALUE!"}},{"$f":"Datos!$H315*Datos!$Z315*$F$86","v":{"$error":"#VALUE!"}},{"$f":"Datos!$I315*Datos!$P315*$F$86","v":{"$error":"#VALUE!"}},{"$f":"IFERROR(SUMIFS(Datos!D:D,Datos!$A:$A,$A199,Datos!$C:$C,$B199)*IF($A199=Datos!$D$24,$C199,IF($A199=Datos!$D$25,$D199,$E199)),\"-\")","v":"-"}]
[0,{"$f":"Datos!C58","v":""},{"$f":"1/(Datos!$G316*8760)*Datos!$Z316*$F$86","v":{"$error":"#VALUE!"}},{"$f":"Datos!$H316*Datos!$Z316*$F$86","v":{"$error":"#VALUE!"}},{"$f":"Datos!$I316*Datos!$P316*$F$86","v":{"$error":"#VALUE!"}},{"$f":"IFERROR(SUMIFS(Datos!D:D,Datos!$A:$A,$A200,Datos!$C:$C,$B200)*IF($A200=Datos!$D$24,$C200,IF($A200=Datos!$D$25,$D200,$E200)),\"-\")","v":"-"}]
[0,{"$f":"Datos!C59","v":""},{"$f":"1/(Datos!$G317*8760)*Datos!$Z317*$F$86","v":{"$error":"#VALUE!"}},{"$f":"Datos!$H317*Datos!$Z317*$F$86","v":{"$error":"#VALUE!"}},{"$f":"Datos!$I317*Datos!$P317*$F$86","v":{"$error":"#VALUE!"}},{"$f":"IFERROR(SUMIFS(Datos!D:D,Datos!$A:$A,$A201,Datos!$C:$C,$B201)*IF($A201=Datos!$D$24,$C201,IF($A201=Datos!$D$25,$D201,$E201)),\"-\")","v":"-"}]
["Energia",{"$f":"Datos!C60","v":"MTD"},{"$f":"1/(Datos!$G318*8760)*Datos!$Z318*$F$86","v":1.4992036689713488E-4},{"$f":"Datos!$H318*Datos!$Z318*$F$86","v":0.73666705760163764},{"$f":"Datos!$I318*Datos!$P318*$F$86","v":0.76276984478571741},{"$f":"IFERROR(SUMIFS(Datos!D:D,Datos!$A:$A,$A202,Datos!$C:$C,$B202)*IF($A202=Datos!$D$24,$C202,IF($A202=Datos!$D$25,$D202,$E202)),\"-\")","v":121.36701969609646}]
["Energia",{"$f":"Datos!C61","v":"MTH"},{"$f":"1/(Datos!$G319*8760)*Datos!$Z319*$F$86","v":1.3948979233397644E-4},{"$f":"Datos!$H319*Datos!$Z319*$F$86","v":0.71122626534480338},{"$f":"Datos!$I319*Datos!$P319*$F$86","v":0.73063179329787453},{"$f":"IFERROR(SUMIFS(Datos!D:D,Datos!$A:$A,$A203,Datos!$C:$C,$B203)*IF($A203=Datos!$D$24,$C203,IF($A203=Datos!$D$25,$D203,$E203)),\"-\")","v":23.211281528052961}]
[0,{"$f":"Datos!C62","v":""},{"$f":"1/(Datos!$G320*8760)*Datos!$Z320*$F$86","v":{"$error":"#VALUE!"}},{"$f":"Datos!$H320*Datos!$Z320*$F$86","v":{"$error":"#VALUE!"}},{"$f":"Datos!$I320*Datos!$P320*$F$86","v":{"$error":"#VALUE!"}},{"$f":"IFERROR(SUMIFS(Datos!D:D,Datos!$A:$A,$A204,Datos!$C:$C,$B204)*IF($A204=Datos!$D$24,$C204,IF($A204=Datos!$D$25,$D204,$E204)),\"-\")","v":"-"}]
[0,{"$f":"Datos!C63","v":""},{"$f":"1/(Datos!$G321*8760)*Datos!$Z321*$F$86","v":{"$error":"#VALUE!"}},{"$f":"Datos!$H321*Datos!$Z321*$F$86","v":{"$error":"#VALUE!"}},{"$f":"Datos!$I321*Datos!$P321*$F$86","v":{"$error":"#VALUE!"}},{"$f":"IFERROR(SUMIFS(Datos!D:D,Datos!$A:$A,$A205,Datos!$C:$C,$B205)*IF($A205=Datos!$D$24,$C205,IF($A205=Datos!$D$25,$D205,$E205)),\"-\")","v":"-"}]
[0,{"$f":"Datos!C64","v":""},{"$f":"1/(Datos!$G322*8760)*Datos!$Z322*$F$86","v":{"$error":"#VALUE!"}},{"$f":"Datos!$H322*Datos!$Z322*$F$86","v":{"$error":"#VALUE!"}},{"$f":"Datos!$I322*Datos!$P322*$F$86","v":{"$error":"#VALUE!"}},{"$f":"IFERROR(SUMIFS(Datos!D:D,Datos!$A:$A,$A206,Datos!$C:$C,$B206)*IF($A206=Datos!$D$24,$C206,IF($A206=Datos!$D$25,$D206,$E206)),\"-\")","v":"-"}]
[0,{"$f":"Datos!C65","v":""},{"$f":"1/(Datos!$G323*8760)*Datos!$Z323*$F$86","v":{"$error":"#VALUE!"}},{"$f":"Datos!$H323*Datos!$Z323*$F$86","v":{"$error":"#VALUE!"}},{"$f":"Datos!$I323*Datos!$P323*$F$86","v":{"$error":"#VALUE!"}},{"$f":"IFERROR(SUMIFS(Datos!D:D,Datos!$A:$A,$A207,Datos!$C:$C,$B207)*IF($A207=Datos!$D$24,$C207,IF($A207=Datos!$D$25,$D207,$E207)),\"-\")","v":"-"}]
[0,{"$f":"Datos!C66","v":""},{"$f":"1/(Datos!$G324*8760)*Datos!$Z324*$F$86","v":{"$error":"#VALUE!"}},{"$f":"Datos!$H324*Datos!$Z324*$F$86","v":{"$error":"#VALUE!"}},{"$f":"Datos!$I324*Datos!$P324*$F$86","v":{"$error":"#VALUE!"}},{"$f":"IFERROR(SUMIFS(Datos!D:D,Datos!$A:$A,$A208,Datos!$C:$C,$B208)*IF($A208=Datos!$D$24,$C208,IF($A208=Datos!$D$25,$D208,$E208)),\"-\")","v":"-"}]
[0,{"$f":"Datos!C67","v":""},{"$f":"1/(Datos!$G325*8760)*Datos!$Z325*$F$86","v":{"$error":"#VALUE!"}},{"$f":"Datos!$H325*Datos!$Z325*$F$86","v":{"$error":"#VALUE!"}},{"$f":"Datos!$I325*Datos!$P325*$F$86","v":{"$error":"#VALUE!"}},{"$f":"IFERROR(SUMIFS(Datos!D:D,Datos!$A:$A,$A209,Datos!$C:$C,$B209)*IF($A209=Datos!$D$24,$C209,IF($A209=Datos!$D$25,$D209,$E209)),\"-\")","v":"-"}]
[0,{"$f":"Datos!C68","v":""},{"$f":"1/(Datos!$G326*8760)*Datos!$Z326*$F$86","v":{"$error":"#VALUE!"}},{"$f":"Datos!$H326*Datos!$Z326*$F$86","v":{"$error":"#VALUE!"}},{"$f":"Datos!$I326*Datos!$P326*$F$86","v":{"$error":"#VALUE!"}},{"$f":"IFERROR(SUMIFS(Datos!D:D,Datos!$A:$A,$A210,Datos!$C:$C,$B210)*IF($A210=Datos!$D$24,$C210,IF($A210=Datos!$D$25,$D210,$E210)),\"-\")","v":"-"}]
[0,{"$f":"Datos!C69","v":""},{"$f":"1/(Datos!$G327*8760)*Datos!$Z327*$F$86","v":{"$error":"#VALUE!"}},{"$f":"Datos!$H327*Datos!$Z327*$F$86","v":{"$error":"#VALUE!"}},{"$f":"Datos!$I327*Datos!$P327*$F$86","v":{"$error":"#VALUE!"}},{"$f":"IFERROR(SUMIFS(Datos!D:D,Datos!$A:$A,$A211,Datos!$C:$C,$B211)*IF($A211=Datos!$D$24,$C211,IF($A211=Datos!$D$25,$D211,$E211)),\"-\")","v":"-"}]
[0,{"$f":"Datos!C70","v":""},{"$f":"1/(Datos!$G328*8760)*Datos!$Z328*$F$86","v":{"$error":"#VALUE!"}},{"$f":"Datos!$H328*Datos!$Z328*$F$86","v":{"$error":"#VALUE!"}},{"$f":"Datos!$I328*Datos!$P328*$F$86","v":{"$error":"#VALUE!"}},{"$f":"IFERROR(SUMIFS(Datos!D:D,Datos!$A:$A,$A212,Datos!$C:$C,$B212)*IF($A212=Datos!$D$24,$C212,IF($A212=Datos!$D$25,$D212,$E212)),\"-\")","v":"-"}]
[null,"Pérdida MT",null,null,null,{"$f":"SUM(F192:F212)*(F70-1)","v":24.100670840048764}]
[null,"Potencia MT coincidente con Máx AT",null,null,null,{"$f":"SUM(F192:F213)","v":601.38304361412065}]
[{"$f":"Datos!D394","v":0},{"$f":"Datos!C71","v":""},{"$f":"1/(Datos!$G329*8760)*Datos!$Z329*$F$86","v":{"$error":"#VALUE!"}},{"$f":"Datos!$H329*Datos!$Z329*$F$86","v":{"$error":"#VALUE!"}},{"$f":"Datos!$I329*Datos!$P329*$F$86","v":{"$error":"#VALUE!"}},{"$f":"IFERROR(SUMIFS(Datos!D:D,Datos!$A:$A,$A215,Datos!$C:$C,$B215)*IF($A215=Datos!$D$24,$C215,IF($A215=Datos!$D$25,$D215,$E215)),\"-\")","v":"-"}]
[{"$f":"Datos!D395","v":0},{"$f":"Datos!C72","v":""},{"$f":"1/(Datos!$G330*8760)*Datos!$Z330*$F$86","v":{"$error":"#VALUE!"}},{"$f":"Datos!$H330*Datos!$Z330*$F$86","v":{"$error":"#VALUE!"}},{"$f":"Datos!$I330*Datos!$P330*$F$86","v":{"$error":"#VALUE!"}},{"$f":"IFERROR(SUMIFS(Datos!D:D,Datos!$A:$A,$A216,Datos!$C:$C,$B216)*IF($A216=Datos!$D$24,$C216,IF($A216=Datos!$D$25,$D216,$E216)),\"-\")","v":"-"}]
[{"$f":"Datos!D396","v":0},{"$f":"Datos!C73","v":""},{"$f":"1/(Datos!$G331*8760)*Datos!$Z331*$F$86","v":{"$error":"#VALUE!"}},{"$f":"Datos!$H331*Datos!$Z331*$F$86","v":{"$error":"#VALUE!"}},{"$f":"Datos!$I331*Datos!$P331*$F$86","v":{"$error":"#VALUE!"}},{"$f":"IFERROR(SUMIFS(Datos!D:D,Datos!$A:$A,$A217,Datos!$C:$C,$B217)*IF($A217=Datos!$D$24,$C217,IF($A217=Datos!$D$25,$D217,$E217)),\"-\")","v":"-"}]
[{"$f":"Datos!D397","v":0},{"$f":"Datos!C74","v":""},{"$f":"1/(Datos!$G332*8760)*Datos!$Z332*$F$86","v":{"$error":"#VALUE!"}},{"$f":"Datos!$H332*Datos!$Z332*$F$86","v":{"$error":"#VALUE!"}},{"$f":"Datos!$I332*Datos!$P332*$F$86","v":{"$error":"#VALUE!"}},{"$f":"IFERROR(SUMIFS(Datos!D:D,Datos!$A:$A,$A218,Datos!$C:$C,$B218)*IF($A218=Datos!$D$24,$C218,IF($A218=Datos!$D$25,$D218,$E218)),\"-\")","v":"-"}]
[{"$f":"Datos!D398","v":0},{"$f":"Datos!C75","v":""},{"$f":"1/(Datos!$G333*8760)*Datos!$Z333*$F$86","v":{"$error":"#VALUE!"}},{"$f":"Datos!$H333*Datos!$Z333*$F$86","v":{"$error":"#VALUE!"}},{"$f":"Datos!$I333*Datos!$P333*$F$86","v":{"$error":"#VALUE!"}},{"$f":"IFERROR(SUMIFS(Datos!D:D,Datos!$A:$A,$A219,Datos!$C:$C,$B219)*IF($A219=Datos!$D$24,$C219,IF($A219=Datos!$D$25,$D219,$E219)),\"-\")","v":"-"}]
[{"$f":"Datos!D399","v":0},{"$f":"Datos!C76","v":""},{"$f":"1/(Datos!$G334*8760)*Datos!$Z334*$F$86","v":{"$error":"#VALUE!"}},{"$f":"Datos!$H334*Datos!$Z334*$F$86","v":{"$error":"#VALUE!"}},{"$f":"Datos!$I334*Datos!$P334*$F$86","v":{"$error":"#VALUE!"}},{"$f":"IFERROR(SUMIFS(Datos!D:D,Datos!$A:$A,$A220,Datos!$C:$C,$B220)*IF($A220=Datos!$D$24,$C220,IF($A220=Datos!$D$25,$D220,$E220)),\"-\")","v":"-"}]
[{"$f":"Datos!D400","v":0},{"$f":"Datos!C77","v":""},{"$f":"1/(Datos!$G335*8760)*Datos!$Z335*$F$86","v":{"$error":"#VALUE!"}},{"$f":"Datos!$H335*Datos!$Z335*$F$86","v":{"$error":"#VALUE!"}},{"$f":"Datos!$I335*Datos!$P335*$F$86","v":{"$error":"#VALUE!"}},{"$f":"IFERROR(SUMIFS(Datos!D:D,Datos!$A:$A,$A221,Datos!$C:$C,$B221)*IF($A221=Datos!$D$24,$C221,IF($A221=Datos!$D$25,$D221,$E221)),\"-\")","v":"-"}]
[{"$f":"Datos!D401","v":0},{"$f":"Datos!C78","v":""},{"$f":"1/(Datos!$G336*8760)*Datos!$Z336*$F$86","v":{"$error":"#VALUE!"}},{"$f":"Datos!$H336*Datos!$Z336*$F$86","v":{"$error":"#VALUE!"}},{"$f":"Datos!$I336*Datos!$P336*$F$86","v":{"$error":"#VALUE!"}},{"$f":"IFERROR(SUMIFS(Datos!D:D,Datos!$A:$A,$A222,Datos!$C:$C,$B222)*IF($A222=Datos!$D$24,$C222,IF($A222=Datos!$D$25,$D222,$E222)),\"-\")","v":"-"}]
[{"$f":"Datos!D402","v":0},{"$f":"Datos!C79","v":""},{"$f":"1/(Datos!$G337*8760)*Datos!$Z337*$F$86","v":{"$error":"#VALUE!"}},{"$f":"Datos!$H337*Datos!$Z337*$F$86","v":{"$error":"#VALUE!"}},{"$f":"Datos!$I337*Datos!$P337*$F$86","v":{"$error":"#VALUE!"}},{"$f":"IFERROR(SUMIFS(Datos!D:D,Datos!$A:$A,$A223,Datos!$C:$C,$B223)*IF($A223=Datos!$D$24,$C223,IF($A223=Datos!$D$25,$D223,$E223)),\"-\")","v":"-"}]
[{"$f":"Datos!D403","v":0},{"$f":"Datos!C80","v":""},{"$f":"1/(Datos!$G338*8760)*Datos!$Z338*$F$86","v":{"$error":"#VALUE!"}},{"$f":"Datos!$H338*Datos!$Z338*$F$86","v":{"$error":"#VALUE!"}},{"$f":"Datos!$I338*Datos!$P338*$F$86","v":{"$error":"#VALUE!"}},{"$f":"IFERROR(SUMIFS(Datos!D:D,Datos!$A:$A,$A224,Datos!$C:$C,$B224)*IF($A224=Datos!$D$24,$C224,IF($A224=Datos!$D$25,$D224,$E224)),\"-\")","v":"-"}]
[{"$f":"Datos!D404","v":0},{"$f":"Datos!C81","v":""},{"$f":"1/(Datos!$G339*8760)*Datos!$Z339*$F$86","v":{"$error":"#VALUE!"}},{"$f":"Datos!$H339*Datos!$Z339*$F$86","v":{"$error":"#VALUE!"}},{"$f":"Datos!$I339*Datos!$P339*$F$86","v":{"$error":"#VALUE!"}},{"$f":"IFERROR(SUMIFS(Datos!D:D,Datos!$A:$A,$A225,Datos!$C:$C,$B225)*IF($A225=Datos!$D$24,$C225,IF($A225=Datos!$D$25,$D225,$E225)),\"-\")","v":"-"}]
[{"$f":"Datos!D405","v":0},{"$f":"Datos!C82","v":""},{"$f":"1/(Datos!$G340*8760)*Datos!$Z340*$F$86","v":{"$error":"#VALUE!"}},{"$f":"Datos!$H340*Datos!$Z340*$F$86","v":{"$error":"#VALUE!"}},{"$f":"Datos!$I340*Datos!$P340*$F$86","v":{"$error":"#VALUE!"}},{"$f":"IFERROR(SUMIFS(Datos!D:D,Datos!$A:$A,$A226,Datos!$C:$C,$B226)*IF($A226=Datos!$D$24,$C226,IF($A226=Datos!$D$25,$D226,$E226)),\"-\")","v":"-"}]
[{"$f":"Datos!D406","v":"Energia"},{"$f":"Datos!C83","v":"ATD"},{"$f":"1/(Datos!$G341*8760)*Datos!$Z341*$F$86","v":1.0348215660352824E-4},{"$f":"Datos!$H341*Datos!$Z341*$F$86","v":0.82940164188969334},{"$f":"Datos!$I341*Datos!$P341*$F$86","v":0.85387953881471945},{"$f":"IFERROR(SUMIFS(Datos!D:D,Datos!$A:$A,$A227,Datos!$C:$C,$B227)*IF($A227=Datos!$D$24,$C227,IF($A227=Datos!$D$25,$D227,$E227)),\"-\")","v":6.6394109249139523}]
[{"$f":"Datos!D407","v":"Energia"},{"$f":"Datos!C84","v":"ATH"},{"$f":"1/(Datos!$G342*8760)*Datos!$Z342*$F$86","v":1.0908566709714488E-4},{"$f":"Datos!$H342*Datos!$Z342*$F$86","v":0.87543608748184942},{"$f":"Datos!$I342*Datos!$P342*$F$86","v":0.87543608748184942},{"$f":"IFERROR(SUMIFS(Datos!D:D,Datos!$A:$A,$A228,Datos!$C:$C,$B228)*IF($A228=Datos!$D$24,$C228,IF($A228=Datos!$D$25,$D228,$E228)),\"-\")","v":34.822640660388473}]
[{"$f":"Datos!D408","v":"Energia"},{"$f":"Datos!C85","v":"EDEMET"},{"$f":"1/(Datos!$G343*8760)*Datos!$Z343*$F$86","v":1.4370885980744485E-4},{"$f":"Datos!$H343*Datos!$Z343*$F$86","v":0.91507690731113367},{"$f":"Datos!$I343*Datos!$P343*$F$86","v":0.91507690731113367},{"$f":"IFERROR(SUMIFS(Datos!D:D,Datos!$A:$A,$A229,Datos!$C:$C,$B229)*IF($A229=Datos!$D$24,$C229,IF($A229=Datos!$D$25,$D229,$E229)),\"-\")","v":38.485091246915673}]
[{"$f":"Datos!D409","v":0},{"$f":"Datos!C86","v":""},{"$f":"1/(Datos!$G344*8760)*Datos!$Z344*$F$86","v":{"$error":"#VALUE!"}},{"$f":"Datos!$H344*Datos!$Z344*$F$86","v":{"$error":"#VALUE!"}},{"$f":"Datos!$I344*Datos!$P344*$F$86","v":{"$error":"#VALUE!"}},{"$f":"IFERROR(SUMIFS(Datos!D:D,Datos!$A:$A,$A230,Datos!$C:$C,$B230)*IF($A230=Datos!$D$24,$C230,IF($A230=Datos!$D$25,$D230,$E230)),\"-\")","v":"-"}]
[{"$f":"Datos!D410","v":0},{"$f":"Datos!C87","v":""},{"$f":"1/(Datos!$G345*8760)*Datos!$Z345*$F$86","v":{"$error":"#VALUE!"}},{"$f":"Datos!$H345*Datos!$Z345*$F$86","v":{"$error":"#VALUE!"}},{"$f":"Datos!$I345*Datos!$P345*$F$86","v":{"$error":"#VALUE!"}},{"$f":"IFERROR(SUMIFS(Datos!D:D,Datos!$A:$A,$A231,Datos!$C:$C,$B231)*IF($A231=Datos!$D$24,$C231,IF($A231=Datos!$D$25,$D231,$E231)),\"-\")","v":"-"}]
[{"$f":"Datos!D411","v":0},{"$f":"Datos!C88","v":""},{"$f":"1/(Datos!$G346*8760)*Datos!$Z346*$F$86","v":{"$error":"#VALUE!"}},{"$f":"Datos!$H346*Datos!$Z346*$F$86","v":{"$error":"#VALUE!"}},{"$f":"Datos!$I346*Datos!$P346*$F$86","v":{"$error":"#VALUE!"}},{"$f":"IFERROR(SUMIFS(Datos!D:D,Datos!$A:$A,$A232,Datos!$C:$C,$B232)*IF($A232=Datos!$D$24,$C232,IF($A232=Datos!$D$25,$D232,$E232)),\"-\")","v":"-"}]
[{"$f":"Datos!D412","v":0},{"$f":"Datos!C89","v":""},{"$f":"1/(Datos!$G347*8760)*Datos!$Z347*$F$86","v":{"$error":"#VALUE!"}},{"$f":"Datos!$H347*Datos!$Z347*$F$86","v":{"$error":"#VALUE!"}},{"$f":"Datos!$I347*Datos!$P347*$F$86","v":{"$error":"#VALUE!"}},{"$f":"IFERROR(SUMIFS(Datos!D:D,Datos!$A:$A,$A233,Datos!$C:$C,$B233)*IF($A233=Datos!$D$24,$C233,IF($A233=Datos!$D$25,$D233,$E233)),\"-\")","v":"-"}]
[{"$f":"Datos!D413","v":0},{"$f":"Datos!C90","v":""},{"$f":"1/(Datos!$G348*8760)*Datos!$Z348*$F$86","v":{"$error":"#VALUE!"}},{"$f":"Datos!$H348*Datos!$Z348*$F$86","v":{"$error":"#VALUE!"}},{"$f":"Datos!$I348*Datos!$P348*$F$86","v":{"$error":"#VALUE!"}},{"$f":"IFERROR(SUMIFS(Datos!D:D,Datos!$A:$A,$A234,Datos!$C:$C,$B234)*IF($A234=Datos!$D$24,$C234,IF($A234=Datos!$D$25,$D234,$E234)),\"-\")","v":"-"}]
[null,"Pérdida AT",null,null,null,{"$f":"SUM(F214:F234)*(F71-1)","v":4.8616854575395019}]
[null,"Potencia Máxima AT",null,null,null,{"$f":"SUM(F214:F235)","v":686.19187190387822}]
[null,"Potencia Máxima AT objetivo",null,null,null,{"$f":"Datos!D15","v":686.19187190387811}]
[null,"Diferencia",null,null,null,{"$f":"F236-F237","v":0}]
[]
[]
[]
[]
[]
["BALANCE DE POTENCIA HORAS FUERA DE PUNTA"]
[null,null,null,null,null,{"$f":"Datos!D4","v":"Jul 2024 - Jun 2025"}]
[null,null,"Coeficientes de responsabilidad (Tipo de medición)",null,null,"Potencia coincidente con máxima BT"]
["Variable Facturación",null,"Energía","Potencia máxima","Potencia por franja horaria"]
[{"$f":"Datos!D417","v":"Energia"},{"$f":"Datos!C30","v":"BTS_R"},{"$f":"1/(Datos!$G288*8760)*Datos!$AA288*$F$87","v":1.272220012364083E-4},{"$f":"Datos!$H288*Datos!$AA288*$F$87","v":0.3075259572811373},{"$f":"Datos!$J288*Datos!$Q288*$F$87","v":0.32143754876951658},{"$f":"IFERROR(SUMIFS(Datos!D:D,Datos!$A:$A,$A248,Datos!$C:$C,$B248)*IF($A248=Datos!$D$24,$C248,IF($A248=Datos!$D$25,$D248,$E248)),\"-\")","v":178.98541848105046}]
[{"$f":"Datos!D418","v":"Energia"},{"$f":"Datos!C31","v":"BTS_O"},{"$f":"1/(Datos!$G289*8760)*Datos!$AA289*$F$87","v":1.1685522581129095E-4},{"$f":"Datos!$H289*Datos!$AA289*$F$87","v":0.34902750288032075},{"$f":"Datos!$J289*Datos!$Q289*$F$87","v":0.37996258331956001},{"$f":"IFERROR(SUMIFS(Datos!D:D,Datos!$A:$A,$A249,Datos!$C:$C,$B249)*IF($A249=Datos!$D$24,$C249,IF($A249=Datos!$D$25,$D249,$E249)),\"-\")","v":44.53834359151336}]
[{"$f":"Datos!D419","v":"Energia"},{"$f":"Datos!C32","v":""},{"$f":"1/(Datos!$G290*8760)*Datos!$AA290*$F$87","v":{"$error":"#VALUE!"}},{"$f":"Datos!$H290*Datos!$AA290*$F$87","v":{"$error":"#VALUE!"}},{"$f":"Datos!$J290*Datos!$Q290*$F$87","v":{"$error":"#VALUE!"}},{"$f":"IFERROR(SUMIFS(Datos!D:D,Datos!$A:$A,$A250,Datos!$C:$C,$B250)*IF($A250=Datos!$D$24,$C250,IF($A250=Datos!$D$25,$D250,$E250)),\"-\")","v":"-"}]
[{"$f":"Datos!D420","v":"Energia"},{"$f":"Datos!C33","v":"BTS_P1"},{"$f":"1/(Datos!$G291*8760)*Datos!$AA291*$F$87","v":1.0273343860844613E-4},{"$f":"Datos!$H291*Datos!$AA291*$F$87","v":0.22936467681285114},{"$f":"Datos!$J291*Datos!$Q291*$F$87","v":0.2378067170482587},{"$f":"IFERROR(SUMIFS(Datos!D:D,Datos!$A:$A,$A251,Datos!$C:$C,$B251)*IF($A251=Datos!$D$24,$C251,IF($A251=Datos!$D$25,$D251,$E251)),\"-\")","v":9.1665911609180153}]
[{"$f":"Datos!D421","v":"Energia"},{"$f":"Datos!C34","v":"BTS_P2"},{"$f":"1/(Datos!$G292*8760)*Datos!$AA292*$F$87","v":1.0956996111569509E-4},{"$f":"Datos!$H292*Datos!$AA292*$F$87","v":0.28948798617315669},{"$f":"Datos!$J292*Datos!$Q292*$F$87","v":0.29526410481366205},{"$f":"IFERROR(SUMIFS(Datos!D:D,Datos!$A:$A,$A252,Datos!$C:$C,$B252)*IF($A252=Datos!$D$24,$C252,IF($A252=Datos!$D$25,$D252,$E252)),\"-\")","v":5.2470136782576029}]
[{"$f":"Datos!D422","v":"Energia"},{"$f":"Datos!C35","v":"BTD"},{"$f":"1/(Datos!$G293*8760)*Datos!$AA293*$F$87","v":1.1919369755868837E-4},{"$f":"Datos!$H293*Datos!$AA293*$F$87","v":0.40385175562813919},{"$f":"Datos!$J293*Datos!$Q293*$F$87","v":0.42530286755794983},{"$f":"IFERROR(SUMIFS(Datos!D:D,Datos!$A:$A,$A253,Datos!$C:$C,$B253)*IF($A253=Datos!$D$24,$C253,IF($A253=Datos!$D$25,$D253,$E253)),\"-\")","v":90.050575194574847}]
[{"$f":"Datos!D423","v":"Energia"},{"$f":"Datos!C36","v":"BTH"},{"$f":"1/(Datos!$G294*8760)*Datos!$AA294*$F$87","v":1.2779182079156634E-4},{"$f":"Datos!$H294*Datos!$AA294*$F$87","v":0.79966027125712102},{"$f":"Datos!$J294*Datos!$Q294*$F$87","v":0.81178692848662437},{"$f":"IFERROR(SUMIFS(Datos!D:D,Datos!$A:$A,$A254,Datos!$C:$C,$B254)*IF($A254=Datos!$D$24,$C254,IF($A254=Datos!$D$25,$D254,$E254)),\"-\")","v":4.7872920239825412}]
[{"$f":"Datos!D424","v":"Energia"},{"$f":"Datos!C37","v":"BTS_A"},{"$f":"1/(Datos!$G295*8760)*Datos!$AA295*$F$87","v":1.6114017450715037E-4},{"$f":"Datos!$H295*Datos!$AA295*$F$87","v":0.4621623636109688},{"$f":"Datos!$J295*Datos!$Q295*$F$87","v":0.47028550826544885},{"$f":"IFERROR(SUMIFS(Datos!D:D,Datos!$A:$A,$A255,Datos!$C:$C,$B255)*IF($A255=Datos!$D$24,$C255,IF($A255=Datos!$D$25,$D255,$E255)),\"-\")","v":3.4054640960957623}]
[{"$f":"Datos!D425","v":"Energia"},{"$f":"Datos!C38","v":"BTD_A"},{"$f":"1/(Datos!$G296*8760)*Datos!$AA296*$F$87","v":1.2656613683508422E-4},{"$f":"Datos!$H296*Datos!$AA296*$F$87","v":0.32360504156544317},{"$f":"Datos!$J296*Datos!$Q296*$F$87","v":0.34634397885270674},{"$f":"IFERROR(SUMIFS(Datos!D:D,Datos!$A:$A,$A256,Datos!$C:$C,$B256)*IF($A256=Datos!$D$24,$C256,IF($A256=Datos!$D$25,$D256,$E256)),\"-\")","v":4.7866622804667109}]
[{"$f":"Datos!D426","v":0},{"$f":"Datos!C39","v":""},{"$f":"1/(Datos!$G297*8760)*Datos!$AA297*$F$87","v":{"$error":"#VALUE!"}},{"$f":"Datos!$H297*Datos!$AA297*$F$87","v":{"$error":"#VALUE!"}},{"$f":"Datos!$J297*Datos!$Q297*$F$87","v":{"$error":"#VALUE!"}},{"$f":"IFERROR(SUMIFS(Datos!D:D,Datos!$A:$A,$A257,Datos!$C:$C,$B257)*IF($A257=Datos!$D$24,$C257,IF($A257=Datos!$D$25,$D257,$E257)),\"-\")","v":"-"}]
[{"$f":"Datos!D427","v":0},{"$f":"Datos!C40","v":""},{"$f":"1/(Datos!$G298*8760)*Datos!$AA298*$F$87","v":{"$error":"#VALUE!"}},{"$f":"Datos!$H298*Datos!$AA298*$F$87","v":{"$error":"#VALUE!"}},{"$f":"Datos!$J298*Datos!$Q298*$F$87","v":{"$error":"#VALUE!"}},{"$f":"IFERROR(SUMIFS(Datos!D:D,Datos!$A:$A,$A258,Datos!$C:$C,$B258)*IF($A258=Datos!$D$24,$C258,IF($A258=Datos!$D$25,$D258,$E258)),\"-\")","v":"-"}]
[{"$f":"Datos!D428","v":0},{"$f":"Datos!C41","v":""},{"$f":"1/(Datos!$G299*8760)*Datos!$AA299*$F$87","v":{"$error":"#VALUE!"}},{"$f":"Datos!$H299*Datos!$AA299*$F$87","v":{"$error":"#VALUE!"}},{"$f":"Datos!$J299*Datos!$Q299*$F$87","v":{"$error":"#VALUE!"}},{"$f":"IFERROR(SUMIFS(Datos!D:D,Datos!$A:$A,$A259,Datos!$C:$C,$B259)*IF($A259=Datos!$D$24,$C259,IF($A259=Datos!$D$25,$D259,$E259)),\"-\")","v":"-"}]
[{"$f":"Datos!D429","v":0},{"$f":"Datos!C42","v":""},{"$f":"1/(Datos!$G300*8760)*Datos!$AA300*$F$87","v":{"$error":"#VALUE!"}},{"$f":"Datos!$H300*Datos!$AA300*$F$87","v":{"$error":"#VALUE!"}},{"$f":"Datos!$J300*Datos!$Q300*$F$87","v":{"$error":"#VALUE!"}},{"$f":"IFERROR(SUMIFS(Datos!D:D,Datos!$A:$A,$A260,Datos!$C:$C,$B260)*IF($A260=Datos!$D$24,$C260,IF($A260=Datos!$D$25,$D260,$E260)),\"-\")","v":"-"}]
[{"$f":"Datos!D430","v":0},{"$f":"Datos!C43","v":""},{"$f":"1/(Datos!$G301*8760)*Datos!$AA301*$F$87","v":{"$error":"#VALUE!"}},{"$f":"Datos!$H301*Datos!$AA301*$F$87","v":{"$error":"#VALUE!"}},{"$f":"Datos!$J301*Datos!$Q301*$F$87","v":{"$error":"#VALUE!"}},{"$f":"IFERROR(SUMIFS(Datos!D:D,Datos!$A:$A,$A261,Datos!$C:$C,$B261)*IF($A261=Datos!$D$24,$C261,IF($A261=Datos!$D$25,$D261,$E261)),\"-\")","v":"-"}]
[{"$f":"Datos!D431","v":0},{"$f":"Datos!C44","v":""},{"$f":"1/(Datos!$G302*8760)*Datos!$AA302*$F$87","v":{"$error":"#VALUE!"}},{"$f":"Datos!$H302*Datos!$AA302*$F$87","v":{"$error":"#VALUE!"}},{"$f":"Datos!$J302*Datos!$Q302*$F$87","v":{"$error":"#VALUE!"}},{"$f":"IFERROR(SUMIFS(Datos!D:D,Datos!$A:$A,$A262,Datos!$C:$C,$B262)*IF($A262=Datos!$D$24,$C262,IF($A262=Datos!$D$25,$D262,$E262)),\"-\")","v":"-"}]
[{"$f":"Datos!D432","v":0},{"$f":"Datos!C45","v":""},{"$f":"1/(Datos!$G303*8760)*Datos!$AA303*$F$87","v":{"$error":"#VALUE!"}},{"$f":"Datos!$H303*Datos!$AA303*$F$87","v":{"$error":"#VALUE!"}},{"$f":"Datos!$J303*Datos!$Q303*$F$87","v":{"$error":"#VALUE!"}},{"$f":"IFERROR(SUMIFS(Datos!D:D,Datos!$A:$A,$A263,Datos!$C:$C,$B263)*IF($A263=Datos!$D$24,$C263,IF($A263=Datos!$D$25,$D263,$E263)),\"-\")","v":"-"}]
[{"$f":"Datos!D433","v":0},{"$f":"Datos!C46","v":""},{"$f":"1/(Datos!$G304*8760)*Datos!$AA304*$F$87","v":{"$error":"#VALUE!"}},{"$f":"Datos!$H304*Datos!$AA304*$F$87","v":{"$error":"#VALUE!"}},{"$f":"Datos!$J304*Datos!$Q304*$F$87","v":{"$error":"#VALUE!"}},{"$f":"IFERROR(SUMIFS(Datos!D:D,Datos!$A:$A,$A264,Datos!$C:$C,$B264)*IF($A264=Datos!$D$24,$C264,IF($A264=Datos!$D$25,$D264,$E264)),\"-\")","v":"-"}]
[{"$f":"Datos!D434","v":0},{"$f":"Datos!C47","v":""},{"$f":"1/(Datos!$G305*8760)*Datos!$AA305*$F$87","v":{"$error":"#VALUE!"}},{"$f":"Datos!$H305*Datos!$AA305*$F$87","v":{"$error":"#VALUE!"}},{"$f":"Datos!$J305*Datos!$Q305*$F$87","v":{"$error":"#VALUE!"}},{"$f":"IFERROR(SUMIFS(Datos!D:D,Datos!$A:$A,$A265,Datos!$C:$C,$B265)*IF($A265=Datos!$D$24,$C265,IF($A265=Datos!$D$25,$D265,$E265)),\"-\")","v":"-"}]
[{"$f":"Datos!D435","v":0},{"$f":"Datos!C48","v":""},{"$f":"1/(Datos!$G306*8760)*Datos!$AA306*$F$87","v":{"$error":"#VALUE!"}},{"$f":"Datos!$H306*Datos!$AA306*$F$87","v":{"$error":"#VALUE!"}},{"$f":"Datos!$J306*Datos!$Q306*$F$87","v":{"$error":"#VALUE!"}},{"$f":"IFERROR(SUMIFS(Datos!D:D,Datos!$A:$A,$A266,Datos!$C:$C,$B266)*IF($A266=Datos!$D$24,$C266,IF($A266=Datos!$D$25,$D266,$E266)),\"-\")","v":"-"}]
[{"$f":"Datos!D436","v":0},{"$f":"Datos!C49","v":""},{"$f":"1/(Datos!$G307*8760)*Datos!$AA307*$F$87","v":{"$error":"#VALUE!"}},{"$f":"Datos!$H307*Datos!$AA307*$F$87","v":{"$error":"#VALUE!"}},{"$f":"Datos!$J307*Datos!$Q307*$F$87","v":{"$error":"#VALUE!"}},{"$f":"IFERROR(SUMIFS(Datos!D:D,Datos!$A:$A,$A267,Datos!$C:$C,$B267)*IF($A267=Datos!$D$24,$C267,IF($A267=Datos!$D$25,$D267,$E267)),\"-\")","v":"-"}]
[{"$f":"Datos!D437","v":"Energia"},{"$f":"Datos!C50","v":"AP"},{"$f":"1/(Datos!$G308*8760)*Datos!$AA308*$F$87","v":2.2039644658205197E-4},{"$f":"Datos!$H308*Datos!$AA308*$F$87","v":0.96533643602938934},{"$f":"Datos!$J308*Datos!$Q308*$F$87","v":0.96533643602938934},{"$f":"IFERROR(SUMIFS(Datos!D:D,Datos!$A:$A,$A268,Datos!$C:$C,$B268)*IF($A268=Datos!$D$24,$C268,IF($A268=Datos!$D$25,$D268,$E268)),\"-\")","v":17.624499726503231}]
[null,"Pérdida NT BT",null,null,null,{"$f":"SUM(F248:F248)*(Balance!F72-1)","v":31.914738590124792},{"$f":"SUM(F248:F268)*(Balance!F72-1)","v":63.940211314509789}]
[null,"Pérdida T BT",null,null,null,{"$f":"SUM(F248:F269)*(Balance!F73-1)","v":5.622394883557992}]
[null,"Potencia Máxima BT",null,null,null,{"$f":"SUM(F248:F270)","v":396.12899370704537}]
[]
[null,null,"Coeficientes de responsabilidad (Tipo de medición)",null,null,"Potencia coincidente con máxima MT"]
[null,null,"Energía","Potencia máxima","Potencia por franja horaria"]
[{"$f":"A248","v":"Energia"},{"$f":"Datos!C30","v":"BTS_R"},{"$f":"1/(Datos!$G288*8760)*Datos!$AB288*$F$87","v":1.272220012364083E-4},{"$f":"Datos!$H288*Datos!$AB288*$F$87","v":0.3075259572811373},{"$f":"Datos!$J288*Datos!$R288*$F$87","v":0.32143754876951658},{"$f":"IFERROR(SUMIFS(Datos!D:D,Datos!$A:$A,$A275,Datos!$C:$C,$B275)*IF($A275=Datos!$D$24,$C275,IF($A275=Datos!$D$25,$D275,$E275)),\"-\")","v":178.98541848105046}]
["Energia",{"$f":"Datos!C31","v":"BTS_O"},{"$f":"1/(Datos!$G289*8760)*Datos!$AB289*$F$87","v":1.1685522581129095E-4},{"$f":"Datos!$H289*Datos!$AB289*$F$87","v":0.34902750288032075},{"$f":"Datos!$J289*Datos!$R289*$F$87","v":0.37996258331956001},{"$f":"IFERROR(SUMIFS(Datos!D:D,Datos!$A:$A,$A276,Datos!$C:$C,$B276)*IF($A276=Datos!$D$24,$C276,IF($A276=Datos!$D$25,$D276,$E276)),\"-\")","v":44.53834359151336}]
["Energia",{"$f":"Datos!C32","v":""},{"$f":"1/(Datos!$G290*8760)*Datos!$AB290*$F$87","v":{"$error":"#VALUE!"}},{"$f":"Datos!$H290*Datos!$AB290*$F$87","v":{"$error":"#VALUE!"}},{"$f":"Datos!$J290*Datos!$R290*$F$87","v":{"$error":"#VALUE!"}},{"$f":"IFERROR(SUMIFS(Datos!D:D,Datos!$A:$A,$A277,Datos!$C:$C,$B277)*IF($A277=Datos!$D$24,$C277,IF($A277=Datos!$D$25,$D277,$E277)),\"-\")","v":"-"}]
["Energia",{"$f":"Datos!C33","v":"BTS_P1"},{"$f":"1/(Datos!$G291*8760)*Datos!$AB291*$F$87","v":1.0273343860844613E-4},{"$f":"Datos!$H291*Datos!$AB291*$F$87","v":0.22936467681285114},{"$f":"Datos!$J291*Datos!$R291*$F$87","v":0.2378067170482587},{"$f":"IFERROR(SUMIFS(Datos!D:D,Datos!$A:$A,$A278,Datos!$C:$C,$B278)*IF($A278=Datos!$D$24,$C278,IF($A278=Datos!$D$25,$D278,$E278)),\"-\")","v":9.1665911609180153}]
["Energia",{"$f":"Datos!C34","v":"BTS_P2"},{"$f":"1/(Datos!$G292*8760)*Datos!$AB292*$F$87","v":1.0956996111569509E-4},{"$f":"Datos!$H292*Datos!$AB292*$F$87","v":0.28948798617315669},{"$f":"Datos!$J292*Datos!$R292*$F$87","v":0.29526410481366205},{"$f":"IFERROR(SUMIFS(Datos!D:D,Datos!$A:$A,$A279,Datos!$C:$C,$B279)*IF($A279=Datos!$D$24,$C279,IF($A279=Datos!$D$25,$D279,$E279)),\"-\")","v":5.2470136782576029}]
["Energia",{"$f":"Datos!C35","v":"BTD"},{"$f":"1/(Datos!$G293*8760)*Datos!$AB293*$F$87","v":1.1919369755868837E-4},{"$f":"Datos!$H293*Datos!$AB293*$F$87","v":0.40385175562813919},{"$f":"Datos!$J293*Datos!$R293*$F$87","v":0.42530286755794983},{"$f":"IFERROR(SUMIFS(Datos!D:D,Datos!$A:$A,$A280,Datos!$C:$C,$B280)*IF($A280=Datos!$D$24,$C280,IF($A280=Datos!$D$25,$D280,$E280)),\"-\")","v":90.050575194574847}]
["Energia",{"$f":"Datos!C36","v":"BTH"},{"$f":"1/(Datos!$G294*8760)*Datos!$AB294*$F$87","v":1.2779182079156634E-4},{"$f":"Datos!$H294*Datos!$AB294*$F$87","v":0.79966027125712102},{"$f":"Datos!$J294*Datos!$R294*$F$87","v":0.81178692848662437},{"$f":"IFERROR(SUMIFS(Datos!D:D,Datos!$A:$A,$A281,Datos!$C:$C,$B281)*IF($A281=Datos!$D$24,$C281,IF($A281=Datos!$D$25,$D281,$E281)),\"-\")","v":4.7872920239825412}]
["Energia",{"$f":"Datos!C37","v":"BTS_A"},{"$f":"1/(Datos!$G295*8760)*Datos!$AB295*$F$87","v":1.6114017450715037E-4},{"$f":"Datos!$H295*Datos!$AB295*$F$87","v":0.4621623636109688},{"$f":"Datos!$J295*Datos!$R295*$F$87","v":0.47028550826544885},{"$f":"IFERROR(SUMIFS(Datos!D:D,Datos!$A:$A,$A282,Datos!$C:$C,$B282)*IF($A282=Datos!$D$24,$C282,IF($A282=Datos!$D$25,$D282,$E282)),\"-\")","v":3.4054640960957623}]
["Energia",{"$f":"Datos!C38","v":"BTD_A"},{"$f":"1/(Datos!$G296*8760)*Datos!$AB296*$F$87","v":1.2656613683508422E-4},{"$f":"Datos!$H296*Datos!$AB296*$F$87","v":0.32360504156544317},{"$f":"Datos!$J296*Datos!$R296*$F$87","v":0.34634397885270674},{"$f":"IFERROR(SUMIFS(Datos!D:D,Datos!$A:$A,$A283,Datos!$C:$C,$B283)*IF($A283=Datos!$D$24,$C283,IF($A283=Datos!$D$25,$D283,$E283)),\"-\")","v":4.7866622804667109}]
[0,{"$f":"Datos!C39","v":""},{"$f":"1/(Datos!$G297*8760)*Datos!$AB297*$F$87","v":{"$error":"#VALUE!"}},{"$f":"Datos!$H297*Datos!$AB297*$F$87","v":{"$error":"#VALUE!"}},{"$f":"Datos!$J297*Datos!$R297*$F$87","v":{"$error":"#VALUE!"}},{"$f":"IFERROR(SUMIFS(Datos!D:D,Datos!$A:$A,$A284,Datos!$C:$C,$B284)*IF($A284=Datos!$D$24,$C284,IF($A284=Datos!$D$25,$D284,$E284)),\"-\")","v":"-"}]
[0,{"$f":"Datos!C40","v":""},{"$f":"1/(Datos!$G298*8760)*Datos!$AB298*$F$87","v":{"$error":"#VALUE!"}},{"$f":"Datos!$H298*Datos!$AB298*$F$87","v":{"$error":"#VALUE!"}},{"$f":"Datos!$J298*Datos!$R298*$F$87","v":{"$error":"#VALUE!"}},{"$f":"IFERROR(SUMIFS(Datos!D:D,Datos!$A:$A,$A285,Datos!$C:$C,$B285)*IF($A285=Datos!$D$24,$C285,IF($A285=Datos!$D$25,$D285,$E285)),\"-\")","v":"-"}]
[0,{"$f":"Datos!C41","v":""},{"$f":"1/(Datos!$G299*8760)*Datos!$AB299*$F$87","v":{"$error":"#VALUE!"}},{"$f":"Datos!$H299*Datos!$AB299*$F$87","v":{"$error":"#VALUE!"}},{"$f":"Datos!$J299*Datos!$R299*$F$87","v":{"$error":"#VALUE!"}},{"$f":"IFERROR(SUMIFS(Datos!D:D,Datos!$A:$A,$A286,Datos!$C:$C,$B286)*IF($A286=Datos!$D$24,$C286,IF($A286=Datos!$D$25,$D286,$E286)),\"-\")","v":"-"}]
[0,{"$f":"Datos!C42","v":""},{"$f":"1/(Datos!$G300*8760)*Datos!$AB300*$F$87","v":{"$error":"#VALUE!"}},{"$f":"Datos!$H300*Datos!$AB300*$F$87","v":{"$error":"#VALUE!"}},{"$f":"Datos!$J300*Datos!$R300*$F$87","v":{"$error":"#VALUE!"}},{"$f":"IFERROR(SUMIFS(Datos!D:D,Datos!$A:$A,$A287,Datos!$C:$C,$B287)*IF($A287=Datos!$D$24,$C287,IF($A287=Datos!$D$25,$D287,$E287)),\"-\")","v":"-"}]
[0,{"$f":"Datos!C43","v":""},{"$f":"1/(Datos!$G301*8760)*Datos!$AB301*$F$87","v":{"$error":"#VALUE!"}},{"$f":"Datos!$H301*Datos!$AB301*$F$87","v":{"$error":"#VALUE!"}},{"$f":"Datos!$J301*Datos!$R301*$F$87","v":{"$error":"#VALUE!"}},{"$f":"IFERROR(SUMIFS(Datos!D:D,Datos!$A:$A,$A288,Datos!$C:$C,$B288)*IF($A288=Datos!$D$24,$C288,IF($A288=Datos!$D$25,$D288,$E288)),\"-\")","v":"-"}]
[0,{"$f":"Datos!C44","v":""},{"$f":"1/(Datos!$G302*8760)*Datos!$AB302*$F$87","v":{"$error":"#VALUE!"}},{"$f":"Datos!$H302*Datos!$AB302*$F$87","v":{"$error":"#VALUE!"}},{"$f":"Datos!$J302*Datos!$R302*$F$87","v":{"$error":"#VALUE!"}},{"$f":"IFERROR(SUMIFS(Datos!D:D,Datos!$A:$A,$A289,Datos!$C:$C,$B289)*IF($A289=Datos!$D$24,$C289,IF($A289=Datos!$D$25,$D289,$E289)),\"-\")","v":"-"}]
[0,{"$f":"Datos!C45","v":""},{"$f":"1/(Datos!$G303*8760)*Datos!$AB303*$F$87","v":{"$error":"#VALUE!"}},{"$f":"Datos!$H303*Datos!$AB303*$F$87","v":{"$error":"#VALUE!"}},{"$f":"Datos!$J303*Datos!$R303*$F$87","v":{"$error":"#VALUE!"}},{"$f":"IFERROR(SUMIFS(Datos!D:D,Datos!$A:$A,$A290,Datos!$C:$C,$B290)*IF($A290=Datos!$D$24,$C290,IF($A290=Datos!$D$25,$D290,$E290)),\"-\")","v":"-"}]
[0,{"$f":"Datos!C46","v":""},{"$f":"1/(Datos!$G304*8760)*Datos!$AB304*$F$87","v":{"$error":"#VALUE!"}},{"$f":"Datos!$H304*Datos!$AB304*$F$87","v":{"$error":"#VALUE!"}},{"$f":"Datos!$J304*Datos!$R304*$F$87","v":{"$error":"#VALUE!"}},{"$f":"IFERROR(SUMIFS(Datos!D:D,Datos!$A:$A,$A291,Datos!$C:$C,$B291)*IF($A291=Datos!$D$24,$C291,IF($A291=Datos!$D$25,$D291,$E291)),\"-\")","v":"-"}]
[0,{"$f":"Datos!C47","v":""},{"$f":"1/(Datos!$G305*8760)*Datos!$AB305*$F$87","v":{"$error":"#VALUE!"}},{"$f":"Datos!$H305*Datos!$AB305*$F$87","v":{"$error":"#VALUE!"}},{"$f":"Datos!$J305*Datos!$R305*$F$87","v":{"$error":"#VALUE!"}},{"$f":"IFERROR(SUMIFS(Datos!D:D,Datos!$A:$A,$A292,Datos!$C:$C,$B292)*IF($A292=Datos!$D$24,$C292,IF($A292=Datos!$D$25,$D292,$E292)),\"-\")","v":"-"}]
[0,{"$f":"Datos!C48","v":""},{"$f":"1/(Datos!$G306*8760)*Datos!$AB306*$F$87","v":{"$error":"#VALUE!"}},{"$f":"Datos!$H306*Datos!$AB306*$F$87","v":{"$error":"#VALUE!"}},{"$f":"Datos!$J306*Datos!$R306*$F$87","v":{"$error":"#VALUE!"}},{"$f":"IFERROR(SUMIFS(Datos!D:D,Datos!$A:$A,$A293,Datos!$C:$C,$B293)*IF($A293=Datos!$D$24,$C293,IF($A293=Datos!$D$25,$D293,$E293)),\"-\")","v":"-"}]
[0,{"$f":"Datos!C49","v":""},{"$f":"1/(Datos!$G307*8760)*Datos!$AB307*$F$87","v":{"$error":"#VALUE!"}},{"$f":"Datos!$H307*Datos!$AB307*$F$87","v":{"$error":"#VALUE!"}},{"$f":"Datos!$J307*Datos!$R307*$F$87","v":{"$error":"#VALUE!"}},{"$f":"IFERROR(SUMIFS(Datos!D:D,Datos!$A:$A,$A294,Datos!$C:$C,$B294)*IF($A294=Datos!$D$24,$C294,IF($A294=Datos!$D$25,$D294,$E294)),\"-\")","v":"-"}]
["Energia",{"$f":"Datos!C50","v":"AP"},{"$f":"1/(Datos!$G308*8760)*Datos!$AB308*$F$87","v":2.2039644658205197E-4},{"$f":"Datos!$H308*Datos!$AB308*$F$87","v":0.96533643602938934},{"$f":"Datos!$J308*Datos!$R308*$F$87","v":0.96533643602938934},{"$f":"IFERROR(SUMIFS(Datos!D:D,Datos!$A:$A,$A295,Datos!$C:$C,$B295)*IF($A295=Datos!$D$24,$C295,IF($A295=Datos!$D$25,$D295,$E295)),\"-\")","v":17.624499726503231}]
[null,"Pérdida NT BT",null,null,null,{"$f":"SUM(F275:F275)*(Balance!F72-1)","v":31.914738590124792},{"$f":"SUM(F275:F295)*(Balance!F72-1)","v":63.940211314509789}]
[null,"Pérdida T BT",null,null,null,{"$f":"SUM(F275:F296)*(Balance!F73-1)","v":5.622394883557992}]
[null,"Potencia BT coincidente con Máx MT",null,null,null,{"$f":"SUM(F275:F297)","v":396.12899370704537}]
[{"$f":"Datos!D438","v":0},{"$f":"Datos!C51","v":""},{"$f":"1/(Datos!$G309*8760)*Datos!$AB309*$F$87","v":{"$error":"#VALUE!"}},{"$f":"Datos!$H309*Datos!$AB309*$F$87","v":{"$error":"#VALUE!"}},{"$f":"Datos!$J309*Datos!$R309*$F$87","v":{"$error":"#VALUE!"}},{"$f":"IFERROR(SUMIFS(Datos!D:D,Datos!$A:$A,$A299,Datos!$C:$C,$B299)*IF($A299=Datos!$D$24,$C299,IF($A299=Datos!$D$25,$D299,$E299)),\"-\")","v":"-"}]
[{"$f":"Datos!D439","v":0},{"$f":"Datos!C52","v":""},{"$f":"1/(Datos!$G310*8760)*Datos!$AB310*$F$87","v":{"$error":"#VALUE!"}},{"$f":"Datos!$H310*Datos!$AB310*$F$87","v":{"$error":"#VALUE!"}},{"$f":"Datos!$J310*Datos!$R310*$F$87","v":{"$error":"#VALUE!"}},{"$f":"IFERROR(SUMIFS(Datos!D:D,Datos!$A:$A,$A300,Datos!$C:$C,$B300)*IF($A300=Datos!$D$24,$C300,IF($A300=Datos!$D$25,$D300,$E300)),\"-\")","v":"-"}]
[{"$f":"Datos!D440","v":0},{"$f":"Datos!C53","v":""},{"$f":"1/(Datos!$G311*8760)*Datos!$AB311*$F$87","v":{"$error":"#VALUE!"}},{"$f":"Datos!$H311*Datos!$AB311*$F$87","v":{"$error":"#VALUE!"}},{"$f":"Datos!$J311*Datos!$R311*$F$87","v":{"$error":"#VALUE!"}},{"$f":"IFERROR(SUMIFS(Datos!D:D,Datos!$A:$A,$A301,Datos!$C:$C,$B301)*IF($A301=Datos!$D$24,$C301,IF($A301=Datos!$D$25,$D301,$E301)),\"-\")","v":"-"}]
[{"$f":"Datos!D441","v":0},{"$f":"Datos!C54","v":""},{"$f":"1/(Datos!$G312*8760)*Datos!$AB312*$F$87","v":{"$error":"#VALUE!"}},{"$f":"Datos!$H312*Datos!$AB312*$F$87","v":{"$error":"#VALUE!"}},{"$f":"Datos!$J312*Datos!$R312*$F$87","v":{"$error":"#VALUE!"}},{"$f":"IFERROR(SUMIFS(Datos!D:D,Datos!$A:$A,$A302,Datos!$C:$C,$B302)*IF($A302=Datos!$D$24,$C302,IF($A302=Datos!$D$25,$D302,$E302)),\"-\")","v":"-"}]
[{"$f":"Datos!D442","v":0},{"$f":"Datos!C55","v":""},{"$f":"1/(Datos!$G313*8760)*Datos!$AB313*$F$87","v":{"$error":"#VALUE!"}},{"$f":"Datos!$H313*Datos!$AB313*$F$87","v":{"$error":"#VALUE!"}},{"$f":"Datos!$J313*Datos!$R313*$F$87","v":{"$error":"#VALUE!"}},{"$f":"IFERROR(SUMIFS(Datos!D:D,Datos!$A:$A,$A303,Datos!$C:$C,$B303)*IF($A303=Datos!$D$24,$C303,IF($A303=Datos!$D$25,$D303,$E303)),\"-\")","v":"-"}]
[{"$f":"Datos!D443","v":0},{"$f":"Datos!C56","v":""},{"$f":"1/(Datos!$G314*8760)*Datos!$AB314*$F$87","v":{"$error":"#VALUE!"}},{"$f":"Datos!$H314*Datos!$AB314*$F$87","v":{"$error":"#VALUE!"}},{"$f":"Datos!$J314*Datos!$R314*$F$87","v":{"$error":"#VALUE!"}},{"$f":"IFERROR(SUMIFS(Datos!D:D,Datos!$A:$A,$A304,Datos!$C:$C,$B304)*IF($A304=Datos!$D$24,$C304,IF($A304=Datos!$D$25,$D304,$E304)),\"-\")","v":"-"}]
[{"$f":"Datos!D444","v":"Energia"},{"$f":"Datos!C57","v":""},{"$f":"1/(Datos!$G315*8760)*Datos!$AB315*$F$87","v":{"$error":"#VALUE!"}},{"$f":"Datos!$H315*Datos!$AB315*$F$87","v":{"$error":"#VALUE!"}},{"$f":"Datos!$J315*Datos!$R315*$F$87","v":{"$error":"#VALUE!"}},{"$f":"IFERROR(SUMIFS(Datos!D:D,Datos!$A:$A,$A305,Datos!$C:$C,$B305)*IF($A305=Datos!$D$24,$C305,IF($A305=Datos!$D$25,$D305,$E305)),\"-\")","v":"-"}]
[{"$f":"Datos!D445","v":"Energia"},{"$f":"Datos!C58","v":""},{"$f":"1/(Datos!$G316*8760)*Datos!$AB316*$F$87","v":{"$error":"#VALUE!"}},{"$f":"Datos!$H316*Datos!$AB316*$F$87","v":{"$error":"#VALUE!"}},{"$f":"Datos!$J316*Datos!$R316*$F$87","v":{"$error":"#VALUE!"}},{"$f":"IFERROR(SUMIFS(Datos!D:D,Datos!$A:$A,$A306,Datos!$C:$C,$B306)*IF($A306=Datos!$D$24,$C306,IF($A306=Datos!$D$25,$D306,$E306)),\"-\")","v":"-"}]
[{"$f":"Datos!D446","v":0},{"$f":"Datos!C59","v":""},{"$f":"1/(Datos!$G317*8760)*Datos!$AB317*$F$87","v":{"$error":"#VALUE!"}},{"$f":"Datos!$H317*Datos!$AB317*$F$87","v":{"$error":"#VALUE!"}},{"$f":"Datos!$J317*Datos!$R317*$F$87","v":{"$error":"#VALUE!"}},{"$f":"IFERROR(SUMIFS(Datos!D:D,Datos!$A:$A,$A307,Datos!$C:$C,$B307)*IF($A307=Datos!$D$24,$C307,IF($A307=Datos!$D$25,$D307,$E307)),\"-\")","v":"-"}]
[{"$f":"Datos!D447","v":"Energia"},{"$f":"Datos!C60","v":"MTD"},{"$f":"1/(Datos!$G318*8760)*Datos!$AB318*$F$87","v":1.1934392759518878E-4},{"$f":"Datos!$H318*Datos!$AB318*$F$87","v":0.58642292440821642},{"$f":"Datos!$J318*Datos!$R318*$F$87","v":0.61037038468232219},{"$f":"IFERROR(SUMIFS(Datos!D:D,Datos!$A:$A,$A308,Datos!$C:$C,$B308)*IF($A308=Datos!$D$24,$C308,IF($A308=Datos!$D$25,$D308,$E308)),\"-\")","v":96.614069928157292}]
[{"$f":"Datos!D448","v":"Energia"},{"$f":"Datos!C61","v":"MTH"},{"$f":"1/(Datos!$G319*8760)*Datos!$AB319*$F$87","v":1.5321716884840613E-4},{"$f":"Datos!$H319*Datos!$AB319*$F$87","v":0.78121899074770496},{"$f":"Datos!$J319*Datos!$R319*$F$87","v":0.7934391682694627},{"$f":"IFERROR(SUMIFS(Datos!D:D,Datos!$A:$A,$A309,Datos!$C:$C,$B309)*IF($A309=Datos!$D$24,$C309,IF($A309=Datos!$D$25,$D309,$E309)),\"-\")","v":25.495534702329135}]
[{"$f":"Datos!D449","v":0},{"$f":"Datos!C62","v":""},{"$f":"1/(Datos!$G320*8760)*Datos!$AB320*$F$87","v":{"$error":"#VALUE!"}},{"$f":"Datos!$H320*Datos!$AB320*$F$87","v":{"$error":"#VALUE!"}},{"$f":"Datos!$J320*Datos!$R320*$F$87","v":{"$error":"#VALUE!"}},{"$f":"IFERROR(SUMIFS(Datos!D:D,Datos!$A:$A,$A310,Datos!$C:$C,$B310)*IF($A310=Datos!$D$24,$C310,IF($A310=Datos!$D$25,$D310,$E310)),\"-\")","v":"-"}]
[{"$f":"Datos!D450","v":0},{"$f":"Datos!C63","v":""},{"$f":"1/(Datos!$G321*8760)*Datos!$AB321*$F$87","v":{"$error":"#VALUE!"}},{"$f":"Datos!$H321*Datos!$AB321*$F$87","v":{"$error":"#VALUE!"}},{"$f":"Datos!$J321*Datos!$R321*$F$87","v":{"$error":"#VALUE!"}},{"$f":"IFERROR(SUMIFS(Datos!D:D,Datos!$A:$A,$A311,Datos!$C:$C,$B311)*IF($A311=Datos!$D$24,$C311,IF($A311=Datos!$D$25,$D311,$E311)),\"-\")","v":"-"}]
[{"$f":"Datos!D451","v":0},{"$f":"Datos!C64","v":""},{"$f":"1/(Datos!$G322*8760)*Datos!$AB322*$F$87","v":{"$error":"#VALUE!"}},{"$f":"Datos!$H322*Datos!$AB322*$F$87","v":{"$error":"#VALUE!"}},{"$f":"Datos!$J322*Datos!$R322*$F$87","v":{"$error":"#VALUE!"}},{"$f":"IFERROR(SUMIFS(Datos!D:D,Datos!$A:$A,$A312,Datos!$C:$C,$B312)*IF($A312=Datos!$D$24,$C312,IF($A312=Datos!$D$25,$D312,$E312)),\"-\")","v":"-"}]
[{"$f":"Datos!D452","v":0},{"$f":"Datos!C65","v":""},{"$f":"1/(Datos!$G323*8760)*Datos!$AB323*$F$87","v":{"$error":"#VALUE!"}},{"$f":"Datos!$H323*Datos!$AB323*$F$87","v":{"$error":"#VALUE!"}},{"$f":"Datos!$J323*Datos!$R323*$F$87","v":{"$error":"#VALUE!"}},{"$f":"IFERROR(SUMIFS(Datos!D:D,Datos!$A:$A,$A313,Datos!$C:$C,$B313)*IF($A313=Datos!$D$24,$C313,IF($A313=Datos!$D$25,$D313,$E313)),\"-\")","v":"-"}]
[{"$f":"Datos!D453","v":0},{"$f":"Datos!C66","v":""},{"$f":"1/(Datos!$G324*8760)*Datos!$AB324*$F$87","v":{"$error":"#VALUE!"}},{"$f":"Datos!$H324*Datos!$AB324*$F$87","v":{"$error":"#VALUE!"}},{"$f":"Datos!$J324*Datos!$R324*$F$87","v":{"$error":"#VALUE!"}},{"$f":"IFERROR(SUMIFS(Datos!D:D,Datos!$A:$A,$A314,Datos!$C:$C,$B314)*IF($A314=Datos!$D$24,$C314,IF($A314=Datos!$D$25,$D314,$E314)),\"-\")","v":"-"}]
[{"$f":"Datos!D454","v":0},{"$f":"Datos!C67","v":""},{"$f":"1/(Datos!$G325*8760)*Datos!$AB325*$F$87","v":{"$error":"#VALUE!"}},{"$f":"Datos!$H325*Datos!$AB325*$F$87","v":{"$error":"#VALUE!"}},{"$f":"Datos!$J325*Datos!$R325*$F$87","v":{"$error":"#VALUE!"}},{"$f":"IFERROR(SUMIFS(Datos!D:D,Datos!$A:$A,$A315,Datos!$C:$C,$B315)*IF($A315=Datos!$D$24,$C315,IF($A315=Datos!$D$25,$D315,$E315)),\"-\")","v":"-"}]
[{"$f":"Datos!D455","v":0},{"$f":"Datos!C68","v":""},{"$f":"1/(Datos!$G326*8760)*Datos!$AB326*$F$87","v":{"$error":"#VALUE!"}},{"$f":"Datos!$H326*Datos!$AB326*$F$87","v":{"$error":"#VALUE!"}},{"$f":"Datos!$J326*Datos!$R326*$F$87","v":{"$error":"#VALUE!"}},{"$f":"IFERROR(SUMIFS(Datos!D:D,Datos!$A:$A,$A316,Datos!$C:$C,$B316)*IF($A316=Datos!$D$24,$C316,IF($A316=Datos!$D$25,$D316,$E316)),\"-\")","v":"-"}]
[{"$f":"Datos!D456","v":0},{"$f":"Datos!C69","v":""},{"$f":"1/(Datos!$G327*8760)*Datos!$AB327*$F$87","v":{"$error":"#VALUE!"}},{"$f":"Datos!$H327*Datos!$AB327*$F$87","v":{"$error":"#VALUE!"}},{"$f":"Datos!$J327*Datos!$R327*$F$87","v":{"$error":"#VALUE!"}},{"$f":"IFERROR(SUMIFS(Datos!D:D,Datos!$A:$A,$A317,Datos!$C:$C,$B317)*IF($A317=Datos!$D$24,$C317,IF($A317=Datos!$D$25,$D317,$E317)),\"-\")","v":"-"}]
[{"$f":"Datos!D457","v":0},{"$f":"Datos!C70","v":""},{"$f":"1/(Datos!$G328*8760)*Datos!$AB328*$F$87","v":{"$error":"#VALUE!"}},{"$f":"Datos!$H328*Datos!$AB328*$F$87","v":{"$error":"#VALUE!"}},{"$f":"Datos!$J328*Datos!$R328*$F$87","v":{"$error":"#VALUE!"}},{"$f":"IFERROR(SUMIFS(Datos!D:D,Datos!$A:$A,$A318,Datos!$C:$C,$B318)*IF($A318=Datos!$D$24,$C318,IF($A318=Datos!$D$25,$D318,$E318)),\"-\")","v":"-"}]
[null,"Pérdida MT",null,null,null,{"$f":"SUM(F298:F318)*(Balance!F74-1)","v":21.63568206182255}]
[null,"Potencia Máxima MT",null,null,null,{"$f":"SUM(F298:F319)","v":539.87428039935435}]
[]
[null,null,"Coeficientes de responsabilidad (Tipo de medición)",null,null,"Potencia coincidente con máxima AT"]
[null,null,"Energía","Potencia máxima","Potencia por franja horaria"]
[{"$f":"A248","v":"Energia"},{"$f":"Datos!C30","v":"BTS_R"},{"$f":"1/(Datos!$G288*8760)*Datos!$AC288*$F$87","v":9.1727182743593002E-5},{"$f":"Datos!$H288*Datos!$AC288*$F$87","v":0.22172650491094914},{"$f":"Datos!$J288*Datos!$S288*$F$87","v":0.23175677547977583},{"$f":"IFERROR(SUMIFS(Datos!D:D,Datos!$A:$A,$A324,Datos!$C:$C,$B324)*IF($A324=Datos!$D$24,$C324,IF($A324=Datos!$D$25,$D324,$E324)),\"-\")","v":129.04865534178802}]
["Energia",{"$f":"Datos!C31","v":"BTS_O"},{"$f":"1/(Datos!$G289*8760)*Datos!$AC289*$F$87","v":1.6320092619888379E-4},{"$f":"Datos!$H289*Datos!$AC289*$F$87","v":0.48745455193368092},{"$f":"Datos!$J289*Datos!$S289*$F$87","v":0.53065872825245197},{"$f":"IFERROR(SUMIFS(Datos!D:D,Datos!$A:$A,$A325,Datos!$C:$C,$B325)*IF($A325=Datos!$D$24,$C325,IF($A325=Datos!$D$25,$D325,$E325)),\"-\")","v":62.202600483073766}]
["Energia",{"$f":"Datos!C32","v":""},{"$f":"1/(Datos!$G290*8760)*Datos!$AC290*$F$87","v":{"$error":"#VALUE!"}},{"$f":"Datos!$H290*Datos!$AC290*$F$87","v":{"$error":"#VALUE!"}},{"$f":"Datos!$J290*Datos!$S290*$F$87","v":{"$error":"#VALUE!"}},{"$f":"IFERROR(SUMIFS(Datos!D:D,Datos!$A:$A,$A326,Datos!$C:$C,$B326)*IF($A326=Datos!$D$24,$C326,IF($A326=Datos!$D$25,$D326,$E326)),\"-\")","v":"-"}]
["Energia",{"$f":"Datos!C33","v":"BTS_P1"},{"$f":"1/(Datos!$G291*8760)*Datos!$AC291*$F$87","v":9.0233445970743165E-5},{"$f":"Datos!$H291*Datos!$AC291*$F$87","v":0.20145694968578456},{"$f":"Datos!$J291*Datos!$S291*$F$87","v":0.20887181277011888},{"$f":"IFERROR(SUMIFS(Datos!D:D,Datos!$A:$A,$A327,Datos!$C:$C,$B327)*IF($A327=Datos!$D$24,$C327,IF($A327=Datos!$D$25,$D327,$E327)),\"-\")","v":8.0512549707119963}]
["Energia",{"$f":"Datos!C34","v":"BTS_P2"},{"$f":"1/(Datos!$G292*8760)*Datos!$AC292*$F$87","v":7.3979137519384353E-5},{"$f":"Datos!$H292*Datos!$AC292*$F$87","v":0.19545568257252852},{"$f":"Datos!$J292*Datos!$S292*$F$87","v":0.19935558607603554},{"$f":"IFERROR(SUMIFS(Datos!D:D,Datos!$A:$A,$A328,Datos!$C:$C,$B328)*IF($A328=Datos!$D$24,$C328,IF($A328=Datos!$D$25,$D328,$E328)),\"-\")","v":3.542663906397129}]
["Energia",{"$f":"Datos!C35","v":"BTD"},{"$f":"1/(Datos!$G293*8760)*Datos!$AC293*$F$87","v":1.8392039236945384E-4},{"$f":"Datos!$H293*Datos!$AC293*$F$87","v":0.6231585635444189},{"$f":"Datos!$J293*Datos!$S293*$F$87","v":0.65625844217641838},{"$f":"IFERROR(SUMIFS(Datos!D:D,Datos!$A:$A,$A329,Datos!$C:$C,$B329)*IF($A329=Datos!$D$24,$C329,IF($A329=Datos!$D$25,$D329,$E329)),\"-\")","v":138.95145013624887}]
["Energia",{"$f":"Datos!C36","v":"BTH"},{"$f":"1/(Datos!$G294*8760)*Datos!$AC294*$F$87","v":1.0657892793546265E-4},{"$f":"Datos!$H294*Datos!$AC294*$F$87","v":0.66692010408219948},{"$f":"Datos!$J294*Datos!$S294*$F$87","v":0.6770337883458375},{"$f":"IFERROR(SUMIFS(Datos!D:D,Datos!$A:$A,$A330,Datos!$C:$C,$B330)*IF($A330=Datos!$D$24,$C330,IF($A330=Datos!$D$25,$D330,$E330)),\"-\")","v":3.9926221292538528}]
["Energia",{"$f":"Datos!C37","v":"BTS_A"},{"$f":"1/(Datos!$G295*8760)*Datos!$AC295*$F$87","v":4.2216667537212867E-5},{"$f":"Datos!$H295*Datos!$AC295*$F$87","v":0.1210806362376813},{"$f":"Datos!$J295*Datos!$S295*$F$87","v":0.12320879638324235},{"$f":"IFERROR(SUMIFS(Datos!D:D,Datos!$A:$A,$A331,Datos!$C:$C,$B331)*IF($A331=Datos!$D$24,$C331,IF($A331=Datos!$D$25,$D331,$E331)),\"-\")","v":0.89218809644773256}]
["Energia",{"$f":"Datos!C38","v":"BTD_A"},{"$f":"1/(Datos!$G296*8760)*Datos!$AC296*$F$87","v":1.8205561672661631E-4},{"$f":"Datos!$H296*Datos!$AC296*$F$87","v":0.4654808694588205},{"$f":"Datos!$J296*Datos!$S296*$F$87","v":0.49818907526378009},{"$f":"IFERROR(SUMIFS(Datos!D:D,Datos!$A:$A,$A332,Datos!$C:$C,$B332)*IF($A332=Datos!$D$24,$C332,IF($A332=Datos!$D$25,$D332,$E332)),\"-\")","v":6.8852441523745336}]
[0,{"$f":"Datos!C39","v":""},{"$f":"1/(Datos!$G297*8760)*Datos!$AC297*$F$87","v":{"$error":"#VALUE!"}},{"$f":"Datos!$H297*Datos!$AC297*$F$87","v":{"$error":"#VALUE!"}},{"$f":"Datos!$J297*Datos!$S297*$F$87","v":{"$error":"#VALUE!"}},{"$f":"IFERROR(SUMIFS(Datos!D:D,Datos!$A:$A,$A333,Datos!$C:$C,$B333)*IF($A333=Datos!$D$24,$C333,IF($A333=Datos!$D$25,$D333,$E333)),\"-\")","v":"-"}]
[0,{"$f":"Datos!C40","v":""},{"$f":"1/(Datos!$G298*8760)*Datos!$AC298*$F$87","v":{"$error":"#VALUE!"}},{"$f":"Datos!$H298*Datos!$AC298*$F$87","v":{"$error":"#VALUE!"}},{"$f":"Datos!$J298*Datos!$S298*$F$87","v":{"$error":"#VALUE!"}},{"$f":"IFERROR(SUMIFS(Datos!D:D,Datos!$A:$A,$A334,Datos!$C:$C,$B334)*IF($A334=Datos!$D$24,$C334,IF($A334=Datos!$D$25,$D334,$E334)),\"-\")","v":"-"}]
[0,{"$f":"Datos!C41","v":""},{"$f":"1/(Datos!$G299*8760)*Datos!$AC299*$F$87","v":{"$error":"#VALUE!"}},{"$f":"Datos!$H299*Datos!$AC299*$F$87","v":{"$error":"#VALUE!"}},{"$f":"Datos!$J299*Datos!$S299*$F$87","v":{"$error":"#VALUE!"}},{"$f":"IFERROR(SUMIFS(Datos!D:D,Datos!$A:$A,$A335,Datos!$C:$C,$B335)*IF($A335=Datos!$D$24,$C335,IF($A335=Datos!$D$25,$D335,$E335)),\"-\")","v":"-"}]
[0,{"$f":"Datos!C42","v":""},{"$f":"1/(Datos!$G300*8760)*Datos!$AC300*$F$87","v":{"$error":"#VALUE!"}},{"$f":"Datos!$H300*Datos!$AC300*$F$87","v":{"$error":"#VALUE!"}},{"$f":"Datos!$J300*Datos!$S300*$F$87","v":{"$error":"#VALUE!"}},{"$f":"IFERROR(SUMIFS(Datos!D:D,Datos!$A:$A,$A336,Datos!$C:$C,$B336)*IF($A336=Datos!$D$24,$C336,IF($A336=Datos!$D$25,$D336,$E336)),\"-\")","v":"-"}]
[0,{"$f":"Datos!C43","v":""},{"$f":"1/(Datos!$G301*8760)*Datos!$AC301*$F$87","v":{"$error":"#VALUE!"}},{"$f":"Datos!$H301*Datos!$AC301*$F$87","v":{"$error":"#VALUE!"}},{"$f":"Datos!$J301*Datos!$S301*$F$87","v":{"$error":"#VALUE!"}},{"$f":"IFERROR(SUMIFS(Datos!D:D,Datos!$A:$A,$A337,Datos!$C:$C,$B337)*IF($A337=Datos!$D$24,$C337,IF($A337=Datos!$D$25,$D337,$E337)),\"-\")","v":"-"}]
[0,{"$f":"Datos!C44","v":""},{"$f":"1/(Datos!$G302*8760)*Datos!$AC302*$F$87","v":{"$error":"#VALUE!"}},{"$f":"Datos!$H302*Datos!$AC302*$F$87","v":{"$error":"#VALUE!"}},{"$f":"Datos!$J302*Datos!$S302*$F$87","v":{"$error":"#VALUE!"}},{"$f":"IFERROR(SUMIFS(Datos!D:D,Datos!$A:$A,$A338,Datos!$C:$C,$B338)*IF($A338=Datos!$D$24,$C338,IF($A338=Datos!$D$25,$D338,$E338)),\"-\")","v":"-"}]
[0,{"$f":"Datos!C45","v":""},{"$f":"1/(Datos!$G303*8760)*Datos!$AC303*$F$87","v":{"$error":"#VALUE!"}},{"$f":"Datos!$H303*Datos!$AC303*$F$87","v":{"$error":"#VALUE!"}},{"$f":"Datos!$J303*Datos!$S303*$F$87","v":{"$error":"#VALUE!"}},{"$f":"IFERROR(SUMIFS(Datos!D:D,Datos!$A:$A,$A339,Datos!$C:$C,$B339)*IF($A339=Datos!$D$24,$C339,IF($A339=Datos!$D$25,$D339,$E339)),\"-\")","v":"-"}]
[0,{"$f":"Datos!C46","v":""},{"$f":"1/(Datos!$G304*8760)*Datos!$AC304*$F$87","v":{"$error":"#VALUE!"}},{"$f":"Datos!$H304*Datos!$AC304*$F$87","v":{"$error":"#VALUE!"}},{"$f":"Datos!$J304*Datos!$S304*$F$87","v":{"$error":"#VALUE!"}},{"$f":"IFERROR(SUMIFS(Datos!D:D,Datos!$A:$A,$A340,Datos!$C:$C,$B340)*IF($A340=Datos!$D$24,$C340,IF($A340=Datos!$D$25,$D340,$E340)),\"-\")","v":"-"}]
[0,{"$f":"Datos!C47","v":""},{"$f":"1/(Datos!$G305*8760)*Datos!$AC305*$F$87","v":{"$error":"#VALUE!"}},{"$f":"Datos!$H305*Datos!$AC305*$F$87","v":{"$error":"#VALUE!"}},{"$f":"Datos!$J305*Datos!$S305*$F$87","v":{"$error":"#VALUE!"}},{"$f":"IFERROR(SUMIFS(Datos!D:D,Datos!$A:$A,$A341,Datos!$C:$C,$B341)*IF($A341=Datos!$D$24,$C341,IF($A341=Datos!$D$25,$D341,$E341)),\"-\")","v":"-"}]
[0,{"$f":"Datos!C48","v":""},{"$f":"1/(Datos!$G306*8760)*Datos!$AC306*$F$87","v":{"$error":"#VALUE!"}},{"$f":"Datos!$H306*Datos!$AC306*$F$87","v":{"$error":"#VALUE!"}},{"$f":"Datos!$J306*Datos!$S306*$F$87","v":{"$error":"#VALUE!"}},{"$f":"IFERROR(SUMIFS(Datos!D:D,Datos!$A:$A,$A342,Datos!$C:$C,$B342)*IF($A342=Datos!$D$24,$C342,IF($A342=Datos!$D$25,$D342,$E342)),\"-\")","v":"-"}]
[0,{"$f":"Datos!C49","v":""},{"$f":"1/(Datos!$G307*8760)*Datos!$AC307*$F$87","v":{"$error":"#VALUE!"}},{"$f":"Datos!$H307*Datos!$AC307*$F$87","v":{"$error":"#VALUE!"}},{"$f":"Datos!$J307*Datos!$S307*$F$87","v":{"$error":"#VALUE!"}},{"$f":"IFERROR(SUMIFS(Datos!D:D,Datos!$A:$A,$A343,Datos!$C:$C,$B343)*IF($A343=Datos!$D$24,$C343,IF($A343=Datos!$D$25,$D343,$E343)),\"-\")","v":"-"}]
["Energia",{"$f":"Datos!C50","v":"AP"},{"$f":"1/(Datos!$G308*8760)*Datos!$AC308*$F$87","v":0},{"$f":"Datos!$H308*Datos!$AC308*$F$87","v":0},{"$f":"Datos!$J308*Datos!$S308*$F$87","v":0},{"$f":"IFERROR(SUMIFS(Datos!D:D,Datos!$A:$A,$A344,Datos!$C:$C,$B344)*IF($A344=Datos!$D$24,$C344,IF($A344=Datos!$D$25,$D344,$E344)),\"-\")","v":0}]
[null,"Pérdida NT BT",null,null,null,{"$f":"SUM(F324:F324)*(Balance!F72-1)","v":23.010556589425832},{"$f":"SUM(F324:F344)*(Balance!F72-1)","v":63.04417553746844}]
[null,"Pérdida T BT",null,null,null,{"$f":"SUM(F324:F345)*(Balance!F73-1)","v":5.4218441640611701}]
[null,"Potencia BT coincidente con Máx AT",null,null,null,{"$f":"SUM(F324:F346)","v":381.99907996978294}]
[{"$f":"A299","v":0},{"$f":"Datos!C51","v":""},{"$f":"1/(Datos!$G309*8760)*Datos!$AC309*$F$87","v":{"$error":"#VALUE!"}},{"$f":"Datos!$H309*Datos!$AC309*$F$87","v":{"$error":"#VALUE!"}},{"$f":"Datos!$J309*Datos!$S309*$F$87","v":{"$error":"#VALUE!"}},{"$f":"IFERROR(SUMIFS(Datos!D:D,Datos!$A:$A,$A348,Datos!$C:$C,$B348)*IF($A348=Datos!$D$24,$C348,IF($A348=Datos!$D$25,$D348,$E348)),\"-\")","v":"-"}]
[0,{"$f":"Datos!C52","v":""},{"$f":"1/(Datos!$G310*8760)*Datos!$AC310*$F$87","v":{"$error":"#VALUE!"}},{"$f":"Datos!$H310*Datos!$AC310*$F$87","v":{"$error":"#VALUE!"}},{"$f":"Datos!$J310*Datos!$S310*$F$87","v":{"$error":"#VALUE!"}},{"$f":"IFERROR(SUMIFS(Datos!D:D,Datos!$A:$A,$A349,Datos!$C:$C,$B349)*IF($A349=Datos!$D$24,$C349,IF($A349=Datos!$D$25,$D349,$E349)),\"-\")","v":"-"}]
[0,{"$f":"Datos!C53","v":""},{"$f":"1/(Datos!$G311*8760)*Datos!$AC311*$F$87","v":{"$error":"#VALUE!"}},{"$f":"Datos!$H311*Datos!$AC311*$F$87","v":{"$error":"#VALUE!"}},{"$f":"Datos!$J311*Datos!$S311*$F$87","v":{"$error":"#VALUE!"}},{"$f":"IFERROR(SUMIFS(Datos!D:D,Datos!$A:$A,$A350,Datos!$C:$C,$B350)*IF($A350=Datos!$D$24,$C350,IF($A350=Datos!$D$25,$D350,$E350)),\"-\")","v":"-"}]
[0,{"$f":"Datos!C54","v":""},{"$f":"1/(Datos!$G312*8760)*Datos!$AC312*$F$87","v":{"$error":"#VALUE!"}},{"$f":"Datos!$H312*Datos!$AC312*$F$87","v":{"$error":"#VALUE!"}},{"$f":"Datos!$J312*Datos!$S312*$F$87","v":{"$error":"#VALUE!"}},{"$f":"IFERROR(SUMIFS(Datos!D:D,Datos!$A:$A,$A351,Datos!$C:$C,$B351)*IF($A351=Datos!$D$24,$C351,IF($A351=Datos!$D$25,$D351,$E351)),\"-\")","v":"-"}]
[0,{"$f":"Datos!C55","v":""},{"$f":"1/(Datos!$G313*8760)*Datos!$AC313*$F$87","v":{"$error":"#VALUE!"}},{"$f":"Datos!$H313*Datos!$AC313*$F$87","v":{"$error":"#VALUE!"}},{"$f":"Datos!$J313*Datos!$S313*$F$87","v":{"$error":"#VALUE!"}},{"$f":"IFERROR(SUMIFS(Datos!D:D,Datos!$A:$A,$A352,Datos!$C:$C,$B352)*IF($A352=Datos!$D$24,$C352,IF($A352=Datos!$D$25,$D352,$E352)),\"-\")","v":"-"}]
[0,{"$f":"Datos!C56","v":""},{"$f":"1/(Datos!$G314*8760)*Datos!$AC314*$F$87","v":{"$error":"#VALUE!"}},{"$f":"Datos!$H314*Datos!$AC314*$F$87","v":{"$error":"#VALUE!"}},{"$f":"Datos!$J314*Datos!$S314*$F$87","v":{"$error":"#VALUE!"}},{"$f":"IFERROR(SUMIFS(Datos!D:D,Datos!$A:$A,$A353,Datos!$C:$C,$B353)*IF($A353=Datos!$D$24,$C353,IF($A353=Datos!$D$25,$D353,$E353)),\"-\")","v":"-"}]
["Energia",{"$f":"Datos!C57","v":""},{"$f":"1/(Datos!$G315*8760)*Datos!$AC315*$F$87","v":{"$error":"#VALUE!"}},{"$f":"Datos!$H315*Datos!$AC315*$F$87","v":{"$error":"#VALUE!"}},{"$f":"Datos!$J315*Datos!$S315*$F$87","v":{"$error":"#VALUE!"}},{"$f":"IFERROR(SUMIFS(Datos!D:D,Datos!$A:$A,$A354,Datos!$C:$C,$B354)*IF($A354=Datos!$D$24,$C354,IF($A354=Datos!$D$25,$D354,$E354)),\"-\")","v":"-"}]
["Energia",{"$f":"Datos!C58","v":""},{"$f":"1/(Datos!$G316*8760)*Datos!$AC316*$F$87","v":{"$error":"#VALUE!"}},{"$f":"Datos!$H316*Datos!$AC316*$F$87","v":{"$error":"#VALUE!"}},{"$f":"Datos!$J316*Datos!$S316*$F$87","v":{"$error":"#VALUE!"}},{"$f":"IFERROR(SUMIFS(Datos!D:D,Datos!$A:$A,$A355,Datos!$C:$C,$B355)*IF($A355=Datos!$D$24,$C355,IF($A355=Datos!$D$25,$D355,$E355)),\"-\")","v":"-"}]
[0,{"$f":"Datos!C59","v":""},{"$f":"1/(Datos!$G317*8760)*Datos!$AC317*$F$87","v":{"$error":"#VALUE!"}},{"$f":"Datos!$H317*Datos!$AC317*$F$87","v":{"$error":"#VALUE!"}},{"$f":"Datos!$J317*Datos!$S317*$F$87","v":{"$error":"#VALUE!"}},{"$f":"IFERROR(SUMIFS(Datos!D:D,Datos!$A:$A,$A356,Datos!$C:$C,$B356)*IF($A356=Datos!$D$24,$C356,IF($A356=Datos!$D$25,$D356,$E356)),\"-\")","v":"-"}]
["Energia",{"$f":"Datos!C60","v":"MTD"},{"$f":"1/(Datos!$G318*8760)*Datos!$AC318*$F$87","v":1.4541043045359779E-4},{"$f":"Datos!$H318*Datos!$AC318*$F$87","v":0.71450648210017553},{"$f":"Datos!$J318*Datos!$S318*$F$87","v":0.74368442669187451},{"$f":"IFERROR(SUMIFS(Datos!D:D,Datos!$A:$A,$A357,Datos!$C:$C,$B357)*IF($A357=Datos!$D$24,$C357,IF($A357=Datos!$D$25,$D357,$E357)),\"-\")","v":117.71603113130413}]
["Energia",{"$f":"Datos!C61","v":"MTH"},{"$f":"1/(Datos!$G319*8760)*Datos!$AC319*$F$87","v":1.2625416022998996E-4},{"$f":"Datos!$H319*Datos!$AC319*$F$87","v":0.64374083122602899},{"$f":"Datos!$J319*Datos!$S319*$F$87","v":0.65381051377183697},{"$f":"IFERROR(SUMIFS(Datos!D:D,Datos!$A:$A,$A358,Datos!$C:$C,$B358)*IF($A358=Datos!$D$24,$C358,IF($A358=Datos!$D$25,$D358,$E358)),\"-\")","v":21.008855258524882}]
[0,{"$f":"Datos!C62","v":""},{"$f":"1/(Datos!$G320*8760)*Datos!$AC320*$F$87","v":{"$error":"#VALUE!"}},{"$f":"Datos!$H320*Datos!$AC320*$F$87","v":{"$error":"#VALUE!"}},{"$f":"Datos!$J320*Datos!$S320*$F$87","v":{"$error":"#VALUE!"}},{"$f":"IFERROR(SUMIFS(Datos!D:D,Datos!$A:$A,$A359,Datos!$C:$C,$B359)*IF($A359=Datos!$D$24,$C359,IF($A359=Datos!$D$25,$D359,$E359)),\"-\")","v":"-"}]
[0,{"$f":"Datos!C63","v":""},{"$f":"1/(Datos!$G321*8760)*Datos!$AC321*$F$87","v":{"$error":"#VALUE!"}},{"$f":"Datos!$H321*Datos!$AC321*$F$87","v":{"$error":"#VALUE!"}},{"$f":"Datos!$J321*Datos!$S321*$F$87","v":{"$error":"#VALUE!"}},{"$f":"IFERROR(SUMIFS(Datos!D:D,Datos!$A:$A,$A360,Datos!$C:$C,$B360)*IF($A360=Datos!$D$24,$C360,IF($A360=Datos!$D$25,$D360,$E360)),\"-\")","v":"-"}]
[0,{"$f":"Datos!C64","v":""},{"$f":"1/(Datos!$G322*8760)*Datos!$AC322*$F$87","v":{"$error":"#VALUE!"}},{"$f":"Datos!$H322*Datos!$AC322*$F$87","v":{"$error":"#VALUE!"}},{"$f":"Datos!$J322*Datos!$S322*$F$87","v":{"$error":"#VALUE!"}},{"$f":"IFERROR(SUMIFS(Datos!D:D,Datos!$A:$A,$A361,Datos!$C:$C,$B361)*IF($A361=Datos!$D$24,$C361,IF($A361=Datos!$D$25,$D361,$E361)),\"-\")","v":"-"}]
[0,{"$f":"Datos!C65","v":""},{"$f":"1/(Datos!$G323*8760)*Datos!$AC323*$F$87","v":{"$error":"#VALUE!"}},{"$f":"Datos!$H323*Datos!$AC323*$F$87","v":{"$error":"#VALUE!"}},{"$f":"Datos!$J323*Datos!$S323*$F$87","v":{"$error":"#VALUE!"}},{"$f":"IFERROR(SUMIFS(Datos!D:D,Datos!$A:$A,$A362,Datos!$C:$C,$B362)*IF($A362=Datos!$D$24,$C362,IF($A362=Datos!$D$25,$D362,$E362)),\"-\")","v":"-"}]
[0,{"$f":"Datos!C66","v":""},{"$f":"1/(Datos!$G324*8760)*Datos!$AC324*$F$87","v":{"$error":"#VALUE!"}},{"$f":"Datos!$H324*Datos!$AC324*$F$87","v":{"$error":"#VALUE!"}},{"$f":"Datos!$J324*Datos!$S324*$F$87","v":{"$error":"#VALUE!"}},{"$f":"IFERROR(SUMIFS(Datos!D:D,Datos!$A:$A,$A363,Datos!$C:$C,$B363)*IF($A363=Datos!$D$24,$C363,IF($A363=Datos!$D$25,$D363,$E363)),\"-\")","v":"-"}]
[0,{"$f":"Datos!C67","v":""},{"$f":"1/(Datos!$G325*8760)*Datos!$AC325*$F$87","v":{"$error":"#VALUE!"}},{"$f":"Datos!$H325*Datos!$AC325*$F$87","v":{"$error":"#VALUE!"}},{"$f":"Datos!$J325*Datos!$S325*$F$87","v":{"$error":"#VALUE!"}},{"$f":"IFERROR(SUMIFS(Datos!D:D,Datos!$A:$A,$A364,Datos!$C:$C,$B364)*IF($A364=Datos!$D$24,$C364,IF($A364=Datos!$D$25,$D364,$E364)),\"-\")","v":"-"}]
[0,{"$f":"Datos!C68","v":""},{"$f":"1/(Datos!$G326*8760)*Datos!$AC326*$F$87","v":{"$error":"#VALUE!"}},{"$f":"Datos!$H326*Datos!$AC326*$F$87","v":{"$error":"#VALUE!"}},{"$f":"Datos!$J326*Datos!$S326*$F$87","v":{"$error":"#VALUE!"}},{"$f":"IFERROR(SUMIFS(Datos!D:D,Datos!$A:$A,$A365,Datos!$C:$C,$B365)*IF($A365=Datos!$D$24,$C365,IF($A365=Datos!$D$25,$D365,$E365)),\"-\")","v":"-"}]
[0,{"$f":"Datos!C69","v":""},{"$f":"1/(Datos!$G327*8760)*Datos!$AC327*$F$87","v":{"$error":"#VALUE!"}},{"$f":"Datos!$H327*Datos!$AC327*$F$87","v":{"$error":"#VALUE!"}},{"$f":"Datos!$J327*Datos!$S327*$F$87","v":{"$error":"#VALUE!"}},{"$f":"IFERROR(SUMIFS(Datos!D:D,Datos!$A:$A,$A366,Datos!$C:$C,$B366)*IF($A366=Datos!$D$24,$C366,IF($A366=Datos!$D$25,$D366,$E366)),\"-\")","v":"-"}]
[0,{"$f":"Datos!C70","v":""},{"$f":"1/(Datos!$G328*8760)*Datos!$AC328*$F$87","v":{"$error":"#VALUE!"}},{"$f":"Datos!$H328*Datos!$AC328*$F$87","v":{"$error":"#VALUE!"}},{"$f":"Datos!$J328*Datos!$S328*$F$87","v":{"$error":"#VALUE!"}},{"$f":"IFERROR(SUMIFS(Datos!D:D,Datos!$A:$A,$A367,Datos!$C:$C,$B367)*IF($A367=Datos!$D$24,$C367,IF($A367=Datos!$D$25,$D367,$E367)),\"-\")","v":"-"}]
[null,"Pérdida MT",null,null,null,{"$f":"SUM(F347:F367)*(Balance!F74-1)","v":21.739442438808833}]
[null,"Potencia MT coincidente con Máx AT",null,null,null,{"$f":"SUM(F347:F368)","v":542.4634087984208}]
[{"$f":"Datos!D458","v":0},{"$f":"Datos!C71","v":""},{"$f":"1/(Datos!$G329*8760)*Datos!$AC329*$F$87","v":{"$error":"#VALUE!"}},{"$f":"Datos!$H329*Datos!$AC329*$F$87","v":{"$error":"#VALUE!"}},{"$f":"Datos!$J329*Datos!$S329*$F$87","v":{"$error":"#VALUE!"}},{"$f":"IFERROR(SUMIFS(Datos!D:D,Datos!$A:$A,$A370,Datos!$C:$C,$B370)*IF($A370=Datos!$D$24,$C370,IF($A370=Datos!$D$25,$D370,$E370)),\"-\")","v":"-"}]
[{"$f":"Datos!D459","v":0},{"$f":"Datos!C72","v":""},{"$f":"1/(Datos!$G330*8760)*Datos!$AC330*$F$87","v":{"$error":"#VALUE!"}},{"$f":"Datos!$H330*Datos!$AC330*$F$87","v":{"$error":"#VALUE!"}},{"$f":"Datos!$J330*Datos!$S330*$F$87","v":{"$error":"#VALUE!"}},{"$f":"IFERROR(SUMIFS(Datos!D:D,Datos!$A:$A,$A371,Datos!$C:$C,$B371)*IF($A371=Datos!$D$24,$C371,IF($A371=Datos!$D$25,$D371,$E371)),\"-\")","v":"-"}]
[{"$f":"Datos!D460","v":0},{"$f":"Datos!C73","v":""},{"$f":"1/(Datos!$G331*8760)*Datos!$AC331*$F$87","v":{"$error":"#VALUE!"}},{"$f":"Datos!$H331*Datos!$AC331*$F$87","v":{"$error":"#VALUE!"}},{"$f":"Datos!$J331*Datos!$S331*$F$87","v":{"$error":"#VALUE!"}},{"$f":"IFERROR(SUMIFS(Datos!D:D,Datos!$A:$A,$A372,Datos!$C:$C,$B372)*IF($A372=Datos!$D$24,$C372,IF($A372=Datos!$D$25,$D372,$E372)),\"-\")","v":"-"}]
[{"$f":"Datos!D461","v":0},{"$f":"Datos!C74","v":""},{"$f":"1/(Datos!$G332*8760)*Datos!$AC332*$F$87","v":{"$error":"#VALUE!"}},{"$f":"Datos!$H332*Datos!$AC332*$F$87","v":{"$error":"#VALUE!"}},{"$f":"Datos!$J332*Datos!$S332*$F$87","v":{"$error":"#VALUE!"}},{"$f":"IFERROR(SUMIFS(Datos!D:D,Datos!$A:$A,$A373,Datos!$C:$C,$B373)*IF($A373=Datos!$D$24,$C373,IF($A373=Datos!$D$25,$D373,$E373)),\"-\")","v":"-"}]
[{"$f":"Datos!D462","v":0},{"$f":"Datos!C75","v":""},{"$f":"1/(Datos!$G333*8760)*Datos!$AC333*$F$87","v":{"$error":"#VALUE!"}},{"$f":"Datos!$H333*Datos!$AC333*$F$87","v":{"$error":"#VALUE!"}},{"$f":"Datos!$J333*Datos!$S333*$F$87","v":{"$error":"#VALUE!"}},{"$f":"IFERROR(SUMIFS(Datos!D:D,Datos!$A:$A,$A374,Datos!$C:$C,$B374)*IF($A374=Datos!$D$24,$C374,IF($A374=Datos!$D$25,$D374,$E374)),\"-\")","v":"-"}]
[{"$f":"Datos!D463","v":0},{"$f":"Datos!C76","v":""},{"$f":"1/(Datos!$G334*8760)*Datos!$AC334*$F$87","v":{"$error":"#VALUE!"}},{"$f":"Datos!$H334*Datos!$AC334*$F$87","v":{"$error":"#VALUE!"}},{"$f":"Datos!$J334*Datos!$S334*$F$87","v":{"$error":"#VALUE!"}},{"$f":"IFERROR(SUMIFS(Datos!D:D,Datos!$A:$A,$A375,Datos!$C:$C,$B375)*IF($A375=Datos!$D$24,$C375,IF($A375=Datos!$D$25,$D375,$E375)),\"-\")","v":"-"}]
[{"$f":"Datos!D464","v":0},{"$f":"Datos!C77","v":""},{"$f":"1/(Datos!$G335*8760)*Datos!$AC335*$F$87","v":{"$error":"#VALUE!"}},{"$f":"Datos!$H335*Datos!$AC335*$F$87","v":{"$error":"#VALUE!"}},{"$f":"Datos!$J335*Datos!$S335*$F$87","v":{"$error":"#VALUE!"}},{"$f":"IFERROR(SUMIFS(Datos!D:D,Datos!$A:$A,$A376,Datos!$C:$C,$B376)*IF($A376=Datos!$D$24,$C376,IF($A376=Datos!$D$25,$D376,$E376)),\"-\")","v":"-"}]
[{"$f":"Datos!D465","v":0},{"$f":"Datos!C78","v":""},{"$f":"1/(Datos!$G336*8760)*Datos!$AC336*$F$87","v":{"$error":"#VALUE!"}},{"$f":"Datos!$H336*Datos!$AC336*$F$87","v":{"$error":"#VALUE!"}},{"$f":"Datos!$J336*Datos!$S336*$F$87","v":{"$error":"#VALUE!"}},{"$f":"IFERROR(SUMIFS(Datos!D:D,Datos!$A:$A,$A377,Datos!$C:$C,$B377)*IF($A377=Datos!$D$24,$C377,IF($A377=Datos!$D$25,$D377,$E377)),\"-\")","v":"-"}]
[{"$f":"Datos!D466","v":0},{"$f":"Datos!C79","v":""},{"$f":"1/(Datos!$G337*8760)*Datos!$AC337*$F$87","v":{"$error":"#VALUE!"}},{"$f":"Datos!$H337*Datos!$AC337*$F$87","v":{"$error":"#VALUE!"}},{"$f":"Datos!$J337*Datos!$S337*$F$87","v":{"$error":"#VALUE!"}},{"$f":"IFERROR(SUMIFS(Datos!D:D,Datos!$A:$A,$A378,Datos!$C:$C,$B378)*IF($A378=Datos!$D$24,$C378,IF($A378=Datos!$D$25,$D378,$E378)),\"-\")","v":"-"}]
[{"$f":"Datos!D467","v":0},{"$f":"Datos!C80","v":""},{"$f":"1/(Datos!$G338*8760)*Datos!$AC338*$F$87","v":{"$error":"#VALUE!"}},{"$f":"Datos!$H338*Datos!$AC338*$F$87","v":{"$error":"#VALUE!"}},{"$f":"Datos!$J338*Datos!$S338*$F$87","v":{"$error":"#VALUE!"}},{"$f":"IFERROR(SUMIFS(Datos!D:D,Datos!$A:$A,$A379,Datos!$C:$C,$B379)*IF($A379=Datos!$D$24,$C379,IF($A379=Datos!$D$25,$D379,$E379)),\"-\")","v":"-"}]
[{"$f":"Datos!D468","v":"Energia"},{"$f":"Datos!C81","v":""},{"$f":"1/(Datos!$G339*8760)*Datos!$AC339*$F$87","v":{"$error":"#VALUE!"}},{"$f":"Datos!$H339*Datos!$AC339*$F$87","v":{"$error":"#VALUE!"}},{"$f":"Datos!$J339*Datos!$S339*$F$87","v":{"$error":"#VALUE!"}},{"$f":"IFERROR(SUMIFS(Datos!D:D,Datos!$A:$A,$A380,Datos!$C:$C,$B380)*IF($A380=Datos!$D$24,$C380,IF($A380=Datos!$D$25,$D380,$E380)),\"-\")","v":"-"}]
[{"$f":"Datos!D469","v":"Energia"},{"$f":"Datos!C82","v":""},{"$f":"1/(Datos!$G340*8760)*Datos!$AC340*$F$87","v":{"$error":"#VALUE!"}},{"$f":"Datos!$H340*Datos!$AC340*$F$87","v":{"$error":"#VALUE!"}},{"$f":"Datos!$J340*Datos!$S340*$F$87","v":{"$error":"#VALUE!"}},{"$f":"IFERROR(SUMIFS(Datos!D:D,Datos!$A:$A,$A381,Datos!$C:$C,$B381)*IF($A381=Datos!$D$24,$C381,IF($A381=Datos!$D$25,$D381,$E381)),\"-\")","v":"-"}]
[{"$f":"Datos!D470","v":"Energia"},{"$f":"Datos!C83","v":"ATD"},{"$f":"1/(Datos!$G341*8760)*Datos!$AC341*$F$87","v":1.1221083883918012E-4},{"$f":"Datos!$H341*Datos!$AC341*$F$87","v":0.89936136842999082},{"$f":"Datos!$J341*Datos!$S341*$F$87","v":0.8993613684299907},{"$f":"IFERROR(SUMIFS(Datos!D:D,Datos!$A:$A,$A382,Datos!$C:$C,$B382)*IF($A382=Datos!$D$24,$C382,IF($A382=Datos!$D$25,$D382,$E382)),\"-\")","v":7.1994428192774054}]
[{"$f":"Datos!D471","v":"Energia"},{"$f":"Datos!C84","v":"ATH"},{"$f":"1/(Datos!$G342*8760)*Datos!$AC342*$F$87","v":1.1369316923420656E-4},{"$f":"Datos!$H342*Datos!$AC342*$F$87","v":0.91241228931725171},{"$f":"Datos!$J342*Datos!$S342*$F$87","v":0.91913108378939634},{"$f":"IFERROR(SUMIFS(Datos!D:D,Datos!$A:$A,$A383,Datos!$C:$C,$B383)*IF($A383=Datos!$D$24,$C383,IF($A383=Datos!$D$25,$D383,$E383)),\"-\")","v":36.293460755552651}]
[{"$f":"Datos!D472","v":"Energia"},{"$f":"Datos!C85","v":"EDEMET"},{"$f":"1/(Datos!$G343*8760)*Datos!$AC343*$F$87","v":1.4348028122932943E-4},{"$f":"Datos!$H343*Datos!$AC343*$F$87","v":0.91362141612833758},{"$f":"Datos!$J343*Datos!$S343*$F$87","v":0.95924055843327061},{"$f":"IFERROR(SUMIFS(Datos!D:D,Datos!$A:$A,$A384,Datos!$C:$C,$B384)*IF($A384=Datos!$D$24,$C384,IF($A384=Datos!$D$25,$D384,$E384)),\"-\")","v":38.423878128617687}]
[{"$f":"Datos!D473","v":0},{"$f":"Datos!C86","v":""},{"$f":"1/(Datos!$G344*8760)*Datos!$AC344*$F$87","v":{"$error":"#VALUE!"}},{"$f":"Datos!$H344*Datos!$AC344*$F$87","v":{"$error":"#VALUE!"}},{"$f":"Datos!$J344*Datos!$S344*$F$87","v":{"$error":"#VALUE!"}},{"$f":"IFERROR(SUMIFS(Datos!D:D,Datos!$A:$A,$A385,Datos!$C:$C,$B385)*IF($A385=Datos!$D$24,$C385,IF($A385=Datos!$D$25,$D385,$E385)),\"-\")","v":"-"}]
[{"$f":"Datos!D474","v":0},{"$f":"Datos!C87","v":""},{"$f":"1/(Datos!$G345*8760)*Datos!$AC345*$F$87","v":{"$error":"#VALUE!"}},{"$f":"Datos!$H345*Datos!$AC345*$F$87","v":{"$error":"#VALUE!"}},{"$f":"Datos!$J345*Datos!$S345*$F$87","v":{"$error":"#VALUE!"}},{"$f":"IFERROR(SUMIFS(Datos!D:D,Datos!$A:$A,$A386,Datos!$C:$C,$B386)*IF($A386=Datos!$D$24,$C386,IF($A386=Datos!$D$25,$D386,$E386)),\"-\")","v":"-"}]
[{"$f":"Datos!D475","v":0},{"$f":"Datos!C88","v":""},{"$f":"1/(Datos!$G346*8760)*Datos!$AC346*$F$87","v":{"$error":"#VALUE!"}},{"$f":"Datos!$H346*Datos!$AC346*$F$87","v":{"$error":"#VALUE!"}},{"$f":"Datos!$J346*Datos!$S346*$F$87","v":{"$error":"#VALUE!"}},{"$f":"IFERROR(SUMIFS(Datos!D:D,Datos!$A:$A,$A387,Datos!$C:$C,$B387)*IF($A387=Datos!$D$24,$C387,IF($A387=Datos!$D$25,$D387,$E387)),\"-\")","v":"-"}]
[{"$f":"Datos!D476","v":0},{"$f":"Datos!C89","v":""},{"$f":"1/(Datos!$G347*8760)*Datos!$AC347*$F$87","v":{"$error":"#VALUE!"}},{"$f":"Datos!$H347*Datos!$AC347*$F$87","v":{"$error":"#VALUE!"}},{"$f":"Datos!$J347*Datos!$S347*$F$87","v":{"$error":"#VALUE!"}},{"$f":"IFERROR(SUMIFS(Datos!D:D,Datos!$A:$A,$A388,Datos!$C:$C,$B388)*IF($A388=Datos!$D$24,$C388,IF($A388=Datos!$D$25,$D388,$E388)),\"-\")","v":"-"}]
[{"$f":"Datos!D477","v":0},{"$f":"Datos!C90","v":""},{"$f":"1/(Datos!$G348*8760)*Datos!$AC348*$F$87","v":{"$error":"#VALUE!"}},{"$f":"Datos!$H348*Datos!$AC348*$F$87","v":{"$error":"#VALUE!"}},{"$f":"Datos!$J348*Datos!$S348*$F$87","v":{"$error":"#VALUE!"}},{"$f":"IFERROR(SUMIFS(Datos!D:D,Datos!$A:$A,$A389,Datos!$C:$C,$B389)*IF($A389=Datos!$D$24,$C389,IF($A389=Datos!$D$25,$D389,$E389)),\"-\")","v":"-"}]
[null,"Pérdida AT",null,null,null,{"$f":"SUM(F369:F389)*(Balance!F75-1)","v":4.4553142551504372}]
[null,"Potencia Máxima AT",null,null,null,{"$f":"SUM(F369:F390)","v":628.83550475701907}]
[null,"Potencia Máxima AT objetivo",null,null,null,{"$f":"Datos!D16","v":628.83550482984924}]
[null,"Diferencia",null,null,null,{"$f":"F391-F392","v":-7.2830175668059383E-8}]