{"text_format":"1","workbook":"xlsx","n_sheets":6,"sheets":["Parametros","Energ_operada","Info_Perdidas","Info_AP","Datos","Balance"],"not_rendered":{"charts":0,"images":0,"macros":1,"external_links":7,"defined_names":0,"comments":1,"pivot_tables":0},"unopened":[],"bounds":{"document_bytes":16777216,"sheet_cells":100000,"rows_first":2000,"rows_last":500,"rows_between":2000,"halvings":0,"cell_chars":16384,"cell_head_chars":4096},"cells_cut":0,"cells_raw":0,"read":"whole","date_system":"1900"}

{"sheet":"Parametros","index":0,"n_rows":39,"n_cols":5,"rows_kept":39,"cut":false,"hidden":false,"merged":[]}
[]
[]
["aux",null,"Año base","año","mes"]
[{"$f":"D4&E4","v":"20201"},"2020-01-01",null,{"$f":"YEAR(B4)","v":2020},{"$f":"MONTH(B4)","v":1}]
[{"$f":"D5&E5","v":"20202"},"2020-02-01",null,{"$f":"YEAR(B5)","v":2020},{"$f":"MONTH(B5)","v":2}]
["20203","2020-03-01",null,2020,3]
["20204","2020-04-01",null,2020,4]
["20205","2020-05-01",null,2020,5]
["20206","2020-06-01",null,2020,6]
["20207","2020-07-01",null,2020,7]
["20208","2020-08-01",null,2020,8]
["20209","2020-09-01",1,2020,9]
["202010","2020-10-01",1,2020,10]
["202011","2020-11-01",1,2020,11]
["202012","2020-12-01",1,2020,12]
["20211","2021-01-01",1,2021,1]
["20212","2021-02-01",1,2021,2]
["20213","2021-03-01",1,2021,3]
["20214","2021-04-01",1,2021,4]
["20215","2021-05-01",1,2021,5]
["20216","2021-06-01",1,2021,6]
["20217","2021-07-01",1,2021,7]
["20218","2021-08-01",1,2021,8]
["20219","2021-09-01",null,2021,9]
["202110","2021-10-01",null,2021,10]
["202111","2021-11-01",null,2021,11]
["202112","2021-12-01",null,2021,12]
["20221","2022-01-01",null,2022,1]
["20222","2022-02-01",null,2022,2]
["20223","2022-03-01",null,2022,3]
["20224","2022-04-01",null,2022,4]
["20225","2022-05-01",null,2022,5]
["20226","2022-06-01",null,2022,6]
["20227","2022-07-01",null,2022,7]
["20228","2022-08-01",null,2022,8]
["20229","2022-09-01",null,2022,9]
["202210","2022-10-01",null,2022,10]
["202211","2022-11-01",null,2022,11]
["202212","2022-12-01",null,2022,12]

{"sheet":"Energ_operada","index":1,"n_rows":66,"n_cols":31,"rows_kept":66,"cut":false,"hidden":false,"merged":[]}
[]
[]
[{"$f":"[1]Cuadro!A3","v":"Detalles"},{"$f":"[1]Cuadro!ED3","v":"2020-01-01"},{"$f":"[1]Cuadro!EE3","v":"2020-02-01"},{"$f":"[1]Cuadro!EF3","v":"2020-03-01"},{"$f":"[1]Cuadro!EG3","v":"2020-04-01"},{"$f":"[1]Cuadro!EH3","v":"2020-05-01"},{"$f":"[1]Cuadro!EI3","v":"2020-06-01"},{"$f":"[1]Cuadro!EJ3","v":"2020-07-01"},{"$f":"[1]Cuadro!EK3","v":"2020-08-01"},{"$f":"[1]Cuadro!EL3","v":"2020-09-01"},{"$f":"[1]Cuadro!EM3","v":"2020-10-01"},{"$f":"[1]Cuadro!EN3","v":"2020-11-01"},{"$f":"[1]Cuadro!EO3","v":"2020-12-01"},{"$f":"[1]Cuadro!EP3","v":"2021-01-01"},{"$f":"[1]Cuadro!EQ3","v":"2021-02-01"},{"$f":"[1]Cuadro!ER3","v":"2021-03-01"},{"$f":"[1]Cuadro!ES3","v":"2021-04-01"},{"$f":"[1]Cuadro!ET3","v":"2021-05-01"},{"$f":"[1]Cuadro!EU3","v":"2021-06-01"},{"$f":"[1]Cuadro!EV3","v":"2021-07-01"},{"$f":"[1]Cuadro!EW3","v":"2021-08-01"},{"$f":"[1]Cuadro!EX3","v":"2021-09-01"},{"$f":"[1]Cuadro!EY3","v":"2021-10-01"},{"$f":"[1]Cuadro!EZ3","v":"2021-11-01"},{"$f":"[1]Cuadro!FA3","v":"2021-12-01"},{"$f":"[1]Cuadro!FB3","v":"2022-01-01"},{"$f":"[1]Cuadro!FC3","v":"2022-02-01"},{"$f":"[1]Cuadro!FD3","v":"2022-03-01"},{"$f":"[1]Cuadro!FE3","v":"2022-04-01"},{"$f":"[1]Cuadro!FF3","v":"2022-05-01"},{"$f":"[1]Cuadro!FG3","v":"2022-06-01"}]
[{"$f":"[1]Cuadro!A4","v":"Compra SIN"},{"$f":"[1]Cuadro!ED4","v":297187.43396370002},{"$f":"[1]Cuadro!EE4","v":275202.70556850004},{"$f":"[1]Cuadro!EF4","v":292520.87843759998},{"$f":"[1]Cuadro!EG4","v":260708.93501289998},{"$f":"[1]Cuadro!EH4","v":275905.41398720001},{"$f":"[1]Cuadro!EI4","v":261549.14822270002},{"$f":"[1]Cuadro!EJ4","v":264836.68307360006},{"$f":"[1]Cuadro!EK4","v":266009.23019999999},{"$f":"[1]Cuadro!EL4","v":262998.12206199998},{"$f":"[1]Cuadro!EM4","v":278484.49376119999},{"$f":"[1]Cuadro!EN4","v":257261.022},{"$f":"[1]Cuadro!EO4","v":278534.32778500003},{"$f":"[1]Cuadro!EP4","v":269445.6437215},{"$f":"[1]Cuadro!EQ4","v":255527.0359442},{"$f":"[1]Cuadro!ER4","v":287028.36350839998},{"$f":"[1]Cuadro!ES4","v":280968.0282993},{"$f":"[1]Cuadro!ET4","v":290943.76189169998},{"$f":"[1]Cuadro!EU4","v":277626.38690380001},{"$f":"[1]Cuadro!EV4","v":291128.24979269999},{"$f":"[1]Cuadro!EW4","v":286056.0543756999},{"$f":"[1]Cuadro!EX4","v":275729.05665320001},{"$f":"[1]Cuadro!EY4","v":288590.57394660002},{"$f":"[1]Cuadro!EZ4","v":263889.39665219997},{"$f":"[1]Cuadro!FA4","v":289456.45445610001},{"$f":"[1]Cuadro!FB4","v":284495.23517500004},{"$f":"[1]Cuadro!FC4","v":261406.86210659999},{"$f":"[1]Cuadro!FD4","v":297083.10399999999},{"$f":"[1]Cuadro!FE4","v":0},{"$f":"[1]Cuadro!FF4","v":0},{"$f":"[1]Cuadro!FG4","v":0}]
[{"$f":"[1]Cuadro!A5","v":"Compra Sistemas Regionales"},{"$f":"[1]Cuadro!ED5","v":5652.3003900000003},{"$f":"[1]Cuadro!EE5","v":5420.01919257996},{"$f":"[1]Cuadro!EF5","v":5577.0569124174499},{"$f":"[1]Cuadro!EG5","v":5092.1501729772899},{"$f":"[1]Cuadro!EH5","v":5371.5238106674096},{"$f":"[1]Cuadro!EI5","v":5161.8947591805099},{"$f":"[1]Cuadro!EJ5","v":5279.384},{"$f":"[1]Cuadro!EK5","v":5365.4369999999999},{"$f":"[1]Cuadro!EL5","v":5228.4269999999997},{"$f":"[1]Cuadro!EM5","v":5510.3040000000001},{"$f":"[1]Cuadro!EN5","v":5288.2440000000006},{"$f":"[1]Cuadro!EO5","v":5590.2670000000007},{"$f":"[1]Cuadro!EP5","v":5584.2079999999996},{"$f":"[1]Cuadro!EQ5","v":5301.308},{"$f":"[1]Cuadro!ER5","v":5879.8029999999999},{"$f":"[1]Cuadro!ES5","v":5912.799},{"$f":"[1]Cuadro!ET5","v":5794.59},{"$f":"[1]Cuadro!EU5","v":5638.9549999999999},{"$f":"[1]Cuadro!EV5","v":6013.4670000000006},{"$f":"[1]Cuadro!EW5","v":5863.6089999999995},{"$f":"[1]Cuadro!EX5","v":5615.8239999999996},{"$f":"[1]Cuadro!EY5","v":5962.5280000000002},{"$f":"[1]Cuadro!EZ5","v":5800.8270000000002},{"$f":"[1]Cuadro!FA5","v":5954.5839999999998},{"$f":"[1]Cuadro!FB5","v":5950.89},{"$f":"[1]Cuadro!FC5","v":5493.19},{"$f":"[1]Cuadro!FD5","v":6260.777},{"$f":"[1]Cuadro!FE5","v":0},{"$f":"[1]Cuadro!FF5","v":0},{"$f":"[1]Cuadro!FG5","v":0}]
[{"$f":"[1]Cuadro!A6","v":"Compra ACP"},{"$f":"[1]Cuadro!ED6","v":-68.632999999999996},{"$f":"[1]Cuadro!EE6","v":-52.834000000000003},{"$f":"[1]Cuadro!EF6","v":-60.055999999999997},{"$f":"[1]Cuadro!EG6","v":-43.484999999999999},{"$f":"[1]Cuadro!EH6","v":-42.923000000000002},{"$f":"[1]Cuadro!EI6","v":-77.33},{"$f":"[1]Cuadro!EJ6","v":-104.24},{"$f":"[1]Cuadro!EK6","v":-47.335000000000001},{"$f":"[1]Cuadro!EL6","v":-65.971999999999994},{"$f":"[1]Cuadro!EM6","v":-42.847999999999999},{"$f":"[1]Cuadro!EN6","v":-37.384999999999998},{"$f":"[1]Cuadro!EO6","v":-75.498000000000005},{"$f":"[1]Cuadro!EP6","v":-54.88},{"$f":"[1]Cuadro!EQ6","v":-63.688000000000002},{"$f":"[1]Cuadro!ER6","v":-55.633000000000003},{"$f":"[1]Cuadro!ES6","v":-63.582000000000001},{"$f":"[1]Cuadro!ET6","v":-61.082999999999998},{"$f":"[1]Cuadro!EU6","v":-52.585000000000001},{"$f":"[1]Cuadro!EV6","v":-49.671999999999997},{"$f":"[1]Cuadro!EW6","v":-62.521999999999998},{"$f":"[1]Cuadro!EX6","v":-51.323},{"$f":"[1]Cuadro!EY6","v":-55.145000000000003},{"$f":"[1]Cuadro!EZ6","v":-66.298000000000002},{"$f":"[1]Cuadro!FA6","v":-59.682000000000002},{"$f":"[1]Cuadro!FB6","v":-60.302999999999997},{"$f":"[1]Cuadro!FC6","v":-58.771999999999998},{"$f":"[1]Cuadro!FD6","v":-57.268000000000001},{"$f":"[1]Cuadro!FE6","v":0},{"$f":"[1]Cuadro!FF6","v":0},{"$f":"[1]Cuadro!FG6","v":0}]
[{"$f":"[1]Cuadro!A7","v":"Puntos Frontera con EDEMET"},{"$f":"[1]Cuadro!ED7","v":0},{"$f":"[1]Cuadro!EE7","v":0},{"$f":"[1]Cuadro!EF7","v":0},{"$f":"[1]Cuadro!EG7","v":0},{"$f":"[1]Cuadro!EH7","v":0},{"$f":"[1]Cuadro!EI7","v":0},{"$f":"[1]Cuadro!EJ7","v":0},{"$f":"[1]Cuadro!EK7","v":0},{"$f":"[1]Cuadro!EL7","v":0},{"$f":"[1]Cuadro!EM7","v":0},{"$f":"[1]Cuadro!EN7","v":0},{"$f":"[1]Cuadro!EO7","v":0},{"$f":"[1]Cuadro!EP7","v":0},{"$f":"[1]Cuadro!EQ7","v":0},{"$f":"[1]Cuadro!ER7","v":0},{"$f":"[1]Cuadro!ES7","v":0},{"$f":"[1]Cuadro!ET7","v":0},{"$f":"[1]Cuadro!EU7","v":0},{"$f":"[1]Cuadro!EV7","v":0},{"$f":"[1]Cuadro!EW7","v":0},{"$f":"[1]Cuadro!EX7","v":0},{"$f":"[1]Cuadro!EY7","v":0},{"$f":"[1]Cuadro!EZ7","v":0},{"$f":"[1]Cuadro!FA7","v":0},{"$f":"[1]Cuadro!FB7","v":0},{"$f":"[1]Cuadro!FC7","v":330.27600000000001},{"$f":"[1]Cuadro!FD7","v":29.957999999999998},{"$f":"[1]Cuadro!FE7","v":0},{"$f":"[1]Cuadro!FF7","v":0},{"$f":"[1]Cuadro!FG7","v":0}]
[{"$f":"[1]Cuadro!A8","v":"Energia para Grandes Clientes Habilitados"},{"$f":"[1]Cuadro!ED8","v":58986.289685800002},{"$f":"[1]Cuadro!EE8","v":59283.70796449999},{"$f":"[1]Cuadro!EF8","v":58854.021149500004},{"$f":"[1]Cuadro!EG8","v":42334.672383000005},{"$f":"[1]Cuadro!EH8","v":45966.732003100005},{"$f":"[1]Cuadro!EI8","v":46986.795069699998},{"$f":"[1]Cuadro!EJ8","v":51636.6629082},{"$f":"[1]Cuadro!EK8","v":53247.203697999998},{"$f":"[1]Cuadro!EL8","v":49954.956504599999},{"$f":"[1]Cuadro!EM8","v":60781.564274699995},{"$f":"[1]Cuadro!EN8","v":53327.559296400002},{"$f":"[1]Cuadro!EO8","v":62444.257456199994},{"$f":"[1]Cuadro!EP8","v":53980.831914200004},{"$f":"[1]Cuadro!EQ8","v":56611.182539499998},{"$f":"[1]Cuadro!ER8","v":71795.044574500003},{"$f":"[1]Cuadro!ES8","v":66373.245977400002},{"$f":"[1]Cuadro!ET8","v":71264.515911499999},{"$f":"[1]Cuadro!EU8","v":67470.408968000003},{"$f":"[1]Cuadro!EV8","v":70991.170548299997},{"$f":"[1]Cuadro!EW8","v":69694.837293799996},{"$f":"[1]Cuadro!EX8","v":66413.704664299992},{"$f":"[1]Cuadro!EY8","v":73896.518043200005},{"$f":"[1]Cuadro!EZ8","v":68177.96104580001},{"$f":"[1]Cuadro!FA8","v":74357.41474349999},{"$f":"[1]Cuadro!FB8","v":71804.754455600007},{"$f":"[1]Cuadro!FC8","v":64258.705571299994},{"$f":"[1]Cuadro!FD8","v":75116.223612200003},{"$f":"[1]Cuadro!FE8","v":0},{"$f":"[1]Cuadro!FF8","v":0},{"$f":"[1]Cuadro!FG8","v":0}]
[{"$f":"[1]Cuadro!A9","v":"Compra sin 115-11"},{"$f":"[1]Cuadro!ED9","v":361757.39103950001},{"$f":"[1]Cuadro!EE9","v":339853.59872558003},{"$f":"[1]Cuadro!EF9","v":356891.90049951745},{"$f":"[1]Cuadro!EG9","v":308092.27256887732},{"$f":"[1]Cuadro!EH9","v":327200.74680096738},{"$f":"[1]Cuadro!EI9","v":313620.50805158052},{"$f":"[1]Cuadro!EJ9","v":321648.48998180008},{"$f":"[1]Cuadro!EK9","v":324574.53589799994},{"$f":"[1]Cuadro!EL9","v":318115.5335666},{"$f":"[1]Cuadro!EM9","v":344733.51403590001},{"$f":"[1]Cuadro!EN9","v":315839.44029639999},{"$f":"[1]Cuadro!EO9","v":346493.35424120002},{"$f":"[1]Cuadro!EP9","v":328955.80363569997},{"$f":"[1]Cuadro!EQ9","v":317375.8384837},{"$f":"[1]Cuadro!ER9","v":364647.57808290003},{"$f":"[1]Cuadro!ES9","v":353190.49127669999},{"$f":"[1]Cuadro!ET9","v":367941.78480320005},{"$f":"[1]Cuadro!EU9","v":350683.16587180004},{"$f":"[1]Cuadro!EV9","v":368083.215341},{"$f":"[1]Cuadro!EW9","v":361551.97866949986},{"$f":"[1]Cuadro!EX9","v":347707.26231750008},{"$f":"[1]Cuadro!EY9","v":368394.47498980002},{"$f":"[1]Cuadro!EZ9","v":337801.88669799996},{"$f":"[1]Cuadro!FA9","v":369708.77119960001},{"$f":"[1]Cuadro!FB9","v":362190.57663060003},{"$f":"[1]Cuadro!FC9","v":331430.26167789998},{"$f":"[1]Cuadro!FD9","v":378432.7946122},{"$f":"[1]Cuadro!FE9","v":0},{"$f":"[1]Cuadro!FF9","v":0},{"$f":"[1]Cuadro!FG9","v":0}]
[{"$f":"[1]Cuadro!A10","v":"Energia hacia EDEMET (115-11)"},{"$f":"[1]Cuadro!ED10","v":26945.780102000001},{"$f":"[1]Cuadro!EE10","v":28992.890417999999},{"$f":"[1]Cuadro!EF10","v":30088.822493000003},{"$f":"[1]Cuadro!EG10","v":23107.317803999995},{"$f":"[1]Cuadro!EH10","v":25597.234205000001},{"$f":"[1]Cuadro!EI10","v":20257.841209999999},{"$f":"[1]Cuadro!EJ10","v":19951.77967},{"$f":"[1]Cuadro!EK10","v":21408.467329999999},{"$f":"[1]Cuadro!EL10","v":21699.936128000001},{"$f":"[1]Cuadro!EM10","v":22561.858493},{"$f":"[1]Cuadro!EN10","v":17722.137954999998},{"$f":"[1]Cuadro!EO10","v":22267.179968},{"$f":"[1]Cuadro!EP10","v":22360.020304000001},{"$f":"[1]Cuadro!EQ10","v":24970.733021},{"$f":"[1]Cuadro!ER10","v":31069.698711000001},{"$f":"[1]Cuadro!ES10","v":28961.348077999999},{"$f":"[1]Cuadro!ET10","v":26861.499554000002},{"$f":"[1]Cuadro!EU10","v":22902.839297000002},{"$f":"[1]Cuadro!EV10","v":24950.920050000001},{"$f":"[1]Cuadro!EW10","v":20428.89919},{"$f":"[1]Cuadro!EX10","v":18203.714343299998},{"$f":"[1]Cuadro!EY10","v":23592.30963},{"$f":"[1]Cuadro!EZ10","v":22869.593427},{"$f":"[1]Cuadro!FA10","v":28039.920995},{"$f":"[1]Cuadro!FB10","v":24347.234606999999},{"$f":"[1]Cuadro!FC10","v":12897.676647},{"$f":"[1]Cuadro!FD10","v":21749.914134999999},{"$f":"[1]Cuadro!FE10","v":0},{"$f":"[1]Cuadro!FF10","v":0},{"$f":"[1]Cuadro!FG10","v":0}]
[{"$f":"[1]Cuadro!A11","v":"COMPRA TOTAL"},{"$f":"[1]Cuadro!ED11","v":388703.1711415},{"$f":"[1]Cuadro!EE11","v":368846.48914358002},{"$f":"[1]Cuadro!EF11","v":386980.72299251746},{"$f":"[1]Cuadro!EG11","v":331199.59037287731},{"$f":"[1]Cuadro!EH11","v":352797.98100596736},{"$f":"[1]Cuadro!EI11","v":333878.3492615805},{"$f":"[1]Cuadro!EJ11","v":341600.2696518001},{"$f":"[1]Cuadro!EK11","v":345983.00322799996},{"$f":"[1]Cuadro!EL11","v":339815.46969459997},{"$f":"[1]Cuadro!EM11","v":367295.37252889998},{"$f":"[1]Cuadro!EN11","v":333561.57825139997},{"$f":"[1]Cuadro!EO11","v":368760.53420920001},{"$f":"[1]Cuadro!EP11","v":351315.82393969997},{"$f":"[1]Cuadro!EQ11","v":342346.5715047},{"$f":"[1]Cuadro!ER11","v":395717.2767939},{"$f":"[1]Cuadro!ES11","v":382151.8393547},{"$f":"[1]Cuadro!ET11","v":394803.28435720003},{"$f":"[1]Cuadro!EU11","v":373586.00516880007},{"$f":"[1]Cuadro!EV11","v":393034.13539100002},{"$f":"[1]Cuadro!EW11","v":381980.87785949989},{"$f":"[1]Cuadro!EX11","v":365910.97666080005},{"$f":"[1]Cuadro!EY11","v":391986.78461979999},{"$f":"[1]Cuadro!EZ11","v":360671.48012499994},{"$f":"[1]Cuadro!FA11","v":397748.69219460001},{"$f":"[1]Cuadro!FB11","v":386537.81123760005},{"$f":"[1]Cuadro!FC11","v":344327.93832489999},{"$f":"[1]Cuadro!FD11","v":400182.70874719997},{"$f":"[1]Cuadro!FE11","v":0},{"$f":"[1]Cuadro!FF11","v":0},{"$f":"[1]Cuadro!FG11","v":0}]
[]
[]
[]
[]
["mes","Compra total","año base"]
[{"$f":"TRANSPOSE(B3:AY3)","v":"2020-01-01"},{"$f":"TRANSPOSE(B11:AY11)","v":388703.1711415},{"$f":"Parametros!C4","v":0}]
["2020-02-01",368846.48914358002,{"$f":"Parametros!C5","v":0}]
["2020-03-01",386980.72299251746,{"$f":"Parametros!C6","v":0}]
["2020-04-01",331199.59037287731,{"$f":"Parametros!C7","v":0}]
["2020-05-01",352797.98100596736,{"$f":"Parametros!C8","v":0}]
["2020-06-01",333878.3492615805,{"$f":"Parametros!C9","v":0}]
["2020-07-01",341600.2696518001,{"$f":"Parametros!C10","v":0}]
["2020-08-01",345983.00322799996,{"$f":"Parametros!C11","v":0}]
["2020-09-01",339815.46969459997,{"$f":"Parametros!C12","v":1}]
["2020-10-01",367295.37252889998,{"$f":"Parametros!C13","v":1}]
["2020-11-01",333561.57825139997,{"$f":"Parametros!C14","v":1}]
["2020-12-01",368760.53420920001,{"$f":"Parametros!C15","v":1}]
["2021-01-01",351315.82393969997,{"$f":"Parametros!C16","v":1}]
["2021-02-01",342346.5715047,{"$f":"Parametros!C17","v":1}]
["2021-03-01",395717.2767939,{"$f":"Parametros!C18","v":1}]
["2021-04-01",382151.8393547,{"$f":"Parametros!C19","v":1}]
["2021-05-01",394803.28435720003,{"$f":"Parametros!C20","v":1}]
["2021-06-01",373586.00516880007,{"$f":"Parametros!C21","v":1}]
["2021-07-01",393034.13539100002,{"$f":"Parametros!C22","v":1}]
["2021-08-01",381980.87785949989,{"$f":"Parametros!C23","v":1}]
["2021-09-01",365910.97666080005,{"$f":"Parametros!C24","v":0}]
["2021-10-01",391986.78461979999,{"$f":"Parametros!C25","v":0}]
["2021-11-01",360671.48012499994,{"$f":"Parametros!C26","v":0}]
["2021-12-01",397748.69219460001,{"$f":"Parametros!C27","v":0}]
["2022-01-01",386537.81123760005,{"$f":"Parametros!C28","v":0}]
["2022-02-01",344327.93832489999,{"$f":"Parametros!C29","v":0}]
["2022-03-01",400182.70874719997,{"$f":"Parametros!C30","v":0}]
["2022-04-01",0,{"$f":"Parametros!C31","v":0}]
["2022-05-01",0,{"$f":"Parametros!C32","v":0}]
["2022-06-01",0,{"$f":"Parametros!C33","v":0}]
["00:00:00",0,{"$f":"Parametros!C34","v":0}]
["00:00:00",0,{"$f":"Parametros!C35","v":0}]
["00:00:00",0,{"$f":"Parametros!C36","v":0}]
["00:00:00",0,{"$f":"Parametros!C37","v":0}]
["00:00:00",0,{"$f":"Parametros!C38","v":0}]
["00:00:00",0,{"$f":"Parametros!C39","v":0}]
["00:00:00",0,{"$f":"Parametros!C40","v":0}]
["00:00:00",0,{"$f":"Parametros!C41","v":0}]
["00:00:00",0,{"$f":"Parametros!C42","v":0}]
["00:00:00",0,{"$f":"Parametros!C43","v":0}]
["00:00:00",0,{"$f":"Parametros!C44","v":0}]
["00:00:00",0,{"$f":"Parametros!C45","v":0}]
["00:00:00",0,{"$f":"Parametros!C46","v":0}]
["00:00:00",0,{"$f":"Parametros!C47","v":0}]
["00:00:00",0,{"$f":"Parametros!C48","v":0}]
["00:00:00",0,{"$f":"Parametros!C49","v":0}]
["00:00:00",0,{"$f":"Parametros!C50","v":0}]
["00:00:00",0,{"$f":"Parametros!C51","v":0}]
["00:00:00",0,{"$f":"Parametros!C52","v":0}]
["00:00:00",0,{"$f":"Parametros!C53","v":0}]

{"sheet":"Info_Perdidas","index":2,"n_rows":45,"n_cols":9,"rows_kept":45,"cut":false,"hidden":false,"merged":[]}
[]
[]
[]
[]
[]
[]
[]
[null,"Pérdidas (MWh)"]
[null,"PT BT","PT MT","PT AT (sin Edemet)","PT Edemet","PT AT total","PNT","Total","Año base"]
["2020-01-01",{"$f":"SUM([2]Cuadro!AM55:AO55)","v":5499},{"$f":"SUM([2]Cuadro!AP55:AR55)","v":12543.545223655414},{"$f":"SUM([2]Cuadro!AS55:AU55)","v":3101},{"$f":"-([2]Cuadro!AE55-[2]Cuadro!B55)-[2]Cuadro!AD55","v":188.62046071400982},{"$f":"D10+E10","v":3289.6204607140098},{"$f":"SUM([2]Cuadro!BN55:BP55)","v":17229.906784561903},{"$f":"SUM(B10:E10,G10)","v":38562.072468931321},{"$f":"Parametros!C4","v":0}]
["2020-02-01",{"$f":"SUM([2]Cuadro!AM56:AO56)","v":5066},{"$f":"SUM([2]Cuadro!AP56:AR56)","v":11807.383070965889},{"$f":"SUM([2]Cuadro!AS56:AU56)","v":3158},{"$f":"-([2]Cuadro!AE56-[2]Cuadro!B56)-[2]Cuadro!AD56","v":202.95023292598125},{"$f":"D11+E11","v":3360.9502329259813},{"$f":"SUM([2]Cuadro!BN56:BP56)","v":18024.202925640842},{"$f":"SUM(B11:E11,G11)","v":38258.536229532707},{"$f":"Parametros!C5","v":0}]
["2020-03-01",{"$f":"SUM([2]Cuadro!AM57:AO57)","v":5448},{"$f":"SUM([2]Cuadro!AP57:AR57)","v":12018.323065084924},{"$f":"SUM([2]Cuadro!AS57:AU57)","v":3262},{"$f":"-([2]Cuadro!AE57-[2]Cuadro!B57)-[2]Cuadro!AD57","v":210.62175745096829},3472.6217574509683,{"$f":"SUM([2]Cuadro!BN57:BP57)","v":23245.577204790254},44184.522027326144,{"$f":"Parametros!C6","v":0}]
["2020-04-01",{"$f":"SUM([2]Cuadro!AM58:AO58)","v":4783},{"$f":"SUM([2]Cuadro!AP58:AR58)","v":11778.652745633062},{"$f":"SUM([2]Cuadro!AS58:AU58)","v":2320},{"$f":"-([2]Cuadro!AE58-[2]Cuadro!B58)-[2]Cuadro!AD58","v":161.75122462800209},2481.7512246280021,{"$f":"SUM([2]Cuadro!BN58:BP58)","v":24145.677223213206},43189.081193474267,{"$f":"Parametros!C7","v":0}]
["2020-05-01",{"$f":"SUM([2]Cuadro!AM59:AO59)","v":5422},{"$f":"SUM([2]Cuadro!AP59:AR59)","v":12548.12862197283},{"$f":"SUM([2]Cuadro!AS59:AU59)","v":2463},{"$f":"-([2]Cuadro!AE59-[2]Cuadro!B59)-[2]Cuadro!AD59","v":179.18063943500965},2642.1806394350097,{"$f":"SUM([2]Cuadro!BN59:BP59)","v":26439.488225403737},47051.797486811571,{"$f":"Parametros!C8","v":0}]
["2020-06-01",{"$f":"SUM([2]Cuadro!AM60:AO60)","v":4989},{"$f":"SUM([2]Cuadro!AP60:AR60)","v":12291.932446772757},{"$f":"SUM([2]Cuadro!AS60:AU60)","v":2334},{"$f":"-([2]Cuadro!AE60-[2]Cuadro!B60)-[2]Cuadro!AD60","v":141.80488846999651},2475.8048884699965,{"$f":"SUM([2]Cuadro!BN60:BP60)","v":24101.552443858924},43858.289779101673,{"$f":"Parametros!C9","v":0}]
["2020-07-01",{"$f":"SUM([2]Cuadro!AM61:AO61)","v":4907},{"$f":"SUM([2]Cuadro!AP61:AR61)","v":12099.003021974957},{"$f":"SUM([2]Cuadro!AS61:AU61)","v":2385},{"$f":"-([2]Cuadro!AE61-[2]Cuadro!B61)-[2]Cuadro!AD61","v":139.66245769001034},2524.6624576900103,{"$f":"SUM([2]Cuadro!BN61:BP61)","v":26281.261531510605},45811.927011175576,{"$f":"Parametros!C10","v":0}]
["2020-08-01",{"$f":"SUM([2]Cuadro!AM62:AO62)","v":5030},{"$f":"SUM([2]Cuadro!AP62:AR62)","v":12136.21},{"$f":"SUM([2]Cuadro!AS62:AU62)","v":2372},{"$f":"-([2]Cuadro!AE62-[2]Cuadro!B62)-[2]Cuadro!AD62","v":149.85927130998607},2521.8592713099861,{"$f":"SUM([2]Cuadro!BN62:BP62)","v":19217.080538712416},38905.149810022398,{"$f":"Parametros!C11","v":0}]
["2020-09-01",{"$f":"SUM([2]Cuadro!AM63:AO63)","v":4903},{"$f":"SUM([2]Cuadro!AP63:AR63)","v":12393.469409582081},{"$f":"SUM([2]Cuadro!AS63:AU63)","v":2333},{"$f":"-([2]Cuadro!AE63-[2]Cuadro!B63)-[2]Cuadro!AD63","v":151.8995528959822},2484.8995528959822,{"$f":"SUM([2]Cuadro!BN63:BP63)","v":22427.100347383624},42208.469309861684,{"$f":"Parametros!C12","v":1}]
["2020-10-01",{"$f":"SUM([2]Cuadro!AM64:AO64)","v":5063},{"$f":"SUM([2]Cuadro!AP64:AR64)","v":12644.0200073656},{"$f":"SUM([2]Cuadro!AS64:AU64)","v":2584},{"$f":"-([2]Cuadro!AE64-[2]Cuadro!B64)-[2]Cuadro!AD64","v":157.93300945100054},2741.9330094510005,{"$f":"SUM([2]Cuadro!BN64:BP64)","v":24722.235320767741},45171.188337584346,{"$f":"Parametros!C13","v":1}]
["2020-11-01",{"$f":"SUM([2]Cuadro!AM65:AO65)","v":4788},{"$f":"SUM([2]Cuadro!AP65:AR65)","v":12004},{"$f":"SUM([2]Cuadro!AS65:AU65)","v":2479},{"$f":"-([2]Cuadro!AE65-[2]Cuadro!B65)-[2]Cuadro!AD65","v":124.05496568499075},2603.0549656849907,{"$f":"SUM([2]Cuadro!BN65:BP65)","v":15863.248996846705},35258.303962531696,{"$f":"Parametros!C14","v":1}]
["2020-12-01",{"$f":"SUM([2]Cuadro!AM66:AO66)","v":5085},{"$f":"SUM([2]Cuadro!AP66:AR66)","v":12705.872241907959},{"$f":"SUM([2]Cuadro!AS66:AU66)","v":2518},{"$f":"-([2]Cuadro!AE66-[2]Cuadro!B66)-[2]Cuadro!AD66","v":155.87025977596932},2673.8702597759693,{"$f":"SUM([2]Cuadro!BN66:BP66)","v":22063.421952776098},42528.164454460028,{"$f":"Parametros!C15","v":1}]
["2021-01-01",{"$f":"SUM([2]Cuadro!AM67:AO67)","v":5043},{"$f":"SUM([2]Cuadro!AP67:AR67)","v":12414},{"$f":"SUM([2]Cuadro!AS67:AU67)","v":2703},{"$f":"-([2]Cuadro!AE67-[2]Cuadro!B67)-[2]Cuadro!AD67","v":156.52014212796712},2859.5201421279671,{"$f":"SUM([2]Cuadro!BN67:BP67)","v":20281.71462636381},40598.234768491777,{"$f":"Parametros!C16","v":1}]
["2021-02-01",{"$f":"SUM([2]Cuadro!AM68:AO68)","v":4758},{"$f":"SUM([2]Cuadro!AP68:AR68)","v":12060},{"$f":"SUM([2]Cuadro!AS68:AU68)","v":2470},{"$f":"-([2]Cuadro!AE68-[2]Cuadro!B68)-[2]Cuadro!AD68","v":174.79513114699512},2644.7951311469951,{"$f":"SUM([2]Cuadro!BN68:BP68)","v":15930.720983959474},35393.516115106468,{"$f":"Parametros!C17","v":1}]
["2021-03-01",{"$f":"SUM([2]Cuadro!AM69:AO69)","v":5331},{"$f":"SUM([2]Cuadro!AP69:AR69)","v":13679.689151863746},{"$f":"SUM([2]Cuadro!AS69:AU69)","v":3104},{"$f":"-([2]Cuadro!AE69-[2]Cuadro!B69)-[2]Cuadro!AD69","v":217.48789097700501},3321.487890977005,{"$f":"SUM([2]Cuadro!BN69:BP69)","v":23574.493367075051},45906.670409915801,{"$f":"Parametros!C18","v":1}]
["2021-04-01",{"$f":"SUM([2]Cuadro!AM70:AO70)","v":5309},{"$f":"SUM([2]Cuadro!AP70:AR70)","v":13514.281676653913},{"$f":"SUM([2]Cuadro!AS70:AU70)","v":2779},{"$f":"-([2]Cuadro!AE70-[2]Cuadro!B70)-[2]Cuadro!AD70","v":202.72943654602204},2981.729436546022,{"$f":"SUM([2]Cuadro!BN70:BP70)","v":17821.947962954426},39626.959076154359,{"$f":"Parametros!C19","v":1}]
["2021-05-01",{"$f":"SUM([2]Cuadro!AM71:AO71)","v":5485.9666666666662},{"$f":"SUM([2]Cuadro!AP71:AR71)","v":13872.193134061741},{"$f":"SUM([2]Cuadro!AS71:AU71)","v":3057},{"$f":"-([2]Cuadro!AE71-[2]Cuadro!B71)-[2]Cuadro!AD71","v":188.03049687799648},3245.0304968779965,{"$f":"SUM([2]Cuadro!BN71:BP71)","v":17506.200225550947},40109.390523157352,{"$f":"Parametros!C20","v":1}]
["2021-06-01",{"$f":"SUM([2]Cuadro!AM72:AO72)","v":5315.7131383917804},{"$f":"SUM([2]Cuadro!AP72:AR72)","v":13279.823712511865},{"$f":"SUM([2]Cuadro!AS72:AU72)","v":2825.9264380647223},{"$f":"-([2]Cuadro!AE72-[2]Cuadro!B72)-[2]Cuadro!AD72","v":160.31987507902159},2986.2463131437439,{"$f":"SUM([2]Cuadro!BN72:BP72)","v":17020.312359975687},38602.095524023076,{"$f":"Parametros!C21","v":1}]
["2021-07-01",{"$f":"SUM([2]Cuadro!AM73:AO73)","v":5477.960376808297},{"$f":"SUM([2]Cuadro!AP73:AR73)","v":13688.903276433643},{"$f":"SUM([2]Cuadro!AS73:AU73)","v":2746},{"$f":"-([2]Cuadro!AE73-[2]Cuadro!B73)-[2]Cuadro!AD73","v":174.65644035002333},2920.6564403500233,{"$f":"SUM([2]Cuadro!BN73:BP73)","v":23523.237867225162},45610.757960817122,{"$f":"Parametros!C22","v":1}]
["2021-08-01",{"$f":"SUM([2]Cuadro!AM74:AO74)","v":5420.638260552355},{"$f":"SUM([2]Cuadro!AP74:AR74)","v":13651.203608627804},{"$f":"SUM([2]Cuadro!AS74:AU74)","v":2465},{"$f":"-([2]Cuadro!AE74-[2]Cuadro!B74)-[2]Cuadro!AD74","v":143.00229432998822},2608.0022943299882,{"$f":"SUM([2]Cuadro!BN74:BP74)","v":15923.724162312803},37603.568325822955,{"$f":"Parametros!C23","v":1}]
["2021-09-01",{"$f":"SUM([2]Cuadro!AM75:AO75)","v":5212.3882495376884},{"$f":"SUM([2]Cuadro!AP75:AR75)","v":13331.419232094047},{"$f":"SUM([2]Cuadro!AS75:AU75)","v":2247},{"$f":"-([2]Cuadro!AE75-[2]Cuadro!B75)-[2]Cuadro!AD75","v":127.42600040311299},2374.426000403113,{"$f":"SUM([2]Cuadro!BN75:BP75)","v":18191.301681062036},39109.53516309688,{"$f":"Parametros!C24","v":0}]
["2021-10-01",{"$f":"SUM([2]Cuadro!AM76:AO76)","v":5423.2282021555548},{"$f":"SUM([2]Cuadro!AP76:AR76)","v":13141.878820427273},{"$f":"SUM([2]Cuadro!AS76:AU76)","v":2660.382053960986},{"$f":"-([2]Cuadro!AE76-[2]Cuadro!B76)-[2]Cuadro!AD76","v":165.14616740999918},2825.5282213709852,{"$f":"SUM([2]Cuadro!BN76:BP76)","v":18873.691331851092},40264.326575804909,{"$f":"Parametros!C25","v":0}]
["2021-11-01",{"$f":"SUM([2]Cuadro!AM77:AO77)","v":4992.2897492017782},{"$f":"SUM([2]Cuadro!AP77:AR77)","v":12877.62954641346},{"$f":"SUM([2]Cuadro!AS77:AU77)","v":2542.0158088613193},{"$f":"-([2]Cuadro!AE77-[2]Cuadro!B77)-[2]Cuadro!AD77","v":160.08715398902132},2702.1029628503406,{"$f":"SUM([2]Cuadro!BN77:BP77)","v":12799.572225722817},33371.594484188397,{"$f":"Parametros!C26","v":0}]
["2021-12-01",{"$f":"SUM([2]Cuadro!AM78:AO78)","v":5088.3340376220967},{"$f":"SUM([2]Cuadro!AP78:AR78)","v":15054.534868760282},{"$f":"SUM([2]Cuadro!AS78:AU78)","v":2606.9814331855505},{"$f":"-([2]Cuadro!AE78-[2]Cuadro!B78)-[2]Cuadro!AD78","v":196.279446965018},2803.2608801505685,{"$f":"SUM([2]Cuadro!BN78:BP78)","v":21781.349899883695},44727.479686416642,{"$f":"Parametros!C27","v":0}]
["2022-01-01",{"$f":"SUM([2]Cuadro!AM79:AO79)","v":5304.5600179815401},{"$f":"SUM([2]Cuadro!AP79:AR79)","v":14466.23796433433},{"$f":"SUM([2]Cuadro!AS79:AU79)","v":2604.7171811394473},{"$f":"-([2]Cuadro!AE79-[2]Cuadro!B79)-[2]Cuadro!AD79","v":170.4306422489899},2775.1478233884372,{"$f":"SUM([2]Cuadro!BN79:BP79)","v":12949.920336754232},35495.866142458544,{"$f":"Parametros!C28","v":0}]
["2022-02-01",{"$f":"SUM([2]Cuadro!AM80:AO80)","v":4828.7653701574509},{"$f":"SUM([2]Cuadro!AP80:AR80)","v":13404.110165096306},{"$f":"SUM([2]Cuadro!AS80:AU80)","v":2351.5281433846058},{"$f":"-([2]Cuadro!AE80-[2]Cuadro!B80)-[2]Cuadro!AD80","v":90.283736528974259},2441.81187991358,{"$f":"SUM([2]Cuadro!BN80:BP80)","v":12323.908511477628},32998.595926644964,{"$f":"Parametros!C29","v":0}]
["2022-03-01",{"$f":"SUM([2]Cuadro!AM81:AO81)","v":5319.749275987002},{"$f":"SUM([2]Cuadro!AP81:AR81)","v":13768.085914437996},{"$f":"SUM([2]Cuadro!AS81:AU81)","v":2987.5629493587148},{"$f":"-([2]Cuadro!AE81-[2]Cuadro!B81)-[2]Cuadro!AD81","v":152.24939894498675},3139.8123483037016,{"$f":"SUM([2]Cuadro!BN81:BP81)","v":24158.597005387142},46386.244544115842,{"$f":"Parametros!C30","v":0}]
["2022-04-01"]
["2022-05-01"]
["2022-06-01"]
["2022-07-01"]
["2022-08-01"]
["2022-09-01"]
["2022-10-01"]
["2022-11-01"]
["2022-12-01"]

{"sheet":"Info_AP","index":3,"n_rows":49,"n_cols":4,"rows_kept":49,"cut":false,"hidden":false,"merged":[]}
[null,"AP"]
[null,"MWh"]
[null,"fuente: enviada a ASEP"]
[2020,{"$f":"'[3]Datos Operativos'!$G$46","v":75094.309000000008}]
[2021,{"$f":"'[3]Datos Operativos'!$H$46","v":82122}]
[2022]
[]
[]
[]
[]
[null,"AP","AP","Año base"]
[null,"MWh","MWh"]
[null,"(fuente: informes operativos)","Oficial a ASEP ajustada"]
["2020-01-01",{"$f":"SUM([2]Cuadro!E55:G55)","v":5779.3329999999987},{"$f":"B14/SUM($B$14:$B$25)*$B$4","v":5779.1422969387077},{"$f":"Parametros!C4","v":0}]
["2020-02-01",{"$f":"SUM([2]Cuadro!E56:G56)","v":5797.7139999999999},{"$f":"B15/SUM($B$14:$B$25)*$B$4","v":5797.5226904131869},{"$f":"Parametros!C5","v":0}]
["2020-03-01",{"$f":"SUM([2]Cuadro!E57:G57)","v":5806.7610000000004},5806.569391885555,{"$f":"Parametros!C6","v":0}]
["2020-04-01",{"$f":"SUM([2]Cuadro!E58:G58)","v":5808.0820000000003},5807.8903482959668,{"$f":"Parametros!C7","v":0}]
["2020-05-01",{"$f":"SUM([2]Cuadro!E59:G59)","v":5816.7960000000003},5816.6040607564746,{"$f":"Parametros!C8","v":0}]
["2020-06-01",{"$f":"SUM([2]Cuadro!E60:G60)","v":5828.0060000000003},5827.8136908554288,{"$f":"Parametros!C9","v":0}]
["2020-07-01",{"$f":"SUM([2]Cuadro!E61:G61)","v":6649.9359999999997},6649.71656928843,{"$f":"Parametros!C10","v":0}]
["2020-08-01",{"$f":"SUM([2]Cuadro!E62:G62)","v":6647.86},6647.640637791068,{"$f":"Parametros!C11","v":0}]
["2020-09-01",{"$f":"SUM([2]Cuadro!E63:G63)","v":6698.9000000000005},6698.6789536029019,{"$f":"Parametros!C12","v":1}]
["2020-10-01",{"$f":"SUM([2]Cuadro!E64:G64)","v":6719.5669999999991},6719.3452716452821,{"$f":"Parametros!C13","v":1}]
["2020-11-01",{"$f":"SUM([2]Cuadro!E65:G65)","v":6759.2889999999998},6759.0659609218828,{"$f":"Parametros!C14","v":1}]
["2020-12-01",{"$f":"SUM([2]Cuadro!E66:G66)","v":6784.5429999999997},6784.319127605113,{"$f":"Parametros!C15","v":1}]
["2021-01-01",{"$f":"SUM([2]Cuadro!E67:G67)","v":6822.1539999999995},{"$f":"B26/SUM($B$26:$B$37)*$B$5","v":6822.306110792344},{"$f":"Parametros!C16","v":1}]
["2021-02-01",{"$f":"SUM([2]Cuadro!E68:G68)","v":6935.9350000000004},{"$f":"B27/SUM($B$26:$B$37)*$B$5","v":6936.0896477210135},{"$f":"Parametros!C17","v":1}]
["2021-03-01",{"$f":"SUM([2]Cuadro!E69:G69)","v":7034.2919999999986},7034.4488407470271,{"$f":"Parametros!C18","v":1}]
["2021-04-01",{"$f":"SUM([2]Cuadro!E70:G70)","v":7069.3840000000009},7069.5416231790778,{"$f":"Parametros!C19","v":1}]
["2021-05-01",{"$f":"SUM([2]Cuadro!E71:G71)","v":7089.6129999999994},7089.7710742168583,{"$f":"Parametros!C20","v":1}]
["2021-06-01",{"$f":"SUM([2]Cuadro!E72:G72)","v":7075.799},7075.9567662117215,{"$f":"Parametros!C21","v":1}]
["2021-07-01",{"$f":"SUM([2]Cuadro!E73:G73)","v":6668.3419999999987},6668.4906813087528,{"$f":"Parametros!C22","v":1}]
["2021-08-01",{"$f":"SUM([2]Cuadro!E74:G74)","v":6669.8559999999989},6670.0047150657956,{"$f":"Parametros!C23","v":1}]
["2021-09-01",{"$f":"SUM([2]Cuadro!E75:G75)","v":6677.6160000000009},6677.7648880873603,{"$f":"Parametros!C24","v":0}]
["2021-10-01",{"$f":"SUM([2]Cuadro!E76:G76)","v":6682.9949999999999},6683.144008020734,{"$f":"Parametros!C25","v":0}]
["2021-11-01",{"$f":"SUM([2]Cuadro!E77:G77)","v":6683.9950000000035},6684.1440303173313,{"$f":"Parametros!C26","v":0}]
["2021-12-01",{"$f":"SUM([2]Cuadro!E78:G78)","v":6710.188000000001},6710.3376143319929,{"$f":"Parametros!C27","v":0}]
["2022-01-01",{"$f":"SUM([2]Cuadro!E79:G79)","v":6710.1879999938592},null,{"$f":"Parametros!C28","v":0}]
["2022-02-01",{"$f":"SUM([2]Cuadro!E80:G80)","v":6717.7859999957436},null,{"$f":"Parametros!C29","v":0}]
["2022-03-01",{"$f":"SUM([2]Cuadro!E81:G81)","v":6746.9369999980463},null,{"$f":"Parametros!C30","v":0}]
["2022-04-01",{"$f":"SUM([2]Cuadro!E82:G82)","v":0},null,{"$f":"Parametros!C31","v":0}]
["2022-05-01",{"$f":"SUM([2]Cuadro!E83:G83)","v":0},null,{"$f":"Parametros!C32","v":0}]
["2022-06-01",{"$f":"SUM([2]Cuadro!E84:G84)","v":0},null,{"$f":"Parametros!C33","v":0}]
["2022-07-01",{"$f":"SUM([2]Cuadro!E85:G85)","v":0},null,{"$f":"Parametros!C34","v":0}]
["2022-08-01",{"$f":"SUM([2]Cuadro!E86:G86)","v":0},null,{"$f":"Parametros!C35","v":0}]
["2022-09-01",{"$f":"SUM([2]Cuadro!E87:G87)","v":0},null,{"$f":"Parametros!C36","v":0}]
["2022-10-01",{"$f":"SUM([2]Cuadro!E88:G88)","v":0},null,{"$f":"Parametros!C37","v":0}]
["2022-11-01",{"$f":"SUM([2]Cuadro!E89:G89)","v":0},null,{"$f":"Parametros!C38","v":0}]
["2022-12-01",{"$f":"SUM([2]Cuadro!E90:G90)","v":0},null,{"$f":"Parametros!C39","v":0}]

{"sheet":"Datos","index":4,"n_rows":477,"n_cols":35,"rows_kept":477,"cut":false,"hidden":false,"merged":[]}
[null,null,"Empresa:",{"$f":"[4]DATOS!$B$3","v":"ENSA"}]
[null,null,"Período:",{"$f":"[4]DATOS!B4","v":"Sep 2020 - Ago 2021"}]
[]
[null,null,null,{"$f":"D2","v":"Sep 2020 - Ago 2021"}]
[null,null,"Cantidad semanas al año:",{"$f":"365/7","v":52.142857142857146}]
[null,null,"Horas semanales en punta:",{"$f":"COUNTIF('[5]Balance de Potencia'!$D$7:$D$678,\"P\")/4","v":{"$error":"#VALUE!"}}]
[null,null,"Horas semanales fuera de punta:",{"$f":"24*7-D6","v":{"$error":"#VALUE!"}}]
[]
[null,null,"Energía Inyectada (MWh)"]
[null,null,"AT",{"$f":"[5]INPUTS!$E$18/1000","v":4424368.7690535998}]
[null,null,"% ingresado en Horas Punta",{"$f":"SUMIFS([6]Curva_semana!$C$2:$C$673,'[5]Balance de Potencia'!$D$7:$D$678,\"P\")/SUM([6]Curva_semana!$C$2:$C$673)","v":{"$error":"#VALUE!"}}]
[null,null,"% ingresado en Horas Fuera Punta",{"$f":"1-D11","v":{"$error":"#VALUE!"}}]
[]
[null,null,"Potencias Máximas (MW)"]
[null,null,"Punta",{"$f":"MAX(IF('[5]Balance de Potencia'!$D$7:$D$678=\"P\",[6]Curva_semana!$C$2:$C$673))","v":623.34019148364962}]
[null,null,"Fuera de Punta",{"$f":"MAX(IF('[5]Balance de Potencia'!$D$7:$D$678<>\"P\",[6]Curva_semana!$C$2:$C$673))","v":563.60106282184233}]
[]
[null,null,"Pérdidas de Energía (%) Composición porcentual"]
[null,null,"Pérdida NT BT (%)",{"$f":"Balance!F7/SUM(Balance!$F$7,Balance!$F$8,Balance!$F$11,Balance!$F$14)","v":0.42908931885391688}]
[null,null,"Pérdida T BT (%)",{"$f":"Balance!F8/SUM(Balance!$F$7,Balance!$F$8,Balance!$F$11,Balance!$F$14)","v":0.14044034353714024}]
[null,null,"Pérdida MT (%)",{"$f":"Balance!F11/SUM(Balance!$F$7,Balance!$F$8,Balance!$F$11,Balance!$F$14)","v":0.35326876970616899}]
[null,null,"Pérdida AT (%)",{"$f":"Balance!F14/SUM(Balance!$F$7,Balance!$F$8,Balance!$F$11,Balance!$F$14)","v":7.720156790277391E-2}]
[]
[null,null,"Tipos de medición","Energia"]
[null,null,null,"Pot_Max"]
[null,null,null,"Pot_Max_P"]
[null,null,null,"Pot_Max_FP"]
[]
[null,"Nivel tensión","Energía Facturada (MWh)",{"$f":"D4","v":"Sep 2020 - Ago 2021"}]
[{"$f":"$D$24","v":"Energia"},{"$f":"IF(C30=\"\",\"\",\"BT\")","v":"BT"},{"$f":"TRANSPOSE('[5]Balance de Potencia'!$H$5:$AB$6)","v":"BTS_R"},{"$f":"[4]DATOS!$P$5/1000","v":1475145.4466976146}]
[{"$f":"$D$24","v":"Energia"},"BT","BTS_O",{"$f":"[4]DATOS!$P$15/1000","v":301605.05530238518}]
["Energia","BT","BTD",{"$f":"[4]DATOS!$P$25/1000","v":630462.12699999986}]
["Energia","BT","BTH",{"$f":"[4]DATOS!$P$35/1000","v":8728.4790000000012}]
["Energia","BT","ABTD"]
["Energia","",""]
["Energia","",""]
["Energia","",""]
["Energia","",""]
["Energia","",""]
["Energia","",""]
["Energia","",""]
["Energia","",""]
["Energia","",""]
["Energia","",""]
["Energia","",""]
["Energia","",""]
["Energia","",""]
["Energia","",""]
["Energia","",""]
["Energia","BT","AP",{"$f":"SUMPRODUCT(Info_AP!C14:C49,Info_AP!D14:D49)","v":82328.018773017771}]
["Energia",{"$f":"IF(C51=\"\",\"\",\"MT\")","v":""},{"$f":"TRANSPOSE('[5]Balance de Potencia'!$AF$5:$AY$6)","v":""}]
["Energia",{"$f":"IF(C52=\"\",\"\",\"MT\")","v":""},""]
["Energia","",""]
["Energia","",""]
["Energia","",""]
["Energia","",""]
["Energia","MT","MTD",{"$f":"[4]DATOS!$P$65/1000","v":690721.49599999993}]
["Energia","MT","MTH",{"$f":"[4]DATOS!$P$75/1000","v":153668.693}]
["Energia","MT","AMTD"]
["Energia","",""]
["Energia","",""]
["Energia","",""]
["Energia","",""]
["Energia","",""]
["Energia","",""]
["Energia","",""]
["Energia","",""]
["Energia","",""]
["Energia","",""]
["Energia","",""]
["Energia",{"$f":"IF(C71=\"\",\"\",\"AT\")","v":""},{"$f":"TRANSPOSE('[5]Balance de Potencia'!$BB$5:$BU$6)","v":""}]
["Energia",{"$f":"IF(C72=\"\",\"\",\"AT\")","v":""},""]
["Energia","",""]
["Energia","",""]
["Energia","",""]
["Energia","",""]
["Energia","",""]
["Energia","",""]
["Energia","",""]
["Energia","",""]
["Energia","AT","ATD",{"$f":"[4]DATOS!$P$105/1000","v":79486.02900000001}]
["Energia","AT","ATH",{"$f":"[4]DATOS!$P$115/1000","v":273158.62600000005}]
["Energia","",""]
["Energia","",""]
["Energia","AT","EDEMET",{"$f":"[4]DATOS!$P$145/1000","v":287736.63799999998}]
["Energia","",""]
["Energia","",""]
["Energia","",""]
["Energia","",""]
["Energia","",""]
[null,null,"Total",{"$f":"SUM(D30:D90)","v":3983040.6087730173}]
[]
[]
[null,null,"Suma de potencias máximas leídas (promedio mensual)",{"$f":"D4","v":"Sep 2020 - Ago 2021"}]
[{"$f":"$D$25","v":"Pot_Max"},{"$f":"B30","v":"BT"},{"$f":"C30","v":"BTS_R"}]
[{"$f":"$D$25","v":"Pot_Max"},{"$f":"B31","v":"BT"},"BTS_O"]
["Pot_Max",{"$f":"B32","v":"BT"},"BTD",{"$f":"AVERAGE('[7]Data Real_comerc'!$AQ$129:$BB$129)+AVERAGE('[7]Data Real_comerc'!$AQ$150:$BB$150)","v":205.49366666666668}]
["Pot_Max",{"$f":"B33","v":"BT"},"BTH"]
["Pot_Max",{"$f":"B34","v":"BT"},"ABTD"]
["Pot_Max",{"$f":"B35","v":""},""]
["Pot_Max",{"$f":"B36","v":""},""]
["Pot_Max",{"$f":"B37","v":""},""]
["Pot_Max",{"$f":"B38","v":""},""]
["Pot_Max",{"$f":"B39","v":""},""]
["Pot_Max",{"$f":"B40","v":""},""]
["Pot_Max",{"$f":"B41","v":""},""]
["Pot_Max",{"$f":"B42","v":""},""]
["Pot_Max",{"$f":"B43","v":""},""]
["Pot_Max",{"$f":"B44","v":""},""]
["Pot_Max",{"$f":"B45","v":""},""]
["Pot_Max",{"$f":"B46","v":""},""]
["Pot_Max",{"$f":"B47","v":""},""]
["Pot_Max",{"$f":"B48","v":""},""]
["Pot_Max",{"$f":"B49","v":""},""]
["Pot_Max",{"$f":"B50","v":"BT"},"AP"]
["Pot_Max",{"$f":"B51","v":""},""]
["Pot_Max",{"$f":"B52","v":""},""]
["Pot_Max",{"$f":"B53","v":""},""]
["Pot_Max",{"$f":"B54","v":""},""]
["Pot_Max",{"$f":"B55","v":""},""]
["Pot_Max",{"$f":"B56","v":""},""]
["Pot_Max",{"$f":"B57","v":"MT"},"MTD",{"$f":"AVERAGE('[7]Data Real_comerc'!$AQ$133:$BB$133)+AVERAGE('[7]Data Real_comerc'!$AQ$156:$BB$156)","v":150.16566666666665}]
["Pot_Max",{"$f":"B58","v":"MT"},"MTH"]
["Pot_Max",{"$f":"B59","v":"MT"},"AMTD"]
["Pot_Max",{"$f":"B60","v":""},""]
["Pot_Max",{"$f":"B61","v":""},""]
["Pot_Max",{"$f":"B62","v":""},""]
["Pot_Max",{"$f":"B63","v":""},""]
["Pot_Max",{"$f":"B64","v":""},""]
["Pot_Max",{"$f":"B65","v":""},""]
["Pot_Max",{"$f":"B66","v":""},""]
["Pot_Max",{"$f":"B67","v":""},""]
["Pot_Max",{"$f":"B68","v":""},""]
["Pot_Max",{"$f":"B69","v":""},""]
["Pot_Max",{"$f":"B70","v":""},""]
["Pot_Max",{"$f":"B71","v":""},""]
["Pot_Max",{"$f":"B72","v":""},""]
["Pot_Max",{"$f":"B73","v":""},""]
["Pot_Max",{"$f":"B74","v":""},""]
["Pot_Max",{"$f":"B75","v":""},""]
["Pot_Max",{"$f":"B76","v":""},""]
["Pot_Max",{"$f":"B77","v":""},""]
["Pot_Max",{"$f":"B78","v":""},""]
["Pot_Max",{"$f":"B79","v":""},""]
["Pot_Max",{"$f":"B80","v":""},""]
["Pot_Max",{"$f":"B81","v":"AT"},"ATD",{"$f":"AVERAGE('[7]Data Real_comerc'!$AQ$136:$BB$136)+AVERAGE('[7]Data Real_comerc'!$AQ$162:$BB$162)","v":9.0497499999999995}]
["Pot_Max",{"$f":"B82","v":"AT"},"ATH"]
["Pot_Max",{"$f":"B83","v":""},""]
["Pot_Max",{"$f":"B84","v":""},""]
["Pot_Max",{"$f":"B85","v":"AT"},"EDEMET",{"$f":"AVERAGE('[7]Data Real_comerc'!$AQ$168:$BB$168)","v":62.019416666666672}]
["Pot_Max",{"$f":"B86","v":""},""]
["Pot_Max",{"$f":"B87","v":""},""]
["Pot_Max",{"$f":"B88","v":""},""]
["Pot_Max",{"$f":"B89","v":""},""]
["Pot_Max",{"$f":"B90","v":""},""]
[]
[]
[null,null,"Suma de potencias en horas de punta máximas leídas (promedio mensual)",{"$f":"D4","v":"Sep 2020 - Ago 2021"}]
[{"$f":"$D$26","v":"Pot_Max_P"},{"$f":"B30","v":"BT"},{"$f":"C30","v":"BTS_R"}]
[{"$f":"$D$26","v":"Pot_Max_P"},{"$f":"B31","v":"BT"},"BTS_O"]
["Pot_Max_P",{"$f":"B32","v":"BT"},"BTD"]
["Pot_Max_P",{"$f":"B33","v":"BT"},"BTH",{"$f":"AVERAGE('[7]Data Real_comerc'!$AQ$138:$BB$138)+AVERAGE('[7]Data Real_comerc'!$AQ$152:$BB$152)","v":2.1462499999999998}]
["Pot_Max_P",{"$f":"B34","v":"BT"},"ABTD"]
["Pot_Max_P",{"$f":"B35","v":""},""]
["Pot_Max_P",{"$f":"B36","v":""},""]
["Pot_Max_P",{"$f":"B37","v":""},""]
["Pot_Max_P",{"$f":"B38","v":""},""]
["Pot_Max_P",{"$f":"B39","v":""},""]
["Pot_Max_P",{"$f":"B40","v":""},""]
["Pot_Max_P",{"$f":"B41","v":""},""]
["Pot_Max_P",{"$f":"B42","v":""},""]
["Pot_Max_P",{"$f":"B43","v":""},""]
["Pot_Max_P",{"$f":"B44","v":""},""]
["Pot_Max_P",{"$f":"B45","v":""},""]
["Pot_Max_P",{"$f":"B46","v":""},""]
["Pot_Max_P",{"$f":"B47","v":""},""]
["Pot_Max_P",{"$f":"B48","v":""},""]
["Pot_Max_P",{"$f":"B49","v":""},""]
["Pot_Max_P",{"$f":"B50","v":"BT"},"AP"]
["Pot_Max_P",{"$f":"B51","v":""},""]
["Pot_Max_P",{"$f":"B52","v":""},""]
["Pot_Max_P",{"$f":"B53","v":""},""]
["Pot_Max_P",{"$f":"B54","v":""},""]
["Pot_Max_P",{"$f":"B55","v":""},""]
["Pot_Max_P",{"$f":"B56","v":""},""]
["Pot_Max_P",{"$f":"B57","v":"MT"},"MTD"]
["Pot_Max_P",{"$f":"B58","v":"MT"},"MTH",{"$f":"AVERAGE('[7]Data Real_comerc'!$AQ$142:$BB$142)+AVERAGE('[7]Data Real_comerc'!$AQ$158:$BB$158)","v":29.833416666666665}]
["Pot_Max_P",{"$f":"B59","v":"MT"},"AMTD"]
["Pot_Max_P",{"$f":"B60","v":""},""]
["Pot_Max_P",{"$f":"B61","v":""},""]
["Pot_Max_P",{"$f":"B62","v":""},""]
["Pot_Max_P",{"$f":"B63","v":""},""]
["Pot_Max_P",{"$f":"B64","v":""},""]
["Pot_Max_P",{"$f":"B65","v":""},""]
["Pot_Max_P",{"$f":"B66","v":""},""]
["Pot_Max_P",{"$f":"B67","v":""},""]
["Pot_Max_P",{"$f":"B68","v":""},""]
["Pot_Max_P",{"$f":"B69","v":""},""]
["Pot_Max_P",{"$f":"B70","v":""},""]
["Pot_Max_P",{"$f":"B71","v":""},""]
["Pot_Max_P",{"$f":"B72","v":""},""]
["Pot_Max_P",{"$f":"B73","v":""},""]
["Pot_Max_P",{"$f":"B74","v":""},""]
["Pot_Max_P",{"$f":"B75","v":""},""]
["Pot_Max_P",{"$f":"B76","v":""},""]
["Pot_Max_P",{"$f":"B77","v":""},""]
["Pot_Max_P",{"$f":"B78","v":""},""]
["Pot_Max_P",{"$f":"B79","v":""},""]
["Pot_Max_P",{"$f":"B80","v":""},""]
["Pot_Max_P",{"$f":"B81","v":"AT"},"ATD"]
["Pot_Max_P",{"$f":"B82","v":"AT"},"ATH",{"$f":"AVERAGE('[7]Data Real_comerc'!$AQ$146:$BB$146)+AVERAGE('[7]Data Real_comerc'!$AQ$164:$BB$164)","v":38.070750000000004}]
["Pot_Max_P",{"$f":"B83","v":""},""]
["Pot_Max_P",{"$f":"B84","v":""},""]
["Pot_Max_P",{"$f":"B85","v":"AT"},"EDEMET"]
["Pot_Max_P",{"$f":"B86","v":""},""]
["Pot_Max_P",{"$f":"B87","v":""},""]
["Pot_Max_P",{"$f":"B88","v":""},""]
["Pot_Max_P",{"$f":"B89","v":""},""]
["Pot_Max_P",{"$f":"B90","v":""},""]
[]
[]
[null,null,"Suma de potencias en horas fuera de punta máximas leídas (promedio mensual)",{"$f":"D4","v":"Sep 2020 - Ago 2021"}]
[{"$f":"$D$27","v":"Pot_Max_FP"},{"$f":"B30","v":"BT"},{"$f":"C30","v":"BTS_R"}]
[{"$f":"$D$27","v":"Pot_Max_FP"},{"$f":"B31","v":"BT"},"BTS_O"]
["Pot_Max_FP",{"$f":"B32","v":"BT"},"BTD"]
["Pot_Max_FP",{"$f":"B33","v":"BT"},"BTH",{"$f":"AVERAGE('[7]Data Real_comerc'!$AQ$139:$BB$139)+AVERAGE('[7]Data Real_comerc'!$AQ$153:$BB$153)","v":2.8749999999999996}]
["Pot_Max_FP",{"$f":"B34","v":"BT"},"ABTD"]
["Pot_Max_FP",{"$f":"B35","v":""},""]
["Pot_Max_FP",{"$f":"B36","v":""},""]
["Pot_Max_FP",{"$f":"B37","v":""},""]
["Pot_Max_FP",{"$f":"B38","v":""},""]
["Pot_Max_FP",{"$f":"B39","v":""},""]
["Pot_Max_FP",{"$f":"B40","v":""},""]
["Pot_Max_FP",{"$f":"B41","v":""},""]
["Pot_Max_FP",{"$f":"B42","v":""},""]
["Pot_Max_FP",{"$f":"B43","v":""},""]
["Pot_Max_FP",{"$f":"B44","v":""},""]
["Pot_Max_FP",{"$f":"B45","v":""},""]
["Pot_Max_FP",{"$f":"B46","v":""},""]
["Pot_Max_FP",{"$f":"B47","v":""},""]
["Pot_Max_FP",{"$f":"B48","v":""},""]
["Pot_Max_FP",{"$f":"B49","v":""},""]
["Pot_Max_FP",{"$f":"B50","v":"BT"},"AP"]
["Pot_Max_FP",{"$f":"B51","v":""},""]
["Pot_Max_FP",{"$f":"B52","v":""},""]
["Pot_Max_FP",{"$f":"B53","v":""},""]
["Pot_Max_FP",{"$f":"B54","v":""},""]
["Pot_Max_FP",{"$f":"B55","v":""},""]
["Pot_Max_FP",{"$f":"B56","v":""},""]
["Pot_Max_FP",{"$f":"B57","v":"MT"},"MTD"]
["Pot_Max_FP",{"$f":"B58","v":"MT"},"MTH",{"$f":"AVERAGE('[7]Data Real_comerc'!$AQ$143:$BB$143)+AVERAGE('[7]Data Real_comerc'!$AQ$159:$BB$159)","v":29.793416666666666}]
["Pot_Max_FP",{"$f":"B59","v":"MT"},"AMTD"]
["Pot_Max_FP",{"$f":"B60","v":""},""]
["Pot_Max_FP",{"$f":"B61","v":""},""]
["Pot_Max_FP",{"$f":"B62","v":""},""]
["Pot_Max_FP",{"$f":"B63","v":""},""]
["Pot_Max_FP",{"$f":"B64","v":""},""]
["Pot_Max_FP",{"$f":"B65","v":""},""]
["Pot_Max_FP",{"$f":"B66","v":""},""]
["Pot_Max_FP",{"$f":"B67","v":""},""]
["Pot_Max_FP",{"$f":"B68","v":""},""]
["Pot_Max_FP",{"$f":"B69","v":""},""]
["Pot_Max_FP",{"$f":"B70","v":""},""]
["Pot_Max_FP",{"$f":"B71","v":""},""]
["Pot_Max_FP",{"$f":"B72","v":""},""]
["Pot_Max_FP",{"$f":"B73","v":""},""]
["Pot_Max_FP",{"$f":"B74","v":""},""]
["Pot_Max_FP",{"$f":"B75","v":""},""]
["Pot_Max_FP",{"$f":"B76","v":""},""]
["Pot_Max_FP",{"$f":"B77","v":""},""]
["Pot_Max_FP",{"$f":"B78","v":""},""]
["Pot_Max_FP",{"$f":"B79","v":""},""]
["Pot_Max_FP",{"$f":"B80","v":""},""]
["Pot_Max_FP",{"$f":"B81","v":"AT"},"ATD"]
["Pot_Max_FP",{"$f":"B82","v":"AT"},"ATH",{"$f":"AVERAGE('[7]Data Real_comerc'!$AQ$147:$BB$147)+AVERAGE('[7]Data Real_comerc'!$AQ$165:$BB$165)","v":38.00416666666667}]
["Pot_Max_FP",{"$f":"B83","v":""},""]
["Pot_Max_FP",{"$f":"B84","v":""},""]
["Pot_Max_FP",{"$f":"B85","v":"AT"},"EDEMET"]
["Pot_Max_FP",{"$f":"B86","v":""},""]
["Pot_Max_FP",{"$f":"B87","v":""},""]
["Pot_Max_FP",{"$f":"B88","v":""},""]
["Pot_Max_FP",{"$f":"B89","v":""},""]
["Pot_Max_FP",{"$f":"B90","v":""},""]
[]
[]
[null,null,"Factores Tarifarios"]
[null,"Grupo Homogeneo",null,{"$f":"TRANSPOSE([4]Estimadores!$B$7:$B$38)","v":"rp"},"rr","rv","FC","FSI","FSIP","FSIFP","FSE-BT","FSE-MT","FSE-AT","FSE-BT-P","FSE-MT-P","FSE-AT-P","FSE-BT-FP","FSE-MT-FP","FSE-AT-FP","FCT-BT","FCT-MT","FCT-AT","FdP","FSE-BT-P'","FSE-MT-P'","FSE-AT-P'","FSE-BT-FP'","FSE-MT-FP'","FSE-AT-FP'","FSI-P''","FSI-FP''","FC-P'''","FC-FP'''","Pmax/PMaxP","Pmax/PMaxFP"]
[null,"BTS_R",{"$f":"C223","v":"BTS_R"},{"$f":"IFERROR(INDEX([4]Estimadores!$D$7:$AB$38,MATCH(D$287,[4]Estimadores!$B$7:$B$38,0),MATCH($B288,[4]Estimadores!$D$6:$AB$6,0)),\"-\")","v":0.20938940361639014},{"$f":"IFERROR(INDEX([4]Estimadores!$D$7:$AB$38,MATCH(E$287,[4]Estimadores!$B$7:$B$38,0),MATCH($B288,[4]Estimadores!$D$6:$AB$6,0)),\"-\")","v":0.36276647552060343},{"$f":"IFERROR(INDEX([4]Estimadores!$D$7:$AB$38,MATCH(F$287,[4]Estimadores!$B$7:$B$38,0),MATCH($B288,[4]Estimadores!$D$6:$AB$6,0)),\"-\")","v":0.42784412086300611},{"$f":"IFERROR(INDEX([4]Estimadores!$D$7:$AB$38,MATCH(G$287,[4]Estimadores!$B$7:$B$38,0),MATCH($B288,[4]Estimadores!$D$6:$AB$6,0)),\"-\")","v":0.73044376157207114},{"$f":"IFERROR(INDEX([4]Estimadores!$D$7:$AB$38,MATCH(H$287,[4]Estimadores!$B$7:$B$38,0),MATCH($B288,[4]Estimadores!$D$6:$AB$6,0)),\"-\")","v":0.49608016006053857},{"$f":"IFERROR(INDEX([4]Estimadores!$D$7:$AB$38,MATCH(I$287,[4]Estimadores!$B$7:$B$38,0),MATCH($B288,[4]Estimadores!$D$6:$AB$6,0)),\"-\")","v":0.48382426334596118},{"$f":"IFERROR(INDEX([4]Estimadores!$D$7:$AB$38,MATCH(J$287,[4]Estimadores!$B$7:$B$38,0),MATCH($B288,[4]Estimadores!$D$6:$AB$6,0)),\"-\")","v":0.51306937912818196},{"$f":"IFERROR(INDEX([4]Estimadores!$D$7:$AB$38,MATCH(K$287,[4]Estimadores!$B$7:$B$38,0),MATCH($B288,[4]Estimadores!$D$6:$AB$6,0)),\"-\")","v":0.72276548143147501},{"$f":"IFERROR(INDEX([4]Estimadores!$D$7:$AB$38,MATCH(L$287,[4]Estimadores!$B$7:$B$38,0),MATCH($B288,[4]Estimadores!$D$6:$AB$6,0)),\"-\")","v":0.72276548143147501},{"$f":"IFERROR(INDEX([4]Estimadores!$D$7:$AB$38,MATCH(M$287,[4]Estimadores!$B$7:$B$38,0),MATCH($B288,[4]Estimadores!$D$6:$AB$6,0)),\"-\")","v":0.72276548143147501},{"$f":"IFERROR(INDEX([4]Estimadores!$D$7:$AB$38,MATCH(N$287,[4]Estimadores!$B$7:$B$38,0),MATCH($B288,[4]Estimadores!$D$6:$AB$6,0)),\"-\")","v":0.9890079141387832},{"$f":"IFERROR(INDEX([4]Estimadores!$D$7:$AB$38,MATCH(O$287,[4]Estimadores!$B$7:$B$38,0),MATCH($B288,[4]Estimadores!$D$6:$AB$6,0)),\"-\")","v":0.9890079141387832},{"$f":"IFERROR(INDEX([4]Estimadores!$D$7:$AB$38,MATCH(P$287,[4]Estimadores!$B$7:$B$38,0),MATCH($B288,[4]Estimadores!$D$6:$AB$6,0)),\"-\")","v":0.9890079141387832},{"$f":"IFERROR(INDEX([4]Estimadores!$D$7:$AB$38,MATCH(Q$287,[4]Estimadores!$B$7:$B$38,0),MATCH($B288,[4]Estimadores!$D$6:$AB$6,0)),\"-\")","v":0.96375223047884462},{"$f":"IFERROR(INDEX([4]Estimadores!$D$7:$AB$38,MATCH(R$287,[4]Estimadores!$B$7:$B$38,0),MATCH($B288,[4]Estimadores!$D$6:$AB$6,0)),\"-\")","v":0.86725024243057436},{"$f":"IFERROR(INDEX([4]Estimadores!$D$7:$AB$38,MATCH(S$287,[4]Estimadores!$B$7:$B$38,0),MATCH($B288,[4]Estimadores!$D$6:$AB$6,0)),\"-\")","v":0.86725024243057436},{"$f":"IFERROR(INDEX([4]Estimadores!$D$7:$AB$38,MATCH(T$287,[4]Estimadores!$B$7:$B$38,0),MATCH($B288,[4]Estimadores!$D$6:$AB$6,0)),\"-\")","v":0.35854961571475835},{"$f":"IFERROR(INDEX([4]Estimadores!$D$7:$AB$38,MATCH(U$287,[4]Estimadores!$B$7:$B$38,0),MATCH($B288,[4]Estimadores!$D$6:$AB$6,0)),\"-\")","v":0.35854961571475835},{"$f":"IFERROR(INDEX([4]Estimadores!$D$7:$AB$38,MATCH(V$287,[4]Estimadores!$B$7:$B$38,0),MATCH($B288,[4]Estimadores!$D$6:$AB$6,0)),\"-\")","v":0.35854961571475835},{"$f":"IFERROR(INDEX([4]Estimadores!$D$7:$AB$38,MATCH(W$287,[4]Estimadores!$B$7:$B$38,0),MATCH($B288,[4]Estimadores!$D$6:$AB$6,0)),\"-\")","v":"-"},{"$f":"IFERROR(INDEX([4]Estimadores!$D$7:$AB$38,MATCH(X$287,[4]Estimadores!$B$7:$B$38,0),MATCH($B288,[4]Estimadores!$D$6:$AB$6,0)),\"-\")","v":0.72276548143147501},{"$f":"IFERROR(INDEX([4]Estimadores!$D$7:$AB$38,MATCH(Y$287,[4]Estimadores!$B$7:$B$38,0),MATCH($B288,[4]Estimadores!$D$6:$AB$6,0)),\"-\")","v":0.72276548143147501},{"$f":"IFERROR(INDEX([4]Estimadores!$D$7:$AB$38,MATCH(Z$287,[4]Estimadores!$B$7:$B$38,0),MATCH($B288,[4]Estimadores!$D$6:$AB$6,0)),\"-\")","v":0.72276548143147501},{"$f":"IFERROR(INDEX([4]Estimadores!$D$7:$AB$38,MATCH(AA$287,[4]Estimadores!$B$7:$B$38,0),MATCH($B288,[4]Estimadores!$D$6:$AB$6,0)),\"-\")","v":0.96375223047884462},{"$f":"IFERROR(INDEX([4]Estimadores!$D$7:$AB$38,MATCH(AB$287,[4]Estimadores!$B$7:$B$38,0),MATCH($B288,[4]Estimadores!$D$6:$AB$6,0)),\"-\")","v":0.86725024243057436},{"$f":"IFERROR(INDEX([4]Estimadores!$D$7:$AB$38,MATCH(AC$287,[4]Estimadores!$B$7:$B$38,0),MATCH($B288,[4]Estimadores!$D$6:$AB$6,0)),\"-\")","v":0.86725024243057436},{"$f":"IFERROR(INDEX([4]Estimadores!$D$7:$AB$38,MATCH(AD$287,[4]Estimadores!$B$7:$B$38,0),MATCH($B288,[4]Estimadores!$D$6:$AB$6,0)),\"-\")","v":0.36253462746754583},{"$f":"IFERROR(INDEX([4]Estimadores!$D$7:$AB$38,MATCH(AE$287,[4]Estimadores!$B$7:$B$38,0),MATCH($B288,[4]Estimadores!$D$6:$AB$6,0)),\"-\")","v":0.49608016006053857},{"$f":"IFERROR(INDEX([4]Estimadores!$D$7:$AB$38,MATCH(AF$287,[4]Estimadores!$B$7:$B$38,0),MATCH($B288,[4]Estimadores!$D$6:$AB$6,0)),\"-\")","v":0.87900862932002322},{"$f":"IFERROR(INDEX([4]Estimadores!$D$7:$AB$38,MATCH(AG$287,[4]Estimadores!$B$7:$B$38,0),MATCH($B288,[4]Estimadores!$D$6:$AB$6,0)),\"-\")","v":0.75796425857405203},{"$f":"IFERROR(INDEX([4]Estimadores!$D$7:$AB$38,MATCH(AH$287,[4]Estimadores!$B$7:$B$38,0),MATCH($B288,[4]Estimadores!$D$6:$AB$6,0)),\"-\")","v":1.3683662813835562},{"$f":"IFERROR(INDEX([4]Estimadores!$D$7:$AB$38,MATCH(AI$287,[4]Estimadores!$B$7:$B$38,0),MATCH($B288,[4]Estimadores!$D$6:$AB$6,0)),\"-\")","v":1}]
[null,"BTS_O",{"$f":"C224","v":"BTS_O"},{"$f":"IFERROR(INDEX([4]Estimadores!$D$7:$AB$38,MATCH(D$287,[4]Estimadores!$B$7:$B$38,0),MATCH($B289,[4]Estimadores!$D$6:$AB$6,0)),\"-\")","v":0.38913658175152321},{"$f":"IFERROR(INDEX([4]Estimadores!$D$7:$AB$38,MATCH(E$287,[4]Estimadores!$B$7:$B$38,0),MATCH($B289,[4]Estimadores!$D$6:$AB$6,0)),\"-\")","v":0.32415941114767488},{"$f":"IFERROR(INDEX([4]Estimadores!$D$7:$AB$38,MATCH(F$287,[4]Estimadores!$B$7:$B$38,0),MATCH($B289,[4]Estimadores!$D$6:$AB$6,0)),\"-\")","v":0.28670400710080202},{"$f":"IFERROR(INDEX([4]Estimadores!$D$7:$AB$38,MATCH(G$287,[4]Estimadores!$B$7:$B$38,0),MATCH($B289,[4]Estimadores!$D$6:$AB$6,0)),\"-\")","v":0.53517212171212891},{"$f":"IFERROR(INDEX([4]Estimadores!$D$7:$AB$38,MATCH(H$287,[4]Estimadores!$B$7:$B$38,0),MATCH($B289,[4]Estimadores!$D$6:$AB$6,0)),\"-\")","v":0.62895215440882313},{"$f":"IFERROR(INDEX([4]Estimadores!$D$7:$AB$38,MATCH(I$287,[4]Estimadores!$B$7:$B$38,0),MATCH($B289,[4]Estimadores!$D$6:$AB$6,0)),\"-\")","v":0.70154147695940106},{"$f":"IFERROR(INDEX([4]Estimadores!$D$7:$AB$38,MATCH(J$287,[4]Estimadores!$B$7:$B$38,0),MATCH($B289,[4]Estimadores!$D$6:$AB$6,0)),\"-\")","v":0.55878053672246364},{"$f":"IFERROR(INDEX([4]Estimadores!$D$7:$AB$38,MATCH(K$287,[4]Estimadores!$B$7:$B$38,0),MATCH($B289,[4]Estimadores!$D$6:$AB$6,0)),\"-\")","v":0.9031609585825936},{"$f":"IFERROR(INDEX([4]Estimadores!$D$7:$AB$38,MATCH(L$287,[4]Estimadores!$B$7:$B$38,0),MATCH($B289,[4]Estimadores!$D$6:$AB$6,0)),\"-\")","v":0.9031609585825936},{"$f":"IFERROR(INDEX([4]Estimadores!$D$7:$AB$38,MATCH(M$287,[4]Estimadores!$B$7:$B$38,0),MATCH($B289,[4]Estimadores!$D$6:$AB$6,0)),\"-\")","v":0.9031609585825936},{"$f":"IFERROR(INDEX([4]Estimadores!$D$7:$AB$38,MATCH(N$287,[4]Estimadores!$B$7:$B$38,0),MATCH($B289,[4]Estimadores!$D$6:$AB$6,0)),\"-\")","v":0.9031609585825936},{"$f":"IFERROR(INDEX([4]Estimadores!$D$7:$AB$38,MATCH(O$287,[4]Estimadores!$B$7:$B$38,0),MATCH($B289,[4]Estimadores!$D$6:$AB$6,0)),\"-\")","v":0.9031609585825936},{"$f":"IFERROR(INDEX([4]Estimadores!$D$7:$AB$38,MATCH(P$287,[4]Estimadores!$B$7:$B$38,0),MATCH($B289,[4]Estimadores!$D$6:$AB$6,0)),\"-\")","v":0.9031609585825936},{"$f":"IFERROR(INDEX([4]Estimadores!$D$7:$AB$38,MATCH(Q$287,[4]Estimadores!$B$7:$B$38,0),MATCH($B289,[4]Estimadores!$D$6:$AB$6,0)),\"-\")","v":0.52835329142544285},{"$f":"IFERROR(INDEX([4]Estimadores!$D$7:$AB$38,MATCH(R$287,[4]Estimadores!$B$7:$B$38,0),MATCH($B289,[4]Estimadores!$D$6:$AB$6,0)),\"-\")","v":0.70762323821074324},{"$f":"IFERROR(INDEX([4]Estimadores!$D$7:$AB$38,MATCH(S$287,[4]Estimadores!$B$7:$B$38,0),MATCH($B289,[4]Estimadores!$D$6:$AB$6,0)),\"-\")","v":0.70762323821074324},{"$f":"IFERROR(INDEX([4]Estimadores!$D$7:$AB$38,MATCH(T$287,[4]Estimadores!$B$7:$B$38,0),MATCH($B289,[4]Estimadores!$D$6:$AB$6,0)),\"-\")","v":0.56804503067846013},{"$f":"IFERROR(INDEX([4]Estimadores!$D$7:$AB$38,MATCH(U$287,[4]Estimadores!$B$7:$B$38,0),MATCH($B289,[4]Estimadores!$D$6:$AB$6,0)),\"-\")","v":0.56804503067846013},{"$f":"IFERROR(INDEX([4]Estimadores!$D$7:$AB$38,MATCH(V$287,[4]Estimadores!$B$7:$B$38,0),MATCH($B289,[4]Estimadores!$D$6:$AB$6,0)),\"-\")","v":0.56804503067846013},{"$f":"IFERROR(INDEX([4]Estimadores!$D$7:$AB$38,MATCH(W$287,[4]Estimadores!$B$7:$B$38,0),MATCH($B289,[4]Estimadores!$D$6:$AB$6,0)),\"-\")","v":"-"},{"$f":"IFERROR(INDEX([4]Estimadores!$D$7:$AB$38,MATCH(X$287,[4]Estimadores!$B$7:$B$38,0),MATCH($B289,[4]Estimadores!$D$6:$AB$6,0)),\"-\")","v":0.9031609585825936},{"$f":"IFERROR(INDEX([4]Estimadores!$D$7:$AB$38,MATCH(Y$287,[4]Estimadores!$B$7:$B$38,0),MATCH($B289,[4]Estimadores!$D$6:$AB$6,0)),\"-\")","v":0.9031609585825936},{"$f":"IFERROR(INDEX([4]Estimadores!$D$7:$AB$38,MATCH(Z$287,[4]Estimadores!$B$7:$B$38,0),MATCH($B289,[4]Estimadores!$D$6:$AB$6,0)),\"-\")","v":0.9031609585825936},{"$f":"IFERROR(INDEX([4]Estimadores!$D$7:$AB$38,MATCH(AA$287,[4]Estimadores!$B$7:$B$38,0),MATCH($B289,[4]Estimadores!$D$6:$AB$6,0)),\"-\")","v":0.43276285347981758},{"$f":"IFERROR(INDEX([4]Estimadores!$D$7:$AB$38,MATCH(AB$287,[4]Estimadores!$B$7:$B$38,0),MATCH($B289,[4]Estimadores!$D$6:$AB$6,0)),\"-\")","v":0.57959902346879422},{"$f":"IFERROR(INDEX([4]Estimadores!$D$7:$AB$38,MATCH(AC$287,[4]Estimadores!$B$7:$B$38,0),MATCH($B289,[4]Estimadores!$D$6:$AB$6,0)),\"-\")","v":0.57959902346879422},{"$f":"IFERROR(INDEX([4]Estimadores!$D$7:$AB$38,MATCH(AD$287,[4]Estimadores!$B$7:$B$38,0),MATCH($B289,[4]Estimadores!$D$6:$AB$6,0)),\"-\")","v":0.62895215440882313},{"$f":"IFERROR(INDEX([4]Estimadores!$D$7:$AB$38,MATCH(AE$287,[4]Estimadores!$B$7:$B$38,0),MATCH($B289,[4]Estimadores!$D$6:$AB$6,0)),\"-\")","v":0.51516122537991249},{"$f":"IFERROR(INDEX([4]Estimadores!$D$7:$AB$38,MATCH(AF$287,[4]Estimadores!$B$7:$B$38,0),MATCH($B289,[4]Estimadores!$D$6:$AB$6,0)),\"-\")","v":0.87467121038542583},{"$f":"IFERROR(INDEX([4]Estimadores!$D$7:$AB$38,MATCH(AG$287,[4]Estimadores!$B$7:$B$38,0),MATCH($B289,[4]Estimadores!$D$6:$AB$6,0)),\"-\")","v":0.52385531387495921},{"$f":"IFERROR(INDEX([4]Estimadores!$D$7:$AB$38,MATCH(AH$287,[4]Estimadores!$B$7:$B$38,0),MATCH($B289,[4]Estimadores!$D$6:$AB$6,0)),\"-\")","v":1},{"$f":"IFERROR(INDEX([4]Estimadores!$D$7:$AB$38,MATCH(AI$287,[4]Estimadores!$B$7:$B$38,0),MATCH($B289,[4]Estimadores!$D$6:$AB$6,0)),\"-\")","v":1.2208841104937469}]
[null,"BTD","BTD",{"$f":"IFERROR(INDEX([4]Estimadores!$D$7:$AB$38,MATCH(D$287,[4]Estimadores!$B$7:$B$38,0),MATCH($B290,[4]Estimadores!$D$6:$AB$6,0)),\"-\")","v":0.41867795106056271},{"$f":"IFERROR(INDEX([4]Estimadores!$D$7:$AB$38,MATCH(E$287,[4]Estimadores!$B$7:$B$38,0),MATCH($B290,[4]Estimadores!$D$6:$AB$6,0)),\"-\")","v":0.31840850145303995},{"$f":"IFERROR(INDEX([4]Estimadores!$D$7:$AB$38,MATCH(F$287,[4]Estimadores!$B$7:$B$38,0),MATCH($B290,[4]Estimadores!$D$6:$AB$6,0)),\"-\")","v":0.26291354748639711},{"$f":"IFERROR(INDEX([4]Estimadores!$D$7:$AB$38,MATCH(G$287,[4]Estimadores!$B$7:$B$38,0),MATCH($B290,[4]Estimadores!$D$6:$AB$6,0)),\"-\")","v":0.52457893390720811},{"$f":"IFERROR(INDEX([4]Estimadores!$D$7:$AB$38,MATCH(H$287,[4]Estimadores!$B$7:$B$38,0),MATCH($B290,[4]Estimadores!$D$6:$AB$6,0)),\"-\")","v":0.78858219548071717},{"$f":"IFERROR(INDEX([4]Estimadores!$D$7:$AB$38,MATCH(I$287,[4]Estimadores!$B$7:$B$38,0),MATCH($B290,[4]Estimadores!$D$6:$AB$6,0)),\"-\")","v":0.81134844129510419},{"$f":"IFERROR(INDEX([4]Estimadores!$D$7:$AB$38,MATCH(J$287,[4]Estimadores!$B$7:$B$38,0),MATCH($B290,[4]Estimadores!$D$6:$AB$6,0)),\"-\")","v":0.68112572373375024},{"$f":"IFERROR(INDEX([4]Estimadores!$D$7:$AB$38,MATCH(K$287,[4]Estimadores!$B$7:$B$38,0),MATCH($B290,[4]Estimadores!$D$6:$AB$6,0)),\"-\")","v":0.96998052186135431},{"$f":"IFERROR(INDEX([4]Estimadores!$D$7:$AB$38,MATCH(L$287,[4]Estimadores!$B$7:$B$38,0),MATCH($B290,[4]Estimadores!$D$6:$AB$6,0)),\"-\")","v":0.96998052186135431},{"$f":"IFERROR(INDEX([4]Estimadores!$D$7:$AB$38,MATCH(M$287,[4]Estimadores!$B$7:$B$38,0),MATCH($B290,[4]Estimadores!$D$6:$AB$6,0)),\"-\")","v":0.96998052186135431},{"$f":"IFERROR(INDEX([4]Estimadores!$D$7:$AB$38,MATCH(N$287,[4]Estimadores!$B$7:$B$38,0),MATCH($B290,[4]Estimadores!$D$6:$AB$6,0)),\"-\")","v":0.96998052186135431},{"$f":"IFERROR(INDEX([4]Estimadores!$D$7:$AB$38,MATCH(O$287,[4]Estimadores!$B$7:$B$38,0),MATCH($B290,[4]Estimadores!$D$6:$AB$6,0)),\"-\")","v":0.96998052186135431},{"$f":"IFERROR(INDEX([4]Estimadores!$D$7:$AB$38,MATCH(P$287,[4]Estimadores!$B$7:$B$38,0),MATCH($B290,[4]Estimadores!$D$6:$AB$6,0)),\"-\")","v":0.96998052186135431},{"$f":"IFERROR(INDEX([4]Estimadores!$D$7:$AB$38,MATCH(Q$287,[4]Estimadores!$B$7:$B$38,0),MATCH($B290,[4]Estimadores!$D$6:$AB$6,0)),\"-\")","v":0.52420211182880394},{"$f":"IFERROR(INDEX([4]Estimadores!$D$7:$AB$38,MATCH(R$287,[4]Estimadores!$B$7:$B$38,0),MATCH($B290,[4]Estimadores!$D$6:$AB$6,0)),\"-\")","v":0.63956072837388467},{"$f":"IFERROR(INDEX([4]Estimadores!$D$7:$AB$38,MATCH(S$287,[4]Estimadores!$B$7:$B$38,0),MATCH($B290,[4]Estimadores!$D$6:$AB$6,0)),\"-\")","v":0.63956072837388467},{"$f":"IFERROR(INDEX([4]Estimadores!$D$7:$AB$38,MATCH(T$287,[4]Estimadores!$B$7:$B$38,0),MATCH($B290,[4]Estimadores!$D$6:$AB$6,0)),\"-\")","v":0.76490936950295851},{"$f":"IFERROR(INDEX([4]Estimadores!$D$7:$AB$38,MATCH(U$287,[4]Estimadores!$B$7:$B$38,0),MATCH($B290,[4]Estimadores!$D$6:$AB$6,0)),\"-\")","v":0.76490936950295851},{"$f":"IFERROR(INDEX([4]Estimadores!$D$7:$AB$38,MATCH(V$287,[4]Estimadores!$B$7:$B$38,0),MATCH($B290,[4]Estimadores!$D$6:$AB$6,0)),\"-\")","v":0.76490936950295851},{"$f":"IFERROR(INDEX([4]Estimadores!$D$7:$AB$38,MATCH(W$287,[4]Estimadores!$B$7:$B$38,0),MATCH($B290,[4]Estimadores!$D$6:$AB$6,0)),\"-\")","v":"-"},{"$f":"IFERROR(INDEX([4]Estimadores!$D$7:$AB$38,MATCH(X$287,[4]Estimadores!$B$7:$B$38,0),MATCH($B290,[4]Estimadores!$D$6:$AB$6,0)),\"-\")","v":0.96998052186135431},{"$f":"IFERROR(INDEX([4]Estimadores!$D$7:$AB$38,MATCH(Y$287,[4]Estimadores!$B$7:$B$38,0),MATCH($B290,[4]Estimadores!$D$6:$AB$6,0)),\"-\")","v":0.96998052186135431},{"$f":"IFERROR(INDEX([4]Estimadores!$D$7:$AB$38,MATCH(Z$287,[4]Estimadores!$B$7:$B$38,0),MATCH($B290,[4]Estimadores!$D$6:$AB$6,0)),\"-\")","v":0.96998052186135431},{"$f":"IFERROR(INDEX([4]Estimadores!$D$7:$AB$38,MATCH(AA$287,[4]Estimadores!$B$7:$B$38,0),MATCH($B290,[4]Estimadores!$D$6:$AB$6,0)),\"-\")","v":0.42451779769055736},{"$f":"IFERROR(INDEX([4]Estimadores!$D$7:$AB$38,MATCH(AB$287,[4]Estimadores!$B$7:$B$38,0),MATCH($B290,[4]Estimadores!$D$6:$AB$6,0)),\"-\")","v":0.51793937065884899},{"$f":"IFERROR(INDEX([4]Estimadores!$D$7:$AB$38,MATCH(AC$287,[4]Estimadores!$B$7:$B$38,0),MATCH($B290,[4]Estimadores!$D$6:$AB$6,0)),\"-\")","v":0.51793937065884899},{"$f":"IFERROR(INDEX([4]Estimadores!$D$7:$AB$38,MATCH(AD$287,[4]Estimadores!$B$7:$B$38,0),MATCH($B290,[4]Estimadores!$D$6:$AB$6,0)),\"-\")","v":0.78858219548071717},{"$f":"IFERROR(INDEX([4]Estimadores!$D$7:$AB$38,MATCH(AE$287,[4]Estimadores!$B$7:$B$38,0),MATCH($B290,[4]Estimadores!$D$6:$AB$6,0)),\"-\")","v":0.63862233548724867},{"$f":"IFERROR(INDEX([4]Estimadores!$D$7:$AB$38,MATCH(AF$287,[4]Estimadores!$B$7:$B$38,0),MATCH($B290,[4]Estimadores!$D$6:$AB$6,0)),\"-\")","v":0.92244445951477805},{"$f":"IFERROR(INDEX([4]Estimadores!$D$7:$AB$38,MATCH(AG$287,[4]Estimadores!$B$7:$B$38,0),MATCH($B290,[4]Estimadores!$D$6:$AB$6,0)),\"-\")","v":0.49423081230729826},{"$f":"IFERROR(INDEX([4]Estimadores!$D$7:$AB$38,MATCH(AH$287,[4]Estimadores!$B$7:$B$38,0),MATCH($B290,[4]Estimadores!$D$6:$AB$6,0)),\"-\")","v":1},{"$f":"IFERROR(INDEX([4]Estimadores!$D$7:$AB$38,MATCH(AI$287,[4]Estimadores!$B$7:$B$38,0),MATCH($B290,[4]Estimadores!$D$6:$AB$6,0)),\"-\")","v":1.2348177501168258}]
[null,"BTH","BTH",{"$f":"IFERROR(INDEX([4]Estimadores!$D$7:$AB$38,MATCH(D$287,[4]Estimadores!$B$7:$B$38,0),MATCH($B291,[4]Estimadores!$D$6:$AB$6,0)),\"-\")","v":0.26563947190292025},{"$f":"IFERROR(INDEX([4]Estimadores!$D$7:$AB$38,MATCH(E$287,[4]Estimadores!$B$7:$B$38,0),MATCH($B291,[4]Estimadores!$D$6:$AB$6,0)),\"-\")","v":0.37404257232565596},{"$f":"IFERROR(INDEX([4]Estimadores!$D$7:$AB$38,MATCH(F$287,[4]Estimadores!$B$7:$B$38,0),MATCH($B291,[4]Estimadores!$D$6:$AB$6,0)),\"-\")","v":0.36031795577142373},{"$f":"IFERROR(INDEX([4]Estimadores!$D$7:$AB$38,MATCH(G$287,[4]Estimadores!$B$7:$B$38,0),MATCH($B291,[4]Estimadores!$D$6:$AB$6,0)),\"-\")","v":0.71046823113746815},{"$f":"IFERROR(INDEX([4]Estimadores!$D$7:$AB$38,MATCH(H$287,[4]Estimadores!$B$7:$B$38,0),MATCH($B291,[4]Estimadores!$D$6:$AB$6,0)),\"-\")","v":0.69131349672982101},{"$f":"IFERROR(INDEX([4]Estimadores!$D$7:$AB$38,MATCH(I$287,[4]Estimadores!$B$7:$B$38,0),MATCH($B291,[4]Estimadores!$D$6:$AB$6,0)),\"-\")","v":0.81138390413544592},{"$f":"IFERROR(INDEX([4]Estimadores!$D$7:$AB$38,MATCH(J$287,[4]Estimadores!$B$7:$B$38,0),MATCH($B291,[4]Estimadores!$D$6:$AB$6,0)),\"-\")","v":0.70828070274669674},{"$f":"IFERROR(INDEX([4]Estimadores!$D$7:$AB$38,MATCH(K$287,[4]Estimadores!$B$7:$B$38,0),MATCH($B291,[4]Estimadores!$D$6:$AB$6,0)),\"-\")","v":0.83107140624585785},{"$f":"IFERROR(INDEX([4]Estimadores!$D$7:$AB$38,MATCH(L$287,[4]Estimadores!$B$7:$B$38,0),MATCH($B291,[4]Estimadores!$D$6:$AB$6,0)),\"-\")","v":0.83107140624585785},{"$f":"IFERROR(INDEX([4]Estimadores!$D$7:$AB$38,MATCH(M$287,[4]Estimadores!$B$7:$B$38,0),MATCH($B291,[4]Estimadores!$D$6:$AB$6,0)),\"-\")","v":0.83107140624585785},{"$f":"IFERROR(INDEX([4]Estimadores!$D$7:$AB$38,MATCH(N$287,[4]Estimadores!$B$7:$B$38,0),MATCH($B291,[4]Estimadores!$D$6:$AB$6,0)),\"-\")","v":0.97538530916153088},{"$f":"IFERROR(INDEX([4]Estimadores!$D$7:$AB$38,MATCH(O$287,[4]Estimadores!$B$7:$B$38,0),MATCH($B291,[4]Estimadores!$D$6:$AB$6,0)),\"-\")","v":0.97538530916153088},{"$f":"IFERROR(INDEX([4]Estimadores!$D$7:$AB$38,MATCH(P$287,[4]Estimadores!$B$7:$B$38,0),MATCH($B291,[4]Estimadores!$D$6:$AB$6,0)),\"-\")","v":0.97538530916153088},{"$f":"IFERROR(INDEX([4]Estimadores!$D$7:$AB$38,MATCH(Q$287,[4]Estimadores!$B$7:$B$38,0),MATCH($B291,[4]Estimadores!$D$6:$AB$6,0)),\"-\")","v":0.865060287690812},{"$f":"IFERROR(INDEX([4]Estimadores!$D$7:$AB$38,MATCH(R$287,[4]Estimadores!$B$7:$B$38,0),MATCH($B291,[4]Estimadores!$D$6:$AB$6,0)),\"-\")","v":0.92941908724557221},{"$f":"IFERROR(INDEX([4]Estimadores!$D$7:$AB$38,MATCH(S$287,[4]Estimadores!$B$7:$B$38,0),MATCH($B291,[4]Estimadores!$D$6:$AB$6,0)),\"-\")","v":0.92941908724557221},{"$f":"IFERROR(INDEX([4]Estimadores!$D$7:$AB$38,MATCH(T$287,[4]Estimadores!$B$7:$B$38,0),MATCH($B291,[4]Estimadores!$D$6:$AB$6,0)),\"-\")","v":0.57453087988399354},{"$f":"IFERROR(INDEX([4]Estimadores!$D$7:$AB$38,MATCH(U$287,[4]Estimadores!$B$7:$B$38,0),MATCH($B291,[4]Estimadores!$D$6:$AB$6,0)),\"-\")","v":0.57453087988399354},{"$f":"IFERROR(INDEX([4]Estimadores!$D$7:$AB$38,MATCH(V$287,[4]Estimadores!$B$7:$B$38,0),MATCH($B291,[4]Estimadores!$D$6:$AB$6,0)),\"-\")","v":0.57453087988399354},{"$f":"IFERROR(INDEX([4]Estimadores!$D$7:$AB$38,MATCH(W$287,[4]Estimadores!$B$7:$B$38,0),MATCH($B291,[4]Estimadores!$D$6:$AB$6,0)),\"-\")","v":"-"},{"$f":"IFERROR(INDEX([4]Estimadores!$D$7:$AB$38,MATCH(X$287,[4]Estimadores!$B$7:$B$38,0),MATCH($B291,[4]Estimadores!$D$6:$AB$6,0)),\"-\")","v":0.83107140624585785},{"$f":"IFERROR(INDEX([4]Estimadores!$D$7:$AB$38,MATCH(Y$287,[4]Estimadores!$B$7:$B$38,0),MATCH($B291,[4]Estimadores!$D$6:$AB$6,0)),\"-\")","v":0.83107140624585785},{"$f":"IFERROR(INDEX([4]Estimadores!$D$7:$AB$38,MATCH(Z$287,[4]Estimadores!$B$7:$B$38,0),MATCH($B291,[4]Estimadores!$D$6:$AB$6,0)),\"-\")","v":0.83107140624585785},{"$f":"IFERROR(INDEX([4]Estimadores!$D$7:$AB$38,MATCH(AA$287,[4]Estimadores!$B$7:$B$38,0),MATCH($B291,[4]Estimadores!$D$6:$AB$6,0)),\"-\")","v":0.865060287690812},{"$f":"IFERROR(INDEX([4]Estimadores!$D$7:$AB$38,MATCH(AB$287,[4]Estimadores!$B$7:$B$38,0),MATCH($B291,[4]Estimadores!$D$6:$AB$6,0)),\"-\")","v":0.92941908724557221},{"$f":"IFERROR(INDEX([4]Estimadores!$D$7:$AB$38,MATCH(AC$287,[4]Estimadores!$B$7:$B$38,0),MATCH($B291,[4]Estimadores!$D$6:$AB$6,0)),\"-\")","v":0.92941908724557221},{"$f":"IFERROR(INDEX([4]Estimadores!$D$7:$AB$38,MATCH(AD$287,[4]Estimadores!$B$7:$B$38,0),MATCH($B291,[4]Estimadores!$D$6:$AB$6,0)),\"-\")","v":0.58902966293174608},{"$f":"IFERROR(INDEX([4]Estimadores!$D$7:$AB$38,MATCH(AE$287,[4]Estimadores!$B$7:$B$38,0),MATCH($B291,[4]Estimadores!$D$6:$AB$6,0)),\"-\")","v":0.69131349672982101},{"$f":"IFERROR(INDEX([4]Estimadores!$D$7:$AB$38,MATCH(AF$287,[4]Estimadores!$B$7:$B$38,0),MATCH($B291,[4]Estimadores!$D$6:$AB$6,0)),\"-\")","v":0.93030302151850452},{"$f":"IFERROR(INDEX([4]Estimadores!$D$7:$AB$38,MATCH(AG$287,[4]Estimadores!$B$7:$B$38,0),MATCH($B291,[4]Estimadores!$D$6:$AB$6,0)),\"-\")","v":0.6847835208562808},{"$f":"IFERROR(INDEX([4]Estimadores!$D$7:$AB$38,MATCH(AH$287,[4]Estimadores!$B$7:$B$38,0),MATCH($B291,[4]Estimadores!$D$6:$AB$6,0)),\"-\")","v":1.1736480184868499},{"$f":"IFERROR(INDEX([4]Estimadores!$D$7:$AB$38,MATCH(AI$287,[4]Estimadores!$B$7:$B$38,0),MATCH($B291,[4]Estimadores!$D$6:$AB$6,0)),\"-\")","v":1}]
[null,"","ABTD",{"$f":"IFERROR(INDEX([4]Estimadores!$D$7:$AB$38,MATCH(D$287,[4]Estimadores!$B$7:$B$38,0),MATCH($B292,[4]Estimadores!$D$6:$AB$6,0)),\"-\")","v":"-"},{"$f":"IFERROR(INDEX([4]Estimadores!$D$7:$AB$38,MATCH(E$287,[4]Estimadores!$B$7:$B$38,0),MATCH($B292,[4]Estimadores!$D$6:$AB$6,0)),\"-\")","v":"-"},{"$f":"IFERROR(INDEX([4]Estimadores!$D$7:$AB$38,MATCH(F$287,[4]Estimadores!$B$7:$B$38,0),MATCH($B292,[4]Estimadores!$D$6:$AB$6,0)),\"-\")","v":"-"},{"$f":"IFERROR(INDEX([4]Estimadores!$D$7:$AB$38,MATCH(G$287,[4]Estimadores!$B$7:$B$38,0),MATCH($B292,[4]Estimadores!$D$6:$AB$6,0)),\"-\")","v":"-"},{"$f":"IFERROR(INDEX([4]Estimadores!$D$7:$AB$38,MATCH(H$287,[4]Estimadores!$B$7:$B$38,0),MATCH($B292,[4]Estimadores!$D$6:$AB$6,0)),\"-\")","v":"-"},{"$f":"IFERROR(INDEX([4]Estimadores!$D$7:$AB$38,MATCH(I$287,[4]Estimadores!$B$7:$B$38,0),MATCH($B292,[4]Estimadores!$D$6:$AB$6,0)),\"-\")","v":"-"},{"$f":"IFERROR(INDEX([4]Estimadores!$D$7:$AB$38,MATCH(J$287,[4]Estimadores!$B$7:$B$38,0),MATCH($B292,[4]Estimadores!$D$6:$AB$6,0)),\"-\")","v":"-"},{"$f":"IFERROR(INDEX([4]Estimadores!$D$7:$AB$38,MATCH(K$287,[4]Estimadores!$B$7:$B$38,0),MATCH($B292,[4]Estimadores!$D$6:$AB$6,0)),\"-\")","v":"-"},{"$f":"IFERROR(INDEX([4]Estimadores!$D$7:$AB$38,MATCH(L$287,[4]Estimadores!$B$7:$B$38,0),MATCH($B292,[4]Estimadores!$D$6:$AB$6,0)),\"-\")","v":"-"},{"$f":"IFERROR(INDEX([4]Estimadores!$D$7:$AB$38,MATCH(M$287,[4]Estimadores!$B$7:$B$38,0),MATCH($B292,[4]Estimadores!$D$6:$AB$6,0)),\"-\")","v":"-"},{"$f":"IFERROR(INDEX([4]Estimadores!$D$7:$AB$38,MATCH(N$287,[4]Estimadores!$B$7:$B$38,0),MATCH($B292,[4]Estimadores!$D$6:$AB$6,0)),\"-\")","v":"-"},{"$f":"IFERROR(INDEX([4]Estimadores!$D$7:$AB$38,MATCH(O$287,[4]Estimadores!$B$7:$B$38,0),MATCH($B292,[4]Estimadores!$D$6:$AB$6,0)),\"-\")","v":"-"},{"$f":"IFERROR(INDEX([4]Estimadores!$D$7:$AB$38,MATCH(P$287,[4]Estimadores!$B$7:$B$38,0),MATCH($B292,[4]Estimadores!$D$6:$AB$6,0)),\"-\")","v":"-"},{"$f":"IFERROR(INDEX([4]Estimadores!$D$7:$AB$38,MATCH(Q$287,[4]Estimadores!$B$7:$B$38,0),MATCH($B292,[4]Estimadores!$D$6:$AB$6,0)),\"-\")","v":"-"},{"$f":"IFERROR(INDEX([4]Estimadores!$D$7:$AB$38,MATCH(R$287,[4]Estimadores!$B$7:$B$38,0),MATCH($B292,[4]Estimadores!$D$6:$AB$6,0)),\"-\")","v":"-"},{"$f":"IFERROR(INDEX([4]Estimadores!$D$7:$AB$38,MATCH(S$287,[4]Estimadores!$B$7:$B$38,0),MATCH($B292,[4]Estimadores!$D$6:$AB$6,0)),\"-\")","v":"-"},{"$f":"IFERROR(INDEX([4]Estimadores!$D$7:$AB$38,MATCH(T$287,[4]Estimadores!$B$7:$B$38,0),MATCH($B292,[4]Estimadores!$D$6:$AB$6,0)),\"-\")","v":"-"},{"$f":"IFERROR(INDEX([4]Estimadores!$D$7:$AB$38,MATCH(U$287,[4]Estimadores!$B$7:$B$38,0),MATCH($B292,[4]Estimadores!$D$6:$AB$6,0)),\"-\")","v":"-"},{"$f":"IFERROR(INDEX([4]Estimadores!$D$7:$AB$38,MATCH(V$287,[4]Estimadores!$B$7:$B$38,0),MATCH($B292,[4]Estimadores!$D$6:$AB$6,0)),\"-\")","v":"-"},{"$f":"IFERROR(INDEX([4]Estimadores!$D$7:$AB$38,MATCH(W$287,[4]Estimadores!$B$7:$B$38,0),MATCH($B292,[4]Estimadores!$D$6:$AB$6,0)),\"-\")","v":"-"},{"$f":"IFERROR(INDEX([4]Estimadores!$D$7:$AB$38,MATCH(X$287,[4]Estimadores!$B$7:$B$38,0),MATCH($B292,[4]Estimadores!$D$6:$AB$6,0)),\"-\")","v":"-"},{"$f":"IFERROR(INDEX([4]Estimadores!$D$7:$AB$38,MATCH(Y$287,[4]Estimadores!$B$7:$B$38,0),MATCH($B292,[4]Estimadores!$D$6:$AB$6,0)),\"-\")","v":"-"},{"$f":"IFERROR(INDEX([4]Estimadores!$D$7:$AB$38,MATCH(Z$287,[4]Estimadores!$B$7:$B$38,0),MATCH($B292,[4]Estimadores!$D$6:$AB$6,0)),\"-\")","v":"-"},{"$f":"IFERROR(INDEX([4]Estimadores!$D$7:$AB$38,MATCH(AA$287,[4]Estimadores!$B$7:$B$38,0),MATCH($B292,[4]Estimadores!$D$6:$AB$6,0)),\"-\")","v":"-"},{"$f":"IFERROR(INDEX([4]Estimadores!$D$7:$AB$38,MATCH(AB$287,[4]Estimadores!$B$7:$B$38,0),MATCH($B292,[4]Estimadores!$D$6:$AB$6,0)),\"-\")","v":"-"},{"$f":"IFERROR(INDEX([4]Estimadores!$D$7:$AB$38,MATCH(AC$287,[4]Estimadores!$B$7:$B$38,0),MATCH($B292,[4]Estimadores!$D$6:$AB$6,0)),\"-\")","v":"-"},{"$f":"IFERROR(INDEX([4]Estimadores!$D$7:$AB$38,MATCH(AD$287,[4]Estimadores!$B$7:$B$38,0),MATCH($B292,[4]Estimadores!$D$6:$AB$6,0)),\"-\")","v":"-"},{"$f":"IFERROR(INDEX([4]Estimadores!$D$7:$AB$38,MATCH(AE$287,[4]Estimadores!$B$7:$B$38,0),MATCH($B292,[4]Estimadores!$D$6:$AB$6,0)),\"-\")","v":"-"},{"$f":"IFERROR(INDEX([4]Estimadores!$D$7:$AB$38,MATCH(AF$287,[4]Estimadores!$B$7:$B$38,0),MATCH($B292,[4]Estimadores!$D$6:$AB$6,0)),\"-\")","v":"-"},{"$f":"IFERROR(INDEX([4]Estimadores!$D$7:$AB$38,MATCH(AG$287,[4]Estimadores!$B$7:$B$38,0),MATCH($B292,[4]Estimadores!$D$6:$AB$6,0)),\"-\")","v":"-"},{"$f":"IFERROR(INDEX([4]Estimadores!$D$7:$AB$38,MATCH(AH$287,[4]Estimadores!$B$7:$B$38,0),MATCH($B292,[4]Estimadores!$D$6:$AB$6,0)),\"-\")","v":"-"},{"$f":"IFERROR(INDEX([4]Estimadores!$D$7:$AB$38,MATCH(AI$287,[4]Estimadores!$B$7:$B$38,0),MATCH($B292,[4]Estimadores!$D$6:$AB$6,0)),\"-\")","v":"-"}]
[null,"","",{"$f":"IFERROR(INDEX([4]Estimadores!$D$7:$AB$38,MATCH(D$287,[4]Estimadores!$B$7:$B$38,0),MATCH($B293,[4]Estimadores!$D$6:$AB$6,0)),\"-\")","v":"-"},{"$f":"IFERROR(INDEX([4]Estimadores!$D$7:$AB$38,MATCH(E$287,[4]Estimadores!$B$7:$B$38,0),MATCH($B293,[4]Estimadores!$D$6:$AB$6,0)),\"-\")","v":"-"},{"$f":"IFERROR(INDEX([4]Estimadores!$D$7:$AB$38,MATCH(F$287,[4]Estimadores!$B$7:$B$38,0),MATCH($B293,[4]Estimadores!$D$6:$AB$6,0)),\"-\")","v":"-"},{"$f":"IFERROR(INDEX([4]Estimadores!$D$7:$AB$38,MATCH(G$287,[4]Estimadores!$B$7:$B$38,0),MATCH($B293,[4]Estimadores!$D$6:$AB$6,0)),\"-\")","v":"-"},{"$f":"IFERROR(INDEX([4]Estimadores!$D$7:$AB$38,MATCH(H$287,[4]Estimadores!$B$7:$B$38,0),MATCH($B293,[4]Estimadores!$D$6:$AB$6,0)),\"-\")","v":"-"},{"$f":"IFERROR(INDEX([4]Estimadores!$D$7:$AB$38,MATCH(I$287,[4]Estimadores!$B$7:$B$38,0),MATCH($B293,[4]Estimadores!$D$6:$AB$6,0)),\"-\")","v":"-"},{"$f":"IFERROR(INDEX([4]Estimadores!$D$7:$AB$38,MATCH(J$287,[4]Estimadores!$B$7:$B$38,0),MATCH($B293,[4]Estimadores!$D$6:$AB$6,0)),\"-\")","v":"-"},{"$f":"IFERROR(INDEX([4]Estimadores!$D$7:$AB$38,MATCH(K$287,[4]Estimadores!$B$7:$B$38,0),MATCH($B293,[4]Estimadores!$D$6:$AB$6,0)),\"-\")","v":"-"},{"$f":"IFERROR(INDEX([4]Estimadores!$D$7:$AB$38,MATCH(L$287,[4]Estimadores!$B$7:$B$38,0),MATCH($B293,[4]Estimadores!$D$6:$AB$6,0)),\"-\")","v":"-"},{"$f":"IFERROR(INDEX([4]Estimadores!$D$7:$AB$38,MATCH(M$287,[4]Estimadores!$B$7:$B$38,0),MATCH($B293,[4]Estimadores!$D$6:$AB$6,0)),\"-\")","v":"-"},{"$f":"IFERROR(INDEX([4]Estimadores!$D$7:$AB$38,MATCH(N$287,[4]Estimadores!$B$7:$B$38,0),MATCH($B293,[4]Estimadores!$D$6:$AB$6,0)),\"-\")","v":"-"},{"$f":"IFERROR(INDEX([4]Estimadores!$D$7:$AB$38,MATCH(O$287,[4]Estimadores!$B$7:$B$38,0),MATCH($B293,[4]Estimadores!$D$6:$AB$6,0)),\"-\")","v":"-"},{"$f":"IFERROR(INDEX([4]Estimadores!$D$7:$AB$38,MATCH(P$287,[4]Estimadores!$B$7:$B$38,0),MATCH($B293,[4]Estimadores!$D$6:$AB$6,0)),\"-\")","v":"-"},{"$f":"IFERROR(INDEX([4]Estimadores!$D$7:$AB$38,MATCH(Q$287,[4]Estimadores!$B$7:$B$38,0),MATCH($B293,[4]Estimadores!$D$6:$AB$6,0)),\"-\")","v":"-"},{"$f":"IFERROR(INDEX([4]Estimadores!$D$7:$AB$38,MATCH(R$287,[4]Estimadores!$B$7:$B$38,0),MATCH($B293,[4]Estimadores!$D$6:$AB$6,0)),\"-\")","v":"-"},{"$f":"IFERROR(INDEX([4]Estimadores!$D$7:$AB$38,MATCH(S$287,[4]Estimadores!$B$7:$B$38,0),MATCH($B293,[4]Estimadores!$D$6:$AB$6,0)),\"-\")","v":"-"},{"$f":"IFERROR(INDEX([4]Estimadores!$D$7:$AB$38,MATCH(T$287,[4]Estimadores!$B$7:$B$38,0),MATCH($B293,[4]Estimadores!$D$6:$AB$6,0)),\"-\")","v":"-"},{"$f":"IFERROR(INDEX([4]Estimadores!$D$7:$AB$38,MATCH(U$287,[4]Estimadores!$B$7:$B$38,0),MATCH($B293,[4]Estimadores!$D$6:$AB$6,0)),\"-\")","v":"-"},{"$f":"IFERROR(INDEX([4]Estimadores!$D$7:$AB$38,MATCH(V$287,[4]Estimadores!$B$7:$B$38,0),MATCH($B293,[4]Estimadores!$D$6:$AB$6,0)),\"-\")","v":"-"},{"$f":"IFERROR(INDEX([4]Estimadores!$D$7:$AB$38,MATCH(W$287,[4]Estimadores!$B$7:$B$38,0),MATCH($B293,[4]Estimadores!$D$6:$AB$6,0)),\"-\")","v":"-"},{"$f":"IFERROR(INDEX([4]Estimadores!$D$7:$AB$38,MATCH(X$287,[4]Estimadores!$B$7:$B$38,0),MATCH($B293,[4]Estimadores!$D$6:$AB$6,0)),\"-\")","v":"-"},{"$f":"IFERROR(INDEX([4]Estimadores!$D$7:$AB$38,MATCH(Y$287,[4]Estimadores!$B$7:$B$38,0),MATCH($B293,[4]Estimadores!$D$6:$AB$6,0)),\"-\")","v":"-"},{"$f":"IFERROR(INDEX([4]Estimadores!$D$7:$AB$38,MATCH(Z$287,[4]Estimadores!$B$7:$B$38,0),MATCH($B293,[4]Estimadores!$D$6:$AB$6,0)),\"-\")","v":"-"},{"$f":"IFERROR(INDEX([4]Estimadores!$D$7:$AB$38,MATCH(AA$287,[4]Estimadores!$B$7:$B$38,0),MATCH($B293,[4]Estimadores!$D$6:$AB$6,0)),\"-\")","v":"-"},{"$f":"IFERROR(INDEX([4]Estimadores!$D$7:$AB$38,MATCH(AB$287,[4]Estimadores!$B$7:$B$38,0),MATCH($B293,[4]Estimadores!$D$6:$AB$6,0)),\"-\")","v":"-"},{"$f":"IFERROR(INDEX([4]Estimadores!$D$7:$AB$38,MATCH(AC$287,[4]Estimadores!$B$7:$B$38,0),MATCH($B293,[4]Estimadores!$D$6:$AB$6,0)),\"-\")","v":"-"},{"$f":"IFERROR(INDEX([4]Estimadores!$D$7:$AB$38,MATCH(AD$287,[4]Estimadores!$B$7:$B$38,0),MATCH($B293,[4]Estimadores!$D$6:$AB$6,0)),\"-\")","v":"-"},{"$f":"IFERROR(INDEX([4]Estimadores!$D$7:$AB$38,MATCH(AE$287,[4]Estimadores!$B$7:$B$38,0),MATCH($B293,[4]Estimadores!$D$6:$AB$6,0)),\"-\")","v":"-"},{"$f":"IFERROR(INDEX([4]Estimadores!$D$7:$AB$38,MATCH(AF$287,[4]Estimadores!$B$7:$B$38,0),MATCH($B293,[4]Estimadores!$D$6:$AB$6,0)),\"-\")","v":"-"},{"$f":"IFERROR(INDEX([4]Estimadores!$D$7:$AB$38,MATCH(AG$287,[4]Estimadores!$B$7:$B$38,0),MATCH($B293,[4]Estimadores!$D$6:$AB$6,0)),\"-\")","v":"-"},{"$f":"IFERROR(INDEX([4]Estimadores!$D$7:$AB$38,MATCH(AH$287,[4]Estimadores!$B$7:$B$38,0),MATCH($B293,[4]Estimadores!$D$6:$AB$6,0)),\"-\")","v":"-"},{"$f":"IFERROR(INDEX([4]Estimadores!$D$7:$AB$38,MATCH(AI$287,[4]Estimadores!$B$7:$B$38,0),MATCH($B293,[4]Estimadores!$D$6:$AB$6,0)),\"-\")","v":"-"}]
[null,"","",{"$f":"IFERROR(INDEX([4]Estimadores!$D$7:$AB$38,MATCH(D$287,[4]Estimadores!$B$7:$B$38,0),MATCH($B294,[4]Estimadores!$D$6:$AB$6,0)),\"-\")","v":"-"},{"$f":"IFERROR(INDEX([4]Estimadores!$D$7:$AB$38,MATCH(E$287,[4]Estimadores!$B$7:$B$38,0),MATCH($B294,[4]Estimadores!$D$6:$AB$6,0)),\"-\")","v":"-"},{"$f":"IFERROR(INDEX([4]Estimadores!$D$7:$AB$38,MATCH(F$287,[4]Estimadores!$B$7:$B$38,0),MATCH($B294,[4]Estimadores!$D$6:$AB$6,0)),\"-\")","v":"-"},{"$f":"IFERROR(INDEX([4]Estimadores!$D$7:$AB$38,MATCH(G$287,[4]Estimadores!$B$7:$B$38,0),MATCH($B294,[4]Estimadores!$D$6:$AB$6,0)),\"-\")","v":"-"},{"$f":"IFERROR(INDEX([4]Estimadores!$D$7:$AB$38,MATCH(H$287,[4]Estimadores!$B$7:$B$38,0),MATCH($B294,[4]Estimadores!$D$6:$AB$6,0)),\"-\")","v":"-"},{"$f":"IFERROR(INDEX([4]Estimadores!$D$7:$AB$38,MATCH(I$287,[4]Estimadores!$B$7:$B$38,0),MATCH($B294,[4]Estimadores!$D$6:$AB$6,0)),\"-\")","v":"-"},{"$f":"IFERROR(INDEX([4]Estimadores!$D$7:$AB$38,MATCH(J$287,[4]Estimadores!$B$7:$B$38,0),MATCH($B294,[4]Estimadores!$D$6:$AB$6,0)),\"-\")","v":"-"},{"$f":"IFERROR(INDEX([4]Estimadores!$D$7:$AB$38,MATCH(K$287,[4]Estimadores!$B$7:$B$38,0),MATCH($B294,[4]Estimadores!$D$6:$AB$6,0)),\"-\")","v":"-"},{"$f":"IFERROR(INDEX([4]Estimadores!$D$7:$AB$38,MATCH(L$287,[4]Estimadores!$B$7:$B$38,0),MATCH($B294,[4]Estimadores!$D$6:$AB$6,0)),\"-\")","v":"-"},{"$f":"IFERROR(INDEX([4]Estimadores!$D$7:$AB$38,MATCH(M$287,[4]Estimadores!$B$7:$B$38,0),MATCH($B294,[4]Estimadores!$D$6:$AB$6,0)),\"-\")","v":"-"},{"$f":"IFERROR(INDEX([4]Estimadores!$D$7:$AB$38,MATCH(N$287,[4]Estimadores!$B$7:$B$38,0),MATCH($B294,[4]Estimadores!$D$6:$AB$6,0)),\"-\")","v":"-"},{"$f":"IFERROR(INDEX([4]Estimadores!$D$7:$AB$38,MATCH(O$287,[4]Estimadores!$B$7:$B$38,0),MATCH($B294,[4]Estimadores!$D$6:$AB$6,0)),\"-\")","v":"-"},{"$f":"IFERROR(INDEX([4]Estimadores!$D$7:$AB$38,MATCH(P$287,[4]Estimadores!$B$7:$B$38,0),MATCH($B294,[4]Estimadores!$D$6:$AB$6,0)),\"-\")","v":"-"},{"$f":"IFERROR(INDEX([4]Estimadores!$D$7:$AB$38,MATCH(Q$287,[4]Estimadores!$B$7:$B$38,0),MATCH($B294,[4]Estimadores!$D$6:$AB$6,0)),\"-\")","v":"-"},{"$f":"IFERROR(INDEX([4]Estimadores!$D$7:$AB$38,MATCH(R$287,[4]Estimadores!$B$7:$B$38,0),MATCH($B294,[4]Estimadores!$D$6:$AB$6,0)),\"-\")","v":"-"},{"$f":"IFERROR(INDEX([4]Estimadores!$D$7:$AB$38,MATCH(S$287,[4]Estimadores!$B$7:$B$38,0),MATCH($B294,[4]Estimadores!$D$6:$AB$6,0)),\"-\")","v":"-"},{"$f":"IFERROR(INDEX([4]Estimadores!$D$7:$AB$38,MATCH(T$287,[4]Estimadores!$B$7:$B$38,0),MATCH($B294,[4]Estimadores!$D$6:$AB$6,0)),\"-\")","v":"-"},{"$f":"IFERROR(INDEX([4]Estimadores!$D$7:$AB$38,MATCH(U$287,[4]Estimadores!$B$7:$B$38,0),MATCH($B294,[4]Estimadores!$D$6:$AB$6,0)),\"-\")","v":"-"},{"$f":"IFERROR(INDEX([4]Estimadores!$D$7:$AB$38,MATCH(V$287,[4]Estimadores!$B$7:$B$38,0),MATCH($B294,[4]Estimadores!$D$6:$AB$6,0)),\"-\")","v":"-"},{"$f":"IFERROR(INDEX([4]Estimadores!$D$7:$AB$38,MATCH(W$287,[4]Estimadores!$B$7:$B$38,0),MATCH($B294,[4]Estimadores!$D$6:$AB$6,0)),\"-\")","v":"-"},{"$f":"IFERROR(INDEX([4]Estimadores!$D$7:$AB$38,MATCH(X$287,[4]Estimadores!$B$7:$B$38,0),MATCH($B294,[4]Estimadores!$D$6:$AB$6,0)),\"-\")","v":"-"},{"$f":"IFERROR(INDEX([4]Estimadores!$D$7:$AB$38,MATCH(Y$287,[4]Estimadores!$B$7:$B$38,0),MATCH($B294,[4]Estimadores!$D$6:$AB$6,0)),\"-\")","v":"-"},{"$f":"IFERROR(INDEX([4]Estimadores!$D$7:$AB$38,MATCH(Z$287,[4]Estimadores!$B$7:$B$38,0),MATCH($B294,[4]Estimadores!$D$6:$AB$6,0)),\"-\")","v":"-"},{"$f":"IFERROR(INDEX([4]Estimadores!$D$7:$AB$38,MATCH(AA$287,[4]Estimadores!$B$7:$B$38,0),MATCH($B294,[4]Estimadores!$D$6:$AB$6,0)),\"-\")","v":"-"},{"$f":"IFERROR(INDEX([4]Estimadores!$D$7:$AB$38,MATCH(AB$287,[4]Estimadores!$B$7:$B$38,0),MATCH($B294,[4]Estimadores!$D$6:$AB$6,0)),\"-\")","v":"-"},{"$f":"IFERROR(INDEX([4]Estimadores!$D$7:$AB$38,MATCH(AC$287,[4]Estimadores!$B$7:$B$38,0),MATCH($B294,[4]Estimadores!$D$6:$AB$6,0)),\"-\")","v":"-"},{"$f":"IFERROR(INDEX([4]Estimadores!$D$7:$AB$38,MATCH(AD$287,[4]Estimadores!$B$7:$B$38,0),MATCH($B294,[4]Estimadores!$D$6:$AB$6,0)),\"-\")","v":"-"},{"$f":"IFERROR(INDEX([4]Estimadores!$D$7:$AB$38,MATCH(AE$287,[4]Estimadores!$B$7:$B$38,0),MATCH($B294,[4]Estimadores!$D$6:$AB$6,0)),\"-\")","v":"-"},{"$f":"IFERROR(INDEX([4]Estimadores!$D$7:$AB$38,MATCH(AF$287,[4]Estimadores!$B$7:$B$38,0),MATCH($B294,[4]Estimadores!$D$6:$AB$6,0)),\"-\")","v":"-"},{"$f":"IFERROR(INDEX([4]Estimadores!$D$7:$AB$38,MATCH(AG$287,[4]Estimadores!$B$7:$B$38,0),MATCH($B294,[4]Estimadores!$D$6:$AB$6,0)),\"-\")","v":"-"},{"$f":"IFERROR(INDEX([4]Estimadores!$D$7:$AB$38,MATCH(AH$287,[4]Estimadores!$B$7:$B$38,0),MATCH($B294,[4]Estimadores!$D$6:$AB$6,0)),\"-\")","v":"-"},{"$f":"IFERROR(INDEX([4]Estimadores!$D$7:$AB$38,MATCH(AI$287,[4]Estimadores!$B$7:$B$38,0),MATCH($B294,[4]Estimadores!$D$6:$AB$6,0)),\"-\")","v":"-"}]
[null,null,"",{"$f":"IFERROR(INDEX([4]Estimadores!$D$7:$AB$38,MATCH(D$287,[4]Estimadores!$B$7:$B$38,0),MATCH($B295,[4]Estimadores!$D$6:$AB$6,0)),\"-\")","v":"-"},{"$f":"IFERROR(INDEX([4]Estimadores!$D$7:$AB$38,MATCH(E$287,[4]Estimadores!$B$7:$B$38,0),MATCH($B295,[4]Estimadores!$D$6:$AB$6,0)),\"-\")","v":"-"},{"$f":"IFERROR(INDEX([4]Estimadores!$D$7:$AB$38,MATCH(F$287,[4]Estimadores!$B$7:$B$38,0),MATCH($B295,[4]Estimadores!$D$6:$AB$6,0)),\"-\")","v":"-"},{"$f":"IFERROR(INDEX([4]Estimadores!$D$7:$AB$38,MATCH(G$287,[4]Estimadores!$B$7:$B$38,0),MATCH($B295,[4]Estimadores!$D$6:$AB$6,0)),\"-\")","v":"-"},{"$f":"IFERROR(INDEX([4]Estimadores!$D$7:$AB$38,MATCH(H$287,[4]Estimadores!$B$7:$B$38,0),MATCH($B295,[4]Estimadores!$D$6:$AB$6,0)),\"-\")","v":"-"},{"$f":"IFERROR(INDEX([4]Estimadores!$D$7:$AB$38,MATCH(I$287,[4]Estimadores!$B$7:$B$38,0),MATCH($B295,[4]Estimadores!$D$6:$AB$6,0)),\"-\")","v":"-"},{"$f":"IFERROR(INDEX([4]Estimadores!$D$7:$AB$38,MATCH(J$287,[4]Estimadores!$B$7:$B$38,0),MATCH($B295,[4]Estimadores!$D$6:$AB$6,0)),\"-\")","v":"-"},{"$f":"IFERROR(INDEX([4]Estimadores!$D$7:$AB$38,MATCH(K$287,[4]Estimadores!$B$7:$B$38,0),MATCH($B295,[4]Estimadores!$D$6:$AB$6,0)),\"-\")","v":"-"},{"$f":"IFERROR(INDEX([4]Estimadores!$D$7:$AB$38,MATCH(L$287,[4]Estimadores!$B$7:$B$38,0),MATCH($B295,[4]Estimadores!$D$6:$AB$6,0)),\"-\")","v":"-"},{"$f":"IFERROR(INDEX([4]Estimadores!$D$7:$AB$38,MATCH(M$287,[4]Estimadores!$B$7:$B$38,0),MATCH($B295,[4]Estimadores!$D$6:$AB$6,0)),\"-\")","v":"-"},{"$f":"IFERROR(INDEX([4]Estimadores!$D$7:$AB$38,MATCH(N$287,[4]Estimadores!$B$7:$B$38,0),MATCH($B295,[4]Estimadores!$D$6:$AB$6,0)),\"-\")","v":"-"},{"$f":"IFERROR(INDEX([4]Estimadores!$D$7:$AB$38,MATCH(O$287,[4]Estimadores!$B$7:$B$38,0),MATCH($B295,[4]Estimadores!$D$6:$AB$6,0)),\"-\")","v":"-"},{"$f":"IFERROR(INDEX([4]Estimadores!$D$7:$AB$38,MATCH(P$287,[4]Estimadores!$B$7:$B$38,0),MATCH($B295,[4]Estimadores!$D$6:$AB$6,0)),\"-\")","v":"-"},{"$f":"IFERROR(INDEX([4]Estimadores!$D$7:$AB$38,MATCH(Q$287,[4]Estimadores!$B$7:$B$38,0),MATCH($B295,[4]Estimadores!$D$6:$AB$6,0)),\"-\")","v":"-"},{"$f":"IFERROR(INDEX([4]Estimadores!$D$7:$AB$38,MATCH(R$287,[4]Estimadores!$B$7:$B$38,0),MATCH($B295,[4]Estimadores!$D$6:$AB$6,0)),\"-\")","v":"-"},{"$f":"IFERROR(INDEX([4]Estimadores!$D$7:$AB$38,MATCH(S$287,[4]Estimadores!$B$7:$B$38,0),MATCH($B295,[4]Estimadores!$D$6:$AB$6,0)),\"-\")","v":"-"},{"$f":"IFERROR(INDEX([4]Estimadores!$D$7:$AB$38,MATCH(T$287,[4]Estimadores!$B$7:$B$38,0),MATCH($B295,[4]Estimadores!$D$6:$AB$6,0)),\"-\")","v":"-"},{"$f":"IFERROR(INDEX([4]Estimadores!$D$7:$AB$38,MATCH(U$287,[4]Estimadores!$B$7:$B$38,0),MATCH($B295,[4]Estimadores!$D$6:$AB$6,0)),\"-\")","v":"-"},{"$f":"IFERROR(INDEX([4]Estimadores!$D$7:$AB$38,MATCH(V$287,[4]Estimadores!$B$7:$B$38,0),MATCH($B295,[4]Estimadores!$D$6:$AB$6,0)),\"-\")","v":"-"},{"$f":"IFERROR(INDEX([4]Estimadores!$D$7:$AB$38,MATCH(W$287,[4]Estimadores!$B$7:$B$38,0),MATCH($B295,[4]Estimadores!$D$6:$AB$6,0)),\"-\")","v":"-"},{"$f":"IFERROR(INDEX([4]Estimadores!$D$7:$AB$38,MATCH(X$287,[4]Estimadores!$B$7:$B$38,0),MATCH($B295,[4]Estimadores!$D$6:$AB$6,0)),\"-\")","v":"-"},{"$f":"IFERROR(INDEX([4]Estimadores!$D$7:$AB$38,MATCH(Y$287,[4]Estimadores!$B$7:$B$38,0),MATCH($B295,[4]Estimadores!$D$6:$AB$6,0)),\"-\")","v":"-"},{"$f":"IFERROR(INDEX([4]Estimadores!$D$7:$AB$38,MATCH(Z$287,[4]Estimadores!$B$7:$B$38,0),MATCH($B295,[4]Estimadores!$D$6:$AB$6,0)),\"-\")","v":"-"},{"$f":"IFERROR(INDEX([4]Estimadores!$D$7:$AB$38,MATCH(AA$287,[4]Estimadores!$B$7:$B$38,0),MATCH($B295,[4]Estimadores!$D$6:$AB$6,0)),\"-\")","v":"-"},{"$f":"IFERROR(INDEX([4]Estimadores!$D$7:$AB$38,MATCH(AB$287,[4]Estimadores!$B$7:$B$38,0),MATCH($B295,[4]Estimadores!$D$6:$AB$6,0)),\"-\")","v":"-"},{"$f":"IFERROR(INDEX([4]Estimadores!$D$7:$AB$38,MATCH(AC$287,[4]Estimadores!$B$7:$B$38,0),MATCH($B295,[4]Estimadores!$D$6:$AB$6,0)),\"-\")","v":"-"},{"$f":"IFERROR(INDEX([4]Estimadores!$D$7:$AB$38,MATCH(AD$287,[4]Estimadores!$B$7:$B$38,0),MATCH($B295,[4]Estimadores!$D$6:$AB$6,0)),\"-\")","v":"-"},{"$f":"IFERROR(INDEX([4]Estimadores!$D$7:$AB$38,MATCH(AE$287,[4]Estimadores!$B$7:$B$38,0),MATCH($B295,[4]Estimadores!$D$6:$AB$6,0)),\"-\")","v":"-"},{"$f":"IFERROR(INDEX([4]Estimadores!$D$7:$AB$38,MATCH(AF$287,[4]Estimadores!$B$7:$B$38,0),MATCH($B295,[4]Estimadores!$D$6:$AB$6,0)),\"-\")","v":"-"},{"$f":"IFERROR(INDEX([4]Estimadores!$D$7:$AB$38,MATCH(AG$287,[4]Estimadores!$B$7:$B$38,0),MATCH($B295,[4]Estimadores!$D$6:$AB$6,0)),\"-\")","v":"-"},{"$f":"IFERROR(INDEX([4]Estimadores!$D$7:$AB$38,MATCH(AH$287,[4]Estimadores!$B$7:$B$38,0),MATCH($B295,[4]Estimadores!$D$6:$AB$6,0)),\"-\")","v":"-"},{"$f":"IFERROR(INDEX([4]Estimadores!$D$7:$AB$38,MATCH(AI$287,[4]Estimadores!$B$7:$B$38,0),MATCH($B295,[4]Estimadores!$D$6:$AB$6,0)),\"-\")","v":"-"}]
[null,null,"",{"$f":"IFERROR(INDEX([4]Estimadores!$D$7:$AB$38,MATCH(D$287,[4]Estimadores!$B$7:$B$38,0),MATCH($B296,[4]Estimadores!$D$6:$AB$6,0)),\"-\")","v":"-"},{"$f":"IFERROR(INDEX([4]Estimadores!$D$7:$AB$38,MATCH(E$287,[4]Estimadores!$B$7:$B$38,0),MATCH($B296,[4]Estimadores!$D$6:$AB$6,0)),\"-\")","v":"-"},{"$f":"IFERROR(INDEX([4]Estimadores!$D$7:$AB$38,MATCH(F$287,[4]Estimadores!$B$7:$B$38,0),MATCH($B296,[4]Estimadores!$D$6:$AB$6,0)),\"-\")","v":"-"},{"$f":"IFERROR(INDEX([4]Estimadores!$D$7:$AB$38,MATCH(G$287,[4]Estimadores!$B$7:$B$38,0),MATCH($B296,[4]Estimadores!$D$6:$AB$6,0)),\"-\")","v":"-"},{"$f":"IFERROR(INDEX([4]Estimadores!$D$7:$AB$38,MATCH(H$287,[4]Estimadores!$B$7:$B$38,0),MATCH($B296,[4]Estimadores!$D$6:$AB$6,0)),\"-\")","v":"-"},{"$f":"IFERROR(INDEX([4]Estimadores!$D$7:$AB$38,MATCH(I$287,[4]Estimadores!$B$7:$B$38,0),MATCH($B296,[4]Estimadores!$D$6:$AB$6,0)),\"-\")","v":"-"},{"$f":"IFERROR(INDEX([4]Estimadores!$D$7:$AB$38,MATCH(J$287,[4]Estimadores!$B$7:$B$38,0),MATCH($B296,[4]Estimadores!$D$6:$AB$6,0)),\"-\")","v":"-"},{"$f":"IFERROR(INDEX([4]Estimadores!$D$7:$AB$38,MATCH(K$287,[4]Estimadores!$B$7:$B$38,0),MATCH($B296,[4]Estimadores!$D$6:$AB$6,0)),\"-\")","v":"-"},{"$f":"IFERROR(INDEX([4]Estimadores!$D$7:$AB$38,MATCH(L$287,[4]Estimadores!$B$7:$B$38,0),MATCH($B296,[4]Estimadores!$D$6:$AB$6,0)),\"-\")","v":"-"},{"$f":"IFERROR(INDEX([4]Estimadores!$D$7:$AB$38,MATCH(M$287,[4]Estimadores!$B$7:$B$38,0),MATCH($B296,[4]Estimadores!$D$6:$AB$6,0)),\"-\")","v":"-"},{"$f":"IFERROR(INDEX([4]Estimadores!$D$7:$AB$38,MATCH(N$287,[4]Estimadores!$B$7:$B$38,0),MATCH($B296,[4]Estimadores!$D$6:$AB$6,0)),\"-\")","v":"-"},{"$f":"IFERROR(INDEX([4]Estimadores!$D$7:$AB$38,MATCH(O$287,[4]Estimadores!$B$7:$B$38,0),MATCH($B296,[4]Estimadores!$D$6:$AB$6,0)),\"-\")","v":"-"},{"$f":"IFERROR(INDEX([4]Estimadores!$D$7:$AB$38,MATCH(P$287,[4]Estimadores!$B$7:$B$38,0),MATCH($B296,[4]Estimadores!$D$6:$AB$6,0)),\"-\")","v":"-"},{"$f":"IFERROR(INDEX([4]Estimadores!$D$7:$AB$38,MATCH(Q$287,[4]Estimadores!$B$7:$B$38,0),MATCH($B296,[4]Estimadores!$D$6:$AB$6,0)),\"-\")","v":"-"},{"$f":"IFERROR(INDEX([4]Estimadores!$D$7:$AB$38,MATCH(R$287,[4]Estimadores!$B$7:$B$38,0),MATCH($B296,[4]Estimadores!$D$6:$AB$6,0)),\"-\")","v":"-"},{"$f":"IFERROR(INDEX([4]Estimadores!$D$7:$AB$38,MATCH(S$287,[4]Estimadores!$B$7:$B$38,0),MATCH($B296,[4]Estimadores!$D$6:$AB$6,0)),\"-\")","v":"-"},{"$f":"IFERROR(INDEX([4]Estimadores!$D$7:$AB$38,MATCH(T$287,[4]Estimadores!$B$7:$B$38,0),MATCH($B296,[4]Estimadores!$D$6:$AB$6,0)),\"-\")","v":"-"},{"$f":"IFERROR(INDEX([4]Estimadores!$D$7:$AB$38,MATCH(U$287,[4]Estimadores!$B$7:$B$38,0),MATCH($B296,[4]Estimadores!$D$6:$AB$6,0)),\"-\")","v":"-"},{"$f":"IFERROR(INDEX([4]Estimadores!$D$7:$AB$38,MATCH(V$287,[4]Estimadores!$B$7:$B$38,0),MATCH($B296,[4]Estimadores!$D$6:$AB$6,0)),\"-\")","v":"-"},{"$f":"IFERROR(INDEX([4]Estimadores!$D$7:$AB$38,MATCH(W$287,[4]Estimadores!$B$7:$B$38,0),MATCH($B296,[4]Estimadores!$D$6:$AB$6,0)),\"-\")","v":"-"},{"$f":"IFERROR(INDEX([4]Estimadores!$D$7:$AB$38,MATCH(X$287,[4]Estimadores!$B$7:$B$38,0),MATCH($B296,[4]Estimadores!$D$6:$AB$6,0)),\"-\")","v":"-"},{"$f":"IFERROR(INDEX([4]Estimadores!$D$7:$AB$38,MATCH(Y$287,[4]Estimadores!$B$7:$B$38,0),MATCH($B296,[4]Estimadores!$D$6:$AB$6,0)),\"-\")","v":"-"},{"$f":"IFERROR(INDEX([4]Estimadores!$D$7:$AB$38,MATCH(Z$287,[4]Estimadores!$B$7:$B$38,0),MATCH($B296,[4]Estimadores!$D$6:$AB$6,0)),\"-\")","v":"-"},{"$f":"IFERROR(INDEX([4]Estimadores!$D$7:$AB$38,MATCH(AA$287,[4]Estimadores!$B$7:$B$38,0),MATCH($B296,[4]Estimadores!$D$6:$AB$6,0)),\"-\")","v":"-"},{"$f":"IFERROR(INDEX([4]Estimadores!$D$7:$AB$38,MATCH(AB$287,[4]Estimadores!$B$7:$B$38,0),MATCH($B296,[4]Estimadores!$D$6:$AB$6,0)),\"-\")","v":"-"},{"$f":"IFERROR(INDEX([4]Estimadores!$D$7:$AB$38,MATCH(AC$287,[4]Estimadores!$B$7:$B$38,0),MATCH($B296,[4]Estimadores!$D$6:$AB$6,0)),\"-\")","v":"-"},{"$f":"IFERROR(INDEX([4]Estimadores!$D$7:$AB$38,MATCH(AD$287,[4]Estimadores!$B$7:$B$38,0),MATCH($B296,[4]Estimadores!$D$6:$AB$6,0)),\"-\")","v":"-"},{"$f":"IFERROR(INDEX([4]Estimadores!$D$7:$AB$38,MATCH(AE$287,[4]Estimadores!$B$7:$B$38,0),MATCH($B296,[4]Estimadores!$D$6:$AB$6,0)),\"-\")","v":"-"},{"$f":"IFERROR(INDEX([4]Estimadores!$D$7:$AB$38,MATCH(AF$287,[4]Estimadores!$B$7:$B$38,0),MATCH($B296,[4]Estimadores!$D$6:$AB$6,0)),\"-\")","v":"-"},{"$f":"IFERROR(INDEX([4]Estimadores!$D$7:$AB$38,MATCH(AG$287,[4]Estimadores!$B$7:$B$38,0),MATCH($B296,[4]Estimadores!$D$6:$AB$6,0)),\"-\")","v":"-"},{"$f":"IFERROR(INDEX([4]Estimadores!$D$7:$AB$38,MATCH(AH$287,[4]Estimadores!$B$7:$B$38,0),MATCH($B296,[4]Estimadores!$D$6:$AB$6,0)),\"-\")","v":"-"},{"$f":"IFERROR(INDEX([4]Estimadores!$D$7:$AB$38,MATCH(AI$287,[4]Estimadores!$B$7:$B$38,0),MATCH($B296,[4]Estimadores!$D$6:$AB$6,0)),\"-\")","v":"-"}]
[null,null,"",{"$f":"IFERROR(INDEX([4]Estimadores!$D$7:$AB$38,MATCH(D$287,[4]Estimadores!$B$7:$B$38,0),MATCH($B297,[4]Estimadores!$D$6:$AB$6,0)),\"-\")","v":"-"},{"$f":"IFERROR(INDEX([4]Estimadores!$D$7:$AB$38,MATCH(E$287,[4]Estimadores!$B$7:$B$38,0),MATCH($B297,[4]Estimadores!$D$6:$AB$6,0)),\"-\")","v":"-"},{"$f":"IFERROR(INDEX([4]Estimadores!$D$7:$AB$38,MATCH(F$287,[4]Estimadores!$B$7:$B$38,0),MATCH($B297,[4]Estimadores!$D$6:$AB$6,0)),\"-\")","v":"-"},{"$f":"IFERROR(INDEX([4]Estimadores!$D$7:$AB$38,MATCH(G$287,[4]Estimadores!$B$7:$B$38,0),MATCH($B297,[4]Estimadores!$D$6:$AB$6,0)),\"-\")","v":"-"},{"$f":"IFERROR(INDEX([4]Estimadores!$D$7:$AB$38,MATCH(H$287,[4]Estimadores!$B$7:$B$38,0),MATCH($B297,[4]Estimadores!$D$6:$AB$6,0)),\"-\")","v":"-"},{"$f":"IFERROR(INDEX([4]Estimadores!$D$7:$AB$38,MATCH(I$287,[4]Estimadores!$B$7:$B$38,0),MATCH($B297,[4]Estimadores!$D$6:$AB$6,0)),\"-\")","v":"-"},{"$f":"IFERROR(INDEX([4]Estimadores!$D$7:$AB$38,MATCH(J$287,[4]Estimadores!$B$7:$B$38,0),MATCH($B297,[4]Estimadores!$D$6:$AB$6,0)),\"-\")","v":"-"},{"$f":"IFERROR(INDEX([4]Estimadores!$D$7:$AB$38,MATCH(K$287,[4]Estimadores!$B$7:$B$38,0),MATCH($B297,[4]Estimadores!$D$6:$AB$6,0)),\"-\")","v":"-"},{"$f":"IFERROR(INDEX([4]Estimadores!$D$7:$AB$38,MATCH(L$287,[4]Estimadores!$B$7:$B$38,0),MATCH($B297,[4]Estimadores!$D$6:$AB$6,0)),\"-\")","v":"-"},{"$f":"IFERROR(INDEX([4]Estimadores!$D$7:$AB$38,MATCH(M$287,[4]Estimadores!$B$7:$B$38,0),MATCH($B297,[4]Estimadores!$D$6:$AB$6,0)),\"-\")","v":"-"},{"$f":"IFERROR(INDEX([4]Estimadores!$D$7:$AB$38,MATCH(N$287,[4]Estimadores!$B$7:$B$38,0),MATCH($B297,[4]Estimadores!$D$6:$AB$6,0)),\"-\")","v":"-"},{"$f":"IFERROR(INDEX([4]Estimadores!$D$7:$AB$38,MATCH(O$287,[4]Estimadores!$B$7:$B$38,0),MATCH($B297,[4]Estimadores!$D$6:$AB$6,0)),\"-\")","v":"-"},{"$f":"IFERROR(INDEX([4]Estimadores!$D$7:$AB$38,MATCH(P$287,[4]Estimadores!$B$7:$B$38,0),MATCH($B297,[4]Estimadores!$D$6:$AB$6,0)),\"-\")","v":"-"},{"$f":"IFERROR(INDEX([4]Estimadores!$D$7:$AB$38,MATCH(Q$287,[4]Estimadores!$B$7:$B$38,0),MATCH($B297,[4]Estimadores!$D$6:$AB$6,0)),\"-\")","v":"-"},{"$f":"IFERROR(INDEX([4]Estimadores!$D$7:$AB$38,MATCH(R$287,[4]Estimadores!$B$7:$B$38,0),MATCH($B297,[4]Estimadores!$D$6:$AB$6,0)),\"-\")","v":"-"},{"$f":"IFERROR(INDEX([4]Estimadores!$D$7:$AB$38,MATCH(S$287,[4]Estimadores!$B$7:$B$38,0),MATCH($B297,[4]Estimadores!$D$6:$AB$6,0)),\"-\")","v":"-"},{"$f":"IFERROR(INDEX([4]Estimadores!$D$7:$AB$38,MATCH(T$287,[4]Estimadores!$B$7:$B$38,0),MATCH($B297,[4]Estimadores!$D$6:$AB$6,0)),\"-\")","v":"-"},{"$f":"IFERROR(INDEX([4]Estimadores!$D$7:$AB$38,MATCH(U$287,[4]Estimadores!$B$7:$B$38,0),MATCH($B297,[4]Estimadores!$D$6:$AB$6,0)),\"-\")","v":"-"},{"$f":"IFERROR(INDEX([4]Estimadores!$D$7:$AB$38,MATCH(V$287,[4]Estimadores!$B$7:$B$38,0),MATCH($B297,[4]Estimadores!$D$6:$AB$6,0)),\"-\")","v":"-"},{"$f":"IFERROR(INDEX([4]Estimadores!$D$7:$AB$38,MATCH(W$287,[4]Estimadores!$B$7:$B$38,0),MATCH($B297,[4]Estimadores!$D$6:$AB$6,0)),\"-\")","v":"-"},{"$f":"IFERROR(INDEX([4]Estimadores!$D$7:$AB$38,MATCH(X$287,[4]Estimadores!$B$7:$B$38,0),MATCH($B297,[4]Estimadores!$D$6:$AB$6,0)),\"-\")","v":"-"},{"$f":"IFERROR(INDEX([4]Estimadores!$D$7:$AB$38,MATCH(Y$287,[4]Estimadores!$B$7:$B$38,0),MATCH($B297,[4]Estimadores!$D$6:$AB$6,0)),\"-\")","v":"-"},{"$f":"IFERROR(INDEX([4]Estimadores!$D$7:$AB$38,MATCH(Z$287,[4]Estimadores!$B$7:$B$38,0),MATCH($B297,[4]Estimadores!$D$6:$AB$6,0)),\"-\")","v":"-"},{"$f":"IFERROR(INDEX([4]Estimadores!$D$7:$AB$38,MATCH(AA$287,[4]Estimadores!$B$7:$B$38,0),MATCH($B297,[4]Estimadores!$D$6:$AB$6,0)),\"-\")","v":"-"},{"$f":"IFERROR(INDEX([4]Estimadores!$D$7:$AB$38,MATCH(AB$287,[4]Estimadores!$B$7:$B$38,0),MATCH($B297,[4]Estimadores!$D$6:$AB$6,0)),\"-\")","v":"-"},{"$f":"IFERROR(INDEX([4]Estimadores!$D$7:$AB$38,MATCH(AC$287,[4]Estimadores!$B$7:$B$38,0),MATCH($B297,[4]Estimadores!$D$6:$AB$6,0)),\"-\")","v":"-"},{"$f":"IFERROR(INDEX([4]Estimadores!$D$7:$AB$38,MATCH(AD$287,[4]Estimadores!$B$7:$B$38,0),MATCH($B297,[4]Estimadores!$D$6:$AB$6,0)),\"-\")","v":"-"},{"$f":"IFERROR(INDEX([4]Estimadores!$D$7:$AB$38,MATCH(AE$287,[4]Estimadores!$B$7:$B$38,0),MATCH($B297,[4]Estimadores!$D$6:$AB$6,0)),\"-\")","v":"-"},{"$f":"IFERROR(INDEX([4]Estimadores!$D$7:$AB$38,MATCH(AF$287,[4]Estimadores!$B$7:$B$38,0),MATCH($B297,[4]Estimadores!$D$6:$AB$6,0)),\"-\")","v":"-"},{"$f":"IFERROR(INDEX([4]Estimadores!$D$7:$AB$38,MATCH(AG$287,[4]Estimadores!$B$7:$B$38,0),MATCH($B297,[4]Estimadores!$D$6:$AB$6,0)),\"-\")","v":"-"},{"$f":"IFERROR(INDEX([4]Estimadores!$D$7:$AB$38,MATCH(AH$287,[4]Estimadores!$B$7:$B$38,0),MATCH($B297,[4]Estimadores!$D$6:$AB$6,0)),\"-\")","v":"-"},{"$f":"IFERROR(INDEX([4]Estimadores!$D$7:$AB$38,MATCH(AI$287,[4]Estimadores!$B$7:$B$38,0),MATCH($B297,[4]Estimadores!$D$6:$AB$6,0)),\"-\")","v":"-"}]
[null,null,"",{"$f":"IFERROR(INDEX([4]Estimadores!$D$7:$AB$38,MATCH(D$287,[4]Estimadores!$B$7:$B$38,0),MATCH($B298,[4]Estimadores!$D$6:$AB$6,0)),\"-\")","v":"-"},{"$f":"IFERROR(INDEX([4]Estimadores!$D$7:$AB$38,MATCH(E$287,[4]Estimadores!$B$7:$B$38,0),MATCH($B298,[4]Estimadores!$D$6:$AB$6,0)),\"-\")","v":"-"},{"$f":"IFERROR(INDEX([4]Estimadores!$D$7:$AB$38,MATCH(F$287,[4]Estimadores!$B$7:$B$38,0),MATCH($B298,[4]Estimadores!$D$6:$AB$6,0)),\"-\")","v":"-"},{"$f":"IFERROR(INDEX([4]Estimadores!$D$7:$AB$38,MATCH(G$287,[4]Estimadores!$B$7:$B$38,0),MATCH($B298,[4]Estimadores!$D$6:$AB$6,0)),\"-\")","v":"-"},{"$f":"IFERROR(INDEX([4]Estimadores!$D$7:$AB$38,MATCH(H$287,[4]Estimadores!$B$7:$B$38,0),MATCH($B298,[4]Estimadores!$D$6:$AB$6,0)),\"-\")","v":"-"},{"$f":"IFERROR(INDEX([4]Estimadores!$D$7:$AB$38,MATCH(I$287,[4]Estimadores!$B$7:$B$38,0),MATCH($B298,[4]Estimadores!$D$6:$AB$6,0)),\"-\")","v":"-"},{"$f":"IFERROR(INDEX([4]Estimadores!$D$7:$AB$38,MATCH(J$287,[4]Estimadores!$B$7:$B$38,0),MATCH($B298,[4]Estimadores!$D$6:$AB$6,0)),\"-\")","v":"-"},{"$f":"IFERROR(INDEX([4]Estimadores!$D$7:$AB$38,MATCH(K$287,[4]Estimadores!$B$7:$B$38,0),MATCH($B298,[4]Estimadores!$D$6:$AB$6,0)),\"-\")","v":"-"},{"$f":"IFERROR(INDEX([4]Estimadores!$D$7:$AB$38,MATCH(L$287,[4]Estimadores!$B$7:$B$38,0),MATCH($B298,[4]Estimadores!$D$6:$AB$6,0)),\"-\")","v":"-"},{"$f":"IFERROR(INDEX([4]Estimadores!$D$7:$AB$38,MATCH(M$287,[4]Estimadores!$B$7:$B$38,0),MATCH($B298,[4]Estimadores!$D$6:$AB$6,0)),\"-\")","v":"-"},{"$f":"IFERROR(INDEX([4]Estimadores!$D$7:$AB$38,MATCH(N$287,[4]Estimadores!$B$7:$B$38,0),MATCH($B298,[4]Estimadores!$D$6:$AB$6,0)),\"-\")","v":"-"},{"$f":"IFERROR(INDEX([4]Estimadores!$D$7:$AB$38,MATCH(O$287,[4]Estimadores!$B$7:$B$38,0),MATCH($B298,[4]Estimadores!$D$6:$AB$6,0)),\"-\")","v":"-"},{"$f":"IFERROR(INDEX([4]Estimadores!$D$7:$AB$38,MATCH(P$287,[4]Estimadores!$B$7:$B$38,0),MATCH($B298,[4]Estimadores!$D$6:$AB$6,0)),\"-\")","v":"-"},{"$f":"IFERROR(INDEX([4]Estimadores!$D$7:$AB$38,MATCH(Q$287,[4]Estimadores!$B$7:$B$38,0),MATCH($B298,[4]Estimadores!$D$6:$AB$6,0)),\"-\")","v":"-"},{"$f":"IFERROR(INDEX([4]Estimadores!$D$7:$AB$38,MATCH(R$287,[4]Estimadores!$B$7:$B$38,0),MATCH($B298,[4]Estimadores!$D$6:$AB$6,0)),\"-\")","v":"-"},{"$f":"IFERROR(INDEX([4]Estimadores!$D$7:$AB$38,MATCH(S$287,[4]Estimadores!$B$7:$B$38,0),MATCH($B298,[4]Estimadores!$D$6:$AB$6,0)),\"-\")","v":"-"},{"$f":"IFERROR(INDEX([4]Estimadores!$D$7:$AB$38,MATCH(T$287,[4]Estimadores!$B$7:$B$38,0),MATCH($B298,[4]Estimadores!$D$6:$AB$6,0)),\"-\")","v":"-"},{"$f":"IFERROR(INDEX([4]Estimadores!$D$7:$AB$38,MATCH(U$287,[4]Estimadores!$B$7:$B$38,0),MATCH($B298,[4]Estimadores!$D$6:$AB$6,0)),\"-\")","v":"-"},{"$f":"IFERROR(INDEX([4]Estimadores!$D$7:$AB$38,MATCH(V$287,[4]Estimadores!$B$7:$B$38,0),MATCH($B298,[4]Estimadores!$D$6:$AB$6,0)),\"-\")","v":"-"},{"$f":"IFERROR(INDEX([4]Estimadores!$D$7:$AB$38,MATCH(W$287,[4]Estimadores!$B$7:$B$38,0),MATCH($B298,[4]Estimadores!$D$6:$AB$6,0)),\"-\")","v":"-"},{"$f":"IFERROR(INDEX([4]Estimadores!$D$7:$AB$38,MATCH(X$287,[4]Estimadores!$B$7:$B$38,0),MATCH($B298,[4]Estimadores!$D$6:$AB$6,0)),\"-\")","v":"-"},{"$f":"IFERROR(INDEX([4]Estimadores!$D$7:$AB$38,MATCH(Y$287,[4]Estimadores!$B$7:$B$38,0),MATCH($B298,[4]Estimadores!$D$6:$AB$6,0)),\"-\")","v":"-"},{"$f":"IFERROR(INDEX([4]Estimadores!$D$7:$AB$38,MATCH(Z$287,[4]Estimadores!$B$7:$B$38,0),MATCH($B298,[4]Estimadores!$D$6:$AB$6,0)),\"-\")","v":"-"},{"$f":"IFERROR(INDEX([4]Estimadores!$D$7:$AB$38,MATCH(AA$287,[4]Estimadores!$B$7:$B$38,0),MATCH($B298,[4]Estimadores!$D$6:$AB$6,0)),\"-\")","v":"-"},{"$f":"IFERROR(INDEX([4]Estimadores!$D$7:$AB$38,MATCH(AB$287,[4]Estimadores!$B$7:$B$38,0),MATCH($B298,[4]Estimadores!$D$6:$AB$6,0)),\"-\")","v":"-"},{"$f":"IFERROR(INDEX([4]Estimadores!$D$7:$AB$38,MATCH(AC$287,[4]Estimadores!$B$7:$B$38,0),MATCH($B298,[4]Estimadores!$D$6:$AB$6,0)),\"-\")","v":"-"},{"$f":"IFERROR(INDEX([4]Estimadores!$D$7:$AB$38,MATCH(AD$287,[4]Estimadores!$B$7:$B$38,0),MATCH($B298,[4]Estimadores!$D$6:$AB$6,0)),\"-\")","v":"-"},{"$f":"IFERROR(INDEX([4]Estimadores!$D$7:$AB$38,MATCH(AE$287,[4]Estimadores!$B$7:$B$38,0),MATCH($B298,[4]Estimadores!$D$6:$AB$6,0)),\"-\")","v":"-"},{"$f":"IFERROR(INDEX([4]Estimadores!$D$7:$AB$38,MATCH(AF$287,[4]Estimadores!$B$7:$B$38,0),MATCH($B298,[4]Estimadores!$D$6:$AB$6,0)),\"-\")","v":"-"},{"$f":"IFERROR(INDEX([4]Estimadores!$D$7:$AB$38,MATCH(AG$287,[4]Estimadores!$B$7:$B$38,0),MATCH($B298,[4]Estimadores!$D$6:$AB$6,0)),\"-\")","v":"-"},{"$f":"IFERROR(INDEX([4]Estimadores!$D$7:$AB$38,MATCH(AH$287,[4]Estimadores!$B$7:$B$38,0),MATCH($B298,[4]Estimadores!$D$6:$AB$6,0)),\"-\")","v":"-"},{"$f":"IFERROR(INDEX([4]Estimadores!$D$7:$AB$38,MATCH(AI$287,[4]Estimadores!$B$7:$B$38,0),MATCH($B298,[4]Estimadores!$D$6:$AB$6,0)),\"-\")","v":"-"}]
[null,null,"",{"$f":"IFERROR(INDEX([4]Estimadores!$D$7:$AB$38,MATCH(D$287,[4]Estimadores!$B$7:$B$38,0),MATCH($B299,[4]Estimadores!$D$6:$AB$6,0)),\"-\")","v":"-"},{"$f":"IFERROR(INDEX([4]Estimadores!$D$7:$AB$38,MATCH(E$287,[4]Estimadores!$B$7:$B$38,0),MATCH($B299,[4]Estimadores!$D$6:$AB$6,0)),\"-\")","v":"-"},{"$f":"IFERROR(INDEX([4]Estimadores!$D$7:$AB$38,MATCH(F$287,[4]Estimadores!$B$7:$B$38,0),MATCH($B299,[4]Estimadores!$D$6:$AB$6,0)),\"-\")","v":"-"},{"$f":"IFERROR(INDEX([4]Estimadores!$D$7:$AB$38,MATCH(G$287,[4]Estimadores!$B$7:$B$38,0),MATCH($B299,[4]Estimadores!$D$6:$AB$6,0)),\"-\")","v":"-"},{"$f":"IFERROR(INDEX([4]Estimadores!$D$7:$AB$38,MATCH(H$287,[4]Estimadores!$B$7:$B$38,0),MATCH($B299,[4]Estimadores!$D$6:$AB$6,0)),\"-\")","v":"-"},{"$f":"IFERROR(INDEX([4]Estimadores!$D$7:$AB$38,MATCH(I$287,[4]Estimadores!$B$7:$B$38,0),MATCH($B299,[4]Estimadores!$D$6:$AB$6,0)),\"-\")","v":"-"},{"$f":"IFERROR(INDEX([4]Estimadores!$D$7:$AB$38,MATCH(J$287,[4]Estimadores!$B$7:$B$38,0),MATCH($B299,[4]Estimadores!$D$6:$AB$6,0)),\"-\")","v":"-"},{"$f":"IFERROR(INDEX([4]Estimadores!$D$7:$AB$38,MATCH(K$287,[4]Estimadores!$B$7:$B$38,0),MATCH($B299,[4]Estimadores!$D$6:$AB$6,0)),\"-\")","v":"-"},{"$f":"IFERROR(INDEX([4]Estimadores!$D$7:$AB$38,MATCH(L$287,[4]Estimadores!$B$7:$B$38,0),MATCH($B299,[4]Estimadores!$D$6:$AB$6,0)),\"-\")","v":"-"},{"$f":"IFERROR(INDEX([4]Estimadores!$D$7:$AB$38,MATCH(M$287,[4]Estimadores!$B$7:$B$38,0),MATCH($B299,[4]Estimadores!$D$6:$AB$6,0)),\"-\")","v":"-"},{"$f":"IFERROR(INDEX([4]Estimadores!$D$7:$AB$38,MATCH(N$287,[4]Estimadores!$B$7:$B$38,0),MATCH($B299,[4]Estimadores!$D$6:$AB$6,0)),\"-\")","v":"-"},{"$f":"IFERROR(INDEX([4]Estimadores!$D$7:$AB$38,MATCH(O$287,[4]Estimadores!$B$7:$B$38,0),MATCH($B299,[4]Estimadores!$D$6:$AB$6,0)),\"-\")","v":"-"},{"$f":"IFERROR(INDEX([4]Estimadores!$D$7:$AB$38,MATCH(P$287,[4]Estimadores!$B$7:$B$38,0),MATCH($B299,[4]Estimadores!$D$6:$AB$6,0)),\"-\")","v":"-"},{"$f":"IFERROR(INDEX([4]Estimadores!$D$7:$AB$38,MATCH(Q$287,[4]Estimadores!$B$7:$B$38,0),MATCH($B299,[4]Estimadores!$D$6:$AB$6,0)),\"-\")","v":"-"},{"$f":"IFERROR(INDEX([4]Estimadores!$D$7:$AB$38,MATCH(R$287,[4]Estimadores!$B$7:$B$38,0),MATCH($B299,[4]Estimadores!$D$6:$AB$6,0)),\"-\")","v":"-"},{"$f":"IFERROR(INDEX([4]Estimadores!$D$7:$AB$38,MATCH(S$287,[4]Estimadores!$B$7:$B$38,0),MATCH($B299,[4]Estimadores!$D$6:$AB$6,0)),\"-\")","v":"-"},{"$f":"IFERROR(INDEX([4]Estimadores!$D$7:$AB$38,MATCH(T$287,[4]Estimadores!$B$7:$B$38,0),MATCH($B299,[4]Estimadores!$D$6:$AB$6,0)),\"-\")","v":"-"},{"$f":"IFERROR(INDEX([4]Estimadores!$D$7:$AB$38,MATCH(U$287,[4]Estimadores!$B$7:$B$38,0),MATCH($B299,[4]Estimadores!$D$6:$AB$6,0)),\"-\")","v":"-"},{"$f":"IFERROR(INDEX([4]Estimadores!$D$7:$AB$38,MATCH(V$287,[4]Estimadores!$B$7:$B$38,0),MATCH($B299,[4]Estimadores!$D$6:$AB$6,0)),\"-\")","v":"-"},{"$f":"IFERROR(INDEX([4]Estimadores!$D$7:$AB$38,MATCH(W$287,[4]Estimadores!$B$7:$B$38,0),MATCH($B299,[4]Estimadores!$D$6:$AB$6,0)),\"-\")","v":"-"},{"$f":"IFERROR(INDEX([4]Estimadores!$D$7:$AB$38,MATCH(X$287,[4]Estimadores!$B$7:$B$38,0),MATCH($B299,[4]Estimadores!$D$6:$AB$6,0)),\"-\")","v":"-"},{"$f":"IFERROR(INDEX([4]Estimadores!$D$7:$AB$38,MATCH(Y$287,[4]Estimadores!$B$7:$B$38,0),MATCH($B299,[4]Estimadores!$D$6:$AB$6,0)),\"-\")","v":"-"},{"$f":"IFERROR(INDEX([4]Estimadores!$D$7:$AB$38,MATCH(Z$287,[4]Estimadores!$B$7:$B$38,0),MATCH($B299,[4]Estimadores!$D$6:$AB$6,0)),\"-\")","v":"-"},{"$f":"IFERROR(INDEX([4]Estimadores!$D$7:$AB$38,MATCH(AA$287,[4]Estimadores!$B$7:$B$38,0),MATCH($B299,[4]Estimadores!$D$6:$AB$6,0)),\"-\")","v":"-"},{"$f":"IFERROR(INDEX([4]Estimadores!$D$7:$AB$38,MATCH(AB$287,[4]Estimadores!$B$7:$B$38,0),MATCH($B299,[4]Estimadores!$D$6:$AB$6,0)),\"-\")","v":"-"},{"$f":"IFERROR(INDEX([4]Estimadores!$D$7:$AB$38,MATCH(AC$287,[4]Estimadores!$B$7:$B$38,0),MATCH($B299,[4]Estimadores!$D$6:$AB$6,0)),\"-\")","v":"-"},{"$f":"IFERROR(INDEX([4]Estimadores!$D$7:$AB$38,MATCH(AD$287,[4]Estimadores!$B$7:$B$38,0),MATCH($B299,[4]Estimadores!$D$6:$AB$6,0)),\"-\")","v":"-"},{"$f":"IFERROR(INDEX([4]Estimadores!$D$7:$AB$38,MATCH(AE$287,[4]Estimadores!$B$7:$B$38,0),MATCH($B299,[4]Estimadores!$D$6:$AB$6,0)),\"-\")","v":"-"},{"$f":"IFERROR(INDEX([4]Estimadores!$D$7:$AB$38,MATCH(AF$287,[4]Estimadores!$B$7:$B$38,0),MATCH($B299,[4]Estimadores!$D$6:$AB$6,0)),\"-\")","v":"-"},{"$f":"IFERROR(INDEX([4]Estimadores!$D$7:$AB$38,MATCH(AG$287,[4]Estimadores!$B$7:$B$38,0),MATCH($B299,[4]Estimadores!$D$6:$AB$6,0)),\"-\")","v":"-"},{"$f":"IFERROR(INDEX([4]Estimadores!$D$7:$AB$38,MATCH(AH$287,[4]Estimadores!$B$7:$B$38,0),MATCH($B299,[4]Estimadores!$D$6:$AB$6,0)),\"-\")","v":"-"},{"$f":"IFERROR(INDEX([4]Estimadores!$D$7:$AB$38,MATCH(AI$287,[4]Estimadores!$B$7:$B$38,0),MATCH($B299,[4]Estimadores!$D$6:$AB$6,0)),\"-\")","v":"-"}]
[null,null,"",{"$f":"IFERROR(INDEX([4]Estimadores!$D$7:$AB$38,MATCH(D$287,[4]Estimadores!$B$7:$B$38,0),MATCH($B300,[4]Estimadores!$D$6:$AB$6,0)),\"-\")","v":"-"},{"$f":"IFERROR(INDEX([4]Estimadores!$D$7:$AB$38,MATCH(E$287,[4]Estimadores!$B$7:$B$38,0),MATCH($B300,[4]Estimadores!$D$6:$AB$6,0)),\"-\")","v":"-"},{"$f":"IFERROR(INDEX([4]Estimadores!$D$7:$AB$38,MATCH(F$287,[4]Estimadores!$B$7:$B$38,0),MATCH($B300,[4]Estimadores!$D$6:$AB$6,0)),\"-\")","v":"-"},{"$f":"IFERROR(INDEX([4]Estimadores!$D$7:$AB$38,MATCH(G$287,[4]Estimadores!$B$7:$B$38,0),MATCH($B300,[4]Estimadores!$D$6:$AB$6,0)),\"-\")","v":"-"},{"$f":"IFERROR(INDEX([4]Estimadores!$D$7:$AB$38,MATCH(H$287,[4]Estimadores!$B$7:$B$38,0),MATCH($B300,[4]Estimadores!$D$6:$AB$6,0)),\"-\")","v":"-"},{"$f":"IFERROR(INDEX([4]Estimadores!$D$7:$AB$38,MATCH(I$287,[4]Estimadores!$B$7:$B$38,0),MATCH($B300,[4]Estimadores!$D$6:$AB$6,0)),\"-\")","v":"-"},{"$f":"IFERROR(INDEX([4]Estimadores!$D$7:$AB$38,MATCH(J$287,[4]Estimadores!$B$7:$B$38,0),MATCH($B300,[4]Estimadores!$D$6:$AB$6,0)),\"-\")","v":"-"},{"$f":"IFERROR(INDEX([4]Estimadores!$D$7:$AB$38,MATCH(K$287,[4]Estimadores!$B$7:$B$38,0),MATCH($B300,[4]Estimadores!$D$6:$AB$6,0)),\"-\")","v":"-"},{"$f":"IFERROR(INDEX([4]Estimadores!$D$7:$AB$38,MATCH(L$287,[4]Estimadores!$B$7:$B$38,0),MATCH($B300,[4]Estimadores!$D$6:$AB$6,0)),\"-\")","v":"-"},{"$f":"IFERROR(INDEX([4]Estimadores!$D$7:$AB$38,MATCH(M$287,[4]Estimadores!$B$7:$B$38,0),MATCH($B300,[4]Estimadores!$D$6:$AB$6,0)),\"-\")","v":"-"},{"$f":"IFERROR(INDEX([4]Estimadores!$D$7:$AB$38,MATCH(N$287,[4]Estimadores!$B$7:$B$38,0),MATCH($B300,[4]Estimadores!$D$6:$AB$6,0)),\"-\")","v":"-"},{"$f":"IFERROR(INDEX([4]Estimadores!$D$7:$AB$38,MATCH(O$287,[4]Estimadores!$B$7:$B$38,0),MATCH($B300,[4]Estimadores!$D$6:$AB$6,0)),\"-\")","v":"-"},{"$f":"IFERROR(INDEX([4]Estimadores!$D$7:$AB$38,MATCH(P$287,[4]Estimadores!$B$7:$B$38,0),MATCH($B300,[4]Estimadores!$D$6:$AB$6,0)),\"-\")","v":"-"},{"$f":"IFERROR(INDEX([4]Estimadores!$D$7:$AB$38,MATCH(Q$287,[4]Estimadores!$B$7:$B$38,0),MATCH($B300,[4]Estimadores!$D$6:$AB$6,0)),\"-\")","v":"-"},{"$f":"IFERROR(INDEX([4]Estimadores!$D$7:$AB$38,MATCH(R$287,[4]Estimadores!$B$7:$B$38,0),MATCH($B300,[4]Estimadores!$D$6:$AB$6,0)),\"-\")","v":"-"},{"$f":"IFERROR(INDEX([4]Estimadores!$D$7:$AB$38,MATCH(S$287,[4]Estimadores!$B$7:$B$38,0),MATCH($B300,[4]Estimadores!$D$6:$AB$6,0)),\"-\")","v":"-"},{"$f":"IFERROR(INDEX([4]Estimadores!$D$7:$AB$38,MATCH(T$287,[4]Estimadores!$B$7:$B$38,0),MATCH($B300,[4]Estimadores!$D$6:$AB$6,0)),\"-\")","v":"-"},{"$f":"IFERROR(INDEX([4]Estimadores!$D$7:$AB$38,MATCH(U$287,[4]Estimadores!$B$7:$B$38,0),MATCH($B300,[4]Estimadores!$D$6:$AB$6,0)),\"-\")","v":"-"},{"$f":"IFERROR(INDEX([4]Estimadores!$D$7:$AB$38,MATCH(V$287,[4]Estimadores!$B$7:$B$38,0),MATCH($B300,[4]Estimadores!$D$6:$AB$6,0)),\"-\")","v":"-"},{"$f":"IFERROR(INDEX([4]Estimadores!$D$7:$AB$38,MATCH(W$287,[4]Estimadores!$B$7:$B$38,0),MATCH($B300,[4]Estimadores!$D$6:$AB$6,0)),\"-\")","v":"-"},{"$f":"IFERROR(INDEX([4]Estimadores!$D$7:$AB$38,MATCH(X$287,[4]Estimadores!$B$7:$B$38,0),MATCH($B300,[4]Estimadores!$D$6:$AB$6,0)),\"-\")","v":"-"},{"$f":"IFERROR(INDEX([4]Estimadores!$D$7:$AB$38,MATCH(Y$287,[4]Estimadores!$B$7:$B$38,0),MATCH($B300,[4]Estimadores!$D$6:$AB$6,0)),\"-\")","v":"-"},{"$f":"IFERROR(INDEX([4]Estimadores!$D$7:$AB$38,MATCH(Z$287,[4]Estimadores!$B$7:$B$38,0),MATCH($B300,[4]Estimadores!$D$6:$AB$6,0)),\"-\")","v":"-"},{"$f":"IFERROR(INDEX([4]Estimadores!$D$7:$AB$38,MATCH(AA$287,[4]Estimadores!$B$7:$B$38,0),MATCH($B300,[4]Estimadores!$D$6:$AB$6,0)),\"-\")","v":"-"},{"$f":"IFERROR(INDEX([4]Estimadores!$D$7:$AB$38,MATCH(AB$287,[4]Estimadores!$B$7:$B$38,0),MATCH($B300,[4]Estimadores!$D$6:$AB$6,0)),\"-\")","v":"-"},{"$f":"IFERROR(INDEX([4]Estimadores!$D$7:$AB$38,MATCH(AC$287,[4]Estimadores!$B$7:$B$38,0),MATCH($B300,[4]Estimadores!$D$6:$AB$6,0)),\"-\")","v":"-"},{"$f":"IFERROR(INDEX([4]Estimadores!$D$7:$AB$38,MATCH(AD$287,[4]Estimadores!$B$7:$B$38,0),MATCH($B300,[4]Estimadores!$D$6:$AB$6,0)),\"-\")","v":"-"},{"$f":"IFERROR(INDEX([4]Estimadores!$D$7:$AB$38,MATCH(AE$287,[4]Estimadores!$B$7:$B$38,0),MATCH($B300,[4]Estimadores!$D$6:$AB$6,0)),\"-\")","v":"-"},{"$f":"IFERROR(INDEX([4]Estimadores!$D$7:$AB$38,MATCH(AF$287,[4]Estimadores!$B$7:$B$38,0),MATCH($B300,[4]Estimadores!$D$6:$AB$6,0)),\"-\")","v":"-"},{"$f":"IFERROR(INDEX([4]Estimadores!$D$7:$AB$38,MATCH(AG$287,[4]Estimadores!$B$7:$B$38,0),MATCH($B300,[4]Estimadores!$D$6:$AB$6,0)),\"-\")","v":"-"},{"$f":"IFERROR(INDEX([4]Estimadores!$D$7:$AB$38,MATCH(AH$287,[4]Estimadores!$B$7:$B$38,0),MATCH($B300,[4]Estimadores!$D$6:$AB$6,0)),\"-\")","v":"-"},{"$f":"IFERROR(INDEX([4]Estimadores!$D$7:$AB$38,MATCH(AI$287,[4]Estimadores!$B$7:$B$38,0),MATCH($B300,[4]Estimadores!$D$6:$AB$6,0)),\"-\")","v":"-"}]
[null,null,"",{"$f":"IFERROR(INDEX([4]Estimadores!$D$7:$AB$38,MATCH(D$287,[4]Estimadores!$B$7:$B$38,0),MATCH($B301,[4]Estimadores!$D$6:$AB$6,0)),\"-\")","v":"-"},{"$f":"IFERROR(INDEX([4]Estimadores!$D$7:$AB$38,MATCH(E$287,[4]Estimadores!$B$7:$B$38,0),MATCH($B301,[4]Estimadores!$D$6:$AB$6,0)),\"-\")","v":"-"},{"$f":"IFERROR(INDEX([4]Estimadores!$D$7:$AB$38,MATCH(F$287,[4]Estimadores!$B$7:$B$38,0),MATCH($B301,[4]Estimadores!$D$6:$AB$6,0)),\"-\")","v":"-"},{"$f":"IFERROR(INDEX([4]Estimadores!$D$7:$AB$38,MATCH(G$287,[4]Estimadores!$B$7:$B$38,0),MATCH($B301,[4]Estimadores!$D$6:$AB$6,0)),\"-\")","v":"-"},{"$f":"IFERROR(INDEX([4]Estimadores!$D$7:$AB$38,MATCH(H$287,[4]Estimadores!$B$7:$B$38,0),MATCH($B301,[4]Estimadores!$D$6:$AB$6,0)),\"-\")","v":"-"},{"$f":"IFERROR(INDEX([4]Estimadores!$D$7:$AB$38,MATCH(I$287,[4]Estimadores!$B$7:$B$38,0),MATCH($B301,[4]Estimadores!$D$6:$AB$6,0)),\"-\")","v":"-"},{"$f":"IFERROR(INDEX([4]Estimadores!$D$7:$AB$38,MATCH(J$287,[4]Estimadores!$B$7:$B$38,0),MATCH($B301,[4]Estimadores!$D$6:$AB$6,0)),\"-\")","v":"-"},{"$f":"IFERROR(INDEX([4]Estimadores!$D$7:$AB$38,MATCH(K$287,[4]Estimadores!$B$7:$B$38,0),MATCH($B301,[4]Estimadores!$D$6:$AB$6,0)),\"-\")","v":"-"},{"$f":"IFERROR(INDEX([4]Estimadores!$D$7:$AB$38,MATCH(L$287,[4]Estimadores!$B$7:$B$38,0),MATCH($B301,[4]Estimadores!$D$6:$AB$6,0)),\"-\")","v":"-"},{"$f":"IFERROR(INDEX([4]Estimadores!$D$7:$AB$38,MATCH(M$287,[4]Estimadores!$B$7:$B$38,0),MATCH($B301,[4]Estimadores!$D$6:$AB$6,0)),\"-\")","v":"-"},{"$f":"IFERROR(INDEX([4]Estimadores!$D$7:$AB$38,MATCH(N$287,[4]Estimadores!$B$7:$B$38,0),MATCH($B301,[4]Estimadores!$D$6:$AB$6,0)),\"-\")","v":"-"},{"$f":"IFERROR(INDEX([4]Estimadores!$D$7:$AB$38,MATCH(O$287,[4]Estimadores!$B$7:$B$38,0),MATCH($B301,[4]Estimadores!$D$6:$AB$6,0)),\"-\")","v":"-"},{"$f":"IFERROR(INDEX([4]Estimadores!$D$7:$AB$38,MATCH(P$287,[4]Estimadores!$B$7:$B$38,0),MATCH($B301,[4]Estimadores!$D$6:$AB$6,0)),\"-\")","v":"-"},{"$f":"IFERROR(INDEX([4]Estimadores!$D$7:$AB$38,MATCH(Q$287,[4]Estimadores!$B$7:$B$38,0),MATCH($B301,[4]Estimadores!$D$6:$AB$6,0)),\"-\")","v":"-"},{"$f":"IFERROR(INDEX([4]Estimadores!$D$7:$AB$38,MATCH(R$287,[4]Estimadores!$B$7:$B$38,0),MATCH($B301,[4]Estimadores!$D$6:$AB$6,0)),\"-\")","v":"-"},{"$f":"IFERROR(INDEX([4]Estimadores!$D$7:$AB$38,MATCH(S$287,[4]Estimadores!$B$7:$B$38,0),MATCH($B301,[4]Estimadores!$D$6:$AB$6,0)),\"-\")","v":"-"},{"$f":"IFERROR(INDEX([4]Estimadores!$D$7:$AB$38,MATCH(T$287,[4]Estimadores!$B$7:$B$38,0),MATCH($B301,[4]Estimadores!$D$6:$AB$6,0)),\"-\")","v":"-"},{"$f":"IFERROR(INDEX([4]Estimadores!$D$7:$AB$38,MATCH(U$287,[4]Estimadores!$B$7:$B$38,0),MATCH($B301,[4]Estimadores!$D$6:$AB$6,0)),\"-\")","v":"-"},{"$f":"IFERROR(INDEX([4]Estimadores!$D$7:$AB$38,MATCH(V$287,[4]Estimadores!$B$7:$B$38,0),MATCH($B301,[4]Estimadores!$D$6:$AB$6,0)),\"-\")","v":"-"},{"$f":"IFERROR(INDEX([4]Estimadores!$D$7:$AB$38,MATCH(W$287,[4]Estimadores!$B$7:$B$38,0),MATCH($B301,[4]Estimadores!$D$6:$AB$6,0)),\"-\")","v":"-"},{"$f":"IFERROR(INDEX([4]Estimadores!$D$7:$AB$38,MATCH(X$287,[4]Estimadores!$B$7:$B$38,0),MATCH($B301,[4]Estimadores!$D$6:$AB$6,0)),\"-\")","v":"-"},{"$f":"IFERROR(INDEX([4]Estimadores!$D$7:$AB$38,MATCH(Y$287,[4]Estimadores!$B$7:$B$38,0),MATCH($B301,[4]Estimadores!$D$6:$AB$6,0)),\"-\")","v":"-"},{"$f":"IFERROR(INDEX([4]Estimadores!$D$7:$AB$38,MATCH(Z$287,[4]Estimadores!$B$7:$B$38,0),MATCH($B301,[4]Estimadores!$D$6:$AB$6,0)),\"-\")","v":"-"},{"$f":"IFERROR(INDEX([4]Estimadores!$D$7:$AB$38,MATCH(AA$287,[4]Estimadores!$B$7:$B$38,0),MATCH($B301,[4]Estimadores!$D$6:$AB$6,0)),\"-\")","v":"-"},{"$f":"IFERROR(INDEX([4]Estimadores!$D$7:$AB$38,MATCH(AB$287,[4]Estimadores!$B$7:$B$38,0),MATCH($B301,[4]Estimadores!$D$6:$AB$6,0)),\"-\")","v":"-"},{"$f":"IFERROR(INDEX([4]Estimadores!$D$7:$AB$38,MATCH(AC$287,[4]Estimadores!$B$7:$B$38,0),MATCH($B301,[4]Estimadores!$D$6:$AB$6,0)),\"-\")","v":"-"},{"$f":"IFERROR(INDEX([4]Estimadores!$D$7:$AB$38,MATCH(AD$287,[4]Estimadores!$B$7:$B$38,0),MATCH($B301,[4]Estimadores!$D$6:$AB$6,0)),\"-\")","v":"-"},{"$f":"IFERROR(INDEX([4]Estimadores!$D$7:$AB$38,MATCH(AE$287,[4]Estimadores!$B$7:$B$38,0),MATCH($B301,[4]Estimadores!$D$6:$AB$6,0)),\"-\")","v":"-"},{"$f":"IFERROR(INDEX([4]Estimadores!$D$7:$AB$38,MATCH(AF$287,[4]Estimadores!$B$7:$B$38,0),MATCH($B301,[4]Estimadores!$D$6:$AB$6,0)),\"-\")","v":"-"},{"$f":"IFERROR(INDEX([4]Estimadores!$D$7:$AB$38,MATCH(AG$287,[4]Estimadores!$B$7:$B$38,0),MATCH($B301,[4]Estimadores!$D$6:$AB$6,0)),\"-\")","v":"-"},{"$f":"IFERROR(INDEX([4]Estimadores!$D$7:$AB$38,MATCH(AH$287,[4]Estimadores!$B$7:$B$38,0),MATCH($B301,[4]Estimadores!$D$6:$AB$6,0)),\"-\")","v":"-"},{"$f":"IFERROR(INDEX([4]Estimadores!$D$7:$AB$38,MATCH(AI$287,[4]Estimadores!$B$7:$B$38,0),MATCH($B301,[4]Estimadores!$D$6:$AB$6,0)),\"-\")","v":"-"}]
[null,null,"",{"$f":"IFERROR(INDEX([4]Estimadores!$D$7:$AB$38,MATCH(D$287,[4]Estimadores!$B$7:$B$38,0),MATCH($B302,[4]Estimadores!$D$6:$AB$6,0)),\"-\")","v":"-"},{"$f":"IFERROR(INDEX([4]Estimadores!$D$7:$AB$38,MATCH(E$287,[4]Estimadores!$B$7:$B$38,0),MATCH($B302,[4]Estimadores!$D$6:$AB$6,0)),\"-\")","v":"-"},{"$f":"IFERROR(INDEX([4]Estimadores!$D$7:$AB$38,MATCH(F$287,[4]Estimadores!$B$7:$B$38,0),MATCH($B302,[4]Estimadores!$D$6:$AB$6,0)),\"-\")","v":"-"},{"$f":"IFERROR(INDEX([4]Estimadores!$D$7:$AB$38,MATCH(G$287,[4]Estimadores!$B$7:$B$38,0),MATCH($B302,[4]Estimadores!$D$6:$AB$6,0)),\"-\")","v":"-"},{"$f":"IFERROR(INDEX([4]Estimadores!$D$7:$AB$38,MATCH(H$287,[4]Estimadores!$B$7:$B$38,0),MATCH($B302,[4]Estimadores!$D$6:$AB$6,0)),\"-\")","v":"-"},{"$f":"IFERROR(INDEX([4]Estimadores!$D$7:$AB$38,MATCH(I$287,[4]Estimadores!$B$7:$B$38,0),MATCH($B302,[4]Estimadores!$D$6:$AB$6,0)),\"-\")","v":"-"},{"$f":"IFERROR(INDEX([4]Estimadores!$D$7:$AB$38,MATCH(J$287,[4]Estimadores!$B$7:$B$38,0),MATCH($B302,[4]Estimadores!$D$6:$AB$6,0)),\"-\")","v":"-"},{"$f":"IFERROR(INDEX([4]Estimadores!$D$7:$AB$38,MATCH(K$287,[4]Estimadores!$B$7:$B$38,0),MATCH($B302,[4]Estimadores!$D$6:$AB$6,0)),\"-\")","v":"-"},{"$f":"IFERROR(INDEX([4]Estimadores!$D$7:$AB$38,MATCH(L$287,[4]Estimadores!$B$7:$B$38,0),MATCH($B302,[4]Estimadores!$D$6:$AB$6,0)),\"-\")","v":"-"},{"$f":"IFERROR(INDEX([4]Estimadores!$D$7:$AB$38,MATCH(M$287,[4]Estimadores!$B$7:$B$38,0),MATCH($B302,[4]Estimadores!$D$6:$AB$6,0)),\"-\")","v":"-"},{"$f":"IFERROR(INDEX([4]Estimadores!$D$7:$AB$38,MATCH(N$287,[4]Estimadores!$B$7:$B$38,0),MATCH($B302,[4]Estimadores!$D$6:$AB$6,0)),\"-\")","v":"-"},{"$f":"IFERROR(INDEX([4]Estimadores!$D$7:$AB$38,MATCH(O$287,[4]Estimadores!$B$7:$B$38,0),MATCH($B302,[4]Estimadores!$D$6:$AB$6,0)),\"-\")","v":"-"},{"$f":"IFERROR(INDEX([4]Estimadores!$D$7:$AB$38,MATCH(P$287,[4]Estimadores!$B$7:$B$38,0),MATCH($B302,[4]Estimadores!$D$6:$AB$6,0)),\"-\")","v":"-"},{"$f":"IFERROR(INDEX([4]Estimadores!$D$7:$AB$38,MATCH(Q$287,[4]Estimadores!$B$7:$B$38,0),MATCH($B302,[4]Estimadores!$D$6:$AB$6,0)),\"-\")","v":"-"},{"$f":"IFERROR(INDEX([4]Estimadores!$D$7:$AB$38,MATCH(R$287,[4]Estimadores!$B$7:$B$38,0),MATCH($B302,[4]Estimadores!$D$6:$AB$6,0)),\"-\")","v":"-"},{"$f":"IFERROR(INDEX([4]Estimadores!$D$7:$AB$38,MATCH(S$287,[4]Estimadores!$B$7:$B$38,0),MATCH($B302,[4]Estimadores!$D$6:$AB$6,0)),\"-\")","v":"-"},{"$f":"IFERROR(INDEX([4]Estimadores!$D$7:$AB$38,MATCH(T$287,[4]Estimadores!$B$7:$B$38,0),MATCH($B302,[4]Estimadores!$D$6:$AB$6,0)),\"-\")","v":"-"},{"$f":"IFERROR(INDEX([4]Estimadores!$D$7:$AB$38,MATCH(U$287,[4]Estimadores!$B$7:$B$38,0),MATCH($B302,[4]Estimadores!$D$6:$AB$6,0)),\"-\")","v":"-"},{"$f":"IFERROR(INDEX([4]Estimadores!$D$7:$AB$38,MATCH(V$287,[4]Estimadores!$B$7:$B$38,0),MATCH($B302,[4]Estimadores!$D$6:$AB$6,0)),\"-\")","v":"-"},{"$f":"IFERROR(INDEX([4]Estimadores!$D$7:$AB$38,MATCH(W$287,[4]Estimadores!$B$7:$B$38,0),MATCH($B302,[4]Estimadores!$D$6:$AB$6,0)),\"-\")","v":"-"},{"$f":"IFERROR(INDEX([4]Estimadores!$D$7:$AB$38,MATCH(X$287,[4]Estimadores!$B$7:$B$38,0),MATCH($B302,[4]Estimadores!$D$6:$AB$6,0)),\"-\")","v":"-"},{"$f":"IFERROR(INDEX([4]Estimadores!$D$7:$AB$38,MATCH(Y$287,[4]Estimadores!$B$7:$B$38,0),MATCH($B302,[4]Estimadores!$D$6:$AB$6,0)),\"-\")","v":"-"},{"$f":"IFERROR(INDEX([4]Estimadores!$D$7:$AB$38,MATCH(Z$287,[4]Estimadores!$B$7:$B$38,0),MATCH($B302,[4]Estimadores!$D$6:$AB$6,0)),\"-\")","v":"-"},{"$f":"IFERROR(INDEX([4]Estimadores!$D$7:$AB$38,MATCH(AA$287,[4]Estimadores!$B$7:$B$38,0),MATCH($B302,[4]Estimadores!$D$6:$AB$6,0)),\"-\")","v":"-"},{"$f":"IFERROR(INDEX([4]Estimadores!$D$7:$AB$38,MATCH(AB$287,[4]Estimadores!$B$7:$B$38,0),MATCH($B302,[4]Estimadores!$D$6:$AB$6,0)),\"-\")","v":"-"},{"$f":"IFERROR(INDEX([4]Estimadores!$D$7:$AB$38,MATCH(AC$287,[4]Estimadores!$B$7:$B$38,0),MATCH($B302,[4]Estimadores!$D$6:$AB$6,0)),\"-\")","v":"-"},{"$f":"IFERROR(INDEX([4]Estimadores!$D$7:$AB$38,MATCH(AD$287,[4]Estimadores!$B$7:$B$38,0),MATCH($B302,[4]Estimadores!$D$6:$AB$6,0)),\"-\")","v":"-"},{"$f":"IFERROR(INDEX([4]Estimadores!$D$7:$AB$38,MATCH(AE$287,[4]Estimadores!$B$7:$B$38,0),MATCH($B302,[4]Estimadores!$D$6:$AB$6,0)),\"-\")","v":"-"},{"$f":"IFERROR(INDEX([4]Estimadores!$D$7:$AB$38,MATCH(AF$287,[4]Estimadores!$B$7:$B$38,0),MATCH($B302,[4]Estimadores!$D$6:$AB$6,0)),\"-\")","v":"-"},{"$f":"IFERROR(INDEX([4]Estimadores!$D$7:$AB$38,MATCH(AG$287,[4]Estimadores!$B$7:$B$38,0),MATCH($B302,[4]Estimadores!$D$6:$AB$6,0)),\"-\")","v":"-"},{"$f":"IFERROR(INDEX([4]Estimadores!$D$7:$AB$38,MATCH(AH$287,[4]Estimadores!$B$7:$B$38,0),MATCH($B302,[4]Estimadores!$D$6:$AB$6,0)),\"-\")","v":"-"},{"$f":"IFERROR(INDEX([4]Estimadores!$D$7:$AB$38,MATCH(AI$287,[4]Estimadores!$B$7:$B$38,0),MATCH($B302,[4]Estimadores!$D$6:$AB$6,0)),\"-\")","v":"-"}]
[null,null,"",{"$f":"IFERROR(INDEX([4]Estimadores!$D$7:$AB$38,MATCH(D$287,[4]Estimadores!$B$7:$B$38,0),MATCH($B303,[4]Estimadores!$D$6:$AB$6,0)),\"-\")","v":"-"},{"$f":"IFERROR(INDEX([4]Estimadores!$D$7:$AB$38,MATCH(E$287,[4]Estimadores!$B$7:$B$38,0),MATCH($B303,[4]Estimadores!$D$6:$AB$6,0)),\"-\")","v":"-"},{"$f":"IFERROR(INDEX([4]Estimadores!$D$7:$AB$38,MATCH(F$287,[4]Estimadores!$B$7:$B$38,0),MATCH($B303,[4]Estimadores!$D$6:$AB$6,0)),\"-\")","v":"-"},{"$f":"IFERROR(INDEX([4]Estimadores!$D$7:$AB$38,MATCH(G$287,[4]Estimadores!$B$7:$B$38,0),MATCH($B303,[4]Estimadores!$D$6:$AB$6,0)),\"-\")","v":"-"},{"$f":"IFERROR(INDEX([4]Estimadores!$D$7:$AB$38,MATCH(H$287,[4]Estimadores!$B$7:$B$38,0),MATCH($B303,[4]Estimadores!$D$6:$AB$6,0)),\"-\")","v":"-"},{"$f":"IFERROR(INDEX([4]Estimadores!$D$7:$AB$38,MATCH(I$287,[4]Estimadores!$B$7:$B$38,0),MATCH($B303,[4]Estimadores!$D$6:$AB$6,0)),\"-\")","v":"-"},{"$f":"IFERROR(INDEX([4]Estimadores!$D$7:$AB$38,MATCH(J$287,[4]Estimadores!$B$7:$B$38,0),MATCH($B303,[4]Estimadores!$D$6:$AB$6,0)),\"-\")","v":"-"},{"$f":"IFERROR(INDEX([4]Estimadores!$D$7:$AB$38,MATCH(K$287,[4]Estimadores!$B$7:$B$38,0),MATCH($B303,[4]Estimadores!$D$6:$AB$6,0)),\"-\")","v":"-"},{"$f":"IFERROR(INDEX([4]Estimadores!$D$7:$AB$38,MATCH(L$287,[4]Estimadores!$B$7:$B$38,0),MATCH($B303,[4]Estimadores!$D$6:$AB$6,0)),\"-\")","v":"-"},{"$f":"IFERROR(INDEX([4]Estimadores!$D$7:$AB$38,MATCH(M$287,[4]Estimadores!$B$7:$B$38,0),MATCH($B303,[4]Estimadores!$D$6:$AB$6,0)),\"-\")","v":"-"},{"$f":"IFERROR(INDEX([4]Estimadores!$D$7:$AB$38,MATCH(N$287,[4]Estimadores!$B$7:$B$38,0),MATCH($B303,[4]Estimadores!$D$6:$AB$6,0)),\"-\")","v":"-"},{"$f":"IFERROR(INDEX([4]Estimadores!$D$7:$AB$38,MATCH(O$287,[4]Estimadores!$B$7:$B$38,0),MATCH($B303,[4]Estimadores!$D$6:$AB$6,0)),\"-\")","v":"-"},{"$f":"IFERROR(INDEX([4]Estimadores!$D$7:$AB$38,MATCH(P$287,[4]Estimadores!$B$7:$B$38,0),MATCH($B303,[4]Estimadores!$D$6:$AB$6,0)),\"-\")","v":"-"},{"$f":"IFERROR(INDEX([4]Estimadores!$D$7:$AB$38,MATCH(Q$287,[4]Estimadores!$B$7:$B$38,0),MATCH($B303,[4]Estimadores!$D$6:$AB$6,0)),\"-\")","v":"-"},{"$f":"IFERROR(INDEX([4]Estimadores!$D$7:$AB$38,MATCH(R$287,[4]Estimadores!$B$7:$B$38,0),MATCH($B303,[4]Estimadores!$D$6:$AB$6,0)),\"-\")","v":"-"},{"$f":"IFERROR(INDEX([4]Estimadores!$D$7:$AB$38,MATCH(S$287,[4]Estimadores!$B$7:$B$38,0),MATCH($B303,[4]Estimadores!$D$6:$AB$6,0)),\"-\")","v":"-"},{"$f":"IFERROR(INDEX([4]Estimadores!$D$7:$AB$38,MATCH(T$287,[4]Estimadores!$B$7:$B$38,0),MATCH($B303,[4]Estimadores!$D$6:$AB$6,0)),\"-\")","v":"-"},{"$f":"IFERROR(INDEX([4]Estimadores!$D$7:$AB$38,MATCH(U$287,[4]Estimadores!$B$7:$B$38,0),MATCH($B303,[4]Estimadores!$D$6:$AB$6,0)),\"-\")","v":"-"},{"$f":"IFERROR(INDEX([4]Estimadores!$D$7:$AB$38,MATCH(V$287,[4]Estimadores!$B$7:$B$38,0),MATCH($B303,[4]Estimadores!$D$6:$AB$6,0)),\"-\")","v":"-"},{"$f":"IFERROR(INDEX([4]Estimadores!$D$7:$AB$38,MATCH(W$287,[4]Estimadores!$B$7:$B$38,0),MATCH($B303,[4]Estimadores!$D$6:$AB$6,0)),\"-\")","v":"-"},{"$f":"IFERROR(INDEX([4]Estimadores!$D$7:$AB$38,MATCH(X$287,[4]Estimadores!$B$7:$B$38,0),MATCH($B303,[4]Estimadores!$D$6:$AB$6,0)),\"-\")","v":"-"},{"$f":"IFERROR(INDEX([4]Estimadores!$D$7:$AB$38,MATCH(Y$287,[4]Estimadores!$B$7:$B$38,0),MATCH($B303,[4]Estimadores!$D$6:$AB$6,0)),\"-\")","v":"-"},{"$f":"IFERROR(INDEX([4]Estimadores!$D$7:$AB$38,MATCH(Z$287,[4]Estimadores!$B$7:$B$38,0),MATCH($B303,[4]Estimadores!$D$6:$AB$6,0)),\"-\")","v":"-"},{"$f":"IFERROR(INDEX([4]Estimadores!$D$7:$AB$38,MATCH(AA$287,[4]Estimadores!$B$7:$B$38,0),MATCH($B303,[4]Estimadores!$D$6:$AB$6,0)),\"-\")","v":"-"},{"$f":"IFERROR(INDEX([4]Estimadores!$D$7:$AB$38,MATCH(AB$287,[4]Estimadores!$B$7:$B$38,0),MATCH($B303,[4]Estimadores!$D$6:$AB$6,0)),\"-\")","v":"-"},{"$f":"IFERROR(INDEX([4]Estimadores!$D$7:$AB$38,MATCH(AC$287,[4]Estimadores!$B$7:$B$38,0),MATCH($B303,[4]Estimadores!$D$6:$AB$6,0)),\"-\")","v":"-"},{"$f":"IFERROR(INDEX([4]Estimadores!$D$7:$AB$38,MATCH(AD$287,[4]Estimadores!$B$7:$B$38,0),MATCH($B303,[4]Estimadores!$D$6:$AB$6,0)),\"-\")","v":"-"},{"$f":"IFERROR(INDEX([4]Estimadores!$D$7:$AB$38,MATCH(AE$287,[4]Estimadores!$B$7:$B$38,0),MATCH($B303,[4]Estimadores!$D$6:$AB$6,0)),\"-\")","v":"-"},{"$f":"IFERROR(INDEX([4]Estimadores!$D$7:$AB$38,MATCH(AF$287,[4]Estimadores!$B$7:$B$38,0),MATCH($B303,[4]Estimadores!$D$6:$AB$6,0)),\"-\")","v":"-"},{"$f":"IFERROR(INDEX([4]Estimadores!$D$7:$AB$38,MATCH(AG$287,[4]Estimadores!$B$7:$B$38,0),MATCH($B303,[4]Estimadores!$D$6:$AB$6,0)),\"-\")","v":"-"},{"$f":"IFERROR(INDEX([4]Estimadores!$D$7:$AB$38,MATCH(AH$287,[4]Estimadores!$B$7:$B$38,0),MATCH($B303,[4]Estimadores!$D$6:$AB$6,0)),\"-\")","v":"-"},{"$f":"IFERROR(INDEX([4]Estimadores!$D$7:$AB$38,MATCH(AI$287,[4]Estimadores!$B$7:$B$38,0),MATCH($B303,[4]Estimadores!$D$6:$AB$6,0)),\"-\")","v":"-"}]
[null,null,"",{"$f":"IFERROR(INDEX([4]Estimadores!$D$7:$AB$38,MATCH(D$287,[4]Estimadores!$B$7:$B$38,0),MATCH($B304,[4]Estimadores!$D$6:$AB$6,0)),\"-\")","v":"-"},{"$f":"IFERROR(INDEX([4]Estimadores!$D$7:$AB$38,MATCH(E$287,[4]Estimadores!$B$7:$B$38,0),MATCH($B304,[4]Estimadores!$D$6:$AB$6,0)),\"-\")","v":"-"},{"$f":"IFERROR(INDEX([4]Estimadores!$D$7:$AB$38,MATCH(F$287,[4]Estimadores!$B$7:$B$38,0),MATCH($B304,[4]Estimadores!$D$6:$AB$6,0)),\"-\")","v":"-"},{"$f":"IFERROR(INDEX([4]Estimadores!$D$7:$AB$38,MATCH(G$287,[4]Estimadores!$B$7:$B$38,0),MATCH($B304,[4]Estimadores!$D$6:$AB$6,0)),\"-\")","v":"-"},{"$f":"IFERROR(INDEX([4]Estimadores!$D$7:$AB$38,MATCH(H$287,[4]Estimadores!$B$7:$B$38,0),MATCH($B304,[4]Estimadores!$D$6:$AB$6,0)),\"-\")","v":"-"},{"$f":"IFERROR(INDEX([4]Estimadores!$D$7:$AB$38,MATCH(I$287,[4]Estimadores!$B$7:$B$38,0),MATCH($B304,[4]Estimadores!$D$6:$AB$6,0)),\"-\")","v":"-"},{"$f":"IFERROR(INDEX([4]Estimadores!$D$7:$AB$38,MATCH(J$287,[4]Estimadores!$B$7:$B$38,0),MATCH($B304,[4]Estimadores!$D$6:$AB$6,0)),\"-\")","v":"-"},{"$f":"IFERROR(INDEX([4]Estimadores!$D$7:$AB$38,MATCH(K$287,[4]Estimadores!$B$7:$B$38,0),MATCH($B304,[4]Estimadores!$D$6:$AB$6,0)),\"-\")","v":"-"},{"$f":"IFERROR(INDEX([4]Estimadores!$D$7:$AB$38,MATCH(L$287,[4]Estimadores!$B$7:$B$38,0),MATCH($B304,[4]Estimadores!$D$6:$AB$6,0)),\"-\")","v":"-"},{"$f":"IFERROR(INDEX([4]Estimadores!$D$7:$AB$38,MATCH(M$287,[4]Estimadores!$B$7:$B$38,0),MATCH($B304,[4]Estimadores!$D$6:$AB$6,0)),\"-\")","v":"-"},{"$f":"IFERROR(INDEX([4]Estimadores!$D$7:$AB$38,MATCH(N$287,[4]Estimadores!$B$7:$B$38,0),MATCH($B304,[4]Estimadores!$D$6:$AB$6,0)),\"-\")","v":"-"},{"$f":"IFERROR(INDEX([4]Estimadores!$D$7:$AB$38,MATCH(O$287,[4]Estimadores!$B$7:$B$38,0),MATCH($B304,[4]Estimadores!$D$6:$AB$6,0)),\"-\")","v":"-"},{"$f":"IFERROR(INDEX([4]Estimadores!$D$7:$AB$38,MATCH(P$287,[4]Estimadores!$B$7:$B$38,0),MATCH($B304,[4]Estimadores!$D$6:$AB$6,0)),\"-\")","v":"-"},{"$f":"IFERROR(INDEX([4]Estimadores!$D$7:$AB$38,MATCH(Q$287,[4]Estimadores!$B$7:$B$38,0),MATCH($B304,[4]Estimadores!$D$6:$AB$6,0)),\"-\")","v":"-"},{"$f":"IFERROR(INDEX([4]Estimadores!$D$7:$AB$38,MATCH(R$287,[4]Estimadores!$B$7:$B$38,0),MATCH($B304,[4]Estimadores!$D$6:$AB$6,0)),\"-\")","v":"-"},{"$f":"IFERROR(INDEX([4]Estimadores!$D$7:$AB$38,MATCH(S$287,[4]Estimadores!$B$7:$B$38,0),MATCH($B304,[4]Estimadores!$D$6:$AB$6,0)),\"-\")","v":"-"},{"$f":"IFERROR(INDEX([4]Estimadores!$D$7:$AB$38,MATCH(T$287,[4]Estimadores!$B$7:$B$38,0),MATCH($B304,[4]Estimadores!$D$6:$AB$6,0)),\"-\")","v":"-"},{"$f":"IFERROR(INDEX([4]Estimadores!$D$7:$AB$38,MATCH(U$287,[4]Estimadores!$B$7:$B$38,0),MATCH($B304,[4]Estimadores!$D$6:$AB$6,0)),\"-\")","v":"-"},{"$f":"IFERROR(INDEX([4]Estimadores!$D$7:$AB$38,MATCH(V$287,[4]Estimadores!$B$7:$B$38,0),MATCH($B304,[4]Estimadores!$D$6:$AB$6,0)),\"-\")","v":"-"},{"$f":"IFERROR(INDEX([4]Estimadores!$D$7:$AB$38,MATCH(W$287,[4]Estimadores!$B$7:$B$38,0),MATCH($B304,[4]Estimadores!$D$6:$AB$6,0)),\"-\")","v":"-"},{"$f":"IFERROR(INDEX([4]Estimadores!$D$7:$AB$38,MATCH(X$287,[4]Estimadores!$B$7:$B$38,0),MATCH($B304,[4]Estimadores!$D$6:$AB$6,0)),\"-\")","v":"-"},{"$f":"IFERROR(INDEX([4]Estimadores!$D$7:$AB$38,MATCH(Y$287,[4]Estimadores!$B$7:$B$38,0),MATCH($B304,[4]Estimadores!$D$6:$AB$6,0)),\"-\")","v":"-"},{"$f":"IFERROR(INDEX([4]Estimadores!$D$7:$AB$38,MATCH(Z$287,[4]Estimadores!$B$7:$B$38,0),MATCH($B304,[4]Estimadores!$D$6:$AB$6,0)),\"-\")","v":"-"},{"$f":"IFERROR(INDEX([4]Estimadores!$D$7:$AB$38,MATCH(AA$287,[4]Estimadores!$B$7:$B$38,0),MATCH($B304,[4]Estimadores!$D$6:$AB$6,0)),\"-\")","v":"-"},{"$f":"IFERROR(INDEX([4]Estimadores!$D$7:$AB$38,MATCH(AB$287,[4]Estimadores!$B$7:$B$38,0),MATCH($B304,[4]Estimadores!$D$6:$AB$6,0)),\"-\")","v":"-"},{"$f":"IFERROR(INDEX([4]Estimadores!$D$7:$AB$38,MATCH(AC$287,[4]Estimadores!$B$7:$B$38,0),MATCH($B304,[4]Estimadores!$D$6:$AB$6,0)),\"-\")","v":"-"},{"$f":"IFERROR(INDEX([4]Estimadores!$D$7:$AB$38,MATCH(AD$287,[4]Estimadores!$B$7:$B$38,0),MATCH($B304,[4]Estimadores!$D$6:$AB$6,0)),\"-\")","v":"-"},{"$f":"IFERROR(INDEX([4]Estimadores!$D$7:$AB$38,MATCH(AE$287,[4]Estimadores!$B$7:$B$38,0),MATCH($B304,[4]Estimadores!$D$6:$AB$6,0)),\"-\")","v":"-"},{"$f":"IFERROR(INDEX([4]Estimadores!$D$7:$AB$38,MATCH(AF$287,[4]Estimadores!$B$7:$B$38,0),MATCH($B304,[4]Estimadores!$D$6:$AB$6,0)),\"-\")","v":"-"},{"$f":"IFERROR(INDEX([4]Estimadores!$D$7:$AB$38,MATCH(AG$287,[4]Estimadores!$B$7:$B$38,0),MATCH($B304,[4]Estimadores!$D$6:$AB$6,0)),\"-\")","v":"-"},{"$f":"IFERROR(INDEX([4]Estimadores!$D$7:$AB$38,MATCH(AH$287,[4]Estimadores!$B$7:$B$38,0),MATCH($B304,[4]Estimadores!$D$6:$AB$6,0)),\"-\")","v":"-"},{"$f":"IFERROR(INDEX([4]Estimadores!$D$7:$AB$38,MATCH(AI$287,[4]Estimadores!$B$7:$B$38,0),MATCH($B304,[4]Estimadores!$D$6:$AB$6,0)),\"-\")","v":"-"}]
[null,null,"",{"$f":"IFERROR(INDEX([4]Estimadores!$D$7:$AB$38,MATCH(D$287,[4]Estimadores!$B$7:$B$38,0),MATCH($B305,[4]Estimadores!$D$6:$AB$6,0)),\"-\")","v":"-"},{"$f":"IFERROR(INDEX([4]Estimadores!$D$7:$AB$38,MATCH(E$287,[4]Estimadores!$B$7:$B$38,0),MATCH($B305,[4]Estimadores!$D$6:$AB$6,0)),\"-\")","v":"-"},{"$f":"IFERROR(INDEX([4]Estimadores!$D$7:$AB$38,MATCH(F$287,[4]Estimadores!$B$7:$B$38,0),MATCH($B305,[4]Estimadores!$D$6:$AB$6,0)),\"-\")","v":"-"},{"$f":"IFERROR(INDEX([4]Estimadores!$D$7:$AB$38,MATCH(G$287,[4]Estimadores!$B$7:$B$38,0),MATCH($B305,[4]Estimadores!$D$6:$AB$6,0)),\"-\")","v":"-"},{"$f":"IFERROR(INDEX([4]Estimadores!$D$7:$AB$38,MATCH(H$287,[4]Estimadores!$B$7:$B$38,0),MATCH($B305,[4]Estimadores!$D$6:$AB$6,0)),\"-\")","v":"-"},{"$f":"IFERROR(INDEX([4]Estimadores!$D$7:$AB$38,MATCH(I$287,[4]Estimadores!$B$7:$B$38,0),MATCH($B305,[4]Estimadores!$D$6:$AB$6,0)),\"-\")","v":"-"},{"$f":"IFERROR(INDEX([4]Estimadores!$D$7:$AB$38,MATCH(J$287,[4]Estimadores!$B$7:$B$38,0),MATCH($B305,[4]Estimadores!$D$6:$AB$6,0)),\"-\")","v":"-"},{"$f":"IFERROR(INDEX([4]Estimadores!$D$7:$AB$38,MATCH(K$287,[4]Estimadores!$B$7:$B$38,0),MATCH($B305,[4]Estimadores!$D$6:$AB$6,0)),\"-\")","v":"-"},{"$f":"IFERROR(INDEX([4]Estimadores!$D$7:$AB$38,MATCH(L$287,[4]Estimadores!$B$7:$B$38,0),MATCH($B305,[4]Estimadores!$D$6:$AB$6,0)),\"-\")","v":"-"},{"$f":"IFERROR(INDEX([4]Estimadores!$D$7:$AB$38,MATCH(M$287,[4]Estimadores!$B$7:$B$38,0),MATCH($B305,[4]Estimadores!$D$6:$AB$6,0)),\"-\")","v":"-"},{"$f":"IFERROR(INDEX([4]Estimadores!$D$7:$AB$38,MATCH(N$287,[4]Estimadores!$B$7:$B$38,0),MATCH($B305,[4]Estimadores!$D$6:$AB$6,0)),\"-\")","v":"-"},{"$f":"IFERROR(INDEX([4]Estimadores!$D$7:$AB$38,MATCH(O$287,[4]Estimadores!$B$7:$B$38,0),MATCH($B305,[4]Estimadores!$D$6:$AB$6,0)),\"-\")","v":"-"},{"$f":"IFERROR(INDEX([4]Estimadores!$D$7:$AB$38,MATCH(P$287,[4]Estimadores!$B$7:$B$38,0),MATCH($B305,[4]Estimadores!$D$6:$AB$6,0)),\"-\")","v":"-"},{"$f":"IFERROR(INDEX([4]Estimadores!$D$7:$AB$38,MATCH(Q$287,[4]Estimadores!$B$7:$B$38,0),MATCH($B305,[4]Estimadores!$D$6:$AB$6,0)),\"-\")","v":"-"},{"$f":"IFERROR(INDEX([4]Estimadores!$D$7:$AB$38,MATCH(R$287,[4]Estimadores!$B$7:$B$38,0),MATCH($B305,[4]Estimadores!$D$6:$AB$6,0)),\"-\")","v":"-"},{"$f":"IFERROR(INDEX([4]Estimadores!$D$7:$AB$38,MATCH(S$287,[4]Estimadores!$B$7:$B$38,0),MATCH($B305,[4]Estimadores!$D$6:$AB$6,0)),\"-\")","v":"-"},{"$f":"IFERROR(INDEX([4]Estimadores!$D$7:$AB$38,MATCH(T$287,[4]Estimadores!$B$7:$B$38,0),MATCH($B305,[4]Estimadores!$D$6:$AB$6,0)),\"-\")","v":"-"},{"$f":"IFERROR(INDEX([4]Estimadores!$D$7:$AB$38,MATCH(U$287,[4]Estimadores!$B$7:$B$38,0),MATCH($B305,[4]Estimadores!$D$6:$AB$6,0)),\"-\")","v":"-"},{"$f":"IFERROR(INDEX([4]Estimadores!$D$7:$AB$38,MATCH(V$287,[4]Estimadores!$B$7:$B$38,0),MATCH($B305,[4]Estimadores!$D$6:$AB$6,0)),\"-\")","v":"-"},{"$f":"IFERROR(INDEX([4]Estimadores!$D$7:$AB$38,MATCH(W$287,[4]Estimadores!$B$7:$B$38,0),MATCH($B305,[4]Estimadores!$D$6:$AB$6,0)),\"-\")","v":"-"},{"$f":"IFERROR(INDEX([4]Estimadores!$D$7:$AB$38,MATCH(X$287,[4]Estimadores!$B$7:$B$38,0),MATCH($B305,[4]Estimadores!$D$6:$AB$6,0)),\"-\")","v":"-"},{"$f":"IFERROR(INDEX([4]Estimadores!$D$7:$AB$38,MATCH(Y$287,[4]Estimadores!$B$7:$B$38,0),MATCH($B305,[4]Estimadores!$D$6:$AB$6,0)),\"-\")","v":"-"},{"$f":"IFERROR(INDEX([4]Estimadores!$D$7:$AB$38,MATCH(Z$287,[4]Estimadores!$B$7:$B$38,0),MATCH($B305,[4]Estimadores!$D$6:$AB$6,0)),\"-\")","v":"-"},{"$f":"IFERROR(INDEX([4]Estimadores!$D$7:$AB$38,MATCH(AA$287,[4]Estimadores!$B$7:$B$38,0),MATCH($B305,[4]Estimadores!$D$6:$AB$6,0)),\"-\")","v":"-"},{"$f":"IFERROR(INDEX([4]Estimadores!$D$7:$AB$38,MATCH(AB$287,[4]Estimadores!$B$7:$B$38,0),MATCH($B305,[4]Estimadores!$D$6:$AB$6,0)),\"-\")","v":"-"},{"$f":"IFERROR(INDEX([4]Estimadores!$D$7:$AB$38,MATCH(AC$287,[4]Estimadores!$B$7:$B$38,0),MATCH($B305,[4]Estimadores!$D$6:$AB$6,0)),\"-\")","v":"-"},{"$f":"IFERROR(INDEX([4]Estimadores!$D$7:$AB$38,MATCH(AD$287,[4]Estimadores!$B$7:$B$38,0),MATCH($B305,[4]Estimadores!$D$6:$AB$6,0)),\"-\")","v":"-"},{"$f":"IFERROR(INDEX([4]Estimadores!$D$7:$AB$38,MATCH(AE$287,[4]Estimadores!$B$7:$B$38,0),MATCH($B305,[4]Estimadores!$D$6:$AB$6,0)),\"-\")","v":"-"},{"$f":"IFERROR(INDEX([4]Estimadores!$D$7:$AB$38,MATCH(AF$287,[4]Estimadores!$B$7:$B$38,0),MATCH($B305,[4]Estimadores!$D$6:$AB$6,0)),\"-\")","v":"-"},{"$f":"IFERROR(INDEX([4]Estimadores!$D$7:$AB$38,MATCH(AG$287,[4]Estimadores!$B$7:$B$38,0),MATCH($B305,[4]Estimadores!$D$6:$AB$6,0)),\"-\")","v":"-"},{"$f":"IFERROR(INDEX([4]Estimadores!$D$7:$AB$38,MATCH(AH$287,[4]Estimadores!$B$7:$B$38,0),MATCH($B305,[4]Estimadores!$D$6:$AB$6,0)),\"-\")","v":"-"},{"$f":"IFERROR(INDEX([4]Estimadores!$D$7:$AB$38,MATCH(AI$287,[4]Estimadores!$B$7:$B$38,0),MATCH($B305,[4]Estimadores!$D$6:$AB$6,0)),\"-\")","v":"-"}]
[null,null,"",{"$f":"IFERROR(INDEX([4]Estimadores!$D$7:$AB$38,MATCH(D$287,[4]Estimadores!$B$7:$B$38,0),MATCH($B306,[4]Estimadores!$D$6:$AB$6,0)),\"-\")","v":"-"},{"$f":"IFERROR(INDEX([4]Estimadores!$D$7:$AB$38,MATCH(E$287,[4]Estimadores!$B$7:$B$38,0),MATCH($B306,[4]Estimadores!$D$6:$AB$6,0)),\"-\")","v":"-"},{"$f":"IFERROR(INDEX([4]Estimadores!$D$7:$AB$38,MATCH(F$287,[4]Estimadores!$B$7:$B$38,0),MATCH($B306,[4]Estimadores!$D$6:$AB$6,0)),\"-\")","v":"-"},{"$f":"IFERROR(INDEX([4]Estimadores!$D$7:$AB$38,MATCH(G$287,[4]Estimadores!$B$7:$B$38,0),MATCH($B306,[4]Estimadores!$D$6:$AB$6,0)),\"-\")","v":"-"},{"$f":"IFERROR(INDEX([4]Estimadores!$D$7:$AB$38,MATCH(H$287,[4]Estimadores!$B$7:$B$38,0),MATCH($B306,[4]Estimadores!$D$6:$AB$6,0)),\"-\")","v":"-"},{"$f":"IFERROR(INDEX([4]Estimadores!$D$7:$AB$38,MATCH(I$287,[4]Estimadores!$B$7:$B$38,0),MATCH($B306,[4]Estimadores!$D$6:$AB$6,0)),\"-\")","v":"-"},{"$f":"IFERROR(INDEX([4]Estimadores!$D$7:$AB$38,MATCH(J$287,[4]Estimadores!$B$7:$B$38,0),MATCH($B306,[4]Estimadores!$D$6:$AB$6,0)),\"-\")","v":"-"},{"$f":"IFERROR(INDEX([4]Estimadores!$D$7:$AB$38,MATCH(K$287,[4]Estimadores!$B$7:$B$38,0),MATCH($B306,[4]Estimadores!$D$6:$AB$6,0)),\"-\")","v":"-"},{"$f":"IFERROR(INDEX([4]Estimadores!$D$7:$AB$38,MATCH(L$287,[4]Estimadores!$B$7:$B$38,0),MATCH($B306,[4]Estimadores!$D$6:$AB$6,0)),\"-\")","v":"-"},{"$f":"IFERROR(INDEX([4]Estimadores!$D$7:$AB$38,MATCH(M$287,[4]Estimadores!$B$7:$B$38,0),MATCH($B306,[4]Estimadores!$D$6:$AB$6,0)),\"-\")","v":"-"},{"$f":"IFERROR(INDEX([4]Estimadores!$D$7:$AB$38,MATCH(N$287,[4]Estimadores!$B$7:$B$38,0),MATCH($B306,[4]Estimadores!$D$6:$AB$6,0)),\"-\")","v":"-"},{"$f":"IFERROR(INDEX([4]Estimadores!$D$7:$AB$38,MATCH(O$287,[4]Estimadores!$B$7:$B$38,0),MATCH($B306,[4]Estimadores!$D$6:$AB$6,0)),\"-\")","v":"-"},{"$f":"IFERROR(INDEX([4]Estimadores!$D$7:$AB$38,MATCH(P$287,[4]Estimadores!$B$7:$B$38,0),MATCH($B306,[4]Estimadores!$D$6:$AB$6,0)),\"-\")","v":"-"},{"$f":"IFERROR(INDEX([4]Estimadores!$D$7:$AB$38,MATCH(Q$287,[4]Estimadores!$B$7:$B$38,0),MATCH($B306,[4]Estimadores!$D$6:$AB$6,0)),\"-\")","v":"-"},{"$f":"IFERROR(INDEX([4]Estimadores!$D$7:$AB$38,MATCH(R$287,[4]Estimadores!$B$7:$B$38,0),MATCH($B306,[4]Estimadores!$D$6:$AB$6,0)),\"-\")","v":"-"},{"$f":"IFERROR(INDEX([4]Estimadores!$D$7:$AB$38,MATCH(S$287,[4]Estimadores!$B$7:$B$38,0),MATCH($B306,[4]Estimadores!$D$6:$AB$6,0)),\"-\")","v":"-"},{"$f":"IFERROR(INDEX([4]Estimadores!$D$7:$AB$38,MATCH(T$287,[4]Estimadores!$B$7:$B$38,0),MATCH($B306,[4]Estimadores!$D$6:$AB$6,0)),\"-\")","v":"-"},{"$f":"IFERROR(INDEX([4]Estimadores!$D$7:$AB$38,MATCH(U$287,[4]Estimadores!$B$7:$B$38,0),MATCH($B306,[4]Estimadores!$D$6:$AB$6,0)),\"-\")","v":"-"},{"$f":"IFERROR(INDEX([4]Estimadores!$D$7:$AB$38,MATCH(V$287,[4]Estimadores!$B$7:$B$38,0),MATCH($B306,[4]Estimadores!$D$6:$AB$6,0)),\"-\")","v":"-"},{"$f":"IFERROR(INDEX([4]Estimadores!$D$7:$AB$38,MATCH(W$287,[4]Estimadores!$B$7:$B$38,0),MATCH($B306,[4]Estimadores!$D$6:$AB$6,0)),\"-\")","v":"-"},{"$f":"IFERROR(INDEX([4]Estimadores!$D$7:$AB$38,MATCH(X$287,[4]Estimadores!$B$7:$B$38,0),MATCH($B306,[4]Estimadores!$D$6:$AB$6,0)),\"-\")","v":"-"},{"$f":"IFERROR(INDEX([4]Estimadores!$D$7:$AB$38,MATCH(Y$287,[4]Estimadores!$B$7:$B$38,0),MATCH($B306,[4]Estimadores!$D$6:$AB$6,0)),\"-\")","v":"-"},{"$f":"IFERROR(INDEX([4]Estimadores!$D$7:$AB$38,MATCH(Z$287,[4]Estimadores!$B$7:$B$38,0),MATCH($B306,[4]Estimadores!$D$6:$AB$6,0)),\"-\")","v":"-"},{"$f":"IFERROR(INDEX([4]Estimadores!$D$7:$AB$38,MATCH(AA$287,[4]Estimadores!$B$7:$B$38,0),MATCH($B306,[4]Estimadores!$D$6:$AB$6,0)),\"-\")","v":"-"},{"$f":"IFERROR(INDEX([4]Estimadores!$D$7:$AB$38,MATCH(AB$287,[4]Estimadores!$B$7:$B$38,0),MATCH($B306,[4]Estimadores!$D$6:$AB$6,0)),\"-\")","v":"-"},{"$f":"IFERROR(INDEX([4]Estimadores!$D$7:$AB$38,MATCH(AC$287,[4]Estimadores!$B$7:$B$38,0),MATCH($B306,[4]Estimadores!$D$6:$AB$6,0)),\"-\")","v":"-"},{"$f":"IFERROR(INDEX([4]Estimadores!$D$7:$AB$38,MATCH(AD$287,[4]Estimadores!$B$7:$B$38,0),MATCH($B306,[4]Estimadores!$D$6:$AB$6,0)),\"-\")","v":"-"},{"$f":"IFERROR(INDEX([4]Estimadores!$D$7:$AB$38,MATCH(AE$287,[4]Estimadores!$B$7:$B$38,0),MATCH($B306,[4]Estimadores!$D$6:$AB$6,0)),\"-\")","v":"-"},{"$f":"IFERROR(INDEX([4]Estimadores!$D$7:$AB$38,MATCH(AF$287,[4]Estimadores!$B$7:$B$38,0),MATCH($B306,[4]Estimadores!$D$6:$AB$6,0)),\"-\")","v":"-"},{"$f":"IFERROR(INDEX([4]Estimadores!$D$7:$AB$38,MATCH(AG$287,[4]Estimadores!$B$7:$B$38,0),MATCH($B306,[4]Estimadores!$D$6:$AB$6,0)),\"-\")","v":"-"},{"$f":"IFERROR(INDEX([4]Estimadores!$D$7:$AB$38,MATCH(AH$287,[4]Estimadores!$B$7:$B$38,0),MATCH($B306,[4]Estimadores!$D$6:$AB$6,0)),\"-\")","v":"-"},{"$f":"IFERROR(INDEX([4]Estimadores!$D$7:$AB$38,MATCH(AI$287,[4]Estimadores!$B$7:$B$38,0),MATCH($B306,[4]Estimadores!$D$6:$AB$6,0)),\"-\")","v":"-"}]
[null,null,"",{"$f":"IFERROR(INDEX([4]Estimadores!$D$7:$AB$38,MATCH(D$287,[4]Estimadores!$B$7:$B$38,0),MATCH($B307,[4]Estimadores!$D$6:$AB$6,0)),\"-\")","v":"-"},{"$f":"IFERROR(INDEX([4]Estimadores!$D$7:$AB$38,MATCH(E$287,[4]Estimadores!$B$7:$B$38,0),MATCH($B307,[4]Estimadores!$D$6:$AB$6,0)),\"-\")","v":"-"},{"$f":"IFERROR(INDEX([4]Estimadores!$D$7:$AB$38,MATCH(F$287,[4]Estimadores!$B$7:$B$38,0),MATCH($B307,[4]Estimadores!$D$6:$AB$6,0)),\"-\")","v":"-"},{"$f":"IFERROR(INDEX([4]Estimadores!$D$7:$AB$38,MATCH(G$287,[4]Estimadores!$B$7:$B$38,0),MATCH($B307,[4]Estimadores!$D$6:$AB$6,0)),\"-\")","v":"-"},{"$f":"IFERROR(INDEX([4]Estimadores!$D$7:$AB$38,MATCH(H$287,[4]Estimadores!$B$7:$B$38,0),MATCH($B307,[4]Estimadores!$D$6:$AB$6,0)),\"-\")","v":"-"},{"$f":"IFERROR(INDEX([4]Estimadores!$D$7:$AB$38,MATCH(I$287,[4]Estimadores!$B$7:$B$38,0),MATCH($B307,[4]Estimadores!$D$6:$AB$6,0)),\"-\")","v":"-"},{"$f":"IFERROR(INDEX([4]Estimadores!$D$7:$AB$38,MATCH(J$287,[4]Estimadores!$B$7:$B$38,0),MATCH($B307,[4]Estimadores!$D$6:$AB$6,0)),\"-\")","v":"-"},{"$f":"IFERROR(INDEX([4]Estimadores!$D$7:$AB$38,MATCH(K$287,[4]Estimadores!$B$7:$B$38,0),MATCH($B307,[4]Estimadores!$D$6:$AB$6,0)),\"-\")","v":"-"},{"$f":"IFERROR(INDEX([4]Estimadores!$D$7:$AB$38,MATCH(L$287,[4]Estimadores!$B$7:$B$38,0),MATCH($B307,[4]Estimadores!$D$6:$AB$6,0)),\"-\")","v":"-"},{"$f":"IFERROR(INDEX([4]Estimadores!$D$7:$AB$38,MATCH(M$287,[4]Estimadores!$B$7:$B$38,0),MATCH($B307,[4]Estimadores!$D$6:$AB$6,0)),\"-\")","v":"-"},{"$f":"IFERROR(INDEX([4]Estimadores!$D$7:$AB$38,MATCH(N$287,[4]Estimadores!$B$7:$B$38,0),MATCH($B307,[4]Estimadores!$D$6:$AB$6,0)),\"-\")","v":"-"},{"$f":"IFERROR(INDEX([4]Estimadores!$D$7:$AB$38,MATCH(O$287,[4]Estimadores!$B$7:$B$38,0),MATCH($B307,[4]Estimadores!$D$6:$AB$6,0)),\"-\")","v":"-"},{"$f":"IFERROR(INDEX([4]Estimadores!$D$7:$AB$38,MATCH(P$287,[4]Estimadores!$B$7:$B$38,0),MATCH($B307,[4]Estimadores!$D$6:$AB$6,0)),\"-\")","v":"-"},{"$f":"IFERROR(INDEX([4]Estimadores!$D$7:$AB$38,MATCH(Q$287,[4]Estimadores!$B$7:$B$38,0),MATCH($B307,[4]Estimadores!$D$6:$AB$6,0)),\"-\")","v":"-"},{"$f":"IFERROR(INDEX([4]Estimadores!$D$7:$AB$38,MATCH(R$287,[4]Estimadores!$B$7:$B$38,0),MATCH($B307,[4]Estimadores!$D$6:$AB$6,0)),\"-\")","v":"-"},{"$f":"IFERROR(INDEX([4]Estimadores!$D$7:$AB$38,MATCH(S$287,[4]Estimadores!$B$7:$B$38,0),MATCH($B307,[4]Estimadores!$D$6:$AB$6,0)),\"-\")","v":"-"},{"$f":"IFERROR(INDEX([4]Estimadores!$D$7:$AB$38,MATCH(T$287,[4]Estimadores!$B$7:$B$38,0),MATCH($B307,[4]Estimadores!$D$6:$AB$6,0)),\"-\")","v":"-"},{"$f":"IFERROR(INDEX([4]Estimadores!$D$7:$AB$38,MATCH(U$287,[4]Estimadores!$B$7:$B$38,0),MATCH($B307,[4]Estimadores!$D$6:$AB$6,0)),\"-\")","v":"-"},{"$f":"IFERROR(INDEX([4]Estimadores!$D$7:$AB$38,MATCH(V$287,[4]Estimadores!$B$7:$B$38,0),MATCH($B307,[4]Estimadores!$D$6:$AB$6,0)),\"-\")","v":"-"},{"$f":"IFERROR(INDEX([4]Estimadores!$D$7:$AB$38,MATCH(W$287,[4]Estimadores!$B$7:$B$38,0),MATCH($B307,[4]Estimadores!$D$6:$AB$6,0)),\"-\")","v":"-"},{"$f":"IFERROR(INDEX([4]Estimadores!$D$7:$AB$38,MATCH(X$287,[4]Estimadores!$B$7:$B$38,0),MATCH($B307,[4]Estimadores!$D$6:$AB$6,0)),\"-\")","v":"-"},{"$f":"IFERROR(INDEX([4]Estimadores!$D$7:$AB$38,MATCH(Y$287,[4]Estimadores!$B$7:$B$38,0),MATCH($B307,[4]Estimadores!$D$6:$AB$6,0)),\"-\")","v":"-"},{"$f":"IFERROR(INDEX([4]Estimadores!$D$7:$AB$38,MATCH(Z$287,[4]Estimadores!$B$7:$B$38,0),MATCH($B307,[4]Estimadores!$D$6:$AB$6,0)),\"-\")","v":"-"},{"$f":"IFERROR(INDEX([4]Estimadores!$D$7:$AB$38,MATCH(AA$287,[4]Estimadores!$B$7:$B$38,0),MATCH($B307,[4]Estimadores!$D$6:$AB$6,0)),\"-\")","v":"-"},{"$f":"IFERROR(INDEX([4]Estimadores!$D$7:$AB$38,MATCH(AB$287,[4]Estimadores!$B$7:$B$38,0),MATCH($B307,[4]Estimadores!$D$6:$AB$6,0)),\"-\")","v":"-"},{"$f":"IFERROR(INDEX([4]Estimadores!$D$7:$AB$38,MATCH(AC$287,[4]Estimadores!$B$7:$B$38,0),MATCH($B307,[4]Estimadores!$D$6:$AB$6,0)),\"-\")","v":"-"},{"$f":"IFERROR(INDEX([4]Estimadores!$D$7:$AB$38,MATCH(AD$287,[4]Estimadores!$B$7:$B$38,0),MATCH($B307,[4]Estimadores!$D$6:$AB$6,0)),\"-\")","v":"-"},{"$f":"IFERROR(INDEX([4]Estimadores!$D$7:$AB$38,MATCH(AE$287,[4]Estimadores!$B$7:$B$38,0),MATCH($B307,[4]Estimadores!$D$6:$AB$6,0)),\"-\")","v":"-"},{"$f":"IFERROR(INDEX([4]Estimadores!$D$7:$AB$38,MATCH(AF$287,[4]Estimadores!$B$7:$B$38,0),MATCH($B307,[4]Estimadores!$D$6:$AB$6,0)),\"-\")","v":"-"},{"$f":"IFERROR(INDEX([4]Estimadores!$D$7:$AB$38,MATCH(AG$287,[4]Estimadores!$B$7:$B$38,0),MATCH($B307,[4]Estimadores!$D$6:$AB$6,0)),\"-\")","v":"-"},{"$f":"IFERROR(INDEX([4]Estimadores!$D$7:$AB$38,MATCH(AH$287,[4]Estimadores!$B$7:$B$38,0),MATCH($B307,[4]Estimadores!$D$6:$AB$6,0)),\"-\")","v":"-"},{"$f":"IFERROR(INDEX([4]Estimadores!$D$7:$AB$38,MATCH(AI$287,[4]Estimadores!$B$7:$B$38,0),MATCH($B307,[4]Estimadores!$D$6:$AB$6,0)),\"-\")","v":"-"}]
[null,"AP","AP",{"$f":"IFERROR(INDEX([4]Estimadores!$D$7:$AB$38,MATCH(D$287,[4]Estimadores!$B$7:$B$38,0),MATCH($B308,[4]Estimadores!$D$6:$AB$6,0)),\"-\")","v":"-"},{"$f":"IFERROR(INDEX([4]Estimadores!$D$7:$AB$38,MATCH(E$287,[4]Estimadores!$B$7:$B$38,0),MATCH($B308,[4]Estimadores!$D$6:$AB$6,0)),\"-\")","v":"-"},{"$f":"IFERROR(INDEX([4]Estimadores!$D$7:$AB$38,MATCH(F$287,[4]Estimadores!$B$7:$B$38,0),MATCH($B308,[4]Estimadores!$D$6:$AB$6,0)),\"-\")","v":"-"},{"$f":"IFERROR(INDEX([4]Estimadores!$D$7:$AB$38,MATCH(G$287,[4]Estimadores!$B$7:$B$38,0),MATCH($B308,[4]Estimadores!$D$6:$AB$6,0)),\"-\")","v":0.500000000000001},{"$f":"IFERROR(INDEX([4]Estimadores!$D$7:$AB$38,MATCH(H$287,[4]Estimadores!$B$7:$B$38,0),MATCH($B308,[4]Estimadores!$D$6:$AB$6,0)),\"-\")","v":1},{"$f":"IFERROR(INDEX([4]Estimadores!$D$7:$AB$38,MATCH(I$287,[4]Estimadores!$B$7:$B$38,0),MATCH($B308,[4]Estimadores!$D$6:$AB$6,0)),\"-\")","v":0},{"$f":"IFERROR(INDEX([4]Estimadores!$D$7:$AB$38,MATCH(J$287,[4]Estimadores!$B$7:$B$38,0),MATCH($B308,[4]Estimadores!$D$6:$AB$6,0)),\"-\")","v":1},{"$f":"IFERROR(INDEX([4]Estimadores!$D$7:$AB$38,MATCH(K$287,[4]Estimadores!$B$7:$B$38,0),MATCH($B308,[4]Estimadores!$D$6:$AB$6,0)),\"-\")","v":0},{"$f":"IFERROR(INDEX([4]Estimadores!$D$7:$AB$38,MATCH(L$287,[4]Estimadores!$B$7:$B$38,0),MATCH($B308,[4]Estimadores!$D$6:$AB$6,0)),\"-\")","v":0},{"$f":"IFERROR(INDEX([4]Estimadores!$D$7:$AB$38,MATCH(M$287,[4]Estimadores!$B$7:$B$38,0),MATCH($B308,[4]Estimadores!$D$6:$AB$6,0)),\"-\")","v":0},{"$f":"IFERROR(INDEX([4]Estimadores!$D$7:$AB$38,MATCH(N$287,[4]Estimadores!$B$7:$B$38,0),MATCH($B308,[4]Estimadores!$D$6:$AB$6,0)),\"-\")","v":0},{"$f":"IFERROR(INDEX([4]Estimadores!$D$7:$AB$38,MATCH(O$287,[4]Estimadores!$B$7:$B$38,0),MATCH($B308,[4]Estimadores!$D$6:$AB$6,0)),\"-\")","v":0},{"$f":"IFERROR(INDEX([4]Estimadores!$D$7:$AB$38,MATCH(P$287,[4]Estimadores!$B$7:$B$38,0),MATCH($B308,[4]Estimadores!$D$6:$AB$6,0)),\"-\")","v":0},{"$f":"IFERROR(INDEX([4]Estimadores!$D$7:$AB$38,MATCH(Q$287,[4]Estimadores!$B$7:$B$38,0),MATCH($B308,[4]Estimadores!$D$6:$AB$6,0)),\"-\")","v":1},{"$f":"IFERROR(INDEX([4]Estimadores!$D$7:$AB$38,MATCH(R$287,[4]Estimadores!$B$7:$B$38,0),MATCH($B308,[4]Estimadores!$D$6:$AB$6,0)),\"-\")","v":1},{"$f":"IFERROR(INDEX([4]Estimadores!$D$7:$AB$38,MATCH(S$287,[4]Estimadores!$B$7:$B$38,0),MATCH($B308,[4]Estimadores!$D$6:$AB$6,0)),\"-\")","v":1},{"$f":"IFERROR(INDEX([4]Estimadores!$D$7:$AB$38,MATCH(T$287,[4]Estimadores!$B$7:$B$38,0),MATCH($B308,[4]Estimadores!$D$6:$AB$6,0)),\"-\")","v":0},{"$f":"IFERROR(INDEX([4]Estimadores!$D$7:$AB$38,MATCH(U$287,[4]Estimadores!$B$7:$B$38,0),MATCH($B308,[4]Estimadores!$D$6:$AB$6,0)),\"-\")","v":0},{"$f":"IFERROR(INDEX([4]Estimadores!$D$7:$AB$38,MATCH(V$287,[4]Estimadores!$B$7:$B$38,0),MATCH($B308,[4]Estimadores!$D$6:$AB$6,0)),\"-\")","v":0},{"$f":"IFERROR(INDEX([4]Estimadores!$D$7:$AB$38,MATCH(W$287,[4]Estimadores!$B$7:$B$38,0),MATCH($B308,[4]Estimadores!$D$6:$AB$6,0)),\"-\")","v":0},{"$f":"IFERROR(INDEX([4]Estimadores!$D$7:$AB$38,MATCH(X$287,[4]Estimadores!$B$7:$B$38,0),MATCH($B308,[4]Estimadores!$D$6:$AB$6,0)),\"-\")","v":0},{"$f":"IFERROR(INDEX([4]Estimadores!$D$7:$AB$38,MATCH(Y$287,[4]Estimadores!$B$7:$B$38,0),MATCH($B308,[4]Estimadores!$D$6:$AB$6,0)),\"-\")","v":0},{"$f":"IFERROR(INDEX([4]Estimadores!$D$7:$AB$38,MATCH(Z$287,[4]Estimadores!$B$7:$B$38,0),MATCH($B308,[4]Estimadores!$D$6:$AB$6,0)),\"-\")","v":0},{"$f":"IFERROR(INDEX([4]Estimadores!$D$7:$AB$38,MATCH(AA$287,[4]Estimadores!$B$7:$B$38,0),MATCH($B308,[4]Estimadores!$D$6:$AB$6,0)),\"-\")","v":1},{"$f":"IFERROR(INDEX([4]Estimadores!$D$7:$AB$38,MATCH(AB$287,[4]Estimadores!$B$7:$B$38,0),MATCH($B308,[4]Estimadores!$D$6:$AB$6,0)),\"-\")","v":1},{"$f":"IFERROR(INDEX([4]Estimadores!$D$7:$AB$38,MATCH(AC$287,[4]Estimadores!$B$7:$B$38,0),MATCH($B308,[4]Estimadores!$D$6:$AB$6,0)),\"-\")","v":1},{"$f":"IFERROR(INDEX([4]Estimadores!$D$7:$AB$38,MATCH(AD$287,[4]Estimadores!$B$7:$B$38,0),MATCH($B308,[4]Estimadores!$D$6:$AB$6,0)),\"-\")","v":0},{"$f":"IFERROR(INDEX([4]Estimadores!$D$7:$AB$38,MATCH(AE$287,[4]Estimadores!$B$7:$B$38,0),MATCH($B308,[4]Estimadores!$D$6:$AB$6,0)),\"-\")","v":1},{"$f":"IFERROR(INDEX([4]Estimadores!$D$7:$AB$38,MATCH(AF$287,[4]Estimadores!$B$7:$B$38,0),MATCH($B308,[4]Estimadores!$D$6:$AB$6,0)),\"-\")","v":"-"},{"$f":"IFERROR(INDEX([4]Estimadores!$D$7:$AB$38,MATCH(AG$287,[4]Estimadores!$B$7:$B$38,0),MATCH($B308,[4]Estimadores!$D$6:$AB$6,0)),\"-\")","v":0.65625000000000133},{"$f":"IFERROR(INDEX([4]Estimadores!$D$7:$AB$38,MATCH(AH$287,[4]Estimadores!$B$7:$B$38,0),MATCH($B308,[4]Estimadores!$D$6:$AB$6,0)),\"-\")","v":0},{"$f":"IFERROR(INDEX([4]Estimadores!$D$7:$AB$38,MATCH(AI$287,[4]Estimadores!$B$7:$B$38,0),MATCH($B308,[4]Estimadores!$D$6:$AB$6,0)),\"-\")","v":1}]
[null,null,"",{"$f":"IFERROR(INDEX([4]Estimadores!$D$7:$AB$38,MATCH(D$287,[4]Estimadores!$B$7:$B$38,0),MATCH($B309,[4]Estimadores!$D$6:$AB$6,0)),\"-\")","v":"-"},{"$f":"IFERROR(INDEX([4]Estimadores!$D$7:$AB$38,MATCH(E$287,[4]Estimadores!$B$7:$B$38,0),MATCH($B309,[4]Estimadores!$D$6:$AB$6,0)),\"-\")","v":"-"},{"$f":"IFERROR(INDEX([4]Estimadores!$D$7:$AB$38,MATCH(F$287,[4]Estimadores!$B$7:$B$38,0),MATCH($B309,[4]Estimadores!$D$6:$AB$6,0)),\"-\")","v":"-"},{"$f":"IFERROR(INDEX([4]Estimadores!$D$7:$AB$38,MATCH(G$287,[4]Estimadores!$B$7:$B$38,0),MATCH($B309,[4]Estimadores!$D$6:$AB$6,0)),\"-\")","v":"-"},{"$f":"IFERROR(INDEX([4]Estimadores!$D$7:$AB$38,MATCH(H$287,[4]Estimadores!$B$7:$B$38,0),MATCH($B309,[4]Estimadores!$D$6:$AB$6,0)),\"-\")","v":"-"},{"$f":"IFERROR(INDEX([4]Estimadores!$D$7:$AB$38,MATCH(I$287,[4]Estimadores!$B$7:$B$38,0),MATCH($B309,[4]Estimadores!$D$6:$AB$6,0)),\"-\")","v":"-"},{"$f":"IFERROR(INDEX([4]Estimadores!$D$7:$AB$38,MATCH(J$287,[4]Estimadores!$B$7:$B$38,0),MATCH($B309,[4]Estimadores!$D$6:$AB$6,0)),\"-\")","v":"-"},{"$f":"IFERROR(INDEX([4]Estimadores!$D$7:$AB$38,MATCH(K$287,[4]Estimadores!$B$7:$B$38,0),MATCH($B309,[4]Estimadores!$D$6:$AB$6,0)),\"-\")","v":"-"},{"$f":"IFERROR(INDEX([4]Estimadores!$D$7:$AB$38,MATCH(L$287,[4]Estimadores!$B$7:$B$38,0),MATCH($B309,[4]Estimadores!$D$6:$AB$6,0)),\"-\")","v":"-"},{"$f":"IFERROR(INDEX([4]Estimadores!$D$7:$AB$38,MATCH(M$287,[4]Estimadores!$B$7:$B$38,0),MATCH($B309,[4]Estimadores!$D$6:$AB$6,0)),\"-\")","v":"-"},{"$f":"IFERROR(INDEX([4]Estimadores!$D$7:$AB$38,MATCH(N$287,[4]Estimadores!$B$7:$B$38,0),MATCH($B309,[4]Estimadores!$D$6:$AB$6,0)),\"-\")","v":"-"},{"$f":"IFERROR(INDEX([4]Estimadores!$D$7:$AB$38,MATCH(O$287,[4]Estimadores!$B$7:$B$38,0),MATCH($B309,[4]Estimadores!$D$6:$AB$6,0)),\"-\")","v":"-"},{"$f":"IFERROR(INDEX([4]Estimadores!$D$7:$AB$38,MATCH(P$287,[4]Estimadores!$B$7:$B$38,0),MATCH($B309,[4]Estimadores!$D$6:$AB$6,0)),\"-\")","v":"-"},{"$f":"IFERROR(INDEX([4]Estimadores!$D$7:$AB$38,MATCH(Q$287,[4]Estimadores!$B$7:$B$38,0),MATCH($B309,[4]Estimadores!$D$6:$AB$6,0)),\"-\")","v":"-"},{"$f":"IFERROR(INDEX([4]Estimadores!$D$7:$AB$38,MATCH(R$287,[4]Estimadores!$B$7:$B$38,0),MATCH($B309,[4]Estimadores!$D$6:$AB$6,0)),\"-\")","v":"-"},{"$f":"IFERROR(INDEX([4]Estimadores!$D$7:$AB$38,MATCH(S$287,[4]Estimadores!$B$7:$B$38,0),MATCH($B309,[4]Estimadores!$D$6:$AB$6,0)),\"-\")","v":"-"},{"$f":"IFERROR(INDEX([4]Estimadores!$D$7:$AB$38,MATCH(T$287,[4]Estimadores!$B$7:$B$38,0),MATCH($B309,[4]Estimadores!$D$6:$AB$6,0)),\"-\")","v":"-"},{"$f":"IFERROR(INDEX([4]Estimadores!$D$7:$AB$38,MATCH(U$287,[4]Estimadores!$B$7:$B$38,0),MATCH($B309,[4]Estimadores!$D$6:$AB$6,0)),\"-\")","v":"-"},{"$f":"IFERROR(INDEX([4]Estimadores!$D$7:$AB$38,MATCH(V$287,[4]Estimadores!$B$7:$B$38,0),MATCH($B309,[4]Estimadores!$D$6:$AB$6,0)),\"-\")","v":"-"},{"$f":"IFERROR(INDEX([4]Estimadores!$D$7:$AB$38,MATCH(W$287,[4]Estimadores!$B$7:$B$38,0),MATCH($B309,[4]Estimadores!$D$6:$AB$6,0)),\"-\")","v":"-"},{"$f":"IFERROR(INDEX([4]Estimadores!$D$7:$AB$38,MATCH(X$287,[4]Estimadores!$B$7:$B$38,0),MATCH($B309,[4]Estimadores!$D$6:$AB$6,0)),\"-\")","v":"-"},{"$f":"IFERROR(INDEX([4]Estimadores!$D$7:$AB$38,MATCH(Y$287,[4]Estimadores!$B$7:$B$38,0),MATCH($B309,[4]Estimadores!$D$6:$AB$6,0)),\"-\")","v":"-"},{"$f":"IFERROR(INDEX([4]Estimadores!$D$7:$AB$38,MATCH(Z$287,[4]Estimadores!$B$7:$B$38,0),MATCH($B309,[4]Estimadores!$D$6:$AB$6,0)),\"-\")","v":"-"},{"$f":"IFERROR(INDEX([4]Estimadores!$D$7:$AB$38,MATCH(AA$287,[4]Estimadores!$B$7:$B$38,0),MATCH($B309,[4]Estimadores!$D$6:$AB$6,0)),\"-\")","v":"-"},{"$f":"IFERROR(INDEX([4]Estimadores!$D$7:$AB$38,MATCH(AB$287,[4]Estimadores!$B$7:$B$38,0),MATCH($B309,[4]Estimadores!$D$6:$AB$6,0)),\"-\")","v":"-"},{"$f":"IFERROR(INDEX([4]Estimadores!$D$7:$AB$38,MATCH(AC$287,[4]Estimadores!$B$7:$B$38,0),MATCH($B309,[4]Estimadores!$D$6:$AB$6,0)),\"-\")","v":"-"},{"$f":"IFERROR(INDEX([4]Estimadores!$D$7:$AB$38,MATCH(AD$287,[4]Estimadores!$B$7:$B$38,0),MATCH($B309,[4]Estimadores!$D$6:$AB$6,0)),\"-\")","v":"-"},{"$f":"IFERROR(INDEX([4]Estimadores!$D$7:$AB$38,MATCH(AE$287,[4]Estimadores!$B$7:$B$38,0),MATCH($B309,[4]Estimadores!$D$6:$AB$6,0)),\"-\")","v":"-"},{"$f":"IFERROR(INDEX([4]Estimadores!$D$7:$AB$38,MATCH(AF$287,[4]Estimadores!$B$7:$B$38,0),MATCH($B309,[4]Estimadores!$D$6:$AB$6,0)),\"-\")","v":"-"},{"$f":"IFERROR(INDEX([4]Estimadores!$D$7:$AB$38,MATCH(AG$287,[4]Estimadores!$B$7:$B$38,0),MATCH($B309,[4]Estimadores!$D$6:$AB$6,0)),\"-\")","v":"-"},{"$f":"IFERROR(INDEX([4]Estimadores!$D$7:$AB$38,MATCH(AH$287,[4]Estimadores!$B$7:$B$38,0),MATCH($B309,[4]Estimadores!$D$6:$AB$6,0)),\"-\")","v":"-"},{"$f":"IFERROR(INDEX([4]Estimadores!$D$7:$AB$38,MATCH(AI$287,[4]Estimadores!$B$7:$B$38,0),MATCH($B309,[4]Estimadores!$D$6:$AB$6,0)),\"-\")","v":"-"}]
[null,null,"",{"$f":"IFERROR(INDEX([4]Estimadores!$D$7:$AB$38,MATCH(D$287,[4]Estimadores!$B$7:$B$38,0),MATCH($B310,[4]Estimadores!$D$6:$AB$6,0)),\"-\")","v":"-"},{"$f":"IFERROR(INDEX([4]Estimadores!$D$7:$AB$38,MATCH(E$287,[4]Estimadores!$B$7:$B$38,0),MATCH($B310,[4]Estimadores!$D$6:$AB$6,0)),\"-\")","v":"-"},{"$f":"IFERROR(INDEX([4]Estimadores!$D$7:$AB$38,MATCH(F$287,[4]Estimadores!$B$7:$B$38,0),MATCH($B310,[4]Estimadores!$D$6:$AB$6,0)),\"-\")","v":"-"},{"$f":"IFERROR(INDEX([4]Estimadores!$D$7:$AB$38,MATCH(G$287,[4]Estimadores!$B$7:$B$38,0),MATCH($B310,[4]Estimadores!$D$6:$AB$6,0)),\"-\")","v":"-"},{"$f":"IFERROR(INDEX([4]Estimadores!$D$7:$AB$38,MATCH(H$287,[4]Estimadores!$B$7:$B$38,0),MATCH($B310,[4]Estimadores!$D$6:$AB$6,0)),\"-\")","v":"-"},{"$f":"IFERROR(INDEX([4]Estimadores!$D$7:$AB$38,MATCH(I$287,[4]Estimadores!$B$7:$B$38,0),MATCH($B310,[4]Estimadores!$D$6:$AB$6,0)),\"-\")","v":"-"},{"$f":"IFERROR(INDEX([4]Estimadores!$D$7:$AB$38,MATCH(J$287,[4]Estimadores!$B$7:$B$38,0),MATCH($B310,[4]Estimadores!$D$6:$AB$6,0)),\"-\")","v":"-"},{"$f":"IFERROR(INDEX([4]Estimadores!$D$7:$AB$38,MATCH(K$287,[4]Estimadores!$B$7:$B$38,0),MATCH($B310,[4]Estimadores!$D$6:$AB$6,0)),\"-\")","v":"-"},{"$f":"IFERROR(INDEX([4]Estimadores!$D$7:$AB$38,MATCH(L$287,[4]Estimadores!$B$7:$B$38,0),MATCH($B310,[4]Estimadores!$D$6:$AB$6,0)),\"-\")","v":"-"},{"$f":"IFERROR(INDEX([4]Estimadores!$D$7:$AB$38,MATCH(M$287,[4]Estimadores!$B$7:$B$38,0),MATCH($B310,[4]Estimadores!$D$6:$AB$6,0)),\"-\")","v":"-"},{"$f":"IFERROR(INDEX([4]Estimadores!$D$7:$AB$38,MATCH(N$287,[4]Estimadores!$B$7:$B$38,0),MATCH($B310,[4]Estimadores!$D$6:$AB$6,0)),\"-\")","v":"-"},{"$f":"IFERROR(INDEX([4]Estimadores!$D$7:$AB$38,MATCH(O$287,[4]Estimadores!$B$7:$B$38,0),MATCH($B310,[4]Estimadores!$D$6:$AB$6,0)),\"-\")","v":"-"},{"$f":"IFERROR(INDEX([4]Estimadores!$D$7:$AB$38,MATCH(P$287,[4]Estimadores!$B$7:$B$38,0),MATCH($B310,[4]Estimadores!$D$6:$AB$6,0)),\"-\")","v":"-"},{"$f":"IFERROR(INDEX([4]Estimadores!$D$7:$AB$38,MATCH(Q$287,[4]Estimadores!$B$7:$B$38,0),MATCH($B310,[4]Estimadores!$D$6:$AB$6,0)),\"-\")","v":"-"},{"$f":"IFERROR(INDEX([4]Estimadores!$D$7:$AB$38,MATCH(R$287,[4]Estimadores!$B$7:$B$38,0),MATCH($B310,[4]Estimadores!$D$6:$AB$6,0)),\"-\")","v":"-"},{"$f":"IFERROR(INDEX([4]Estimadores!$D$7:$AB$38,MATCH(S$287,[4]Estimadores!$B$7:$B$38,0),MATCH($B310,[4]Estimadores!$D$6:$AB$6,0)),\"-\")","v":"-"},{"$f":"IFERROR(INDEX([4]Estimadores!$D$7:$AB$38,MATCH(T$287,[4]Estimadores!$B$7:$B$38,0),MATCH($B310,[4]Estimadores!$D$6:$AB$6,0)),\"-\")","v":"-"},{"$f":"IFERROR(INDEX([4]Estimadores!$D$7:$AB$38,MATCH(U$287,[4]Estimadores!$B$7:$B$38,0),MATCH($B310,[4]Estimadores!$D$6:$AB$6,0)),\"-\")","v":"-"},{"$f":"IFERROR(INDEX([4]Estimadores!$D$7:$AB$38,MATCH(V$287,[4]Estimadores!$B$7:$B$38,0),MATCH($B310,[4]Estimadores!$D$6:$AB$6,0)),\"-\")","v":"-"},{"$f":"IFERROR(INDEX([4]Estimadores!$D$7:$AB$38,MATCH(W$287,[4]Estimadores!$B$7:$B$38,0),MATCH($B310,[4]Estimadores!$D$6:$AB$6,0)),\"-\")","v":"-"},{"$f":"IFERROR(INDEX([4]Estimadores!$D$7:$AB$38,MATCH(X$287,[4]Estimadores!$B$7:$B$38,0),MATCH($B310,[4]Estimadores!$D$6:$AB$6,0)),\"-\")","v":"-"},{"$f":"IFERROR(INDEX([4]Estimadores!$D$7:$AB$38,MATCH(Y$287,[4]Estimadores!$B$7:$B$38,0),MATCH($B310,[4]Estimadores!$D$6:$AB$6,0)),\"-\")","v":"-"},{"$f":"IFERROR(INDEX([4]Estimadores!$D$7:$AB$38,MATCH(Z$287,[4]Estimadores!$B$7:$B$38,0),MATCH($B310,[4]Estimadores!$D$6:$AB$6,0)),\"-\")","v":"-"},{"$f":"IFERROR(INDEX([4]Estimadores!$D$7:$AB$38,MATCH(AA$287,[4]Estimadores!$B$7:$B$38,0),MATCH($B310,[4]Estimadores!$D$6:$AB$6,0)),\"-\")","v":"-"},{"$f":"IFERROR(INDEX([4]Estimadores!$D$7:$AB$38,MATCH(AB$287,[4]Estimadores!$B$7:$B$38,0),MATCH($B310,[4]Estimadores!$D$6:$AB$6,0)),\"-\")","v":"-"},{"$f":"IFERROR(INDEX([4]Estimadores!$D$7:$AB$38,MATCH(AC$287,[4]Estimadores!$B$7:$B$38,0),MATCH($B310,[4]Estimadores!$D$6:$AB$6,0)),\"-\")","v":"-"},{"$f":"IFERROR(INDEX([4]Estimadores!$D$7:$AB$38,MATCH(AD$287,[4]Estimadores!$B$7:$B$38,0),MATCH($B310,[4]Estimadores!$D$6:$AB$6,0)),\"-\")","v":"-"},{"$f":"IFERROR(INDEX([4]Estimadores!$D$7:$AB$38,MATCH(AE$287,[4]Estimadores!$B$7:$B$38,0),MATCH($B310,[4]Estimadores!$D$6:$AB$6,0)),\"-\")","v":"-"},{"$f":"IFERROR(INDEX([4]Estimadores!$D$7:$AB$38,MATCH(AF$287,[4]Estimadores!$B$7:$B$38,0),MATCH($B310,[4]Estimadores!$D$6:$AB$6,0)),\"-\")","v":"-"},{"$f":"IFERROR(INDEX([4]Estimadores!$D$7:$AB$38,MATCH(AG$287,[4]Estimadores!$B$7:$B$38,0),MATCH($B310,[4]Estimadores!$D$6:$AB$6,0)),\"-\")","v":"-"},{"$f":"IFERROR(INDEX([4]Estimadores!$D$7:$AB$38,MATCH(AH$287,[4]Estimadores!$B$7:$B$38,0),MATCH($B310,[4]Estimadores!$D$6:$AB$6,0)),\"-\")","v":"-"},{"$f":"IFERROR(INDEX([4]Estimadores!$D$7:$AB$38,MATCH(AI$287,[4]Estimadores!$B$7:$B$38,0),MATCH($B310,[4]Estimadores!$D$6:$AB$6,0)),\"-\")","v":"-"}]
[null,null,"",{"$f":"IFERROR(INDEX([4]Estimadores!$D$7:$AB$38,MATCH(D$287,[4]Estimadores!$B$7:$B$38,0),MATCH($B311,[4]Estimadores!$D$6:$AB$6,0)),\"-\")","v":"-"},{"$f":"IFERROR(INDEX([4]Estimadores!$D$7:$AB$38,MATCH(E$287,[4]Estimadores!$B$7:$B$38,0),MATCH($B311,[4]Estimadores!$D$6:$AB$6,0)),\"-\")","v":"-"},{"$f":"IFERROR(INDEX([4]Estimadores!$D$7:$AB$38,MATCH(F$287,[4]Estimadores!$B$7:$B$38,0),MATCH($B311,[4]Estimadores!$D$6:$AB$6,0)),\"-\")","v":"-"},{"$f":"IFERROR(INDEX([4]Estimadores!$D$7:$AB$38,MATCH(G$287,[4]Estimadores!$B$7:$B$38,0),MATCH($B311,[4]Estimadores!$D$6:$AB$6,0)),\"-\")","v":"-"},{"$f":"IFERROR(INDEX([4]Estimadores!$D$7:$AB$38,MATCH(H$287,[4]Estimadores!$B$7:$B$38,0),MATCH($B311,[4]Estimadores!$D$6:$AB$6,0)),\"-\")","v":"-"},{"$f":"IFERROR(INDEX([4]Estimadores!$D$7:$AB$38,MATCH(I$287,[4]Estimadores!$B$7:$B$38,0),MATCH($B311,[4]Estimadores!$D$6:$AB$6,0)),\"-\")","v":"-"},{"$f":"IFERROR(INDEX([4]Estimadores!$D$7:$AB$38,MATCH(J$287,[4]Estimadores!$B$7:$B$38,0),MATCH($B311,[4]Estimadores!$D$6:$AB$6,0)),\"-\")","v":"-"},{"$f":"IFERROR(INDEX([4]Estimadores!$D$7:$AB$38,MATCH(K$287,[4]Estimadores!$B$7:$B$38,0),MATCH($B311,[4]Estimadores!$D$6:$AB$6,0)),\"-\")","v":"-"},{"$f":"IFERROR(INDEX([4]Estimadores!$D$7:$AB$38,MATCH(L$287,[4]Estimadores!$B$7:$B$38,0),MATCH($B311,[4]Estimadores!$D$6:$AB$6,0)),\"-\")","v":"-"},{"$f":"IFERROR(INDEX([4]Estimadores!$D$7:$AB$38,MATCH(M$287,[4]Estimadores!$B$7:$B$38,0),MATCH($B311,[4]Estimadores!$D$6:$AB$6,0)),\"-\")","v":"-"},{"$f":"IFERROR(INDEX([4]Estimadores!$D$7:$AB$38,MATCH(N$287,[4]Estimadores!$B$7:$B$38,0),MATCH($B311,[4]Estimadores!$D$6:$AB$6,0)),\"-\")","v":"-"},{"$f":"IFERROR(INDEX([4]Estimadores!$D$7:$AB$38,MATCH(O$287,[4]Estimadores!$B$7:$B$38,0),MATCH($B311,[4]Estimadores!$D$6:$AB$6,0)),\"-\")","v":"-"},{"$f":"IFERROR(INDEX([4]Estimadores!$D$7:$AB$38,MATCH(P$287,[4]Estimadores!$B$7:$B$38,0),MATCH($B311,[4]Estimadores!$D$6:$AB$6,0)),\"-\")","v":"-"},{"$f":"IFERROR(INDEX([4]Estimadores!$D$7:$AB$38,MATCH(Q$287,[4]Estimadores!$B$7:$B$38,0),MATCH($B311,[4]Estimadores!$D$6:$AB$6,0)),\"-\")","v":"-"},{"$f":"IFERROR(INDEX([4]Estimadores!$D$7:$AB$38,MATCH(R$287,[4]Estimadores!$B$7:$B$38,0),MATCH($B311,[4]Estimadores!$D$6:$AB$6,0)),\"-\")","v":"-"},{"$f":"IFERROR(INDEX([4]Estimadores!$D$7:$AB$38,MATCH(S$287,[4]Estimadores!$B$7:$B$38,0),MATCH($B311,[4]Estimadores!$D$6:$AB$6,0)),\"-\")","v":"-"},{"$f":"IFERROR(INDEX([4]Estimadores!$D$7:$AB$38,MATCH(T$287,[4]Estimadores!$B$7:$B$38,0),MATCH($B311,[4]Estimadores!$D$6:$AB$6,0)),\"-\")","v":"-"},{"$f":"IFERROR(INDEX([4]Estimadores!$D$7:$AB$38,MATCH(U$287,[4]Estimadores!$B$7:$B$38,0),MATCH($B311,[4]Estimadores!$D$6:$AB$6,0)),\"-\")","v":"-"},{"$f":"IFERROR(INDEX([4]Estimadores!$D$7:$AB$38,MATCH(V$287,[4]Estimadores!$B$7:$B$38,0),MATCH($B311,[4]Estimadores!$D$6:$AB$6,0)),\"-\")","v":"-"},{"$f":"IFERROR(INDEX([4]Estimadores!$D$7:$AB$38,MATCH(W$287,[4]Estimadores!$B$7:$B$38,0),MATCH($B311,[4]Estimadores!$D$6:$AB$6,0)),\"-\")","v":"-"},{"$f":"IFERROR(INDEX([4]Estimadores!$D$7:$AB$38,MATCH(X$287,[4]Estimadores!$B$7:$B$38,0),MATCH($B311,[4]Estimadores!$D$6:$AB$6,0)),\"-\")","v":"-"},{"$f":"IFERROR(INDEX([4]Estimadores!$D$7:$AB$38,MATCH(Y$287,[4]Estimadores!$B$7:$B$38,0),MATCH($B311,[4]Estimadores!$D$6:$AB$6,0)),\"-\")","v":"-"},{"$f":"IFERROR(INDEX([4]Estimadores!$D$7:$AB$38,MATCH(Z$287,[4]Estimadores!$B$7:$B$38,0),MATCH($B311,[4]Estimadores!$D$6:$AB$6,0)),\"-\")","v":"-"},{"$f":"IFERROR(INDEX([4]Estimadores!$D$7:$AB$38,MATCH(AA$287,[4]Estimadores!$B$7:$B$38,0),MATCH($B311,[4]Estimadores!$D$6:$AB$6,0)),\"-\")","v":"-"},{"$f":"IFERROR(INDEX([4]Estimadores!$D$7:$AB$38,MATCH(AB$287,[4]Estimadores!$B$7:$B$38,0),MATCH($B311,[4]Estimadores!$D$6:$AB$6,0)),\"-\")","v":"-"},{"$f":"IFERROR(INDEX([4]Estimadores!$D$7:$AB$38,MATCH(AC$287,[4]Estimadores!$B$7:$B$38,0),MATCH($B311,[4]Estimadores!$D$6:$AB$6,0)),\"-\")","v":"-"},{"$f":"IFERROR(INDEX([4]Estimadores!$D$7:$AB$38,MATCH(AD$287,[4]Estimadores!$B$7:$B$38,0),MATCH($B311,[4]Estimadores!$D$6:$AB$6,0)),\"-\")","v":"-"},{"$f":"IFERROR(INDEX([4]Estimadores!$D$7:$AB$38,MATCH(AE$287,[4]Estimadores!$B$7:$B$38,0),MATCH($B311,[4]Estimadores!$D$6:$AB$6,0)),\"-\")","v":"-"},{"$f":"IFERROR(INDEX([4]Estimadores!$D$7:$AB$38,MATCH(AF$287,[4]Estimadores!$B$7:$B$38,0),MATCH($B311,[4]Estimadores!$D$6:$AB$6,0)),\"-\")","v":"-"},{"$f":"IFERROR(INDEX([4]Estimadores!$D$7:$AB$38,MATCH(AG$287,[4]Estimadores!$B$7:$B$38,0),MATCH($B311,[4]Estimadores!$D$6:$AB$6,0)),\"-\")","v":"-"},{"$f":"IFERROR(INDEX([4]Estimadores!$D$7:$AB$38,MATCH(AH$287,[4]Estimadores!$B$7:$B$38,0),MATCH($B311,[4]Estimadores!$D$6:$AB$6,0)),\"-\")","v":"-"},{"$f":"IFERROR(INDEX([4]Estimadores!$D$7:$AB$38,MATCH(AI$287,[4]Estimadores!$B$7:$B$38,0),MATCH($B311,[4]Estimadores!$D$6:$AB$6,0)),\"-\")","v":"-"}]
[null,null,"",{"$f":"IFERROR(INDEX([4]Estimadores!$D$7:$AB$38,MATCH(D$287,[4]Estimadores!$B$7:$B$38,0),MATCH($B312,[4]Estimadores!$D$6:$AB$6,0)),\"-\")","v":"-"},{"$f":"IFERROR(INDEX([4]Estimadores!$D$7:$AB$38,MATCH(E$287,[4]Estimadores!$B$7:$B$38,0),MATCH($B312,[4]Estimadores!$D$6:$AB$6,0)),\"-\")","v":"-"},{"$f":"IFERROR(INDEX([4]Estimadores!$D$7:$AB$38,MATCH(F$287,[4]Estimadores!$B$7:$B$38,0),MATCH($B312,[4]Estimadores!$D$6:$AB$6,0)),\"-\")","v":"-"},{"$f":"IFERROR(INDEX([4]Estimadores!$D$7:$AB$38,MATCH(G$287,[4]Estimadores!$B$7:$B$38,0),MATCH($B312,[4]Estimadores!$D$6:$AB$6,0)),\"-\")","v":"-"},{"$f":"IFERROR(INDEX([4]Estimadores!$D$7:$AB$38,MATCH(H$287,[4]Estimadores!$B$7:$B$38,0),MATCH($B312,[4]Estimadores!$D$6:$AB$6,0)),\"-\")","v":"-"},{"$f":"IFERROR(INDEX([4]Estimadores!$D$7:$AB$38,MATCH(I$287,[4]Estimadores!$B$7:$B$38,0),MATCH($B312,[4]Estimadores!$D$6:$AB$6,0)),\"-\")","v":"-"},{"$f":"IFERROR(INDEX([4]Estimadores!$D$7:$AB$38,MATCH(J$287,[4]Estimadores!$B$7:$B$38,0),MATCH($B312,[4]Estimadores!$D$6:$AB$6,0)),\"-\")","v":"-"},{"$f":"IFERROR(INDEX([4]Estimadores!$D$7:$AB$38,MATCH(K$287,[4]Estimadores!$B$7:$B$38,0),MATCH($B312,[4]Estimadores!$D$6:$AB$6,0)),\"-\")","v":"-"},{"$f":"IFERROR(INDEX([4]Estimadores!$D$7:$AB$38,MATCH(L$287,[4]Estimadores!$B$7:$B$38,0),MATCH($B312,[4]Estimadores!$D$6:$AB$6,0)),\"-\")","v":"-"},{"$f":"IFERROR(INDEX([4]Estimadores!$D$7:$AB$38,MATCH(M$287,[4]Estimadores!$B$7:$B$38,0),MATCH($B312,[4]Estimadores!$D$6:$AB$6,0)),\"-\")","v":"-"},{"$f":"IFERROR(INDEX([4]Estimadores!$D$7:$AB$38,MATCH(N$287,[4]Estimadores!$B$7:$B$38,0),MATCH($B312,[4]Estimadores!$D$6:$AB$6,0)),\"-\")","v":"-"},{"$f":"IFERROR(INDEX([4]Estimadores!$D$7:$AB$38,MATCH(O$287,[4]Estimadores!$B$7:$B$38,0),MATCH($B312,[4]Estimadores!$D$6:$AB$6,0)),\"-\")","v":"-"},{"$f":"IFERROR(INDEX([4]Estimadores!$D$7:$AB$38,MATCH(P$287,[4]Estimadores!$B$7:$B$38,0),MATCH($B312,[4]Estimadores!$D$6:$AB$6,0)),\"-\")","v":"-"},{"$f":"IFERROR(INDEX([4]Estimadores!$D$7:$AB$38,MATCH(Q$287,[4]Estimadores!$B$7:$B$38,0),MATCH($B312,[4]Estimadores!$D$6:$AB$6,0)),\"-\")","v":"-"},{"$f":"IFERROR(INDEX([4]Estimadores!$D$7:$AB$38,MATCH(R$287,[4]Estimadores!$B$7:$B$38,0),MATCH($B312,[4]Estimadores!$D$6:$AB$6,0)),\"-\")","v":"-"},{"$f":"IFERROR(INDEX([4]Estimadores!$D$7:$AB$38,MATCH(S$287,[4]Estimadores!$B$7:$B$38,0),MATCH($B312,[4]Estimadores!$D$6:$AB$6,0)),\"-\")","v":"-"},{"$f":"IFERROR(INDEX([4]Estimadores!$D$7:$AB$38,MATCH(T$287,[4]Estimadores!$B$7:$B$38,0),MATCH($B312,[4]Estimadores!$D$6:$AB$6,0)),\"-\")","v":"-"},{"$f":"IFERROR(INDEX([4]Estimadores!$D$7:$AB$38,MATCH(U$287,[4]Estimadores!$B$7:$B$38,0),MATCH($B312,[4]Estimadores!$D$6:$AB$6,0)),\"-\")","v":"-"},{"$f":"IFERROR(INDEX([4]Estimadores!$D$7:$AB$38,MATCH(V$287,[4]Estimadores!$B$7:$B$38,0),MATCH($B312,[4]Estimadores!$D$6:$AB$6,0)),\"-\")","v":"-"},{"$f":"IFERROR(INDEX([4]Estimadores!$D$7:$AB$38,MATCH(W$287,[4]Estimadores!$B$7:$B$38,0),MATCH($B312,[4]Estimadores!$D$6:$AB$6,0)),\"-\")","v":"-"},{"$f":"IFERROR(INDEX([4]Estimadores!$D$7:$AB$38,MATCH(X$287,[4]Estimadores!$B$7:$B$38,0),MATCH($B312,[4]Estimadores!$D$6:$AB$6,0)),\"-\")","v":"-"},{"$f":"IFERROR(INDEX([4]Estimadores!$D$7:$AB$38,MATCH(Y$287,[4]Estimadores!$B$7:$B$38,0),MATCH($B312,[4]Estimadores!$D$6:$AB$6,0)),\"-\")","v":"-"},{"$f":"IFERROR(INDEX([4]Estimadores!$D$7:$AB$38,MATCH(Z$287,[4]Estimadores!$B$7:$B$38,0),MATCH($B312,[4]Estimadores!$D$6:$AB$6,0)),\"-\")","v":"-"},{"$f":"IFERROR(INDEX([4]Estimadores!$D$7:$AB$38,MATCH(AA$287,[4]Estimadores!$B$7:$B$38,0),MATCH($B312,[4]Estimadores!$D$6:$AB$6,0)),\"-\")","v":"-"},{"$f":"IFERROR(INDEX([4]Estimadores!$D$7:$AB$38,MATCH(AB$287,[4]Estimadores!$B$7:$B$38,0),MATCH($B312,[4]Estimadores!$D$6:$AB$6,0)),\"-\")","v":"-"},{"$f":"IFERROR(INDEX([4]Estimadores!$D$7:$AB$38,MATCH(AC$287,[4]Estimadores!$B$7:$B$38,0),MATCH($B312,[4]Estimadores!$D$6:$AB$6,0)),\"-\")","v":"-"},{"$f":"IFERROR(INDEX([4]Estimadores!$D$7:$AB$38,MATCH(AD$287,[4]Estimadores!$B$7:$B$38,0),MATCH($B312,[4]Estimadores!$D$6:$AB$6,0)),\"-\")","v":"-"},{"$f":"IFERROR(INDEX([4]Estimadores!$D$7:$AB$38,MATCH(AE$287,[4]Estimadores!$B$7:$B$38,0),MATCH($B312,[4]Estimadores!$D$6:$AB$6,0)),\"-\")","v":"-"},{"$f":"IFERROR(INDEX([4]Estimadores!$D$7:$AB$38,MATCH(AF$287,[4]Estimadores!$B$7:$B$38,0),MATCH($B312,[4]Estimadores!$D$6:$AB$6,0)),\"-\")","v":"-"},{"$f":"IFERROR(INDEX([4]Estimadores!$D$7:$AB$38,MATCH(AG$287,[4]Estimadores!$B$7:$B$38,0),MATCH($B312,[4]Estimadores!$D$6:$AB$6,0)),\"-\")","v":"-"},{"$f":"IFERROR(INDEX([4]Estimadores!$D$7:$AB$38,MATCH(AH$287,[4]Estimadores!$B$7:$B$38,0),MATCH($B312,[4]Estimadores!$D$6:$AB$6,0)),\"-\")","v":"-"},{"$f":"IFERROR(INDEX([4]Estimadores!$D$7:$AB$38,MATCH(AI$287,[4]Estimadores!$B$7:$B$38,0),MATCH($B312,[4]Estimadores!$D$6:$AB$6,0)),\"-\")","v":"-"}]
[null,null,"",{"$f":"IFERROR(INDEX([4]Estimadores!$D$7:$AB$38,MATCH(D$287,[4]Estimadores!$B$7:$B$38,0),MATCH($B313,[4]Estimadores!$D$6:$AB$6,0)),\"-\")","v":"-"},{"$f":"IFERROR(INDEX([4]Estimadores!$D$7:$AB$38,MATCH(E$287,[4]Estimadores!$B$7:$B$38,0),MATCH($B313,[4]Estimadores!$D$6:$AB$6,0)),\"-\")","v":"-"},{"$f":"IFERROR(INDEX([4]Estimadores!$D$7:$AB$38,MATCH(F$287,[4]Estimadores!$B$7:$B$38,0),MATCH($B313,[4]Estimadores!$D$6:$AB$6,0)),\"-\")","v":"-"},{"$f":"IFERROR(INDEX([4]Estimadores!$D$7:$AB$38,MATCH(G$287,[4]Estimadores!$B$7:$B$38,0),MATCH($B313,[4]Estimadores!$D$6:$AB$6,0)),\"-\")","v":"-"},{"$f":"IFERROR(INDEX([4]Estimadores!$D$7:$AB$38,MATCH(H$287,[4]Estimadores!$B$7:$B$38,0),MATCH($B313,[4]Estimadores!$D$6:$AB$6,0)),\"-\")","v":"-"},{"$f":"IFERROR(INDEX([4]Estimadores!$D$7:$AB$38,MATCH(I$287,[4]Estimadores!$B$7:$B$38,0),MATCH($B313,[4]Estimadores!$D$6:$AB$6,0)),\"-\")","v":"-"},{"$f":"IFERROR(INDEX([4]Estimadores!$D$7:$AB$38,MATCH(J$287,[4]Estimadores!$B$7:$B$38,0),MATCH($B313,[4]Estimadores!$D$6:$AB$6,0)),\"-\")","v":"-"},{"$f":"IFERROR(INDEX([4]Estimadores!$D$7:$AB$38,MATCH(K$287,[4]Estimadores!$B$7:$B$38,0),MATCH($B313,[4]Estimadores!$D$6:$AB$6,0)),\"-\")","v":"-"},{"$f":"IFERROR(INDEX([4]Estimadores!$D$7:$AB$38,MATCH(L$287,[4]Estimadores!$B$7:$B$38,0),MATCH($B313,[4]Estimadores!$D$6:$AB$6,0)),\"-\")","v":"-"},{"$f":"IFERROR(INDEX([4]Estimadores!$D$7:$AB$38,MATCH(M$287,[4]Estimadores!$B$7:$B$38,0),MATCH($B313,[4]Estimadores!$D$6:$AB$6,0)),\"-\")","v":"-"},{"$f":"IFERROR(INDEX([4]Estimadores!$D$7:$AB$38,MATCH(N$287,[4]Estimadores!$B$7:$B$38,0),MATCH($B313,[4]Estimadores!$D$6:$AB$6,0)),\"-\")","v":"-"},{"$f":"IFERROR(INDEX([4]Estimadores!$D$7:$AB$38,MATCH(O$287,[4]Estimadores!$B$7:$B$38,0),MATCH($B313,[4]Estimadores!$D$6:$AB$6,0)),\"-\")","v":"-"},{"$f":"IFERROR(INDEX([4]Estimadores!$D$7:$AB$38,MATCH(P$287,[4]Estimadores!$B$7:$B$38,0),MATCH($B313,[4]Estimadores!$D$6:$AB$6,0)),\"-\")","v":"-"},{"$f":"IFERROR(INDEX([4]Estimadores!$D$7:$AB$38,MATCH(Q$287,[4]Estimadores!$B$7:$B$38,0),MATCH($B313,[4]Estimadores!$D$6:$AB$6,0)),\"-\")","v":"-"},{"$f":"IFERROR(INDEX([4]Estimadores!$D$7:$AB$38,MATCH(R$287,[4]Estimadores!$B$7:$B$38,0),MATCH($B313,[4]Estimadores!$D$6:$AB$6,0)),\"-\")","v":"-"},{"$f":"IFERROR(INDEX([4]Estimadores!$D$7:$AB$38,MATCH(S$287,[4]Estimadores!$B$7:$B$38,0),MATCH($B313,[4]Estimadores!$D$6:$AB$6,0)),\"-\")","v":"-"},{"$f":"IFERROR(INDEX([4]Estimadores!$D$7:$AB$38,MATCH(T$287,[4]Estimadores!$B$7:$B$38,0),MATCH($B313,[4]Estimadores!$D$6:$AB$6,0)),\"-\")","v":"-"},{"$f":"IFERROR(INDEX([4]Estimadores!$D$7:$AB$38,MATCH(U$287,[4]Estimadores!$B$7:$B$38,0),MATCH($B313,[4]Estimadores!$D$6:$AB$6,0)),\"-\")","v":"-"},{"$f":"IFERROR(INDEX([4]Estimadores!$D$7:$AB$38,MATCH(V$287,[4]Estimadores!$B$7:$B$38,0),MATCH($B313,[4]Estimadores!$D$6:$AB$6,0)),\"-\")","v":"-"},{"$f":"IFERROR(INDEX([4]Estimadores!$D$7:$AB$38,MATCH(W$287,[4]Estimadores!$B$7:$B$38,0),MATCH($B313,[4]Estimadores!$D$6:$AB$6,0)),\"-\")","v":"-"},{"$f":"IFERROR(INDEX([4]Estimadores!$D$7:$AB$38,MATCH(X$287,[4]Estimadores!$B$7:$B$38,0),MATCH($B313,[4]Estimadores!$D$6:$AB$6,0)),\"-\")","v":"-"},{"$f":"IFERROR(INDEX([4]Estimadores!$D$7:$AB$38,MATCH(Y$287,[4]Estimadores!$B$7:$B$38,0),MATCH($B313,[4]Estimadores!$D$6:$AB$6,0)),\"-\")","v":"-"},{"$f":"IFERROR(INDEX([4]Estimadores!$D$7:$AB$38,MATCH(Z$287,[4]Estimadores!$B$7:$B$38,0),MATCH($B313,[4]Estimadores!$D$6:$AB$6,0)),\"-\")","v":"-"},{"$f":"IFERROR(INDEX([4]Estimadores!$D$7:$AB$38,MATCH(AA$287,[4]Estimadores!$B$7:$B$38,0),MATCH($B313,[4]Estimadores!$D$6:$AB$6,0)),\"-\")","v":"-"},{"$f":"IFERROR(INDEX([4]Estimadores!$D$7:$AB$38,MATCH(AB$287,[4]Estimadores!$B$7:$B$38,0),MATCH($B313,[4]Estimadores!$D$6:$AB$6,0)),\"-\")","v":"-"},{"$f":"IFERROR(INDEX([4]Estimadores!$D$7:$AB$38,MATCH(AC$287,[4]Estimadores!$B$7:$B$38,0),MATCH($B313,[4]Estimadores!$D$6:$AB$6,0)),\"-\")","v":"-"},{"$f":"IFERROR(INDEX([4]Estimadores!$D$7:$AB$38,MATCH(AD$287,[4]Estimadores!$B$7:$B$38,0),MATCH($B313,[4]Estimadores!$D$6:$AB$6,0)),\"-\")","v":"-"},{"$f":"IFERROR(INDEX([4]Estimadores!$D$7:$AB$38,MATCH(AE$287,[4]Estimadores!$B$7:$B$38,0),MATCH($B313,[4]Estimadores!$D$6:$AB$6,0)),\"-\")","v":"-"},{"$f":"IFERROR(INDEX([4]Estimadores!$D$7:$AB$38,MATCH(AF$287,[4]Estimadores!$B$7:$B$38,0),MATCH($B313,[4]Estimadores!$D$6:$AB$6,0)),\"-\")","v":"-"},{"$f":"IFERROR(INDEX([4]Estimadores!$D$7:$AB$38,MATCH(AG$287,[4]Estimadores!$B$7:$B$38,0),MATCH($B313,[4]Estimadores!$D$6:$AB$6,0)),\"-\")","v":"-"},{"$f":"IFERROR(INDEX([4]Estimadores!$D$7:$AB$38,MATCH(AH$287,[4]Estimadores!$B$7:$B$38,0),MATCH($B313,[4]Estimadores!$D$6:$AB$6,0)),\"-\")","v":"-"},{"$f":"IFERROR(INDEX([4]Estimadores!$D$7:$AB$38,MATCH(AI$287,[4]Estimadores!$B$7:$B$38,0),MATCH($B313,[4]Estimadores!$D$6:$AB$6,0)),\"-\")","v":"-"}]
[null,null,"",{"$f":"IFERROR(INDEX([4]Estimadores!$D$7:$AB$38,MATCH(D$287,[4]Estimadores!$B$7:$B$38,0),MATCH($B314,[4]Estimadores!$D$6:$AB$6,0)),\"-\")","v":"-"},{"$f":"IFERROR(INDEX([4]Estimadores!$D$7:$AB$38,MATCH(E$287,[4]Estimadores!$B$7:$B$38,0),MATCH($B314,[4]Estimadores!$D$6:$AB$6,0)),\"-\")","v":"-"},{"$f":"IFERROR(INDEX([4]Estimadores!$D$7:$AB$38,MATCH(F$287,[4]Estimadores!$B$7:$B$38,0),MATCH($B314,[4]Estimadores!$D$6:$AB$6,0)),\"-\")","v":"-"},{"$f":"IFERROR(INDEX([4]Estimadores!$D$7:$AB$38,MATCH(G$287,[4]Estimadores!$B$7:$B$38,0),MATCH($B314,[4]Estimadores!$D$6:$AB$6,0)),\"-\")","v":"-"},{"$f":"IFERROR(INDEX([4]Estimadores!$D$7:$AB$38,MATCH(H$287,[4]Estimadores!$B$7:$B$38,0),MATCH($B314,[4]Estimadores!$D$6:$AB$6,0)),\"-\")","v":"-"},{"$f":"IFERROR(INDEX([4]Estimadores!$D$7:$AB$38,MATCH(I$287,[4]Estimadores!$B$7:$B$38,0),MATCH($B314,[4]Estimadores!$D$6:$AB$6,0)),\"-\")","v":"-"},{"$f":"IFERROR(INDEX([4]Estimadores!$D$7:$AB$38,MATCH(J$287,[4]Estimadores!$B$7:$B$38,0),MATCH($B314,[4]Estimadores!$D$6:$AB$6,0)),\"-\")","v":"-"},{"$f":"IFERROR(INDEX([4]Estimadores!$D$7:$AB$38,MATCH(K$287,[4]Estimadores!$B$7:$B$38,0),MATCH($B314,[4]Estimadores!$D$6:$AB$6,0)),\"-\")","v":"-"},{"$f":"IFERROR(INDEX([4]Estimadores!$D$7:$AB$38,MATCH(L$287,[4]Estimadores!$B$7:$B$38,0),MATCH($B314,[4]Estimadores!$D$6:$AB$6,0)),\"-\")","v":"-"},{"$f":"IFERROR(INDEX([4]Estimadores!$D$7:$AB$38,MATCH(M$287,[4]Estimadores!$B$7:$B$38,0),MATCH($B314,[4]Estimadores!$D$6:$AB$6,0)),\"-\")","v":"-"},{"$f":"IFERROR(INDEX([4]Estimadores!$D$7:$AB$38,MATCH(N$287,[4]Estimadores!$B$7:$B$38,0),MATCH($B314,[4]Estimadores!$D$6:$AB$6,0)),\"-\")","v":"-"},{"$f":"IFERROR(INDEX([4]Estimadores!$D$7:$AB$38,MATCH(O$287,[4]Estimadores!$B$7:$B$38,0),MATCH($B314,[4]Estimadores!$D$6:$AB$6,0)),\"-\")","v":"-"},{"$f":"IFERROR(INDEX([4]Estimadores!$D$7:$AB$38,MATCH(P$287,[4]Estimadores!$B$7:$B$38,0),MATCH($B314,[4]Estimadores!$D$6:$AB$6,0)),\"-\")","v":"-"},{"$f":"IFERROR(INDEX([4]Estimadores!$D$7:$AB$38,MATCH(Q$287,[4]Estimadores!$B$7:$B$38,0),MATCH($B314,[4]Estimadores!$D$6:$AB$6,0)),\"-\")","v":"-"},{"$f":"IFERROR(INDEX([4]Estimadores!$D$7:$AB$38,MATCH(R$287,[4]Estimadores!$B$7:$B$38,0),MATCH($B314,[4]Estimadores!$D$6:$AB$6,0)),\"-\")","v":"-"},{"$f":"IFERROR(INDEX([4]Estimadores!$D$7:$AB$38,MATCH(S$287,[4]Estimadores!$B$7:$B$38,0),MATCH($B314,[4]Estimadores!$D$6:$AB$6,0)),\"-\")","v":"-"},{"$f":"IFERROR(INDEX([4]Estimadores!$D$7:$AB$38,MATCH(T$287,[4]Estimadores!$B$7:$B$38,0),MATCH($B314,[4]Estimadores!$D$6:$AB$6,0)),\"-\")","v":"-"},{"$f":"IFERROR(INDEX([4]Estimadores!$D$7:$AB$38,MATCH(U$287,[4]Estimadores!$B$7:$B$38,0),MATCH($B314,[4]Estimadores!$D$6:$AB$6,0)),\"-\")","v":"-"},{"$f":"IFERROR(INDEX([4]Estimadores!$D$7:$AB$38,MATCH(V$287,[4]Estimadores!$B$7:$B$38,0),MATCH($B314,[4]Estimadores!$D$6:$AB$6,0)),\"-\")","v":"-"},{"$f":"IFERROR(INDEX([4]Estimadores!$D$7:$AB$38,MATCH(W$287,[4]Estimadores!$B$7:$B$38,0),MATCH($B314,[4]Estimadores!$D$6:$AB$6,0)),\"-\")","v":"-"},{"$f":"IFERROR(INDEX([4]Estimadores!$D$7:$AB$38,MATCH(X$287,[4]Estimadores!$B$7:$B$38,0),MATCH($B314,[4]Estimadores!$D$6:$AB$6,0)),\"-\")","v":"-"},{"$f":"IFERROR(INDEX([4]Estimadores!$D$7:$AB$38,MATCH(Y$287,[4]Estimadores!$B$7:$B$38,0),MATCH($B314,[4]Estimadores!$D$6:$AB$6,0)),\"-\")","v":"-"},{"$f":"IFERROR(INDEX([4]Estimadores!$D$7:$AB$38,MATCH(Z$287,[4]Estimadores!$B$7:$B$38,0),MATCH($B314,[4]Estimadores!$D$6:$AB$6,0)),\"-\")","v":"-"},{"$f":"IFERROR(INDEX([4]Estimadores!$D$7:$AB$38,MATCH(AA$287,[4]Estimadores!$B$7:$B$38,0),MATCH($B314,[4]Estimadores!$D$6:$AB$6,0)),\"-\")","v":"-"},{"$f":"IFERROR(INDEX([4]Estimadores!$D$7:$AB$38,MATCH(AB$287,[4]Estimadores!$B$7:$B$38,0),MATCH($B314,[4]Estimadores!$D$6:$AB$6,0)),\"-\")","v":"-"},{"$f":"IFERROR(INDEX([4]Estimadores!$D$7:$AB$38,MATCH(AC$287,[4]Estimadores!$B$7:$B$38,0),MATCH($B314,[4]Estimadores!$D$6:$AB$6,0)),\"-\")","v":"-"},{"$f":"IFERROR(INDEX([4]Estimadores!$D$7:$AB$38,MATCH(AD$287,[4]Estimadores!$B$7:$B$38,0),MATCH($B314,[4]Estimadores!$D$6:$AB$6,0)),\"-\")","v":"-"},{"$f":"IFERROR(INDEX([4]Estimadores!$D$7:$AB$38,MATCH(AE$287,[4]Estimadores!$B$7:$B$38,0),MATCH($B314,[4]Estimadores!$D$6:$AB$6,0)),\"-\")","v":"-"},{"$f":"IFERROR(INDEX([4]Estimadores!$D$7:$AB$38,MATCH(AF$287,[4]Estimadores!$B$7:$B$38,0),MATCH($B314,[4]Estimadores!$D$6:$AB$6,0)),\"-\")","v":"-"},{"$f":"IFERROR(INDEX([4]Estimadores!$D$7:$AB$38,MATCH(AG$287,[4]Estimadores!$B$7:$B$38,0),MATCH($B314,[4]Estimadores!$D$6:$AB$6,0)),\"-\")","v":"-"},{"$f":"IFERROR(INDEX([4]Estimadores!$D$7:$AB$38,MATCH(AH$287,[4]Estimadores!$B$7:$B$38,0),MATCH($B314,[4]Estimadores!$D$6:$AB$6,0)),\"-\")","v":"-"},{"$f":"IFERROR(INDEX([4]Estimadores!$D$7:$AB$38,MATCH(AI$287,[4]Estimadores!$B$7:$B$38,0),MATCH($B314,[4]Estimadores!$D$6:$AB$6,0)),\"-\")","v":"-"}]
[null,"MTD","MTD",{"$f":"IFERROR(INDEX([4]Estimadores!$D$7:$AB$38,MATCH(D$287,[4]Estimadores!$B$7:$B$38,0),MATCH($B315,[4]Estimadores!$D$6:$AB$6,0)),\"-\")","v":0.33411886904807808},{"$f":"IFERROR(INDEX([4]Estimadores!$D$7:$AB$38,MATCH(E$287,[4]Estimadores!$B$7:$B$38,0),MATCH($B315,[4]Estimadores!$D$6:$AB$6,0)),\"-\")","v":0.3340631572304017},{"$f":"IFERROR(INDEX([4]Estimadores!$D$7:$AB$38,MATCH(F$287,[4]Estimadores!$B$7:$B$38,0),MATCH($B315,[4]Estimadores!$D$6:$AB$6,0)),\"-\")","v":0.33181797372152},{"$f":"IFERROR(INDEX([4]Estimadores!$D$7:$AB$38,MATCH(G$287,[4]Estimadores!$B$7:$B$38,0),MATCH($B315,[4]Estimadores!$D$6:$AB$6,0)),\"-\")","v":0.67785318632220315},{"$f":"IFERROR(INDEX([4]Estimadores!$D$7:$AB$38,MATCH(H$287,[4]Estimadores!$B$7:$B$38,0),MATCH($B315,[4]Estimadores!$D$6:$AB$6,0)),\"-\")","v":0.83426433237482733},{"$f":"IFERROR(INDEX([4]Estimadores!$D$7:$AB$38,MATCH(I$287,[4]Estimadores!$B$7:$B$38,0),MATCH($B315,[4]Estimadores!$D$6:$AB$6,0)),\"-\")","v":0.84437732745792582},{"$f":"IFERROR(INDEX([4]Estimadores!$D$7:$AB$38,MATCH(J$287,[4]Estimadores!$B$7:$B$38,0),MATCH($B315,[4]Estimadores!$D$6:$AB$6,0)),\"-\")","v":0.8043847853426187},{"$f":"IFERROR(INDEX([4]Estimadores!$D$7:$AB$38,MATCH(K$287,[4]Estimadores!$B$7:$B$38,0),MATCH($B315,[4]Estimadores!$D$6:$AB$6,0)),\"-\")","v":0.98928652141947626},{"$f":"IFERROR(INDEX([4]Estimadores!$D$7:$AB$38,MATCH(L$287,[4]Estimadores!$B$7:$B$38,0),MATCH($B315,[4]Estimadores!$D$6:$AB$6,0)),\"-\")","v":0.98928652141947626},{"$f":"IFERROR(INDEX([4]Estimadores!$D$7:$AB$38,MATCH(M$287,[4]Estimadores!$B$7:$B$38,0),MATCH($B315,[4]Estimadores!$D$6:$AB$6,0)),\"-\")","v":0.98928652141947626},{"$f":"IFERROR(INDEX([4]Estimadores!$D$7:$AB$38,MATCH(N$287,[4]Estimadores!$B$7:$B$38,0),MATCH($B315,[4]Estimadores!$D$6:$AB$6,0)),\"-\")","v":0.98928652141947626},{"$f":"IFERROR(INDEX([4]Estimadores!$D$7:$AB$38,MATCH(O$287,[4]Estimadores!$B$7:$B$38,0),MATCH($B315,[4]Estimadores!$D$6:$AB$6,0)),\"-\")","v":0.98928652141947626},{"$f":"IFERROR(INDEX([4]Estimadores!$D$7:$AB$38,MATCH(P$287,[4]Estimadores!$B$7:$B$38,0),MATCH($B315,[4]Estimadores!$D$6:$AB$6,0)),\"-\")","v":0.98928652141947626},{"$f":"IFERROR(INDEX([4]Estimadores!$D$7:$AB$38,MATCH(Q$287,[4]Estimadores!$B$7:$B$38,0),MATCH($B315,[4]Estimadores!$D$6:$AB$6,0)),\"-\")","v":0.72481352309483293},{"$f":"IFERROR(INDEX([4]Estimadores!$D$7:$AB$38,MATCH(R$287,[4]Estimadores!$B$7:$B$38,0),MATCH($B315,[4]Estimadores!$D$6:$AB$6,0)),\"-\")","v":0.79798145283644339},{"$f":"IFERROR(INDEX([4]Estimadores!$D$7:$AB$38,MATCH(S$287,[4]Estimadores!$B$7:$B$38,0),MATCH($B315,[4]Estimadores!$D$6:$AB$6,0)),\"-\")","v":0.79798145283644339},{"$f":"IFERROR(INDEX([4]Estimadores!$D$7:$AB$38,MATCH(T$287,[4]Estimadores!$B$7:$B$38,0),MATCH($B315,[4]Estimadores!$D$6:$AB$6,0)),\"-\")","v":0.82532645931943471},{"$f":"IFERROR(INDEX([4]Estimadores!$D$7:$AB$38,MATCH(U$287,[4]Estimadores!$B$7:$B$38,0),MATCH($B315,[4]Estimadores!$D$6:$AB$6,0)),\"-\")","v":0.82532645931943471},{"$f":"IFERROR(INDEX([4]Estimadores!$D$7:$AB$38,MATCH(V$287,[4]Estimadores!$B$7:$B$38,0),MATCH($B315,[4]Estimadores!$D$6:$AB$6,0)),\"-\")","v":0.82532645931943471},{"$f":"IFERROR(INDEX([4]Estimadores!$D$7:$AB$38,MATCH(W$287,[4]Estimadores!$B$7:$B$38,0),MATCH($B315,[4]Estimadores!$D$6:$AB$6,0)),\"-\")","v":"-"},{"$f":"IFERROR(INDEX([4]Estimadores!$D$7:$AB$38,MATCH(X$287,[4]Estimadores!$B$7:$B$38,0),MATCH($B315,[4]Estimadores!$D$6:$AB$6,0)),\"-\")","v":0.98928652141947626},{"$f":"IFERROR(INDEX([4]Estimadores!$D$7:$AB$38,MATCH(Y$287,[4]Estimadores!$B$7:$B$38,0),MATCH($B315,[4]Estimadores!$D$6:$AB$6,0)),\"-\")","v":0.98928652141947626},{"$f":"IFERROR(INDEX([4]Estimadores!$D$7:$AB$38,MATCH(Z$287,[4]Estimadores!$B$7:$B$38,0),MATCH($B315,[4]Estimadores!$D$6:$AB$6,0)),\"-\")","v":0.98928652141947626},{"$f":"IFERROR(INDEX([4]Estimadores!$D$7:$AB$38,MATCH(AA$287,[4]Estimadores!$B$7:$B$38,0),MATCH($B315,[4]Estimadores!$D$6:$AB$6,0)),\"-\")","v":0.65802989305211657},{"$f":"IFERROR(INDEX([4]Estimadores!$D$7:$AB$38,MATCH(AB$287,[4]Estimadores!$B$7:$B$38,0),MATCH($B315,[4]Estimadores!$D$6:$AB$6,0)),\"-\")","v":0.72445619919654169},{"$f":"IFERROR(INDEX([4]Estimadores!$D$7:$AB$38,MATCH(AC$287,[4]Estimadores!$B$7:$B$38,0),MATCH($B315,[4]Estimadores!$D$6:$AB$6,0)),\"-\")","v":0.72445619919654169},{"$f":"IFERROR(INDEX([4]Estimadores!$D$7:$AB$38,MATCH(AD$287,[4]Estimadores!$B$7:$B$38,0),MATCH($B315,[4]Estimadores!$D$6:$AB$6,0)),\"-\")","v":0.83426433237482733},{"$f":"IFERROR(INDEX([4]Estimadores!$D$7:$AB$38,MATCH(AE$287,[4]Estimadores!$B$7:$B$38,0),MATCH($B315,[4]Estimadores!$D$6:$AB$6,0)),\"-\")","v":0.75739600865307954},{"$f":"IFERROR(INDEX([4]Estimadores!$D$7:$AB$38,MATCH(AF$287,[4]Estimadores!$B$7:$B$38,0),MATCH($B315,[4]Estimadores!$D$6:$AB$6,0)),\"-\")","v":0.95123086797736489},{"$f":"IFERROR(INDEX([4]Estimadores!$D$7:$AB$38,MATCH(AG$287,[4]Estimadores!$B$7:$B$38,0),MATCH($B315,[4]Estimadores!$D$6:$AB$6,0)),\"-\")","v":0.65254779527964901},{"$f":"IFERROR(INDEX([4]Estimadores!$D$7:$AB$38,MATCH(AH$287,[4]Estimadores!$B$7:$B$38,0),MATCH($B315,[4]Estimadores!$D$6:$AB$6,0)),\"-\")","v":1},{"$f":"IFERROR(INDEX([4]Estimadores!$D$7:$AB$38,MATCH(AI$287,[4]Estimadores!$B$7:$B$38,0),MATCH($B315,[4]Estimadores!$D$6:$AB$6,0)),\"-\")","v":1.1014902677642138}]
[null,"MTH","MTH",{"$f":"IFERROR(INDEX([4]Estimadores!$D$7:$AB$38,MATCH(D$287,[4]Estimadores!$B$7:$B$38,0),MATCH($B316,[4]Estimadores!$D$6:$AB$6,0)),\"-\")","v":0.28681278478544342},{"$f":"IFERROR(INDEX([4]Estimadores!$D$7:$AB$38,MATCH(E$287,[4]Estimadores!$B$7:$B$38,0),MATCH($B316,[4]Estimadores!$D$6:$AB$6,0)),\"-\")","v":0.36192478827126801},{"$f":"IFERROR(INDEX([4]Estimadores!$D$7:$AB$38,MATCH(F$287,[4]Estimadores!$B$7:$B$38,0),MATCH($B316,[4]Estimadores!$D$6:$AB$6,0)),\"-\")","v":0.35126242694328896},{"$f":"IFERROR(INDEX([4]Estimadores!$D$7:$AB$38,MATCH(G$287,[4]Estimadores!$B$7:$B$38,0),MATCH($B316,[4]Estimadores!$D$6:$AB$6,0)),\"-\")","v":0.73351003737160747},{"$f":"IFERROR(INDEX([4]Estimadores!$D$7:$AB$38,MATCH(H$287,[4]Estimadores!$B$7:$B$38,0),MATCH($B316,[4]Estimadores!$D$6:$AB$6,0)),\"-\")","v":0.85095868657954132},{"$f":"IFERROR(INDEX([4]Estimadores!$D$7:$AB$38,MATCH(I$287,[4]Estimadores!$B$7:$B$38,0),MATCH($B316,[4]Estimadores!$D$6:$AB$6,0)),\"-\")","v":0.87675941020318737},{"$f":"IFERROR(INDEX([4]Estimadores!$D$7:$AB$38,MATCH(J$287,[4]Estimadores!$B$7:$B$38,0),MATCH($B316,[4]Estimadores!$D$6:$AB$6,0)),\"-\")","v":0.87301445553818424},{"$f":"IFERROR(INDEX([4]Estimadores!$D$7:$AB$38,MATCH(K$287,[4]Estimadores!$B$7:$B$38,0),MATCH($B316,[4]Estimadores!$D$6:$AB$6,0)),\"-\")","v":0.91004634531007855},{"$f":"IFERROR(INDEX([4]Estimadores!$D$7:$AB$38,MATCH(L$287,[4]Estimadores!$B$7:$B$38,0),MATCH($B316,[4]Estimadores!$D$6:$AB$6,0)),\"-\")","v":0.91004634531007855},{"$f":"IFERROR(INDEX([4]Estimadores!$D$7:$AB$38,MATCH(M$287,[4]Estimadores!$B$7:$B$38,0),MATCH($B316,[4]Estimadores!$D$6:$AB$6,0)),\"-\")","v":0.91004634531007855},{"$f":"IFERROR(INDEX([4]Estimadores!$D$7:$AB$38,MATCH(N$287,[4]Estimadores!$B$7:$B$38,0),MATCH($B316,[4]Estimadores!$D$6:$AB$6,0)),\"-\")","v":0.93485848532333515},{"$f":"IFERROR(INDEX([4]Estimadores!$D$7:$AB$38,MATCH(O$287,[4]Estimadores!$B$7:$B$38,0),MATCH($B316,[4]Estimadores!$D$6:$AB$6,0)),\"-\")","v":0.93485848532333515},{"$f":"IFERROR(INDEX([4]Estimadores!$D$7:$AB$38,MATCH(P$287,[4]Estimadores!$B$7:$B$38,0),MATCH($B316,[4]Estimadores!$D$6:$AB$6,0)),\"-\")","v":0.93485848532333515},{"$f":"IFERROR(INDEX([4]Estimadores!$D$7:$AB$38,MATCH(Q$287,[4]Estimadores!$B$7:$B$38,0),MATCH($B316,[4]Estimadores!$D$6:$AB$6,0)),\"-\")","v":0.74084128117969039},{"$f":"IFERROR(INDEX([4]Estimadores!$D$7:$AB$38,MATCH(R$287,[4]Estimadores!$B$7:$B$38,0),MATCH($B316,[4]Estimadores!$D$6:$AB$6,0)),\"-\")","v":1},{"$f":"IFERROR(INDEX([4]Estimadores!$D$7:$AB$38,MATCH(S$287,[4]Estimadores!$B$7:$B$38,0),MATCH($B316,[4]Estimadores!$D$6:$AB$6,0)),\"-\")","v":1},{"$f":"IFERROR(INDEX([4]Estimadores!$D$7:$AB$38,MATCH(T$287,[4]Estimadores!$B$7:$B$38,0),MATCH($B316,[4]Estimadores!$D$6:$AB$6,0)),\"-\")","v":0.77441184273157615},{"$f":"IFERROR(INDEX([4]Estimadores!$D$7:$AB$38,MATCH(U$287,[4]Estimadores!$B$7:$B$38,0),MATCH($B316,[4]Estimadores!$D$6:$AB$6,0)),\"-\")","v":0.77441184273157615},{"$f":"IFERROR(INDEX([4]Estimadores!$D$7:$AB$38,MATCH(V$287,[4]Estimadores!$B$7:$B$38,0),MATCH($B316,[4]Estimadores!$D$6:$AB$6,0)),\"-\")","v":0.77441184273157615},{"$f":"IFERROR(INDEX([4]Estimadores!$D$7:$AB$38,MATCH(W$287,[4]Estimadores!$B$7:$B$38,0),MATCH($B316,[4]Estimadores!$D$6:$AB$6,0)),\"-\")","v":"-"},{"$f":"IFERROR(INDEX([4]Estimadores!$D$7:$AB$38,MATCH(X$287,[4]Estimadores!$B$7:$B$38,0),MATCH($B316,[4]Estimadores!$D$6:$AB$6,0)),\"-\")","v":0.91004634531007855},{"$f":"IFERROR(INDEX([4]Estimadores!$D$7:$AB$38,MATCH(Y$287,[4]Estimadores!$B$7:$B$38,0),MATCH($B316,[4]Estimadores!$D$6:$AB$6,0)),\"-\")","v":0.91004634531007855},{"$f":"IFERROR(INDEX([4]Estimadores!$D$7:$AB$38,MATCH(Z$287,[4]Estimadores!$B$7:$B$38,0),MATCH($B316,[4]Estimadores!$D$6:$AB$6,0)),\"-\")","v":0.91004634531007855},{"$f":"IFERROR(INDEX([4]Estimadores!$D$7:$AB$38,MATCH(AA$287,[4]Estimadores!$B$7:$B$38,0),MATCH($B316,[4]Estimadores!$D$6:$AB$6,0)),\"-\")","v":0.74084128117969039},{"$f":"IFERROR(INDEX([4]Estimadores!$D$7:$AB$38,MATCH(AB$287,[4]Estimadores!$B$7:$B$38,0),MATCH($B316,[4]Estimadores!$D$6:$AB$6,0)),\"-\")","v":1},{"$f":"IFERROR(INDEX([4]Estimadores!$D$7:$AB$38,MATCH(AC$287,[4]Estimadores!$B$7:$B$38,0),MATCH($B316,[4]Estimadores!$D$6:$AB$6,0)),\"-\")","v":1},{"$f":"IFERROR(INDEX([4]Estimadores!$D$7:$AB$38,MATCH(AD$287,[4]Estimadores!$B$7:$B$38,0),MATCH($B316,[4]Estimadores!$D$6:$AB$6,0)),\"-\")","v":0.82837333659514667},{"$f":"IFERROR(INDEX([4]Estimadores!$D$7:$AB$38,MATCH(AE$287,[4]Estimadores!$B$7:$B$38,0),MATCH($B316,[4]Estimadores!$D$6:$AB$6,0)),\"-\")","v":0.85095868657954132},{"$f":"IFERROR(INDEX([4]Estimadores!$D$7:$AB$38,MATCH(AF$287,[4]Estimadores!$B$7:$B$38,0),MATCH($B316,[4]Estimadores!$D$6:$AB$6,0)),\"-\")","v":0.9076872230124805},{"$f":"IFERROR(INDEX([4]Estimadores!$D$7:$AB$38,MATCH(AG$287,[4]Estimadores!$B$7:$B$38,0),MATCH($B316,[4]Estimadores!$D$6:$AB$6,0)),\"-\")","v":0.68660809991153904},{"$f":"IFERROR(INDEX([4]Estimadores!$D$7:$AB$38,MATCH(AH$287,[4]Estimadores!$B$7:$B$38,0),MATCH($B316,[4]Estimadores!$D$6:$AB$6,0)),\"-\")","v":1.0272646993651762},{"$f":"IFERROR(INDEX([4]Estimadores!$D$7:$AB$38,MATCH(AI$287,[4]Estimadores!$B$7:$B$38,0),MATCH($B316,[4]Estimadores!$D$6:$AB$6,0)),\"-\")","v":1}]
[null,null,"AMTD",{"$f":"IFERROR(INDEX([4]Estimadores!$D$7:$AB$38,MATCH(D$287,[4]Estimadores!$B$7:$B$38,0),MATCH($B317,[4]Estimadores!$D$6:$AB$6,0)),\"-\")","v":"-"},{"$f":"IFERROR(INDEX([4]Estimadores!$D$7:$AB$38,MATCH(E$287,[4]Estimadores!$B$7:$B$38,0),MATCH($B317,[4]Estimadores!$D$6:$AB$6,0)),\"-\")","v":"-"},{"$f":"IFERROR(INDEX([4]Estimadores!$D$7:$AB$38,MATCH(F$287,[4]Estimadores!$B$7:$B$38,0),MATCH($B317,[4]Estimadores!$D$6:$AB$6,0)),\"-\")","v":"-"},{"$f":"IFERROR(INDEX([4]Estimadores!$D$7:$AB$38,MATCH(G$287,[4]Estimadores!$B$7:$B$38,0),MATCH($B317,[4]Estimadores!$D$6:$AB$6,0)),\"-\")","v":"-"},{"$f":"IFERROR(INDEX([4]Estimadores!$D$7:$AB$38,MATCH(H$287,[4]Estimadores!$B$7:$B$38,0),MATCH($B317,[4]Estimadores!$D$6:$AB$6,0)),\"-\")","v":"-"},{"$f":"IFERROR(INDEX([4]Estimadores!$D$7:$AB$38,MATCH(I$287,[4]Estimadores!$B$7:$B$38,0),MATCH($B317,[4]Estimadores!$D$6:$AB$6,0)),\"-\")","v":"-"},{"$f":"IFERROR(INDEX([4]Estimadores!$D$7:$AB$38,MATCH(J$287,[4]Estimadores!$B$7:$B$38,0),MATCH($B317,[4]Estimadores!$D$6:$AB$6,0)),\"-\")","v":"-"},{"$f":"IFERROR(INDEX([4]Estimadores!$D$7:$AB$38,MATCH(K$287,[4]Estimadores!$B$7:$B$38,0),MATCH($B317,[4]Estimadores!$D$6:$AB$6,0)),\"-\")","v":"-"},{"$f":"IFERROR(INDEX([4]Estimadores!$D$7:$AB$38,MATCH(L$287,[4]Estimadores!$B$7:$B$38,0),MATCH($B317,[4]Estimadores!$D$6:$AB$6,0)),\"-\")","v":"-"},{"$f":"IFERROR(INDEX([4]Estimadores!$D$7:$AB$38,MATCH(M$287,[4]Estimadores!$B$7:$B$38,0),MATCH($B317,[4]Estimadores!$D$6:$AB$6,0)),\"-\")","v":"-"},{"$f":"IFERROR(INDEX([4]Estimadores!$D$7:$AB$38,MATCH(N$287,[4]Estimadores!$B$7:$B$38,0),MATCH($B317,[4]Estimadores!$D$6:$AB$6,0)),\"-\")","v":"-"},{"$f":"IFERROR(INDEX([4]Estimadores!$D$7:$AB$38,MATCH(O$287,[4]Estimadores!$B$7:$B$38,0),MATCH($B317,[4]Estimadores!$D$6:$AB$6,0)),\"-\")","v":"-"},{"$f":"IFERROR(INDEX([4]Estimadores!$D$7:$AB$38,MATCH(P$287,[4]Estimadores!$B$7:$B$38,0),MATCH($B317,[4]Estimadores!$D$6:$AB$6,0)),\"-\")","v":"-"},{"$f":"IFERROR(INDEX([4]Estimadores!$D$7:$AB$38,MATCH(Q$287,[4]Estimadores!$B$7:$B$38,0),MATCH($B317,[4]Estimadores!$D$6:$AB$6,0)),\"-\")","v":"-"},{"$f":"IFERROR(INDEX([4]Estimadores!$D$7:$AB$38,MATCH(R$287,[4]Estimadores!$B$7:$B$38,0),MATCH($B317,[4]Estimadores!$D$6:$AB$6,0)),\"-\")","v":"-"},{"$f":"IFERROR(INDEX([4]Estimadores!$D$7:$AB$38,MATCH(S$287,[4]Estimadores!$B$7:$B$38,0),MATCH($B317,[4]Estimadores!$D$6:$AB$6,0)),\"-\")","v":"-"},{"$f":"IFERROR(INDEX([4]Estimadores!$D$7:$AB$38,MATCH(T$287,[4]Estimadores!$B$7:$B$38,0),MATCH($B317,[4]Estimadores!$D$6:$AB$6,0)),\"-\")","v":"-"},{"$f":"IFERROR(INDEX([4]Estimadores!$D$7:$AB$38,MATCH(U$287,[4]Estimadores!$B$7:$B$38,0),MATCH($B317,[4]Estimadores!$D$6:$AB$6,0)),\"-\")","v":"-"},{"$f":"IFERROR(INDEX([4]Estimadores!$D$7:$AB$38,MATCH(V$287,[4]Estimadores!$B$7:$B$38,0),MATCH($B317,[4]Estimadores!$D$6:$AB$6,0)),\"-\")","v":"-"},{"$f":"IFERROR(INDEX([4]Estimadores!$D$7:$AB$38,MATCH(W$287,[4]Estimadores!$B$7:$B$38,0),MATCH($B317,[4]Estimadores!$D$6:$AB$6,0)),\"-\")","v":"-"},{"$f":"IFERROR(INDEX([4]Estimadores!$D$7:$AB$38,MATCH(X$287,[4]Estimadores!$B$7:$B$38,0),MATCH($B317,[4]Estimadores!$D$6:$AB$6,0)),\"-\")","v":"-"},{"$f":"IFERROR(INDEX([4]Estimadores!$D$7:$AB$38,MATCH(Y$287,[4]Estimadores!$B$7:$B$38,0),MATCH($B317,[4]Estimadores!$D$6:$AB$6,0)),\"-\")","v":"-"},{"$f":"IFERROR(INDEX([4]Estimadores!$D$7:$AB$38,MATCH(Z$287,[4]Estimadores!$B$7:$B$38,0),MATCH($B317,[4]Estimadores!$D$6:$AB$6,0)),\"-\")","v":"-"},{"$f":"IFERROR(INDEX([4]Estimadores!$D$7:$AB$38,MATCH(AA$287,[4]Estimadores!$B$7:$B$38,0),MATCH($B317,[4]Estimadores!$D$6:$AB$6,0)),\"-\")","v":"-"},{"$f":"IFERROR(INDEX([4]Estimadores!$D$7:$AB$38,MATCH(AB$287,[4]Estimadores!$B$7:$B$38,0),MATCH($B317,[4]Estimadores!$D$6:$AB$6,0)),\"-\")","v":"-"},{"$f":"IFERROR(INDEX([4]Estimadores!$D$7:$AB$38,MATCH(AC$287,[4]Estimadores!$B$7:$B$38,0),MATCH($B317,[4]Estimadores!$D$6:$AB$6,0)),\"-\")","v":"-"},{"$f":"IFERROR(INDEX([4]Estimadores!$D$7:$AB$38,MATCH(AD$287,[4]Estimadores!$B$7:$B$38,0),MATCH($B317,[4]Estimadores!$D$6:$AB$6,0)),\"-\")","v":"-"},{"$f":"IFERROR(INDEX([4]Estimadores!$D$7:$AB$38,MATCH(AE$287,[4]Estimadores!$B$7:$B$38,0),MATCH($B317,[4]Estimadores!$D$6:$AB$6,0)),\"-\")","v":"-"},{"$f":"IFERROR(INDEX([4]Estimadores!$D$7:$AB$38,MATCH(AF$287,[4]Estimadores!$B$7:$B$38,0),MATCH($B317,[4]Estimadores!$D$6:$AB$6,0)),\"-\")","v":"-"},{"$f":"IFERROR(INDEX([4]Estimadores!$D$7:$AB$38,MATCH(AG$287,[4]Estimadores!$B$7:$B$38,0),MATCH($B317,[4]Estimadores!$D$6:$AB$6,0)),\"-\")","v":"-"},{"$f":"IFERROR(INDEX([4]Estimadores!$D$7:$AB$38,MATCH(AH$287,[4]Estimadores!$B$7:$B$38,0),MATCH($B317,[4]Estimadores!$D$6:$AB$6,0)),\"-\")","v":"-"},{"$f":"IFERROR(INDEX([4]Estimadores!$D$7:$AB$38,MATCH(AI$287,[4]Estimadores!$B$7:$B$38,0),MATCH($B317,[4]Estimadores!$D$6:$AB$6,0)),\"-\")","v":"-"}]
[null,null,"",{"$f":"IFERROR(INDEX([4]Estimadores!$D$7:$AB$38,MATCH(D$287,[4]Estimadores!$B$7:$B$38,0),MATCH($B318,[4]Estimadores!$D$6:$AB$6,0)),\"-\")","v":"-"},{"$f":"IFERROR(INDEX([4]Estimadores!$D$7:$AB$38,MATCH(E$287,[4]Estimadores!$B$7:$B$38,0),MATCH($B318,[4]Estimadores!$D$6:$AB$6,0)),\"-\")","v":"-"},{"$f":"IFERROR(INDEX([4]Estimadores!$D$7:$AB$38,MATCH(F$287,[4]Estimadores!$B$7:$B$38,0),MATCH($B318,[4]Estimadores!$D$6:$AB$6,0)),\"-\")","v":"-"},{"$f":"IFERROR(INDEX([4]Estimadores!$D$7:$AB$38,MATCH(G$287,[4]Estimadores!$B$7:$B$38,0),MATCH($B318,[4]Estimadores!$D$6:$AB$6,0)),\"-\")","v":"-"},{"$f":"IFERROR(INDEX([4]Estimadores!$D$7:$AB$38,MATCH(H$287,[4]Estimadores!$B$7:$B$38,0),MATCH($B318,[4]Estimadores!$D$6:$AB$6,0)),\"-\")","v":"-"},{"$f":"IFERROR(INDEX([4]Estimadores!$D$7:$AB$38,MATCH(I$287,[4]Estimadores!$B$7:$B$38,0),MATCH($B318,[4]Estimadores!$D$6:$AB$6,0)),\"-\")","v":"-"},{"$f":"IFERROR(INDEX([4]Estimadores!$D$7:$AB$38,MATCH(J$287,[4]Estimadores!$B$7:$B$38,0),MATCH($B318,[4]Estimadores!$D$6:$AB$6,0)),\"-\")","v":"-"},{"$f":"IFERROR(INDEX([4]Estimadores!$D$7:$AB$38,MATCH(K$287,[4]Estimadores!$B$7:$B$38,0),MATCH($B318,[4]Estimadores!$D$6:$AB$6,0)),\"-\")","v":"-"},{"$f":"IFERROR(INDEX([4]Estimadores!$D$7:$AB$38,MATCH(L$287,[4]Estimadores!$B$7:$B$38,0),MATCH($B318,[4]Estimadores!$D$6:$AB$6,0)),\"-\")","v":"-"},{"$f":"IFERROR(INDEX([4]Estimadores!$D$7:$AB$38,MATCH(M$287,[4]Estimadores!$B$7:$B$38,0),MATCH($B318,[4]Estimadores!$D$6:$AB$6,0)),\"-\")","v":"-"},{"$f":"IFERROR(INDEX([4]Estimadores!$D$7:$AB$38,MATCH(N$287,[4]Estimadores!$B$7:$B$38,0),MATCH($B318,[4]Estimadores!$D$6:$AB$6,0)),\"-\")","v":"-"},{"$f":"IFERROR(INDEX([4]Estimadores!$D$7:$AB$38,MATCH(O$287,[4]Estimadores!$B$7:$B$38,0),MATCH($B318,[4]Estimadores!$D$6:$AB$6,0)),\"-\")","v":"-"},{"$f":"IFERROR(INDEX([4]Estimadores!$D$7:$AB$38,MATCH(P$287,[4]Estimadores!$B$7:$B$38,0),MATCH($B318,[4]Estimadores!$D$6:$AB$6,0)),\"-\")","v":"-"},{"$f":"IFERROR(INDEX([4]Estimadores!$D$7:$AB$38,MATCH(Q$287,[4]Estimadores!$B$7:$B$38,0),MATCH($B318,[4]Estimadores!$D$6:$AB$6,0)),\"-\")","v":"-"},{"$f":"IFERROR(INDEX([4]Estimadores!$D$7:$AB$38,MATCH(R$287,[4]Estimadores!$B$7:$B$38,0),MATCH($B318,[4]Estimadores!$D$6:$AB$6,0)),\"-\")","v":"-"},{"$f":"IFERROR(INDEX([4]Estimadores!$D$7:$AB$38,MATCH(S$287,[4]Estimadores!$B$7:$B$38,0),MATCH($B318,[4]Estimadores!$D$6:$AB$6,0)),\"-\")","v":"-"},{"$f":"IFERROR(INDEX([4]Estimadores!$D$7:$AB$38,MATCH(T$287,[4]Estimadores!$B$7:$B$38,0),MATCH($B318,[4]Estimadores!$D$6:$AB$6,0)),\"-\")","v":"-"},{"$f":"IFERROR(INDEX([4]Estimadores!$D$7:$AB$38,MATCH(U$287,[4]Estimadores!$B$7:$B$38,0),MATCH($B318,[4]Estimadores!$D$6:$AB$6,0)),\"-\")","v":"-"},{"$f":"IFERROR(INDEX([4]Estimadores!$D$7:$AB$38,MATCH(V$287,[4]Estimadores!$B$7:$B$38,0),MATCH($B318,[4]Estimadores!$D$6:$AB$6,0)),\"-\")","v":"-"},{"$f":"IFERROR(INDEX([4]Estimadores!$D$7:$AB$38,MATCH(W$287,[4]Estimadores!$B$7:$B$38,0),MATCH($B318,[4]Estimadores!$D$6:$AB$6,0)),\"-\")","v":"-"},{"$f":"IFERROR(INDEX([4]Estimadores!$D$7:$AB$38,MATCH(X$287,[4]Estimadores!$B$7:$B$38,0),MATCH($B318,[4]Estimadores!$D$6:$AB$6,0)),\"-\")","v":"-"},{"$f":"IFERROR(INDEX([4]Estimadores!$D$7:$AB$38,MATCH(Y$287,[4]Estimadores!$B$7:$B$38,0),MATCH($B318,[4]Estimadores!$D$6:$AB$6,0)),\"-\")","v":"-"},{"$f":"IFERROR(INDEX([4]Estimadores!$D$7:$AB$38,MATCH(Z$287,[4]Estimadores!$B$7:$B$38,0),MATCH($B318,[4]Estimadores!$D$6:$AB$6,0)),\"-\")","v":"-"},{"$f":"IFERROR(INDEX([4]Estimadores!$D$7:$AB$38,MATCH(AA$287,[4]Estimadores!$B$7:$B$38,0),MATCH($B318,[4]Estimadores!$D$6:$AB$6,0)),\"-\")","v":"-"},{"$f":"IFERROR(INDEX([4]Estimadores!$D$7:$AB$38,MATCH(AB$287,[4]Estimadores!$B$7:$B$38,0),MATCH($B318,[4]Estimadores!$D$6:$AB$6,0)),\"-\")","v":"-"},{"$f":"IFERROR(INDEX([4]Estimadores!$D$7:$AB$38,MATCH(AC$287,[4]Estimadores!$B$7:$B$38,0),MATCH($B318,[4]Estimadores!$D$6:$AB$6,0)),\"-\")","v":"-"},{"$f":"IFERROR(INDEX([4]Estimadores!$D$7:$AB$38,MATCH(AD$287,[4]Estimadores!$B$7:$B$38,0),MATCH($B318,[4]Estimadores!$D$6:$AB$6,0)),\"-\")","v":"-"},{"$f":"IFERROR(INDEX([4]Estimadores!$D$7:$AB$38,MATCH(AE$287,[4]Estimadores!$B$7:$B$38,0),MATCH($B318,[4]Estimadores!$D$6:$AB$6,0)),\"-\")","v":"-"},{"$f":"IFERROR(INDEX([4]Estimadores!$D$7:$AB$38,MATCH(AF$287,[4]Estimadores!$B$7:$B$38,0),MATCH($B318,[4]Estimadores!$D$6:$AB$6,0)),\"-\")","v":"-"},{"$f":"IFERROR(INDEX([4]Estimadores!$D$7:$AB$38,MATCH(AG$287,[4]Estimadores!$B$7:$B$38,0),MATCH($B318,[4]Estimadores!$D$6:$AB$6,0)),\"-\")","v":"-"},{"$f":"IFERROR(INDEX([4]Estimadores!$D$7:$AB$38,MATCH(AH$287,[4]Estimadores!$B$7:$B$38,0),MATCH($B318,[4]Estimadores!$D$6:$AB$6,0)),\"-\")","v":"-"},{"$f":"IFERROR(INDEX([4]Estimadores!$D$7:$AB$38,MATCH(AI$287,[4]Estimadores!$B$7:$B$38,0),MATCH($B318,[4]Estimadores!$D$6:$AB$6,0)),\"-\")","v":"-"}]
[null,null,"",{"$f":"IFERROR(INDEX([4]Estimadores!$D$7:$AB$38,MATCH(D$287,[4]Estimadores!$B$7:$B$38,0),MATCH($B319,[4]Estimadores!$D$6:$AB$6,0)),\"-\")","v":"-"},{"$f":"IFERROR(INDEX([4]Estimadores!$D$7:$AB$38,MATCH(E$287,[4]Estimadores!$B$7:$B$38,0),MATCH($B319,[4]Estimadores!$D$6:$AB$6,0)),\"-\")","v":"-"},{"$f":"IFERROR(INDEX([4]Estimadores!$D$7:$AB$38,MATCH(F$287,[4]Estimadores!$B$7:$B$38,0),MATCH($B319,[4]Estimadores!$D$6:$AB$6,0)),\"-\")","v":"-"},{"$f":"IFERROR(INDEX([4]Estimadores!$D$7:$AB$38,MATCH(G$287,[4]Estimadores!$B$7:$B$38,0),MATCH($B319,[4]Estimadores!$D$6:$AB$6,0)),\"-\")","v":"-"},{"$f":"IFERROR(INDEX([4]Estimadores!$D$7:$AB$38,MATCH(H$287,[4]Estimadores!$B$7:$B$38,0),MATCH($B319,[4]Estimadores!$D$6:$AB$6,0)),\"-\")","v":"-"},{"$f":"IFERROR(INDEX([4]Estimadores!$D$7:$AB$38,MATCH(I$287,[4]Estimadores!$B$7:$B$38,0),MATCH($B319,[4]Estimadores!$D$6:$AB$6,0)),\"-\")","v":"-"},{"$f":"IFERROR(INDEX([4]Estimadores!$D$7:$AB$38,MATCH(J$287,[4]Estimadores!$B$7:$B$38,0),MATCH($B319,[4]Estimadores!$D$6:$AB$6,0)),\"-\")","v":"-"},{"$f":"IFERROR(INDEX([4]Estimadores!$D$7:$AB$38,MATCH(K$287,[4]Estimadores!$B$7:$B$38,0),MATCH($B319,[4]Estimadores!$D$6:$AB$6,0)),\"-\")","v":"-"},{"$f":"IFERROR(INDEX([4]Estimadores!$D$7:$AB$38,MATCH(L$287,[4]Estimadores!$B$7:$B$38,0),MATCH($B319,[4]Estimadores!$D$6:$AB$6,0)),\"-\")","v":"-"},{"$f":"IFERROR(INDEX([4]Estimadores!$D$7:$AB$38,MATCH(M$287,[4]Estimadores!$B$7:$B$38,0),MATCH($B319,[4]Estimadores!$D$6:$AB$6,0)),\"-\")","v":"-"},{"$f":"IFERROR(INDEX([4]Estimadores!$D$7:$AB$38,MATCH(N$287,[4]Estimadores!$B$7:$B$38,0),MATCH($B319,[4]Estimadores!$D$6:$AB$6,0)),\"-\")","v":"-"},{"$f":"IFERROR(INDEX([4]Estimadores!$D$7:$AB$38,MATCH(O$287,[4]Estimadores!$B$7:$B$38,0),MATCH($B319,[4]Estimadores!$D$6:$AB$6,0)),\"-\")","v":"-"},{"$f":"IFERROR(INDEX([4]Estimadores!$D$7:$AB$38,MATCH(P$287,[4]Estimadores!$B$7:$B$38,0),MATCH($B319,[4]Estimadores!$D$6:$AB$6,0)),\"-\")","v":"-"},{"$f":"IFERROR(INDEX([4]Estimadores!$D$7:$AB$38,MATCH(Q$287,[4]Estimadores!$B$7:$B$38,0),MATCH($B319,[4]Estimadores!$D$6:$AB$6,0)),\"-\")","v":"-"},{"$f":"IFERROR(INDEX([4]Estimadores!$D$7:$AB$38,MATCH(R$287,[4]Estimadores!$B$7:$B$38,0),MATCH($B319,[4]Estimadores!$D$6:$AB$6,0)),\"-\")","v":"-"},{"$f":"IFERROR(INDEX([4]Estimadores!$D$7:$AB$38,MATCH(S$287,[4]Estimadores!$B$7:$B$38,0),MATCH($B319,[4]Estimadores!$D$6:$AB$6,0)),\"-\")","v":"-"},{"$f":"IFERROR(INDEX([4]Estimadores!$D$7:$AB$38,MATCH(T$287,[4]Estimadores!$B$7:$B$38,0),MATCH($B319,[4]Estimadores!$D$6:$AB$6,0)),\"-\")","v":"-"},{"$f":"IFERROR(INDEX([4]Estimadores!$D$7:$AB$38,MATCH(U$287,[4]Estimadores!$B$7:$B$38,0),MATCH($B319,[4]Estimadores!$D$6:$AB$6,0)),\"-\")","v":"-"},{"$f":"IFERROR(INDEX([4]Estimadores!$D$7:$AB$38,MATCH(V$287,[4]Estimadores!$B$7:$B$38,0),MATCH($B319,[4]Estimadores!$D$6:$AB$6,0)),\"-\")","v":"-"},{"$f":"IFERROR(INDEX([4]Estimadores!$D$7:$AB$38,MATCH(W$287,[4]Estimadores!$B$7:$B$38,0),MATCH($B319,[4]Estimadores!$D$6:$AB$6,0)),\"-\")","v":"-"},{"$f":"IFERROR(INDEX([4]Estimadores!$D$7:$AB$38,MATCH(X$287,[4]Estimadores!$B$7:$B$38,0),MATCH($B319,[4]Estimadores!$D$6:$AB$6,0)),\"-\")","v":"-"},{"$f":"IFERROR(INDEX([4]Estimadores!$D$7:$AB$38,MATCH(Y$287,[4]Estimadores!$B$7:$B$38,0),MATCH($B319,[4]Estimadores!$D$6:$AB$6,0)),\"-\")","v":"-"},{"$f":"IFERROR(INDEX([4]Estimadores!$D$7:$AB$38,MATCH(Z$287,[4]Estimadores!$B$7:$B$38,0),MATCH($B319,[4]Estimadores!$D$6:$AB$6,0)),\"-\")","v":"-"},{"$f":"IFERROR(INDEX([4]Estimadores!$D$7:$AB$38,MATCH(AA$287,[4]Estimadores!$B$7:$B$38,0),MATCH($B319,[4]Estimadores!$D$6:$AB$6,0)),\"-\")","v":"-"},{"$f":"IFERROR(INDEX([4]Estimadores!$D$7:$AB$38,MATCH(AB$287,[4]Estimadores!$B$7:$B$38,0),MATCH($B319,[4]Estimadores!$D$6:$AB$6,0)),\"-\")","v":"-"},{"$f":"IFERROR(INDEX([4]Estimadores!$D$7:$AB$38,MATCH(AC$287,[4]Estimadores!$B$7:$B$38,0),MATCH($B319,[4]Estimadores!$D$6:$AB$6,0)),\"-\")","v":"-"},{"$f":"IFERROR(INDEX([4]Estimadores!$D$7:$AB$38,MATCH(AD$287,[4]Estimadores!$B$7:$B$38,0),MATCH($B319,[4]Estimadores!$D$6:$AB$6,0)),\"-\")","v":"-"},{"$f":"IFERROR(INDEX([4]Estimadores!$D$7:$AB$38,MATCH(AE$287,[4]Estimadores!$B$7:$B$38,0),MATCH($B319,[4]Estimadores!$D$6:$AB$6,0)),\"-\")","v":"-"},{"$f":"IFERROR(INDEX([4]Estimadores!$D$7:$AB$38,MATCH(AF$287,[4]Estimadores!$B$7:$B$38,0),MATCH($B319,[4]Estimadores!$D$6:$AB$6,0)),\"-\")","v":"-"},{"$f":"IFERROR(INDEX([4]Estimadores!$D$7:$AB$38,MATCH(AG$287,[4]Estimadores!$B$7:$B$38,0),MATCH($B319,[4]Estimadores!$D$6:$AB$6,0)),\"-\")","v":"-"},{"$f":"IFERROR(INDEX([4]Estimadores!$D$7:$AB$38,MATCH(AH$287,[4]Estimadores!$B$7:$B$38,0),MATCH($B319,[4]Estimadores!$D$6:$AB$6,0)),\"-\")","v":"-"},{"$f":"IFERROR(INDEX([4]Estimadores!$D$7:$AB$38,MATCH(AI$287,[4]Estimadores!$B$7:$B$38,0),MATCH($B319,[4]Estimadores!$D$6:$AB$6,0)),\"-\")","v":"-"}]
[null,null,"",{"$f":"IFERROR(INDEX([4]Estimadores!$D$7:$AB$38,MATCH(D$287,[4]Estimadores!$B$7:$B$38,0),MATCH($B320,[4]Estimadores!$D$6:$AB$6,0)),\"-\")","v":"-"},{"$f":"IFERROR(INDEX([4]Estimadores!$D$7:$AB$38,MATCH(E$287,[4]Estimadores!$B$7:$B$38,0),MATCH($B320,[4]Estimadores!$D$6:$AB$6,0)),\"-\")","v":"-"},{"$f":"IFERROR(INDEX([4]Estimadores!$D$7:$AB$38,MATCH(F$287,[4]Estimadores!$B$7:$B$38,0),MATCH($B320,[4]Estimadores!$D$6:$AB$6,0)),\"-\")","v":"-"},{"$f":"IFERROR(INDEX([4]Estimadores!$D$7:$AB$38,MATCH(G$287,[4]Estimadores!$B$7:$B$38,0),MATCH($B320,[4]Estimadores!$D$6:$AB$6,0)),\"-\")","v":"-"},{"$f":"IFERROR(INDEX([4]Estimadores!$D$7:$AB$38,MATCH(H$287,[4]Estimadores!$B$7:$B$38,0),MATCH($B320,[4]Estimadores!$D$6:$AB$6,0)),\"-\")","v":"-"},{"$f":"IFERROR(INDEX([4]Estimadores!$D$7:$AB$38,MATCH(I$287,[4]Estimadores!$B$7:$B$38,0),MATCH($B320,[4]Estimadores!$D$6:$AB$6,0)),\"-\")","v":"-"},{"$f":"IFERROR(INDEX([4]Estimadores!$D$7:$AB$38,MATCH(J$287,[4]Estimadores!$B$7:$B$38,0),MATCH($B320,[4]Estimadores!$D$6:$AB$6,0)),\"-\")","v":"-"},{"$f":"IFERROR(INDEX([4]Estimadores!$D$7:$AB$38,MATCH(K$287,[4]Estimadores!$B$7:$B$38,0),MATCH($B320,[4]Estimadores!$D$6:$AB$6,0)),\"-\")","v":"-"},{"$f":"IFERROR(INDEX([4]Estimadores!$D$7:$AB$38,MATCH(L$287,[4]Estimadores!$B$7:$B$38,0),MATCH($B320,[4]Estimadores!$D$6:$AB$6,0)),\"-\")","v":"-"},{"$f":"IFERROR(INDEX([4]Estimadores!$D$7:$AB$38,MATCH(M$287,[4]Estimadores!$B$7:$B$38,0),MATCH($B320,[4]Estimadores!$D$6:$AB$6,0)),\"-\")","v":"-"},{"$f":"IFERROR(INDEX([4]Estimadores!$D$7:$AB$38,MATCH(N$287,[4]Estimadores!$B$7:$B$38,0),MATCH($B320,[4]Estimadores!$D$6:$AB$6,0)),\"-\")","v":"-"},{"$f":"IFERROR(INDEX([4]Estimadores!$D$7:$AB$38,MATCH(O$287,[4]Estimadores!$B$7:$B$38,0),MATCH($B320,[4]Estimadores!$D$6:$AB$6,0)),\"-\")","v":"-"},{"$f":"IFERROR(INDEX([4]Estimadores!$D$7:$AB$38,MATCH(P$287,[4]Estimadores!$B$7:$B$38,0),MATCH($B320,[4]Estimadores!$D$6:$AB$6,0)),\"-\")","v":"-"},{"$f":"IFERROR(INDEX([4]Estimadores!$D$7:$AB$38,MATCH(Q$287,[4]Estimadores!$B$7:$B$38,0),MATCH($B320,[4]Estimadores!$D$6:$AB$6,0)),\"-\")","v":"-"},{"$f":"IFERROR(INDEX([4]Estimadores!$D$7:$AB$38,MATCH(R$287,[4]Estimadores!$B$7:$B$38,0),MATCH($B320,[4]Estimadores!$D$6:$AB$6,0)),\"-\")","v":"-"},{"$f":"IFERROR(INDEX([4]Estimadores!$D$7:$AB$38,MATCH(S$287,[4]Estimadores!$B$7:$B$38,0),MATCH($B320,[4]Estimadores!$D$6:$AB$6,0)),\"-\")","v":"-"},{"$f":"IFERROR(INDEX([4]Estimadores!$D$7:$AB$38,MATCH(T$287,[4]Estimadores!$B$7:$B$38,0),MATCH($B320,[4]Estimadores!$D$6:$AB$6,0)),\"-\")","v":"-"},{"$f":"IFERROR(INDEX([4]Estimadores!$D$7:$AB$38,MATCH(U$287,[4]Estimadores!$B$7:$B$38,0),MATCH($B320,[4]Estimadores!$D$6:$AB$6,0)),\"-\")","v":"-"},{"$f":"IFERROR(INDEX([4]Estimadores!$D$7:$AB$38,MATCH(V$287,[4]Estimadores!$B$7:$B$38,0),MATCH($B320,[4]Estimadores!$D$6:$AB$6,0)),\"-\")","v":"-"},{"$f":"IFERROR(INDEX([4]Estimadores!$D$7:$AB$38,MATCH(W$287,[4]Estimadores!$B$7:$B$38,0),MATCH($B320,[4]Estimadores!$D$6:$AB$6,0)),\"-\")","v":"-"},{"$f":"IFERROR(INDEX([4]Estimadores!$D$7:$AB$38,MATCH(X$287,[4]Estimadores!$B$7:$B$38,0),MATCH($B320,[4]Estimadores!$D$6:$AB$6,0)),\"-\")","v":"-"},{"$f":"IFERROR(INDEX([4]Estimadores!$D$7:$AB$38,MATCH(Y$287,[4]Estimadores!$B$7:$B$38,0),MATCH($B320,[4]Estimadores!$D$6:$AB$6,0)),\"-\")","v":"-"},{"$f":"IFERROR(INDEX([4]Estimadores!$D$7:$AB$38,MATCH(Z$287,[4]Estimadores!$B$7:$B$38,0),MATCH($B320,[4]Estimadores!$D$6:$AB$6,0)),\"-\")","v":"-"},{"$f":"IFERROR(INDEX([4]Estimadores!$D$7:$AB$38,MATCH(AA$287,[4]Estimadores!$B$7:$B$38,0),MATCH($B320,[4]Estimadores!$D$6:$AB$6,0)),\"-\")","v":"-"},{"$f":"IFERROR(INDEX([4]Estimadores!$D$7:$AB$38,MATCH(AB$287,[4]Estimadores!$B$7:$B$38,0),MATCH($B320,[4]Estimadores!$D$6:$AB$6,0)),\"-\")","v":"-"},{"$f":"IFERROR(INDEX([4]Estimadores!$D$7:$AB$38,MATCH(AC$287,[4]Estimadores!$B$7:$B$38,0),MATCH($B320,[4]Estimadores!$D$6:$AB$6,0)),\"-\")","v":"-"},{"$f":"IFERROR(INDEX([4]Estimadores!$D$7:$AB$38,MATCH(AD$287,[4]Estimadores!$B$7:$B$38,0),MATCH($B320,[4]Estimadores!$D$6:$AB$6,0)),\"-\")","v":"-"},{"$f":"IFERROR(INDEX([4]Estimadores!$D$7:$AB$38,MATCH(AE$287,[4]Estimadores!$B$7:$B$38,0),MATCH($B320,[4]Estimadores!$D$6:$AB$6,0)),\"-\")","v":"-"},{"$f":"IFERROR(INDEX([4]Estimadores!$D$7:$AB$38,MATCH(AF$287,[4]Estimadores!$B$7:$B$38,0),MATCH($B320,[4]Estimadores!$D$6:$AB$6,0)),\"-\")","v":"-"},{"$f":"IFERROR(INDEX([4]Estimadores!$D$7:$AB$38,MATCH(AG$287,[4]Estimadores!$B$7:$B$38,0),MATCH($B320,[4]Estimadores!$D$6:$AB$6,0)),\"-\")","v":"-"},{"$f":"IFERROR(INDEX([4]Estimadores!$D$7:$AB$38,MATCH(AH$287,[4]Estimadores!$B$7:$B$38,0),MATCH($B320,[4]Estimadores!$D$6:$AB$6,0)),\"-\")","v":"-"},{"$f":"IFERROR(INDEX([4]Estimadores!$D$7:$AB$38,MATCH(AI$287,[4]Estimadores!$B$7:$B$38,0),MATCH($B320,[4]Estimadores!$D$6:$AB$6,0)),\"-\")","v":"-"}]
[null,null,"",{"$f":"IFERROR(INDEX([4]Estimadores!$D$7:$AB$38,MATCH(D$287,[4]Estimadores!$B$7:$B$38,0),MATCH($B321,[4]Estimadores!$D$6:$AB$6,0)),\"-\")","v":"-"},{"$f":"IFERROR(INDEX([4]Estimadores!$D$7:$AB$38,MATCH(E$287,[4]Estimadores!$B$7:$B$38,0),MATCH($B321,[4]Estimadores!$D$6:$AB$6,0)),\"-\")","v":"-"},{"$f":"IFERROR(INDEX([4]Estimadores!$D$7:$AB$38,MATCH(F$287,[4]Estimadores!$B$7:$B$38,0),MATCH($B321,[4]Estimadores!$D$6:$AB$6,0)),\"-\")","v":"-"},{"$f":"IFERROR(INDEX([4]Estimadores!$D$7:$AB$38,MATCH(G$287,[4]Estimadores!$B$7:$B$38,0),MATCH($B321,[4]Estimadores!$D$6:$AB$6,0)),\"-\")","v":"-"},{"$f":"IFERROR(INDEX([4]Estimadores!$D$7:$AB$38,MATCH(H$287,[4]Estimadores!$B$7:$B$38,0),MATCH($B321,[4]Estimadores!$D$6:$AB$6,0)),\"-\")","v":"-"},{"$f":"IFERROR(INDEX([4]Estimadores!$D$7:$AB$38,MATCH(I$287,[4]Estimadores!$B$7:$B$38,0),MATCH($B321,[4]Estimadores!$D$6:$AB$6,0)),\"-\")","v":"-"},{"$f":"IFERROR(INDEX([4]Estimadores!$D$7:$AB$38,MATCH(J$287,[4]Estimadores!$B$7:$B$38,0),MATCH($B321,[4]Estimadores!$D$6:$AB$6,0)),\"-\")","v":"-"},{"$f":"IFERROR(INDEX([4]Estimadores!$D$7:$AB$38,MATCH(K$287,[4]Estimadores!$B$7:$B$38,0),MATCH($B321,[4]Estimadores!$D$6:$AB$6,0)),\"-\")","v":"-"},{"$f":"IFERROR(INDEX([4]Estimadores!$D$7:$AB$38,MATCH(L$287,[4]Estimadores!$B$7:$B$38,0),MATCH($B321,[4]Estimadores!$D$6:$AB$6,0)),\"-\")","v":"-"},{"$f":"IFERROR(INDEX([4]Estimadores!$D$7:$AB$38,MATCH(M$287,[4]Estimadores!$B$7:$B$38,0),MATCH($B321,[4]Estimadores!$D$6:$AB$6,0)),\"-\")","v":"-"},{"$f":"IFERROR(INDEX([4]Estimadores!$D$7:$AB$38,MATCH(N$287,[4]Estimadores!$B$7:$B$38,0),MATCH($B321,[4]Estimadores!$D$6:$AB$6,0)),\"-\")","v":"-"},{"$f":"IFERROR(INDEX([4]Estimadores!$D$7:$AB$38,MATCH(O$287,[4]Estimadores!$B$7:$B$38,0),MATCH($B321,[4]Estimadores!$D$6:$AB$6,0)),\"-\")","v":"-"},{"$f":"IFERROR(INDEX([4]Estimadores!$D$7:$AB$38,MATCH(P$287,[4]Estimadores!$B$7:$B$38,0),MATCH($B321,[4]Estimadores!$D$6:$AB$6,0)),\"-\")","v":"-"},{"$f":"IFERROR(INDEX([4]Estimadores!$D$7:$AB$38,MATCH(Q$287,[4]Estimadores!$B$7:$B$38,0),MATCH($B321,[4]Estimadores!$D$6:$AB$6,0)),\"-\")","v":"-"},{"$f":"IFERROR(INDEX([4]Estimadores!$D$7:$AB$38,MATCH(R$287,[4]Estimadores!$B$7:$B$38,0),MATCH($B321,[4]Estimadores!$D$6:$AB$6,0)),\"-\")","v":"-"},{"$f":"IFERROR(INDEX([4]Estimadores!$D$7:$AB$38,MATCH(S$287,[4]Estimadores!$B$7:$B$38,0),MATCH($B321,[4]Estimadores!$D$6:$AB$6,0)),\"-\")","v":"-"},{"$f":"IFERROR(INDEX([4]Estimadores!$D$7:$AB$38,MATCH(T$287,[4]Estimadores!$B$7:$B$38,0),MATCH($B321,[4]Estimadores!$D$6:$AB$6,0)),\"-\")","v":"-"},{"$f":"IFERROR(INDEX([4]Estimadores!$D$7:$AB$38,MATCH(U$287,[4]Estimadores!$B$7:$B$38,0),MATCH($B321,[4]Estimadores!$D$6:$AB$6,0)),\"-\")","v":"-"},{"$f":"IFERROR(INDEX([4]Estimadores!$D$7:$AB$38,MATCH(V$287,[4]Estimadores!$B$7:$B$38,0),MATCH($B321,[4]Estimadores!$D$6:$AB$6,0)),\"-\")","v":"-"},{"$f":"IFERROR(INDEX([4]Estimadores!$D$7:$AB$38,MATCH(W$287,[4]Estimadores!$B$7:$B$38,0),MATCH($B321,[4]Estimadores!$D$6:$AB$6,0)),\"-\")","v":"-"},{"$f":"IFERROR(INDEX([4]Estimadores!$D$7:$AB$38,MATCH(X$287,[4]Estimadores!$B$7:$B$38,0),MATCH($B321,[4]Estimadores!$D$6:$AB$6,0)),\"-\")","v":"-"},{"$f":"IFERROR(INDEX([4]Estimadores!$D$7:$AB$38,MATCH(Y$287,[4]Estimadores!$B$7:$B$38,0),MATCH($B321,[4]Estimadores!$D$6:$AB$6,0)),\"-\")","v":"-"},{"$f":"IFERROR(INDEX([4]Estimadores!$D$7:$AB$38,MATCH(Z$287,[4]Estimadores!$B$7:$B$38,0),MATCH($B321,[4]Estimadores!$D$6:$AB$6,0)),\"-\")","v":"-"},{"$f":"IFERROR(INDEX([4]Estimadores!$D$7:$AB$38,MATCH(AA$287,[4]Estimadores!$B$7:$B$38,0),MATCH($B321,[4]Estimadores!$D$6:$AB$6,0)),\"-\")","v":"-"},{"$f":"IFERROR(INDEX([4]Estimadores!$D$7:$AB$38,MATCH(AB$287,[4]Estimadores!$B$7:$B$38,0),MATCH($B321,[4]Estimadores!$D$6:$AB$6,0)),\"-\")","v":"-"},{"$f":"IFERROR(INDEX([4]Estimadores!$D$7:$AB$38,MATCH(AC$287,[4]Estimadores!$B$7:$B$38,0),MATCH($B321,[4]Estimadores!$D$6:$AB$6,0)),\"-\")","v":"-"},{"$f":"IFERROR(INDEX([4]Estimadores!$D$7:$AB$38,MATCH(AD$287,[4]Estimadores!$B$7:$B$38,0),MATCH($B321,[4]Estimadores!$D$6:$AB$6,0)),\"-\")","v":"-"},{"$f":"IFERROR(INDEX([4]Estimadores!$D$7:$AB$38,MATCH(AE$287,[4]Estimadores!$B$7:$B$38,0),MATCH($B321,[4]Estimadores!$D$6:$AB$6,0)),\"-\")","v":"-"},{"$f":"IFERROR(INDEX([4]Estimadores!$D$7:$AB$38,MATCH(AF$287,[4]Estimadores!$B$7:$B$38,0),MATCH($B321,[4]Estimadores!$D$6:$AB$6,0)),\"-\")","v":"-"},{"$f":"IFERROR(INDEX([4]Estimadores!$D$7:$AB$38,MATCH(AG$287,[4]Estimadores!$B$7:$B$38,0),MATCH($B321,[4]Estimadores!$D$6:$AB$6,0)),\"-\")","v":"-"},{"$f":"IFERROR(INDEX([4]Estimadores!$D$7:$AB$38,MATCH(AH$287,[4]Estimadores!$B$7:$B$38,0),MATCH($B321,[4]Estimadores!$D$6:$AB$6,0)),\"-\")","v":"-"},{"$f":"IFERROR(INDEX([4]Estimadores!$D$7:$AB$38,MATCH(AI$287,[4]Estimadores!$B$7:$B$38,0),MATCH($B321,[4]Estimadores!$D$6:$AB$6,0)),\"-\")","v":"-"}]
[null,null,"",{"$f":"IFERROR(INDEX([4]Estimadores!$D$7:$AB$38,MATCH(D$287,[4]Estimadores!$B$7:$B$38,0),MATCH($B322,[4]Estimadores!$D$6:$AB$6,0)),\"-\")","v":"-"},{"$f":"IFERROR(INDEX([4]Estimadores!$D$7:$AB$38,MATCH(E$287,[4]Estimadores!$B$7:$B$38,0),MATCH($B322,[4]Estimadores!$D$6:$AB$6,0)),\"-\")","v":"-"},{"$f":"IFERROR(INDEX([4]Estimadores!$D$7:$AB$38,MATCH(F$287,[4]Estimadores!$B$7:$B$38,0),MATCH($B322,[4]Estimadores!$D$6:$AB$6,0)),\"-\")","v":"-"},{"$f":"IFERROR(INDEX([4]Estimadores!$D$7:$AB$38,MATCH(G$287,[4]Estimadores!$B$7:$B$38,0),MATCH($B322,[4]Estimadores!$D$6:$AB$6,0)),\"-\")","v":"-"},{"$f":"IFERROR(INDEX([4]Estimadores!$D$7:$AB$38,MATCH(H$287,[4]Estimadores!$B$7:$B$38,0),MATCH($B322,[4]Estimadores!$D$6:$AB$6,0)),\"-\")","v":"-"},{"$f":"IFERROR(INDEX([4]Estimadores!$D$7:$AB$38,MATCH(I$287,[4]Estimadores!$B$7:$B$38,0),MATCH($B322,[4]Estimadores!$D$6:$AB$6,0)),\"-\")","v":"-"},{"$f":"IFERROR(INDEX([4]Estimadores!$D$7:$AB$38,MATCH(J$287,[4]Estimadores!$B$7:$B$38,0),MATCH($B322,[4]Estimadores!$D$6:$AB$6,0)),\"-\")","v":"-"},{"$f":"IFERROR(INDEX([4]Estimadores!$D$7:$AB$38,MATCH(K$287,[4]Estimadores!$B$7:$B$38,0),MATCH($B322,[4]Estimadores!$D$6:$AB$6,0)),\"-\")","v":"-"},{"$f":"IFERROR(INDEX([4]Estimadores!$D$7:$AB$38,MATCH(L$287,[4]Estimadores!$B$7:$B$38,0),MATCH($B322,[4]Estimadores!$D$6:$AB$6,0)),\"-\")","v":"-"},{"$f":"IFERROR(INDEX([4]Estimadores!$D$7:$AB$38,MATCH(M$287,[4]Estimadores!$B$7:$B$38,0),MATCH($B322,[4]Estimadores!$D$6:$AB$6,0)),\"-\")","v":"-"},{"$f":"IFERROR(INDEX([4]Estimadores!$D$7:$AB$38,MATCH(N$287,[4]Estimadores!$B$7:$B$38,0),MATCH($B322,[4]Estimadores!$D$6:$AB$6,0)),\"-\")","v":"-"},{"$f":"IFERROR(INDEX([4]Estimadores!$D$7:$AB$38,MATCH(O$287,[4]Estimadores!$B$7:$B$38,0),MATCH($B322,[4]Estimadores!$D$6:$AB$6,0)),\"-\")","v":"-"},{"$f":"IFERROR(INDEX([4]Estimadores!$D$7:$AB$38,MATCH(P$287,[4]Estimadores!$B$7:$B$38,0),MATCH($B322,[4]Estimadores!$D$6:$AB$6,0)),\"-\")","v":"-"},{"$f":"IFERROR(INDEX([4]Estimadores!$D$7:$AB$38,MATCH(Q$287,[4]Estimadores!$B$7:$B$38,0),MATCH($B322,[4]Estimadores!$D$6:$AB$6,0)),\"-\")","v":"-"},{"$f":"IFERROR(INDEX([4]Estimadores!$D$7:$AB$38,MATCH(R$287,[4]Estimadores!$B$7:$B$38,0),MATCH($B322,[4]Estimadores!$D$6:$AB$6,0)),\"-\")","v":"-"},{"$f":"IFERROR(INDEX([4]Estimadores!$D$7:$AB$38,MATCH(S$287,[4]Estimadores!$B$7:$B$38,0),MATCH($B322,[4]Estimadores!$D$6:$AB$6,0)),\"-\")","v":"-"},{"$f":"IFERROR(INDEX([4]Estimadores!$D$7:$AB$38,MATCH(T$287,[4]Estimadores!$B$7:$B$38,0),MATCH($B322,[4]Estimadores!$D$6:$AB$6,0)),\"-\")","v":"-"},{"$f":"IFERROR(INDEX([4]Estimadores!$D$7:$AB$38,MATCH(U$287,[4]Estimadores!$B$7:$B$38,0),MATCH($B322,[4]Estimadores!$D$6:$AB$6,0)),\"-\")","v":"-"},{"$f":"IFERROR(INDEX([4]Estimadores!$D$7:$AB$38,MATCH(V$287,[4]Estimadores!$B$7:$B$38,0),MATCH($B322,[4]Estimadores!$D$6:$AB$6,0)),\"-\")","v":"-"},{"$f":"IFERROR(INDEX([4]Estimadores!$D$7:$AB$38,MATCH(W$287,[4]Estimadores!$B$7:$B$38,0),MATCH($B322,[4]Estimadores!$D$6:$AB$6,0)),\"-\")","v":"-"},{"$f":"IFERROR(INDEX([4]Estimadores!$D$7:$AB$38,MATCH(X$287,[4]Estimadores!$B$7:$B$38,0),MATCH($B322,[4]Estimadores!$D$6:$AB$6,0)),\"-\")","v":"-"},{"$f":"IFERROR(INDEX([4]Estimadores!$D$7:$AB$38,MATCH(Y$287,[4]Estimadores!$B$7:$B$38,0),MATCH($B322,[4]Estimadores!$D$6:$AB$6,0)),\"-\")","v":"-"},{"$f":"IFERROR(INDEX([4]Estimadores!$D$7:$AB$38,MATCH(Z$287,[4]Estimadores!$B$7:$B$38,0),MATCH($B322,[4]Estimadores!$D$6:$AB$6,0)),\"-\")","v":"-"},{"$f":"IFERROR(INDEX([4]Estimadores!$D$7:$AB$38,MATCH(AA$287,[4]Estimadores!$B$7:$B$38,0),MATCH($B322,[4]Estimadores!$D$6:$AB$6,0)),\"-\")","v":"-"},{"$f":"IFERROR(INDEX([4]Estimadores!$D$7:$AB$38,MATCH(AB$287,[4]Estimadores!$B$7:$B$38,0),MATCH($B322,[4]Estimadores!$D$6:$AB$6,0)),\"-\")","v":"-"},{"$f":"IFERROR(INDEX([4]Estimadores!$D$7:$AB$38,MATCH(AC$287,[4]Estimadores!$B$7:$B$38,0),MATCH($B322,[4]Estimadores!$D$6:$AB$6,0)),\"-\")","v":"-"},{"$f":"IFERROR(INDEX([4]Estimadores!$D$7:$AB$38,MATCH(AD$287,[4]Estimadores!$B$7:$B$38,0),MATCH($B322,[4]Estimadores!$D$6:$AB$6,0)),\"-\")","v":"-"},{"$f":"IFERROR(INDEX([4]Estimadores!$D$7:$AB$38,MATCH(AE$287,[4]Estimadores!$B$7:$B$38,0),MATCH($B322,[4]Estimadores!$D$6:$AB$6,0)),\"-\")","v":"-"},{"$f":"IFERROR(INDEX([4]Estimadores!$D$7:$AB$38,MATCH(AF$287,[4]Estimadores!$B$7:$B$38,0),MATCH($B322,[4]Estimadores!$D$6:$AB$6,0)),\"-\")","v":"-"},{"$f":"IFERROR(INDEX([4]Estimadores!$D$7:$AB$38,MATCH(AG$287,[4]Estimadores!$B$7:$B$38,0),MATCH($B322,[4]Estimadores!$D$6:$AB$6,0)),\"-\")","v":"-"},{"$f":"IFERROR(INDEX([4]Estimadores!$D$7:$AB$38,MATCH(AH$287,[4]Estimadores!$B$7:$B$38,0),MATCH($B322,[4]Estimadores!$D$6:$AB$6,0)),\"-\")","v":"-"},{"$f":"IFERROR(INDEX([4]Estimadores!$D$7:$AB$38,MATCH(AI$287,[4]Estimadores!$B$7:$B$38,0),MATCH($B322,[4]Estimadores!$D$6:$AB$6,0)),\"-\")","v":"-"}]
[null,null,"",{"$f":"IFERROR(INDEX([4]Estimadores!$D$7:$AB$38,MATCH(D$287,[4]Estimadores!$B$7:$B$38,0),MATCH($B323,[4]Estimadores!$D$6:$AB$6,0)),\"-\")","v":"-"},{"$f":"IFERROR(INDEX([4]Estimadores!$D$7:$AB$38,MATCH(E$287,[4]Estimadores!$B$7:$B$38,0),MATCH($B323,[4]Estimadores!$D$6:$AB$6,0)),\"-\")","v":"-"},{"$f":"IFERROR(INDEX([4]Estimadores!$D$7:$AB$38,MATCH(F$287,[4]Estimadores!$B$7:$B$38,0),MATCH($B323,[4]Estimadores!$D$6:$AB$6,0)),\"-\")","v":"-"},{"$f":"IFERROR(INDEX([4]Estimadores!$D$7:$AB$38,MATCH(G$287,[4]Estimadores!$B$7:$B$38,0),MATCH($B323,[4]Estimadores!$D$6:$AB$6,0)),\"-\")","v":"-"},{"$f":"IFERROR(INDEX([4]Estimadores!$D$7:$AB$38,MATCH(H$287,[4]Estimadores!$B$7:$B$38,0),MATCH($B323,[4]Estimadores!$D$6:$AB$6,0)),\"-\")","v":"-"},{"$f":"IFERROR(INDEX([4]Estimadores!$D$7:$AB$38,MATCH(I$287,[4]Estimadores!$B$7:$B$38,0),MATCH($B323,[4]Estimadores!$D$6:$AB$6,0)),\"-\")","v":"-"},{"$f":"IFERROR(INDEX([4]Estimadores!$D$7:$AB$38,MATCH(J$287,[4]Estimadores!$B$7:$B$38,0),MATCH($B323,[4]Estimadores!$D$6:$AB$6,0)),\"-\")","v":"-"},{"$f":"IFERROR(INDEX([4]Estimadores!$D$7:$AB$38,MATCH(K$287,[4]Estimadores!$B$7:$B$38,0),MATCH($B323,[4]Estimadores!$D$6:$AB$6,0)),\"-\")","v":"-"},{"$f":"IFERROR(INDEX([4]Estimadores!$D$7:$AB$38,MATCH(L$287,[4]Estimadores!$B$7:$B$38,0),MATCH($B323,[4]Estimadores!$D$6:$AB$6,0)),\"-\")","v":"-"},{"$f":"IFERROR(INDEX([4]Estimadores!$D$7:$AB$38,MATCH(M$287,[4]Estimadores!$B$7:$B$38,0),MATCH($B323,[4]Estimadores!$D$6:$AB$6,0)),\"-\")","v":"-"},{"$f":"IFERROR(INDEX([4]Estimadores!$D$7:$AB$38,MATCH(N$287,[4]Estimadores!$B$7:$B$38,0),MATCH($B323,[4]Estimadores!$D$6:$AB$6,0)),\"-\")","v":"-"},{"$f":"IFERROR(INDEX([4]Estimadores!$D$7:$AB$38,MATCH(O$287,[4]Estimadores!$B$7:$B$38,0),MATCH($B323,[4]Estimadores!$D$6:$AB$6,0)),\"-\")","v":"-"},{"$f":"IFERROR(INDEX([4]Estimadores!$D$7:$AB$38,MATCH(P$287,[4]Estimadores!$B$7:$B$38,0),MATCH($B323,[4]Estimadores!$D$6:$AB$6,0)),\"-\")","v":"-"},{"$f":"IFERROR(INDEX([4]Estimadores!$D$7:$AB$38,MATCH(Q$287,[4]Estimadores!$B$7:$B$38,0),MATCH($B323,[4]Estimadores!$D$6:$AB$6,0)),\"-\")","v":"-"},{"$f":"IFERROR(INDEX([4]Estimadores!$D$7:$AB$38,MATCH(R$287,[4]Estimadores!$B$7:$B$38,0),MATCH($B323,[4]Estimadores!$D$6:$AB$6,0)),\"-\")","v":"-"},{"$f":"IFERROR(INDEX([4]Estimadores!$D$7:$AB$38,MATCH(S$287,[4]Estimadores!$B$7:$B$38,0),MATCH($B323,[4]Estimadores!$D$6:$AB$6,0)),\"-\")","v":"-"},{"$f":"IFERROR(INDEX([4]Estimadores!$D$7:$AB$38,MATCH(T$287,[4]Estimadores!$B$7:$B$38,0),MATCH($B323,[4]Estimadores!$D$6:$AB$6,0)),\"-\")","v":"-"},{"$f":"IFERROR(INDEX([4]Estimadores!$D$7:$AB$38,MATCH(U$287,[4]Estimadores!$B$7:$B$38,0),MATCH($B323,[4]Estimadores!$D$6:$AB$6,0)),\"-\")","v":"-"},{"$f":"IFERROR(INDEX([4]Estimadores!$D$7:$AB$38,MATCH(V$287,[4]Estimadores!$B$7:$B$38,0),MATCH($B323,[4]Estimadores!$D$6:$AB$6,0)),\"-\")","v":"-"},{"$f":"IFERROR(INDEX([4]Estimadores!$D$7:$AB$38,MATCH(W$287,[4]Estimadores!$B$7:$B$38,0),MATCH($B323,[4]Estimadores!$D$6:$AB$6,0)),\"-\")","v":"-"},{"$f":"IFERROR(INDEX([4]Estimadores!$D$7:$AB$38,MATCH(X$287,[4]Estimadores!$B$7:$B$38,0),MATCH($B323,[4]Estimadores!$D$6:$AB$6,0)),\"-\")","v":"-"},{"$f":"IFERROR(INDEX([4]Estimadores!$D$7:$AB$38,MATCH(Y$287,[4]Estimadores!$B$7:$B$38,0),MATCH($B323,[4]Estimadores!$D$6:$AB$6,0)),\"-\")","v":"-"},{"$f":"IFERROR(INDEX([4]Estimadores!$D$7:$AB$38,MATCH(Z$287,[4]Estimadores!$B$7:$B$38,0),MATCH($B323,[4]Estimadores!$D$6:$AB$6,0)),\"-\")","v":"-"},{"$f":"IFERROR(INDEX([4]Estimadores!$D$7:$AB$38,MATCH(AA$287,[4]Estimadores!$B$7:$B$38,0),MATCH($B323,[4]Estimadores!$D$6:$AB$6,0)),\"-\")","v":"-"},{"$f":"IFERROR(INDEX([4]Estimadores!$D$7:$AB$38,MATCH(AB$287,[4]Estimadores!$B$7:$B$38,0),MATCH($B323,[4]Estimadores!$D$6:$AB$6,0)),\"-\")","v":"-"},{"$f":"IFERROR(INDEX([4]Estimadores!$D$7:$AB$38,MATCH(AC$287,[4]Estimadores!$B$7:$B$38,0),MATCH($B323,[4]Estimadores!$D$6:$AB$6,0)),\"-\")","v":"-"},{"$f":"IFERROR(INDEX([4]Estimadores!$D$7:$AB$38,MATCH(AD$287,[4]Estimadores!$B$7:$B$38,0),MATCH($B323,[4]Estimadores!$D$6:$AB$6,0)),\"-\")","v":"-"},{"$f":"IFERROR(INDEX([4]Estimadores!$D$7:$AB$38,MATCH(AE$287,[4]Estimadores!$B$7:$B$38,0),MATCH($B323,[4]Estimadores!$D$6:$AB$6,0)),\"-\")","v":"-"},{"$f":"IFERROR(INDEX([4]Estimadores!$D$7:$AB$38,MATCH(AF$287,[4]Estimadores!$B$7:$B$38,0),MATCH($B323,[4]Estimadores!$D$6:$AB$6,0)),\"-\")","v":"-"},{"$f":"IFERROR(INDEX([4]Estimadores!$D$7:$AB$38,MATCH(AG$287,[4]Estimadores!$B$7:$B$38,0),MATCH($B323,[4]Estimadores!$D$6:$AB$6,0)),\"-\")","v":"-"},{"$f":"IFERROR(INDEX([4]Estimadores!$D$7:$AB$38,MATCH(AH$287,[4]Estimadores!$B$7:$B$38,0),MATCH($B323,[4]Estimadores!$D$6:$AB$6,0)),\"-\")","v":"-"},{"$f":"IFERROR(INDEX([4]Estimadores!$D$7:$AB$38,MATCH(AI$287,[4]Estimadores!$B$7:$B$38,0),MATCH($B323,[4]Estimadores!$D$6:$AB$6,0)),\"-\")","v":"-"}]
[null,null,"",{"$f":"IFERROR(INDEX([4]Estimadores!$D$7:$AB$38,MATCH(D$287,[4]Estimadores!$B$7:$B$38,0),MATCH($B324,[4]Estimadores!$D$6:$AB$6,0)),\"-\")","v":"-"},{"$f":"IFERROR(INDEX([4]Estimadores!$D$7:$AB$38,MATCH(E$287,[4]Estimadores!$B$7:$B$38,0),MATCH($B324,[4]Estimadores!$D$6:$AB$6,0)),\"-\")","v":"-"},{"$f":"IFERROR(INDEX([4]Estimadores!$D$7:$AB$38,MATCH(F$287,[4]Estimadores!$B$7:$B$38,0),MATCH($B324,[4]Estimadores!$D$6:$AB$6,0)),\"-\")","v":"-"},{"$f":"IFERROR(INDEX([4]Estimadores!$D$7:$AB$38,MATCH(G$287,[4]Estimadores!$B$7:$B$38,0),MATCH($B324,[4]Estimadores!$D$6:$AB$6,0)),\"-\")","v":"-"},{"$f":"IFERROR(INDEX([4]Estimadores!$D$7:$AB$38,MATCH(H$287,[4]Estimadores!$B$7:$B$38,0),MATCH($B324,[4]Estimadores!$D$6:$AB$6,0)),\"-\")","v":"-"},{"$f":"IFERROR(INDEX([4]Estimadores!$D$7:$AB$38,MATCH(I$287,[4]Estimadores!$B$7:$B$38,0),MATCH($B324,[4]Estimadores!$D$6:$AB$6,0)),\"-\")","v":"-"},{"$f":"IFERROR(INDEX([4]Estimadores!$D$7:$AB$38,MATCH(J$287,[4]Estimadores!$B$7:$B$38,0),MATCH($B324,[4]Estimadores!$D$6:$AB$6,0)),\"-\")","v":"-"},{"$f":"IFERROR(INDEX([4]Estimadores!$D$7:$AB$38,MATCH(K$287,[4]Estimadores!$B$7:$B$38,0),MATCH($B324,[4]Estimadores!$D$6:$AB$6,0)),\"-\")","v":"-"},{"$f":"IFERROR(INDEX([4]Estimadores!$D$7:$AB$38,MATCH(L$287,[4]Estimadores!$B$7:$B$38,0),MATCH($B324,[4]Estimadores!$D$6:$AB$6,0)),\"-\")","v":"-"},{"$f":"IFERROR(INDEX([4]Estimadores!$D$7:$AB$38,MATCH(M$287,[4]Estimadores!$B$7:$B$38,0),MATCH($B324,[4]Estimadores!$D$6:$AB$6,0)),\"-\")","v":"-"},{"$f":"IFERROR(INDEX([4]Estimadores!$D$7:$AB$38,MATCH(N$287,[4]Estimadores!$B$7:$B$38,0),MATCH($B324,[4]Estimadores!$D$6:$AB$6,0)),\"-\")","v":"-"},{"$f":"IFERROR(INDEX([4]Estimadores!$D$7:$AB$38,MATCH(O$287,[4]Estimadores!$B$7:$B$38,0),MATCH($B324,[4]Estimadores!$D$6:$AB$6,0)),\"-\")","v":"-"},{"$f":"IFERROR(INDEX([4]Estimadores!$D$7:$AB$38,MATCH(P$287,[4]Estimadores!$B$7:$B$38,0),MATCH($B324,[4]Estimadores!$D$6:$AB$6,0)),\"-\")","v":"-"},{"$f":"IFERROR(INDEX([4]Estimadores!$D$7:$AB$38,MATCH(Q$287,[4]Estimadores!$B$7:$B$38,0),MATCH($B324,[4]Estimadores!$D$6:$AB$6,0)),\"-\")","v":"-"},{"$f":"IFERROR(INDEX([4]Estimadores!$D$7:$AB$38,MATCH(R$287,[4]Estimadores!$B$7:$B$38,0),MATCH($B324,[4]Estimadores!$D$6:$AB$6,0)),\"-\")","v":"-"},{"$f":"IFERROR(INDEX([4]Estimadores!$D$7:$AB$38,MATCH(S$287,[4]Estimadores!$B$7:$B$38,0),MATCH($B324,[4]Estimadores!$D$6:$AB$6,0)),\"-\")","v":"-"},{"$f":"IFERROR(INDEX([4]Estimadores!$D$7:$AB$38,MATCH(T$287,[4]Estimadores!$B$7:$B$38,0),MATCH($B324,[4]Estimadores!$D$6:$AB$6,0)),\"-\")","v":"-"},{"$f":"IFERROR(INDEX([4]Estimadores!$D$7:$AB$38,MATCH(U$287,[4]Estimadores!$B$7:$B$38,0),MATCH($B324,[4]Estimadores!$D$6:$AB$6,0)),\"-\")","v":"-"},{"$f":"IFERROR(INDEX([4]Estimadores!$D$7:$AB$38,MATCH(V$287,[4]Estimadores!$B$7:$B$38,0),MATCH($B324,[4]Estimadores!$D$6:$AB$6,0)),\"-\")","v":"-"},{"$f":"IFERROR(INDEX([4]Estimadores!$D$7:$AB$38,MATCH(W$287,[4]Estimadores!$B$7:$B$38,0),MATCH($B324,[4]Estimadores!$D$6:$AB$6,0)),\"-\")","v":"-"},{"$f":"IFERROR(INDEX([4]Estimadores!$D$7:$AB$38,MATCH(X$287,[4]Estimadores!$B$7:$B$38,0),MATCH($B324,[4]Estimadores!$D$6:$AB$6,0)),\"-\")","v":"-"},{"$f":"IFERROR(INDEX([4]Estimadores!$D$7:$AB$38,MATCH(Y$287,[4]Estimadores!$B$7:$B$38,0),MATCH($B324,[4]Estimadores!$D$6:$AB$6,0)),\"-\")","v":"-"},{"$f":"IFERROR(INDEX([4]Estimadores!$D$7:$AB$38,MATCH(Z$287,[4]Estimadores!$B$7:$B$38,0),MATCH($B324,[4]Estimadores!$D$6:$AB$6,0)),\"-\")","v":"-"},{"$f":"IFERROR(INDEX([4]Estimadores!$D$7:$AB$38,MATCH(AA$287,[4]Estimadores!$B$7:$B$38,0),MATCH($B324,[4]Estimadores!$D$6:$AB$6,0)),\"-\")","v":"-"},{"$f":"IFERROR(INDEX([4]Estimadores!$D$7:$AB$38,MATCH(AB$287,[4]Estimadores!$B$7:$B$38,0),MATCH($B324,[4]Estimadores!$D$6:$AB$6,0)),\"-\")","v":"-"},{"$f":"IFERROR(INDEX([4]Estimadores!$D$7:$AB$38,MATCH(AC$287,[4]Estimadores!$B$7:$B$38,0),MATCH($B324,[4]Estimadores!$D$6:$AB$6,0)),\"-\")","v":"-"},{"$f":"IFERROR(INDEX([4]Estimadores!$D$7:$AB$38,MATCH(AD$287,[4]Estimadores!$B$7:$B$38,0),MATCH($B324,[4]Estimadores!$D$6:$AB$6,0)),\"-\")","v":"-"},{"$f":"IFERROR(INDEX([4]Estimadores!$D$7:$AB$38,MATCH(AE$287,[4]Estimadores!$B$7:$B$38,0),MATCH($B324,[4]Estimadores!$D$6:$AB$6,0)),\"-\")","v":"-"},{"$f":"IFERROR(INDEX([4]Estimadores!$D$7:$AB$38,MATCH(AF$287,[4]Estimadores!$B$7:$B$38,0),MATCH($B324,[4]Estimadores!$D$6:$AB$6,0)),\"-\")","v":"-"},{"$f":"IFERROR(INDEX([4]Estimadores!$D$7:$AB$38,MATCH(AG$287,[4]Estimadores!$B$7:$B$38,0),MATCH($B324,[4]Estimadores!$D$6:$AB$6,0)),\"-\")","v":"-"},{"$f":"IFERROR(INDEX([4]Estimadores!$D$7:$AB$38,MATCH(AH$287,[4]Estimadores!$B$7:$B$38,0),MATCH($B324,[4]Estimadores!$D$6:$AB$6,0)),\"-\")","v":"-"},{"$f":"IFERROR(INDEX([4]Estimadores!$D$7:$AB$38,MATCH(AI$287,[4]Estimadores!$B$7:$B$38,0),MATCH($B324,[4]Estimadores!$D$6:$AB$6,0)),\"-\")","v":"-"}]
[null,null,"",{"$f":"IFERROR(INDEX([4]Estimadores!$D$7:$AB$38,MATCH(D$287,[4]Estimadores!$B$7:$B$38,0),MATCH($B325,[4]Estimadores!$D$6:$AB$6,0)),\"-\")","v":"-"},{"$f":"IFERROR(INDEX([4]Estimadores!$D$7:$AB$38,MATCH(E$287,[4]Estimadores!$B$7:$B$38,0),MATCH($B325,[4]Estimadores!$D$6:$AB$6,0)),\"-\")","v":"-"},{"$f":"IFERROR(INDEX([4]Estimadores!$D$7:$AB$38,MATCH(F$287,[4]Estimadores!$B$7:$B$38,0),MATCH($B325,[4]Estimadores!$D$6:$AB$6,0)),\"-\")","v":"-"},{"$f":"IFERROR(INDEX([4]Estimadores!$D$7:$AB$38,MATCH(G$287,[4]Estimadores!$B$7:$B$38,0),MATCH($B325,[4]Estimadores!$D$6:$AB$6,0)),\"-\")","v":"-"},{"$f":"IFERROR(INDEX([4]Estimadores!$D$7:$AB$38,MATCH(H$287,[4]Estimadores!$B$7:$B$38,0),MATCH($B325,[4]Estimadores!$D$6:$AB$6,0)),\"-\")","v":"-"},{"$f":"IFERROR(INDEX([4]Estimadores!$D$7:$AB$38,MATCH(I$287,[4]Estimadores!$B$7:$B$38,0),MATCH($B325,[4]Estimadores!$D$6:$AB$6,0)),\"-\")","v":"-"},{"$f":"IFERROR(INDEX([4]Estimadores!$D$7:$AB$38,MATCH(J$287,[4]Estimadores!$B$7:$B$38,0),MATCH($B325,[4]Estimadores!$D$6:$AB$6,0)),\"-\")","v":"-"},{"$f":"IFERROR(INDEX([4]Estimadores!$D$7:$AB$38,MATCH(K$287,[4]Estimadores!$B$7:$B$38,0),MATCH($B325,[4]Estimadores!$D$6:$AB$6,0)),\"-\")","v":"-"},{"$f":"IFERROR(INDEX([4]Estimadores!$D$7:$AB$38,MATCH(L$287,[4]Estimadores!$B$7:$B$38,0),MATCH($B325,[4]Estimadores!$D$6:$AB$6,0)),\"-\")","v":"-"},{"$f":"IFERROR(INDEX([4]Estimadores!$D$7:$AB$38,MATCH(M$287,[4]Estimadores!$B$7:$B$38,0),MATCH($B325,[4]Estimadores!$D$6:$AB$6,0)),\"-\")","v":"-"},{"$f":"IFERROR(INDEX([4]Estimadores!$D$7:$AB$38,MATCH(N$287,[4]Estimadores!$B$7:$B$38,0),MATCH($B325,[4]Estimadores!$D$6:$AB$6,0)),\"-\")","v":"-"},{"$f":"IFERROR(INDEX([4]Estimadores!$D$7:$AB$38,MATCH(O$287,[4]Estimadores!$B$7:$B$38,0),MATCH($B325,[4]Estimadores!$D$6:$AB$6,0)),\"-\")","v":"-"},{"$f":"IFERROR(INDEX([4]Estimadores!$D$7:$AB$38,MATCH(P$287,[4]Estimadores!$B$7:$B$38,0),MATCH($B325,[4]Estimadores!$D$6:$AB$6,0)),\"-\")","v":"-"},{"$f":"IFERROR(INDEX([4]Estimadores!$D$7:$AB$38,MATCH(Q$287,[4]Estimadores!$B$7:$B$38,0),MATCH($B325,[4]Estimadores!$D$6:$AB$6,0)),\"-\")","v":"-"},{"$f":"IFERROR(INDEX([4]Estimadores!$D$7:$AB$38,MATCH(R$287,[4]Estimadores!$B$7:$B$38,0),MATCH($B325,[4]Estimadores!$D$6:$AB$6,0)),\"-\")","v":"-"},{"$f":"IFERROR(INDEX([4]Estimadores!$D$7:$AB$38,MATCH(S$287,[4]Estimadores!$B$7:$B$38,0),MATCH($B325,[4]Estimadores!$D$6:$AB$6,0)),\"-\")","v":"-"},{"$f":"IFERROR(INDEX([4]Estimadores!$D$7:$AB$38,MATCH(T$287,[4]Estimadores!$B$7:$B$38,0),MATCH($B325,[4]Estimadores!$D$6:$AB$6,0)),\"-\")","v":"-"},{"$f":"IFERROR(INDEX([4]Estimadores!$D$7:$AB$38,MATCH(U$287,[4]Estimadores!$B$7:$B$38,0),MATCH($B325,[4]Estimadores!$D$6:$AB$6,0)),\"-\")","v":"-"},{"$f":"IFERROR(INDEX([4]Estimadores!$D$7:$AB$38,MATCH(V$287,[4]Estimadores!$B$7:$B$38,0),MATCH($B325,[4]Estimadores!$D$6:$AB$6,0)),\"-\")","v":"-"},{"$f":"IFERROR(INDEX([4]Estimadores!$D$7:$AB$38,MATCH(W$287,[4]Estimadores!$B$7:$B$38,0),MATCH($B325,[4]Estimadores!$D$6:$AB$6,0)),\"-\")","v":"-"},{"$f":"IFERROR(INDEX([4]Estimadores!$D$7:$AB$38,MATCH(X$287,[4]Estimadores!$B$7:$B$38,0),MATCH($B325,[4]Estimadores!$D$6:$AB$6,0)),\"-\")","v":"-"},{"$f":"IFERROR(INDEX([4]Estimadores!$D$7:$AB$38,MATCH(Y$287,[4]Estimadores!$B$7:$B$38,0),MATCH($B325,[4]Estimadores!$D$6:$AB$6,0)),\"-\")","v":"-"},{"$f":"IFERROR(INDEX([4]Estimadores!$D$7:$AB$38,MATCH(Z$287,[4]Estimadores!$B$7:$B$38,0),MATCH($B325,[4]Estimadores!$D$6:$AB$6,0)),\"-\")","v":"-"},{"$f":"IFERROR(INDEX([4]Estimadores!$D$7:$AB$38,MATCH(AA$287,[4]Estimadores!$B$7:$B$38,0),MATCH($B325,[4]Estimadores!$D$6:$AB$6,0)),\"-\")","v":"-"},{"$f":"IFERROR(INDEX([4]Estimadores!$D$7:$AB$38,MATCH(AB$287,[4]Estimadores!$B$7:$B$38,0),MATCH($B325,[4]Estimadores!$D$6:$AB$6,0)),\"-\")","v":"-"},{"$f":"IFERROR(INDEX([4]Estimadores!$D$7:$AB$38,MATCH(AC$287,[4]Estimadores!$B$7:$B$38,0),MATCH($B325,[4]Estimadores!$D$6:$AB$6,0)),\"-\")","v":"-"},{"$f":"IFERROR(INDEX([4]Estimadores!$D$7:$AB$38,MATCH(AD$287,[4]Estimadores!$B$7:$B$38,0),MATCH($B325,[4]Estimadores!$D$6:$AB$6,0)),\"-\")","v":"-"},{"$f":"IFERROR(INDEX([4]Estimadores!$D$7:$AB$38,MATCH(AE$287,[4]Estimadores!$B$7:$B$38,0),MATCH($B325,[4]Estimadores!$D$6:$AB$6,0)),\"-\")","v":"-"},{"$f":"IFERROR(INDEX([4]Estimadores!$D$7:$AB$38,MATCH(AF$287,[4]Estimadores!$B$7:$B$38,0),MATCH($B325,[4]Estimadores!$D$6:$AB$6,0)),\"-\")","v":"-"},{"$f":"IFERROR(INDEX([4]Estimadores!$D$7:$AB$38,MATCH(AG$287,[4]Estimadores!$B$7:$B$38,0),MATCH($B325,[4]Estimadores!$D$6:$AB$6,0)),\"-\")","v":"-"},{"$f":"IFERROR(INDEX([4]Estimadores!$D$7:$AB$38,MATCH(AH$287,[4]Estimadores!$B$7:$B$38,0),MATCH($B325,[4]Estimadores!$D$6:$AB$6,0)),\"-\")","v":"-"},{"$f":"IFERROR(INDEX([4]Estimadores!$D$7:$AB$38,MATCH(AI$287,[4]Estimadores!$B$7:$B$38,0),MATCH($B325,[4]Estimadores!$D$6:$AB$6,0)),\"-\")","v":"-"}]
[null,null,"",{"$f":"IFERROR(INDEX([4]Estimadores!$D$7:$AB$38,MATCH(D$287,[4]Estimadores!$B$7:$B$38,0),MATCH($B326,[4]Estimadores!$D$6:$AB$6,0)),\"-\")","v":"-"},{"$f":"IFERROR(INDEX([4]Estimadores!$D$7:$AB$38,MATCH(E$287,[4]Estimadores!$B$7:$B$38,0),MATCH($B326,[4]Estimadores!$D$6:$AB$6,0)),\"-\")","v":"-"},{"$f":"IFERROR(INDEX([4]Estimadores!$D$7:$AB$38,MATCH(F$287,[4]Estimadores!$B$7:$B$38,0),MATCH($B326,[4]Estimadores!$D$6:$AB$6,0)),\"-\")","v":"-"},{"$f":"IFERROR(INDEX([4]Estimadores!$D$7:$AB$38,MATCH(G$287,[4]Estimadores!$B$7:$B$38,0),MATCH($B326,[4]Estimadores!$D$6:$AB$6,0)),\"-\")","v":"-"},{"$f":"IFERROR(INDEX([4]Estimadores!$D$7:$AB$38,MATCH(H$287,[4]Estimadores!$B$7:$B$38,0),MATCH($B326,[4]Estimadores!$D$6:$AB$6,0)),\"-\")","v":"-"},{"$f":"IFERROR(INDEX([4]Estimadores!$D$7:$AB$38,MATCH(I$287,[4]Estimadores!$B$7:$B$38,0),MATCH($B326,[4]Estimadores!$D$6:$AB$6,0)),\"-\")","v":"-"},{"$f":"IFERROR(INDEX([4]Estimadores!$D$7:$AB$38,MATCH(J$287,[4]Estimadores!$B$7:$B$38,0),MATCH($B326,[4]Estimadores!$D$6:$AB$6,0)),\"-\")","v":"-"},{"$f":"IFERROR(INDEX([4]Estimadores!$D$7:$AB$38,MATCH(K$287,[4]Estimadores!$B$7:$B$38,0),MATCH($B326,[4]Estimadores!$D$6:$AB$6,0)),\"-\")","v":"-"},{"$f":"IFERROR(INDEX([4]Estimadores!$D$7:$AB$38,MATCH(L$287,[4]Estimadores!$B$7:$B$38,0),MATCH($B326,[4]Estimadores!$D$6:$AB$6,0)),\"-\")","v":"-"},{"$f":"IFERROR(INDEX([4]Estimadores!$D$7:$AB$38,MATCH(M$287,[4]Estimadores!$B$7:$B$38,0),MATCH($B326,[4]Estimadores!$D$6:$AB$6,0)),\"-\")","v":"-"},{"$f":"IFERROR(INDEX([4]Estimadores!$D$7:$AB$38,MATCH(N$287,[4]Estimadores!$B$7:$B$38,0),MATCH($B326,[4]Estimadores!$D$6:$AB$6,0)),\"-\")","v":"-"},{"$f":"IFERROR(INDEX([4]Estimadores!$D$7:$AB$38,MATCH(O$287,[4]Estimadores!$B$7:$B$38,0),MATCH($B326,[4]Estimadores!$D$6:$AB$6,0)),\"-\")","v":"-"},{"$f":"IFERROR(INDEX([4]Estimadores!$D$7:$AB$38,MATCH(P$287,[4]Estimadores!$B$7:$B$38,0),MATCH($B326,[4]Estimadores!$D$6:$AB$6,0)),\"-\")","v":"-"},{"$f":"IFERROR(INDEX([4]Estimadores!$D$7:$AB$38,MATCH(Q$287,[4]Estimadores!$B$7:$B$38,0),MATCH($B326,[4]Estimadores!$D$6:$AB$6,0)),\"-\")","v":"-"},{"$f":"IFERROR(INDEX([4]Estimadores!$D$7:$AB$38,MATCH(R$287,[4]Estimadores!$B$7:$B$38,0),MATCH($B326,[4]Estimadores!$D$6:$AB$6,0)),\"-\")","v":"-"},{"$f":"IFERROR(INDEX([4]Estimadores!$D$7:$AB$38,MATCH(S$287,[4]Estimadores!$B$7:$B$38,0),MATCH($B326,[4]Estimadores!$D$6:$AB$6,0)),\"-\")","v":"-"},{"$f":"IFERROR(INDEX([4]Estimadores!$D$7:$AB$38,MATCH(T$287,[4]Estimadores!$B$7:$B$38,0),MATCH($B326,[4]Estimadores!$D$6:$AB$6,0)),\"-\")","v":"-"},{"$f":"IFERROR(INDEX([4]Estimadores!$D$7:$AB$38,MATCH(U$287,[4]Estimadores!$B$7:$B$38,0),MATCH($B326,[4]Estimadores!$D$6:$AB$6,0)),\"-\")","v":"-"},{"$f":"IFERROR(INDEX([4]Estimadores!$D$7:$AB$38,MATCH(V$287,[4]Estimadores!$B$7:$B$38,0),MATCH($B326,[4]Estimadores!$D$6:$AB$6,0)),\"-\")","v":"-"},{"$f":"IFERROR(INDEX([4]Estimadores!$D$7:$AB$38,MATCH(W$287,[4]Estimadores!$B$7:$B$38,0),MATCH($B326,[4]Estimadores!$D$6:$AB$6,0)),\"-\")","v":"-"},{"$f":"IFERROR(INDEX([4]Estimadores!$D$7:$AB$38,MATCH(X$287,[4]Estimadores!$B$7:$B$38,0),MATCH($B326,[4]Estimadores!$D$6:$AB$6,0)),\"-\")","v":"-"},{"$f":"IFERROR(INDEX([4]Estimadores!$D$7:$AB$38,MATCH(Y$287,[4]Estimadores!$B$7:$B$38,0),MATCH($B326,[4]Estimadores!$D$6:$AB$6,0)),\"-\")","v":"-"},{"$f":"IFERROR(INDEX([4]Estimadores!$D$7:$AB$38,MATCH(Z$287,[4]Estimadores!$B$7:$B$38,0),MATCH($B326,[4]Estimadores!$D$6:$AB$6,0)),\"-\")","v":"-"},{"$f":"IFERROR(INDEX([4]Estimadores!$D$7:$AB$38,MATCH(AA$287,[4]Estimadores!$B$7:$B$38,0),MATCH($B326,[4]Estimadores!$D$6:$AB$6,0)),\"-\")","v":"-"},{"$f":"IFERROR(INDEX([4]Estimadores!$D$7:$AB$38,MATCH(AB$287,[4]Estimadores!$B$7:$B$38,0),MATCH($B326,[4]Estimadores!$D$6:$AB$6,0)),\"-\")","v":"-"},{"$f":"IFERROR(INDEX([4]Estimadores!$D$7:$AB$38,MATCH(AC$287,[4]Estimadores!$B$7:$B$38,0),MATCH($B326,[4]Estimadores!$D$6:$AB$6,0)),\"-\")","v":"-"},{"$f":"IFERROR(INDEX([4]Estimadores!$D$7:$AB$38,MATCH(AD$287,[4]Estimadores!$B$7:$B$38,0),MATCH($B326,[4]Estimadores!$D$6:$AB$6,0)),\"-\")","v":"-"},{"$f":"IFERROR(INDEX([4]Estimadores!$D$7:$AB$38,MATCH(AE$287,[4]Estimadores!$B$7:$B$38,0),MATCH($B326,[4]Estimadores!$D$6:$AB$6,0)),\"-\")","v":"-"},{"$f":"IFERROR(INDEX([4]Estimadores!$D$7:$AB$38,MATCH(AF$287,[4]Estimadores!$B$7:$B$38,0),MATCH($B326,[4]Estimadores!$D$6:$AB$6,0)),\"-\")","v":"-"},{"$f":"IFERROR(INDEX([4]Estimadores!$D$7:$AB$38,MATCH(AG$287,[4]Estimadores!$B$7:$B$38,0),MATCH($B326,[4]Estimadores!$D$6:$AB$6,0)),\"-\")","v":"-"},{"$f":"IFERROR(INDEX([4]Estimadores!$D$7:$AB$38,MATCH(AH$287,[4]Estimadores!$B$7:$B$38,0),MATCH($B326,[4]Estimadores!$D$6:$AB$6,0)),\"-\")","v":"-"},{"$f":"IFERROR(INDEX([4]Estimadores!$D$7:$AB$38,MATCH(AI$287,[4]Estimadores!$B$7:$B$38,0),MATCH($B326,[4]Estimadores!$D$6:$AB$6,0)),\"-\")","v":"-"}]
[null,null,"",{"$f":"IFERROR(INDEX([4]Estimadores!$D$7:$AB$38,MATCH(D$287,[4]Estimadores!$B$7:$B$38,0),MATCH($B327,[4]Estimadores!$D$6:$AB$6,0)),\"-\")","v":"-"},{"$f":"IFERROR(INDEX([4]Estimadores!$D$7:$AB$38,MATCH(E$287,[4]Estimadores!$B$7:$B$38,0),MATCH($B327,[4]Estimadores!$D$6:$AB$6,0)),\"-\")","v":"-"},{"$f":"IFERROR(INDEX([4]Estimadores!$D$7:$AB$38,MATCH(F$287,[4]Estimadores!$B$7:$B$38,0),MATCH($B327,[4]Estimadores!$D$6:$AB$6,0)),\"-\")","v":"-"},{"$f":"IFERROR(INDEX([4]Estimadores!$D$7:$AB$38,MATCH(G$287,[4]Estimadores!$B$7:$B$38,0),MATCH($B327,[4]Estimadores!$D$6:$AB$6,0)),\"-\")","v":"-"},{"$f":"IFERROR(INDEX([4]Estimadores!$D$7:$AB$38,MATCH(H$287,[4]Estimadores!$B$7:$B$38,0),MATCH($B327,[4]Estimadores!$D$6:$AB$6,0)),\"-\")","v":"-"},{"$f":"IFERROR(INDEX([4]Estimadores!$D$7:$AB$38,MATCH(I$287,[4]Estimadores!$B$7:$B$38,0),MATCH($B327,[4]Estimadores!$D$6:$AB$6,0)),\"-\")","v":"-"},{"$f":"IFERROR(INDEX([4]Estimadores!$D$7:$AB$38,MATCH(J$287,[4]Estimadores!$B$7:$B$38,0),MATCH($B327,[4]Estimadores!$D$6:$AB$6,0)),\"-\")","v":"-"},{"$f":"IFERROR(INDEX([4]Estimadores!$D$7:$AB$38,MATCH(K$287,[4]Estimadores!$B$7:$B$38,0),MATCH($B327,[4]Estimadores!$D$6:$AB$6,0)),\"-\")","v":"-"},{"$f":"IFERROR(INDEX([4]Estimadores!$D$7:$AB$38,MATCH(L$287,[4]Estimadores!$B$7:$B$38,0),MATCH($B327,[4]Estimadores!$D$6:$AB$6,0)),\"-\")","v":"-"},{"$f":"IFERROR(INDEX([4]Estimadores!$D$7:$AB$38,MATCH(M$287,[4]Estimadores!$B$7:$B$38,0),MATCH($B327,[4]Estimadores!$D$6:$AB$6,0)),\"-\")","v":"-"},{"$f":"IFERROR(INDEX([4]Estimadores!$D$7:$AB$38,MATCH(N$287,[4]Estimadores!$B$7:$B$38,0),MATCH($B327,[4]Estimadores!$D$6:$AB$6,0)),\"-\")","v":"-"},{"$f":"IFERROR(INDEX([4]Estimadores!$D$7:$AB$38,MATCH(O$287,[4]Estimadores!$B$7:$B$38,0),MATCH($B327,[4]Estimadores!$D$6:$AB$6,0)),\"-\")","v":"-"},{"$f":"IFERROR(INDEX([4]Estimadores!$D$7:$AB$38,MATCH(P$287,[4]Estimadores!$B$7:$B$38,0),MATCH($B327,[4]Estimadores!$D$6:$AB$6,0)),\"-\")","v":"-"},{"$f":"IFERROR(INDEX([4]Estimadores!$D$7:$AB$38,MATCH(Q$287,[4]Estimadores!$B$7:$B$38,0),MATCH($B327,[4]Estimadores!$D$6:$AB$6,0)),\"-\")","v":"-"},{"$f":"IFERROR(INDEX([4]Estimadores!$D$7:$AB$38,MATCH(R$287,[4]Estimadores!$B$7:$B$38,0),MATCH($B327,[4]Estimadores!$D$6:$AB$6,0)),\"-\")","v":"-"},{"$f":"IFERROR(INDEX([4]Estimadores!$D$7:$AB$38,MATCH(S$287,[4]Estimadores!$B$7:$B$38,0),MATCH($B327,[4]Estimadores!$D$6:$AB$6,0)),\"-\")","v":"-"},{"$f":"IFERROR(INDEX([4]Estimadores!$D$7:$AB$38,MATCH(T$287,[4]Estimadores!$B$7:$B$38,0),MATCH($B327,[4]Estimadores!$D$6:$AB$6,0)),\"-\")","v":"-"},{"$f":"IFERROR(INDEX([4]Estimadores!$D$7:$AB$38,MATCH(U$287,[4]Estimadores!$B$7:$B$38,0),MATCH($B327,[4]Estimadores!$D$6:$AB$6,0)),\"-\")","v":"-"},{"$f":"IFERROR(INDEX([4]Estimadores!$D$7:$AB$38,MATCH(V$287,[4]Estimadores!$B$7:$B$38,0),MATCH($B327,[4]Estimadores!$D$6:$AB$6,0)),\"-\")","v":"-"},{"$f":"IFERROR(INDEX([4]Estimadores!$D$7:$AB$38,MATCH(W$287,[4]Estimadores!$B$7:$B$38,0),MATCH($B327,[4]Estimadores!$D$6:$AB$6,0)),\"-\")","v":"-"},{"$f":"IFERROR(INDEX([4]Estimadores!$D$7:$AB$38,MATCH(X$287,[4]Estimadores!$B$7:$B$38,0),MATCH($B327,[4]Estimadores!$D$6:$AB$6,0)),\"-\")","v":"-"},{"$f":"IFERROR(INDEX([4]Estimadores!$D$7:$AB$38,MATCH(Y$287,[4]Estimadores!$B$7:$B$38,0),MATCH($B327,[4]Estimadores!$D$6:$AB$6,0)),\"-\")","v":"-"},{"$f":"IFERROR(INDEX([4]Estimadores!$D$7:$AB$38,MATCH(Z$287,[4]Estimadores!$B$7:$B$38,0),MATCH($B327,[4]Estimadores!$D$6:$AB$6,0)),\"-\")","v":"-"},{"$f":"IFERROR(INDEX([4]Estimadores!$D$7:$AB$38,MATCH(AA$287,[4]Estimadores!$B$7:$B$38,0),MATCH($B327,[4]Estimadores!$D$6:$AB$6,0)),\"-\")","v":"-"},{"$f":"IFERROR(INDEX([4]Estimadores!$D$7:$AB$38,MATCH(AB$287,[4]Estimadores!$B$7:$B$38,0),MATCH($B327,[4]Estimadores!$D$6:$AB$6,0)),\"-\")","v":"-"},{"$f":"IFERROR(INDEX([4]Estimadores!$D$7:$AB$38,MATCH(AC$287,[4]Estimadores!$B$7:$B$38,0),MATCH($B327,[4]Estimadores!$D$6:$AB$6,0)),\"-\")","v":"-"},{"$f":"IFERROR(INDEX([4]Estimadores!$D$7:$AB$38,MATCH(AD$287,[4]Estimadores!$B$7:$B$38,0),MATCH($B327,[4]Estimadores!$D$6:$AB$6,0)),\"-\")","v":"-"},{"$f":"IFERROR(INDEX([4]Estimadores!$D$7:$AB$38,MATCH(AE$287,[4]Estimadores!$B$7:$B$38,0),MATCH($B327,[4]Estimadores!$D$6:$AB$6,0)),\"-\")","v":"-"},{"$f":"IFERROR(INDEX([4]Estimadores!$D$7:$AB$38,MATCH(AF$287,[4]Estimadores!$B$7:$B$38,0),MATCH($B327,[4]Estimadores!$D$6:$AB$6,0)),\"-\")","v":"-"},{"$f":"IFERROR(INDEX([4]Estimadores!$D$7:$AB$38,MATCH(AG$287,[4]Estimadores!$B$7:$B$38,0),MATCH($B327,[4]Estimadores!$D$6:$AB$6,0)),\"-\")","v":"-"},{"$f":"IFERROR(INDEX([4]Estimadores!$D$7:$AB$38,MATCH(AH$287,[4]Estimadores!$B$7:$B$38,0),MATCH($B327,[4]Estimadores!$D$6:$AB$6,0)),\"-\")","v":"-"},{"$f":"IFERROR(INDEX([4]Estimadores!$D$7:$AB$38,MATCH(AI$287,[4]Estimadores!$B$7:$B$38,0),MATCH($B327,[4]Estimadores!$D$6:$AB$6,0)),\"-\")","v":"-"}]
[null,null,"",{"$f":"IFERROR(INDEX([4]Estimadores!$D$7:$AB$38,MATCH(D$287,[4]Estimadores!$B$7:$B$38,0),MATCH($B328,[4]Estimadores!$D$6:$AB$6,0)),\"-\")","v":"-"},{"$f":"IFERROR(INDEX([4]Estimadores!$D$7:$AB$38,MATCH(E$287,[4]Estimadores!$B$7:$B$38,0),MATCH($B328,[4]Estimadores!$D$6:$AB$6,0)),\"-\")","v":"-"},{"$f":"IFERROR(INDEX([4]Estimadores!$D$7:$AB$38,MATCH(F$287,[4]Estimadores!$B$7:$B$38,0),MATCH($B328,[4]Estimadores!$D$6:$AB$6,0)),\"-\")","v":"-"},{"$f":"IFERROR(INDEX([4]Estimadores!$D$7:$AB$38,MATCH(G$287,[4]Estimadores!$B$7:$B$38,0),MATCH($B328,[4]Estimadores!$D$6:$AB$6,0)),\"-\")","v":"-"},{"$f":"IFERROR(INDEX([4]Estimadores!$D$7:$AB$38,MATCH(H$287,[4]Estimadores!$B$7:$B$38,0),MATCH($B328,[4]Estimadores!$D$6:$AB$6,0)),\"-\")","v":"-"},{"$f":"IFERROR(INDEX([4]Estimadores!$D$7:$AB$38,MATCH(I$287,[4]Estimadores!$B$7:$B$38,0),MATCH($B328,[4]Estimadores!$D$6:$AB$6,0)),\"-\")","v":"-"},{"$f":"IFERROR(INDEX([4]Estimadores!$D$7:$AB$38,MATCH(J$287,[4]Estimadores!$B$7:$B$38,0),MATCH($B328,[4]Estimadores!$D$6:$AB$6,0)),\"-\")","v":"-"},{"$f":"IFERROR(INDEX([4]Estimadores!$D$7:$AB$38,MATCH(K$287,[4]Estimadores!$B$7:$B$38,0),MATCH($B328,[4]Estimadores!$D$6:$AB$6,0)),\"-\")","v":"-"},{"$f":"IFERROR(INDEX([4]Estimadores!$D$7:$AB$38,MATCH(L$287,[4]Estimadores!$B$7:$B$38,0),MATCH($B328,[4]Estimadores!$D$6:$AB$6,0)),\"-\")","v":"-"},{"$f":"IFERROR(INDEX([4]Estimadores!$D$7:$AB$38,MATCH(M$287,[4]Estimadores!$B$7:$B$38,0),MATCH($B328,[4]Estimadores!$D$6:$AB$6,0)),\"-\")","v":"-"},{"$f":"IFERROR(INDEX([4]Estimadores!$D$7:$AB$38,MATCH(N$287,[4]Estimadores!$B$7:$B$38,0),MATCH($B328,[4]Estimadores!$D$6:$AB$6,0)),\"-\")","v":"-"},{"$f":"IFERROR(INDEX([4]Estimadores!$D$7:$AB$38,MATCH(O$287,[4]Estimadores!$B$7:$B$38,0),MATCH($B328,[4]Estimadores!$D$6:$AB$6,0)),\"-\")","v":"-"},{"$f":"IFERROR(INDEX([4]Estimadores!$D$7:$AB$38,MATCH(P$287,[4]Estimadores!$B$7:$B$38,0),MATCH($B328,[4]Estimadores!$D$6:$AB$6,0)),\"-\")","v":"-"},{"$f":"IFERROR(INDEX([4]Estimadores!$D$7:$AB$38,MATCH(Q$287,[4]Estimadores!$B$7:$B$38,0),MATCH($B328,[4]Estimadores!$D$6:$AB$6,0)),\"-\")","v":"-"},{"$f":"IFERROR(INDEX([4]Estimadores!$D$7:$AB$38,MATCH(R$287,[4]Estimadores!$B$7:$B$38,0),MATCH($B328,[4]Estimadores!$D$6:$AB$6,0)),\"-\")","v":"-"},{"$f":"IFERROR(INDEX([4]Estimadores!$D$7:$AB$38,MATCH(S$287,[4]Estimadores!$B$7:$B$38,0),MATCH($B328,[4]Estimadores!$D$6:$AB$6,0)),\"-\")","v":"-"},{"$f":"IFERROR(INDEX([4]Estimadores!$D$7:$AB$38,MATCH(T$287,[4]Estimadores!$B$7:$B$38,0),MATCH($B328,[4]Estimadores!$D$6:$AB$6,0)),\"-\")","v":"-"},{"$f":"IFERROR(INDEX([4]Estimadores!$D$7:$AB$38,MATCH(U$287,[4]Estimadores!$B$7:$B$38,0),MATCH($B328,[4]Estimadores!$D$6:$AB$6,0)),\"-\")","v":"-"},{"$f":"IFERROR(INDEX([4]Estimadores!$D$7:$AB$38,MATCH(V$287,[4]Estimadores!$B$7:$B$38,0),MATCH($B328,[4]Estimadores!$D$6:$AB$6,0)),\"-\")","v":"-"},{"$f":"IFERROR(INDEX([4]Estimadores!$D$7:$AB$38,MATCH(W$287,[4]Estimadores!$B$7:$B$38,0),MATCH($B328,[4]Estimadores!$D$6:$AB$6,0)),\"-\")","v":"-"},{"$f":"IFERROR(INDEX([4]Estimadores!$D$7:$AB$38,MATCH(X$287,[4]Estimadores!$B$7:$B$38,0),MATCH($B328,[4]Estimadores!$D$6:$AB$6,0)),\"-\")","v":"-"},{"$f":"IFERROR(INDEX([4]Estimadores!$D$7:$AB$38,MATCH(Y$287,[4]Estimadores!$B$7:$B$38,0),MATCH($B328,[4]Estimadores!$D$6:$AB$6,0)),\"-\")","v":"-"},{"$f":"IFERROR(INDEX([4]Estimadores!$D$7:$AB$38,MATCH(Z$287,[4]Estimadores!$B$7:$B$38,0),MATCH($B328,[4]Estimadores!$D$6:$AB$6,0)),\"-\")","v":"-"},{"$f":"IFERROR(INDEX([4]Estimadores!$D$7:$AB$38,MATCH(AA$287,[4]Estimadores!$B$7:$B$38,0),MATCH($B328,[4]Estimadores!$D$6:$AB$6,0)),\"-\")","v":"-"},{"$f":"IFERROR(INDEX([4]Estimadores!$D$7:$AB$38,MATCH(AB$287,[4]Estimadores!$B$7:$B$38,0),MATCH($B328,[4]Estimadores!$D$6:$AB$6,0)),\"-\")","v":"-"},{"$f":"IFERROR(INDEX([4]Estimadores!$D$7:$AB$38,MATCH(AC$287,[4]Estimadores!$B$7:$B$38,0),MATCH($B328,[4]Estimadores!$D$6:$AB$6,0)),\"-\")","v":"-"},{"$f":"IFERROR(INDEX([4]Estimadores!$D$7:$AB$38,MATCH(AD$287,[4]Estimadores!$B$7:$B$38,0),MATCH($B328,[4]Estimadores!$D$6:$AB$6,0)),\"-\")","v":"-"},{"$f":"IFERROR(INDEX([4]Estimadores!$D$7:$AB$38,MATCH(AE$287,[4]Estimadores!$B$7:$B$38,0),MATCH($B328,[4]Estimadores!$D$6:$AB$6,0)),\"-\")","v":"-"},{"$f":"IFERROR(INDEX([4]Estimadores!$D$7:$AB$38,MATCH(AF$287,[4]Estimadores!$B$7:$B$38,0),MATCH($B328,[4]Estimadores!$D$6:$AB$6,0)),\"-\")","v":"-"},{"$f":"IFERROR(INDEX([4]Estimadores!$D$7:$AB$38,MATCH(AG$287,[4]Estimadores!$B$7:$B$38,0),MATCH($B328,[4]Estimadores!$D$6:$AB$6,0)),\"-\")","v":"-"},{"$f":"IFERROR(INDEX([4]Estimadores!$D$7:$AB$38,MATCH(AH$287,[4]Estimadores!$B$7:$B$38,0),MATCH($B328,[4]Estimadores!$D$6:$AB$6,0)),\"-\")","v":"-"},{"$f":"IFERROR(INDEX([4]Estimadores!$D$7:$AB$38,MATCH(AI$287,[4]Estimadores!$B$7:$B$38,0),MATCH($B328,[4]Estimadores!$D$6:$AB$6,0)),\"-\")","v":"-"}]
[null,null,{"$f":"C264","v":""},{"$f":"IFERROR(INDEX([4]Estimadores!$D$7:$AB$38,MATCH(D$287,[4]Estimadores!$B$7:$B$38,0),MATCH($B329,[4]Estimadores!$D$6:$AB$6,0)),\"-\")","v":"-"},{"$f":"IFERROR(INDEX([4]Estimadores!$D$7:$AB$38,MATCH(E$287,[4]Estimadores!$B$7:$B$38,0),MATCH($B329,[4]Estimadores!$D$6:$AB$6,0)),\"-\")","v":"-"},{"$f":"IFERROR(INDEX([4]Estimadores!$D$7:$AB$38,MATCH(F$287,[4]Estimadores!$B$7:$B$38,0),MATCH($B329,[4]Estimadores!$D$6:$AB$6,0)),\"-\")","v":"-"},{"$f":"IFERROR(INDEX([4]Estimadores!$D$7:$AB$38,MATCH(G$287,[4]Estimadores!$B$7:$B$38,0),MATCH($B329,[4]Estimadores!$D$6:$AB$6,0)),\"-\")","v":"-"},{"$f":"IFERROR(INDEX([4]Estimadores!$D$7:$AB$38,MATCH(H$287,[4]Estimadores!$B$7:$B$38,0),MATCH($B329,[4]Estimadores!$D$6:$AB$6,0)),\"-\")","v":"-"},{"$f":"IFERROR(INDEX([4]Estimadores!$D$7:$AB$38,MATCH(I$287,[4]Estimadores!$B$7:$B$38,0),MATCH($B329,[4]Estimadores!$D$6:$AB$6,0)),\"-\")","v":"-"},{"$f":"IFERROR(INDEX([4]Estimadores!$D$7:$AB$38,MATCH(J$287,[4]Estimadores!$B$7:$B$38,0),MATCH($B329,[4]Estimadores!$D$6:$AB$6,0)),\"-\")","v":"-"},{"$f":"IFERROR(INDEX([4]Estimadores!$D$7:$AB$38,MATCH(K$287,[4]Estimadores!$B$7:$B$38,0),MATCH($B329,[4]Estimadores!$D$6:$AB$6,0)),\"-\")","v":"-"},{"$f":"IFERROR(INDEX([4]Estimadores!$D$7:$AB$38,MATCH(L$287,[4]Estimadores!$B$7:$B$38,0),MATCH($B329,[4]Estimadores!$D$6:$AB$6,0)),\"-\")","v":"-"},{"$f":"IFERROR(INDEX([4]Estimadores!$D$7:$AB$38,MATCH(M$287,[4]Estimadores!$B$7:$B$38,0),MATCH($B329,[4]Estimadores!$D$6:$AB$6,0)),\"-\")","v":"-"},{"$f":"IFERROR(INDEX([4]Estimadores!$D$7:$AB$38,MATCH(N$287,[4]Estimadores!$B$7:$B$38,0),MATCH($B329,[4]Estimadores!$D$6:$AB$6,0)),\"-\")","v":"-"},{"$f":"IFERROR(INDEX([4]Estimadores!$D$7:$AB$38,MATCH(O$287,[4]Estimadores!$B$7:$B$38,0),MATCH($B329,[4]Estimadores!$D$6:$AB$6,0)),\"-\")","v":"-"},{"$f":"IFERROR(INDEX([4]Estimadores!$D$7:$AB$38,MATCH(P$287,[4]Estimadores!$B$7:$B$38,0),MATCH($B329,[4]Estimadores!$D$6:$AB$6,0)),\"-\")","v":"-"},{"$f":"IFERROR(INDEX([4]Estimadores!$D$7:$AB$38,MATCH(Q$287,[4]Estimadores!$B$7:$B$38,0),MATCH($B329,[4]Estimadores!$D$6:$AB$6,0)),\"-\")","v":"-"},{"$f":"IFERROR(INDEX([4]Estimadores!$D$7:$AB$38,MATCH(R$287,[4]Estimadores!$B$7:$B$38,0),MATCH($B329,[4]Estimadores!$D$6:$AB$6,0)),\"-\")","v":"-"},{"$f":"IFERROR(INDEX([4]Estimadores!$D$7:$AB$38,MATCH(S$287,[4]Estimadores!$B$7:$B$38,0),MATCH($B329,[4]Estimadores!$D$6:$AB$6,0)),\"-\")","v":"-"},{"$f":"IFERROR(INDEX([4]Estimadores!$D$7:$AB$38,MATCH(T$287,[4]Estimadores!$B$7:$B$38,0),MATCH($B329,[4]Estimadores!$D$6:$AB$6,0)),\"-\")","v":"-"},{"$f":"IFERROR(INDEX([4]Estimadores!$D$7:$AB$38,MATCH(U$287,[4]Estimadores!$B$7:$B$38,0),MATCH($B329,[4]Estimadores!$D$6:$AB$6,0)),\"-\")","v":"-"},{"$f":"IFERROR(INDEX([4]Estimadores!$D$7:$AB$38,MATCH(V$287,[4]Estimadores!$B$7:$B$38,0),MATCH($B329,[4]Estimadores!$D$6:$AB$6,0)),\"-\")","v":"-"},{"$f":"IFERROR(INDEX([4]Estimadores!$D$7:$AB$38,MATCH(W$287,[4]Estimadores!$B$7:$B$38,0),MATCH($B329,[4]Estimadores!$D$6:$AB$6,0)),\"-\")","v":"-"},{"$f":"IFERROR(INDEX([4]Estimadores!$D$7:$AB$38,MATCH(X$287,[4]Estimadores!$B$7:$B$38,0),MATCH($B329,[4]Estimadores!$D$6:$AB$6,0)),\"-\")","v":"-"},{"$f":"IFERROR(INDEX([4]Estimadores!$D$7:$AB$38,MATCH(Y$287,[4]Estimadores!$B$7:$B$38,0),MATCH($B329,[4]Estimadores!$D$6:$AB$6,0)),\"-\")","v":"-"},{"$f":"IFERROR(INDEX([4]Estimadores!$D$7:$AB$38,MATCH(Z$287,[4]Estimadores!$B$7:$B$38,0),MATCH($B329,[4]Estimadores!$D$6:$AB$6,0)),\"-\")","v":"-"},{"$f":"IFERROR(INDEX([4]Estimadores!$D$7:$AB$38,MATCH(AA$287,[4]Estimadores!$B$7:$B$38,0),MATCH($B329,[4]Estimadores!$D$6:$AB$6,0)),\"-\")","v":"-"},{"$f":"IFERROR(INDEX([4]Estimadores!$D$7:$AB$38,MATCH(AB$287,[4]Estimadores!$B$7:$B$38,0),MATCH($B329,[4]Estimadores!$D$6:$AB$6,0)),\"-\")","v":"-"},{"$f":"IFERROR(INDEX([4]Estimadores!$D$7:$AB$38,MATCH(AC$287,[4]Estimadores!$B$7:$B$38,0),MATCH($B329,[4]Estimadores!$D$6:$AB$6,0)),\"-\")","v":"-"},{"$f":"IFERROR(INDEX([4]Estimadores!$D$7:$AB$38,MATCH(AD$287,[4]Estimadores!$B$7:$B$38,0),MATCH($B329,[4]Estimadores!$D$6:$AB$6,0)),\"-\")","v":"-"},{"$f":"IFERROR(INDEX([4]Estimadores!$D$7:$AB$38,MATCH(AE$287,[4]Estimadores!$B$7:$B$38,0),MATCH($B329,[4]Estimadores!$D$6:$AB$6,0)),\"-\")","v":"-"},{"$f":"IFERROR(INDEX([4]Estimadores!$D$7:$AB$38,MATCH(AF$287,[4]Estimadores!$B$7:$B$38,0),MATCH($B329,[4]Estimadores!$D$6:$AB$6,0)),\"-\")","v":"-"},{"$f":"IFERROR(INDEX([4]Estimadores!$D$7:$AB$38,MATCH(AG$287,[4]Estimadores!$B$7:$B$38,0),MATCH($B329,[4]Estimadores!$D$6:$AB$6,0)),\"-\")","v":"-"},{"$f":"IFERROR(INDEX([4]Estimadores!$D$7:$AB$38,MATCH(AH$287,[4]Estimadores!$B$7:$B$38,0),MATCH($B329,[4]Estimadores!$D$6:$AB$6,0)),\"-\")","v":"-"},{"$f":"IFERROR(INDEX([4]Estimadores!$D$7:$AB$38,MATCH(AI$287,[4]Estimadores!$B$7:$B$38,0),MATCH($B329,[4]Estimadores!$D$6:$AB$6,0)),\"-\")","v":"-"}]
[null,null,{"$f":"C265","v":""},{"$f":"IFERROR(INDEX([4]Estimadores!$D$7:$AB$38,MATCH(D$287,[4]Estimadores!$B$7:$B$38,0),MATCH($B330,[4]Estimadores!$D$6:$AB$6,0)),\"-\")","v":"-"},{"$f":"IFERROR(INDEX([4]Estimadores!$D$7:$AB$38,MATCH(E$287,[4]Estimadores!$B$7:$B$38,0),MATCH($B330,[4]Estimadores!$D$6:$AB$6,0)),\"-\")","v":"-"},{"$f":"IFERROR(INDEX([4]Estimadores!$D$7:$AB$38,MATCH(F$287,[4]Estimadores!$B$7:$B$38,0),MATCH($B330,[4]Estimadores!$D$6:$AB$6,0)),\"-\")","v":"-"},{"$f":"IFERROR(INDEX([4]Estimadores!$D$7:$AB$38,MATCH(G$287,[4]Estimadores!$B$7:$B$38,0),MATCH($B330,[4]Estimadores!$D$6:$AB$6,0)),\"-\")","v":"-"},{"$f":"IFERROR(INDEX([4]Estimadores!$D$7:$AB$38,MATCH(H$287,[4]Estimadores!$B$7:$B$38,0),MATCH($B330,[4]Estimadores!$D$6:$AB$6,0)),\"-\")","v":"-"},{"$f":"IFERROR(INDEX([4]Estimadores!$D$7:$AB$38,MATCH(I$287,[4]Estimadores!$B$7:$B$38,0),MATCH($B330,[4]Estimadores!$D$6:$AB$6,0)),\"-\")","v":"-"},{"$f":"IFERROR(INDEX([4]Estimadores!$D$7:$AB$38,MATCH(J$287,[4]Estimadores!$B$7:$B$38,0),MATCH($B330,[4]Estimadores!$D$6:$AB$6,0)),\"-\")","v":"-"},{"$f":"IFERROR(INDEX([4]Estimadores!$D$7:$AB$38,MATCH(K$287,[4]Estimadores!$B$7:$B$38,0),MATCH($B330,[4]Estimadores!$D$6:$AB$6,0)),\"-\")","v":"-"},{"$f":"IFERROR(INDEX([4]Estimadores!$D$7:$AB$38,MATCH(L$287,[4]Estimadores!$B$7:$B$38,0),MATCH($B330,[4]Estimadores!$D$6:$AB$6,0)),\"-\")","v":"-"},{"$f":"IFERROR(INDEX([4]Estimadores!$D$7:$AB$38,MATCH(M$287,[4]Estimadores!$B$7:$B$38,0),MATCH($B330,[4]Estimadores!$D$6:$AB$6,0)),\"-\")","v":"-"},{"$f":"IFERROR(INDEX([4]Estimadores!$D$7:$AB$38,MATCH(N$287,[4]Estimadores!$B$7:$B$38,0),MATCH($B330,[4]Estimadores!$D$6:$AB$6,0)),\"-\")","v":"-"},{"$f":"IFERROR(INDEX([4]Estimadores!$D$7:$AB$38,MATCH(O$287,[4]Estimadores!$B$7:$B$38,0),MATCH($B330,[4]Estimadores!$D$6:$AB$6,0)),\"-\")","v":"-"},{"$f":"IFERROR(INDEX([4]Estimadores!$D$7:$AB$38,MATCH(P$287,[4]Estimadores!$B$7:$B$38,0),MATCH($B330,[4]Estimadores!$D$6:$AB$6,0)),\"-\")","v":"-"},{"$f":"IFERROR(INDEX([4]Estimadores!$D$7:$AB$38,MATCH(Q$287,[4]Estimadores!$B$7:$B$38,0),MATCH($B330,[4]Estimadores!$D$6:$AB$6,0)),\"-\")","v":"-"},{"$f":"IFERROR(INDEX([4]Estimadores!$D$7:$AB$38,MATCH(R$287,[4]Estimadores!$B$7:$B$38,0),MATCH($B330,[4]Estimadores!$D$6:$AB$6,0)),\"-\")","v":"-"},{"$f":"IFERROR(INDEX([4]Estimadores!$D$7:$AB$38,MATCH(S$287,[4]Estimadores!$B$7:$B$38,0),MATCH($B330,[4]Estimadores!$D$6:$AB$6,0)),\"-\")","v":"-"},{"$f":"IFERROR(INDEX([4]Estimadores!$D$7:$AB$38,MATCH(T$287,[4]Estimadores!$B$7:$B$38,0),MATCH($B330,[4]Estimadores!$D$6:$AB$6,0)),\"-\")","v":"-"},{"$f":"IFERROR(INDEX([4]Estimadores!$D$7:$AB$38,MATCH(U$287,[4]Estimadores!$B$7:$B$38,0),MATCH($B330,[4]Estimadores!$D$6:$AB$6,0)),\"-\")","v":"-"},{"$f":"IFERROR(INDEX([4]Estimadores!$D$7:$AB$38,MATCH(V$287,[4]Estimadores!$B$7:$B$38,0),MATCH($B330,[4]Estimadores!$D$6:$AB$6,0)),\"-\")","v":"-"},{"$f":"IFERROR(INDEX([4]Estimadores!$D$7:$AB$38,MATCH(W$287,[4]Estimadores!$B$7:$B$38,0),MATCH($B330,[4]Estimadores!$D$6:$AB$6,0)),\"-\")","v":"-"},{"$f":"IFERROR(INDEX([4]Estimadores!$D$7:$AB$38,MATCH(X$287,[4]Estimadores!$B$7:$B$38,0),MATCH($B330,[4]Estimadores!$D$6:$AB$6,0)),\"-\")","v":"-"},{"$f":"IFERROR(INDEX([4]Estimadores!$D$7:$AB$38,MATCH(Y$287,[4]Estimadores!$B$7:$B$38,0),MATCH($B330,[4]Estimadores!$D$6:$AB$6,0)),\"-\")","v":"-"},{"$f":"IFERROR(INDEX([4]Estimadores!$D$7:$AB$38,MATCH(Z$287,[4]Estimadores!$B$7:$B$38,0),MATCH($B330,[4]Estimadores!$D$6:$AB$6,0)),\"-\")","v":"-"},{"$f":"IFERROR(INDEX([4]Estimadores!$D$7:$AB$38,MATCH(AA$287,[4]Estimadores!$B$7:$B$38,0),MATCH($B330,[4]Estimadores!$D$6:$AB$6,0)),\"-\")","v":"-"},{"$f":"IFERROR(INDEX([4]Estimadores!$D$7:$AB$38,MATCH(AB$287,[4]Estimadores!$B$7:$B$38,0),MATCH($B330,[4]Estimadores!$D$6:$AB$6,0)),\"-\")","v":"-"},{"$f":"IFERROR(INDEX([4]Estimadores!$D$7:$AB$38,MATCH(AC$287,[4]Estimadores!$B$7:$B$38,0),MATCH($B330,[4]Estimadores!$D$6:$AB$6,0)),\"-\")","v":"-"},{"$f":"IFERROR(INDEX([4]Estimadores!$D$7:$AB$38,MATCH(AD$287,[4]Estimadores!$B$7:$B$38,0),MATCH($B330,[4]Estimadores!$D$6:$AB$6,0)),\"-\")","v":"-"},{"$f":"IFERROR(INDEX([4]Estimadores!$D$7:$AB$38,MATCH(AE$287,[4]Estimadores!$B$7:$B$38,0),MATCH($B330,[4]Estimadores!$D$6:$AB$6,0)),\"-\")","v":"-"},{"$f":"IFERROR(INDEX([4]Estimadores!$D$7:$AB$38,MATCH(AF$287,[4]Estimadores!$B$7:$B$38,0),MATCH($B330,[4]Estimadores!$D$6:$AB$6,0)),\"-\")","v":"-"},{"$f":"IFERROR(INDEX([4]Estimadores!$D$7:$AB$38,MATCH(AG$287,[4]Estimadores!$B$7:$B$38,0),MATCH($B330,[4]Estimadores!$D$6:$AB$6,0)),\"-\")","v":"-"},{"$f":"IFERROR(INDEX([4]Estimadores!$D$7:$AB$38,MATCH(AH$287,[4]Estimadores!$B$7:$B$38,0),MATCH($B330,[4]Estimadores!$D$6:$AB$6,0)),\"-\")","v":"-"},{"$f":"IFERROR(INDEX([4]Estimadores!$D$7:$AB$38,MATCH(AI$287,[4]Estimadores!$B$7:$B$38,0),MATCH($B330,[4]Estimadores!$D$6:$AB$6,0)),\"-\")","v":"-"}]
[null,null,"",{"$f":"IFERROR(INDEX([4]Estimadores!$D$7:$AB$38,MATCH(D$287,[4]Estimadores!$B$7:$B$38,0),MATCH($B331,[4]Estimadores!$D$6:$AB$6,0)),\"-\")","v":"-"},{"$f":"IFERROR(INDEX([4]Estimadores!$D$7:$AB$38,MATCH(E$287,[4]Estimadores!$B$7:$B$38,0),MATCH($B331,[4]Estimadores!$D$6:$AB$6,0)),\"-\")","v":"-"},{"$f":"IFERROR(INDEX([4]Estimadores!$D$7:$AB$38,MATCH(F$287,[4]Estimadores!$B$7:$B$38,0),MATCH($B331,[4]Estimadores!$D$6:$AB$6,0)),\"-\")","v":"-"},{"$f":"IFERROR(INDEX([4]Estimadores!$D$7:$AB$38,MATCH(G$287,[4]Estimadores!$B$7:$B$38,0),MATCH($B331,[4]Estimadores!$D$6:$AB$6,0)),\"-\")","v":"-"},{"$f":"IFERROR(INDEX([4]Estimadores!$D$7:$AB$38,MATCH(H$287,[4]Estimadores!$B$7:$B$38,0),MATCH($B331,[4]Estimadores!$D$6:$AB$6,0)),\"-\")","v":"-"},{"$f":"IFERROR(INDEX([4]Estimadores!$D$7:$AB$38,MATCH(I$287,[4]Estimadores!$B$7:$B$38,0),MATCH($B331,[4]Estimadores!$D$6:$AB$6,0)),\"-\")","v":"-"},{"$f":"IFERROR(INDEX([4]Estimadores!$D$7:$AB$38,MATCH(J$287,[4]Estimadores!$B$7:$B$38,0),MATCH($B331,[4]Estimadores!$D$6:$AB$6,0)),\"-\")","v":"-"},{"$f":"IFERROR(INDEX([4]Estimadores!$D$7:$AB$38,MATCH(K$287,[4]Estimadores!$B$7:$B$38,0),MATCH($B331,[4]Estimadores!$D$6:$AB$6,0)),\"-\")","v":"-"},{"$f":"IFERROR(INDEX([4]Estimadores!$D$7:$AB$38,MATCH(L$287,[4]Estimadores!$B$7:$B$38,0),MATCH($B331,[4]Estimadores!$D$6:$AB$6,0)),\"-\")","v":"-"},{"$f":"IFERROR(INDEX([4]Estimadores!$D$7:$AB$38,MATCH(M$287,[4]Estimadores!$B$7:$B$38,0),MATCH($B331,[4]Estimadores!$D$6:$AB$6,0)),\"-\")","v":"-"},{"$f":"IFERROR(INDEX([4]Estimadores!$D$7:$AB$38,MATCH(N$287,[4]Estimadores!$B$7:$B$38,0),MATCH($B331,[4]Estimadores!$D$6:$AB$6,0)),\"-\")","v":"-"},{"$f":"IFERROR(INDEX([4]Estimadores!$D$7:$AB$38,MATCH(O$287,[4]Estimadores!$B$7:$B$38,0),MATCH($B331,[4]Estimadores!$D$6:$AB$6,0)),\"-\")","v":"-"},{"$f":"IFERROR(INDEX([4]Estimadores!$D$7:$AB$38,MATCH(P$287,[4]Estimadores!$B$7:$B$38,0),MATCH($B331,[4]Estimadores!$D$6:$AB$6,0)),\"-\")","v":"-"},{"$f":"IFERROR(INDEX([4]Estimadores!$D$7:$AB$38,MATCH(Q$287,[4]Estimadores!$B$7:$B$38,0),MATCH($B331,[4]Estimadores!$D$6:$AB$6,0)),\"-\")","v":"-"},{"$f":"IFERROR(INDEX([4]Estimadores!$D$7:$AB$38,MATCH(R$287,[4]Estimadores!$B$7:$B$38,0),MATCH($B331,[4]Estimadores!$D$6:$AB$6,0)),\"-\")","v":"-"},{"$f":"IFERROR(INDEX([4]Estimadores!$D$7:$AB$38,MATCH(S$287,[4]Estimadores!$B$7:$B$38,0),MATCH($B331,[4]Estimadores!$D$6:$AB$6,0)),\"-\")","v":"-"},{"$f":"IFERROR(INDEX([4]Estimadores!$D$7:$AB$38,MATCH(T$287,[4]Estimadores!$B$7:$B$38,0),MATCH($B331,[4]Estimadores!$D$6:$AB$6,0)),\"-\")","v":"-"},{"$f":"IFERROR(INDEX([4]Estimadores!$D$7:$AB$38,MATCH(U$287,[4]Estimadores!$B$7:$B$38,0),MATCH($B331,[4]Estimadores!$D$6:$AB$6,0)),\"-\")","v":"-"},{"$f":"IFERROR(INDEX([4]Estimadores!$D$7:$AB$38,MATCH(V$287,[4]Estimadores!$B$7:$B$38,0),MATCH($B331,[4]Estimadores!$D$6:$AB$6,0)),\"-\")","v":"-"},{"$f":"IFERROR(INDEX([4]Estimadores!$D$7:$AB$38,MATCH(W$287,[4]Estimadores!$B$7:$B$38,0),MATCH($B331,[4]Estimadores!$D$6:$AB$6,0)),\"-\")","v":"-"},{"$f":"IFERROR(INDEX([4]Estimadores!$D$7:$AB$38,MATCH(X$287,[4]Estimadores!$B$7:$B$38,0),MATCH($B331,[4]Estimadores!$D$6:$AB$6,0)),\"-\")","v":"-"},{"$f":"IFERROR(INDEX([4]Estimadores!$D$7:$AB$38,MATCH(Y$287,[4]Estimadores!$B$7:$B$38,0),MATCH($B331,[4]Estimadores!$D$6:$AB$6,0)),\"-\")","v":"-"},{"$f":"IFERROR(INDEX([4]Estimadores!$D$7:$AB$38,MATCH(Z$287,[4]Estimadores!$B$7:$B$38,0),MATCH($B331,[4]Estimadores!$D$6:$AB$6,0)),\"-\")","v":"-"},{"$f":"IFERROR(INDEX([4]Estimadores!$D$7:$AB$38,MATCH(AA$287,[4]Estimadores!$B$7:$B$38,0),MATCH($B331,[4]Estimadores!$D$6:$AB$6,0)),\"-\")","v":"-"},{"$f":"IFERROR(INDEX([4]Estimadores!$D$7:$AB$38,MATCH(AB$287,[4]Estimadores!$B$7:$B$38,0),MATCH($B331,[4]Estimadores!$D$6:$AB$6,0)),\"-\")","v":"-"},{"$f":"IFERROR(INDEX([4]Estimadores!$D$7:$AB$38,MATCH(AC$287,[4]Estimadores!$B$7:$B$38,0),MATCH($B331,[4]Estimadores!$D$6:$AB$6,0)),\"-\")","v":"-"},{"$f":"IFERROR(INDEX([4]Estimadores!$D$7:$AB$38,MATCH(AD$287,[4]Estimadores!$B$7:$B$38,0),MATCH($B331,[4]Estimadores!$D$6:$AB$6,0)),\"-\")","v":"-"},{"$f":"IFERROR(INDEX([4]Estimadores!$D$7:$AB$38,MATCH(AE$287,[4]Estimadores!$B$7:$B$38,0),MATCH($B331,[4]Estimadores!$D$6:$AB$6,0)),\"-\")","v":"-"},{"$f":"IFERROR(INDEX([4]Estimadores!$D$7:$AB$38,MATCH(AF$287,[4]Estimadores!$B$7:$B$38,0),MATCH($B331,[4]Estimadores!$D$6:$AB$6,0)),\"-\")","v":"-"},{"$f":"IFERROR(INDEX([4]Estimadores!$D$7:$AB$38,MATCH(AG$287,[4]Estimadores!$B$7:$B$38,0),MATCH($B331,[4]Estimadores!$D$6:$AB$6,0)),\"-\")","v":"-"},{"$f":"IFERROR(INDEX([4]Estimadores!$D$7:$AB$38,MATCH(AH$287,[4]Estimadores!$B$7:$B$38,0),MATCH($B331,[4]Estimadores!$D$6:$AB$6,0)),\"-\")","v":"-"},{"$f":"IFERROR(INDEX([4]Estimadores!$D$7:$AB$38,MATCH(AI$287,[4]Estimadores!$B$7:$B$38,0),MATCH($B331,[4]Estimadores!$D$6:$AB$6,0)),\"-\")","v":"-"}]
[null,null,"",{"$f":"IFERROR(INDEX([4]Estimadores!$D$7:$AB$38,MATCH(D$287,[4]Estimadores!$B$7:$B$38,0),MATCH($B332,[4]Estimadores!$D$6:$AB$6,0)),\"-\")","v":"-"},{"$f":"IFERROR(INDEX([4]Estimadores!$D$7:$AB$38,MATCH(E$287,[4]Estimadores!$B$7:$B$38,0),MATCH($B332,[4]Estimadores!$D$6:$AB$6,0)),\"-\")","v":"-"},{"$f":"IFERROR(INDEX([4]Estimadores!$D$7:$AB$38,MATCH(F$287,[4]Estimadores!$B$7:$B$38,0),MATCH($B332,[4]Estimadores!$D$6:$AB$6,0)),\"-\")","v":"-"},{"$f":"IFERROR(INDEX([4]Estimadores!$D$7:$AB$38,MATCH(G$287,[4]Estimadores!$B$7:$B$38,0),MATCH($B332,[4]Estimadores!$D$6:$AB$6,0)),\"-\")","v":"-"},{"$f":"IFERROR(INDEX([4]Estimadores!$D$7:$AB$38,MATCH(H$287,[4]Estimadores!$B$7:$B$38,0),MATCH($B332,[4]Estimadores!$D$6:$AB$6,0)),\"-\")","v":"-"},{"$f":"IFERROR(INDEX([4]Estimadores!$D$7:$AB$38,MATCH(I$287,[4]Estimadores!$B$7:$B$38,0),MATCH($B332,[4]Estimadores!$D$6:$AB$6,0)),\"-\")","v":"-"},{"$f":"IFERROR(INDEX([4]Estimadores!$D$7:$AB$38,MATCH(J$287,[4]Estimadores!$B$7:$B$38,0),MATCH($B332,[4]Estimadores!$D$6:$AB$6,0)),\"-\")","v":"-"},{"$f":"IFERROR(INDEX([4]Estimadores!$D$7:$AB$38,MATCH(K$287,[4]Estimadores!$B$7:$B$38,0),MATCH($B332,[4]Estimadores!$D$6:$AB$6,0)),\"-\")","v":"-"},{"$f":"IFERROR(INDEX([4]Estimadores!$D$7:$AB$38,MATCH(L$287,[4]Estimadores!$B$7:$B$38,0),MATCH($B332,[4]Estimadores!$D$6:$AB$6,0)),\"-\")","v":"-"},{"$f":"IFERROR(INDEX([4]Estimadores!$D$7:$AB$38,MATCH(M$287,[4]Estimadores!$B$7:$B$38,0),MATCH($B332,[4]Estimadores!$D$6:$AB$6,0)),\"-\")","v":"-"},{"$f":"IFERROR(INDEX([4]Estimadores!$D$7:$AB$38,MATCH(N$287,[4]Estimadores!$B$7:$B$38,0),MATCH($B332,[4]Estimadores!$D$6:$AB$6,0)),\"-\")","v":"-"},{"$f":"IFERROR(INDEX([4]Estimadores!$D$7:$AB$38,MATCH(O$287,[4]Estimadores!$B$7:$B$38,0),MATCH($B332,[4]Estimadores!$D$6:$AB$6,0)),\"-\")","v":"-"},{"$f":"IFERROR(INDEX([4]Estimadores!$D$7:$AB$38,MATCH(P$287,[4]Estimadores!$B$7:$B$38,0),MATCH($B332,[4]Estimadores!$D$6:$AB$6,0)),\"-\")","v":"-"},{"$f":"IFERROR(INDEX([4]Estimadores!$D$7:$AB$38,MATCH(Q$287,[4]Estimadores!$B$7:$B$38,0),MATCH($B332,[4]Estimadores!$D$6:$AB$6,0)),\"-\")","v":"-"},{"$f":"IFERROR(INDEX([4]Estimadores!$D$7:$AB$38,MATCH(R$287,[4]Estimadores!$B$7:$B$38,0),MATCH($B332,[4]Estimadores!$D$6:$AB$6,0)),\"-\")","v":"-"},{"$f":"IFERROR(INDEX([4]Estimadores!$D$7:$AB$38,MATCH(S$287,[4]Estimadores!$B$7:$B$38,0),MATCH($B332,[4]Estimadores!$D$6:$AB$6,0)),\"-\")","v":"-"},{"$f":"IFERROR(INDEX([4]Estimadores!$D$7:$AB$38,MATCH(T$287,[4]Estimadores!$B$7:$B$38,0),MATCH($B332,[4]Estimadores!$D$6:$AB$6,0)),\"-\")","v":"-"},{"$f":"IFERROR(INDEX([4]Estimadores!$D$7:$AB$38,MATCH(U$287,[4]Estimadores!$B$7:$B$38,0),MATCH($B332,[4]Estimadores!$D$6:$AB$6,0)),\"-\")","v":"-"},{"$f":"IFERROR(INDEX([4]Estimadores!$D$7:$AB$38,MATCH(V$287,[4]Estimadores!$B$7:$B$38,0),MATCH($B332,[4]Estimadores!$D$6:$AB$6,0)),\"-\")","v":"-"},{"$f":"IFERROR(INDEX([4]Estimadores!$D$7:$AB$38,MATCH(W$287,[4]Estimadores!$B$7:$B$38,0),MATCH($B332,[4]Estimadores!$D$6:$AB$6,0)),\"-\")","v":"-"},{"$f":"IFERROR(INDEX([4]Estimadores!$D$7:$AB$38,MATCH(X$287,[4]Estimadores!$B$7:$B$38,0),MATCH($B332,[4]Estimadores!$D$6:$AB$6,0)),\"-\")","v":"-"},{"$f":"IFERROR(INDEX([4]Estimadores!$D$7:$AB$38,MATCH(Y$287,[4]Estimadores!$B$7:$B$38,0),MATCH($B332,[4]Estimadores!$D$6:$AB$6,0)),\"-\")","v":"-"},{"$f":"IFERROR(INDEX([4]Estimadores!$D$7:$AB$38,MATCH(Z$287,[4]Estimadores!$B$7:$B$38,0),MATCH($B332,[4]Estimadores!$D$6:$AB$6,0)),\"-\")","v":"-"},{"$f":"IFERROR(INDEX([4]Estimadores!$D$7:$AB$38,MATCH(AA$287,[4]Estimadores!$B$7:$B$38,0),MATCH($B332,[4]Estimadores!$D$6:$AB$6,0)),\"-\")","v":"-"},{"$f":"IFERROR(INDEX([4]Estimadores!$D$7:$AB$38,MATCH(AB$287,[4]Estimadores!$B$7:$B$38,0),MATCH($B332,[4]Estimadores!$D$6:$AB$6,0)),\"-\")","v":"-"},{"$f":"IFERROR(INDEX([4]Estimadores!$D$7:$AB$38,MATCH(AC$287,[4]Estimadores!$B$7:$B$38,0),MATCH($B332,[4]Estimadores!$D$6:$AB$6,0)),\"-\")","v":"-"},{"$f":"IFERROR(INDEX([4]Estimadores!$D$7:$AB$38,MATCH(AD$287,[4]Estimadores!$B$7:$B$38,0),MATCH($B332,[4]Estimadores!$D$6:$AB$6,0)),\"-\")","v":"-"},{"$f":"IFERROR(INDEX([4]Estimadores!$D$7:$AB$38,MATCH(AE$287,[4]Estimadores!$B$7:$B$38,0),MATCH($B332,[4]Estimadores!$D$6:$AB$6,0)),\"-\")","v":"-"},{"$f":"IFERROR(INDEX([4]Estimadores!$D$7:$AB$38,MATCH(AF$287,[4]Estimadores!$B$7:$B$38,0),MATCH($B332,[4]Estimadores!$D$6:$AB$6,0)),\"-\")","v":"-"},{"$f":"IFERROR(INDEX([4]Estimadores!$D$7:$AB$38,MATCH(AG$287,[4]Estimadores!$B$7:$B$38,0),MATCH($B332,[4]Estimadores!$D$6:$AB$6,0)),\"-\")","v":"-"},{"$f":"IFERROR(INDEX([4]Estimadores!$D$7:$AB$38,MATCH(AH$287,[4]Estimadores!$B$7:$B$38,0),MATCH($B332,[4]Estimadores!$D$6:$AB$6,0)),\"-\")","v":"-"},{"$f":"IFERROR(INDEX([4]Estimadores!$D$7:$AB$38,MATCH(AI$287,[4]Estimadores!$B$7:$B$38,0),MATCH($B332,[4]Estimadores!$D$6:$AB$6,0)),\"-\")","v":"-"}]
[null,null,"",{"$f":"IFERROR(INDEX([4]Estimadores!$D$7:$AB$38,MATCH(D$287,[4]Estimadores!$B$7:$B$38,0),MATCH($B333,[4]Estimadores!$D$6:$AB$6,0)),\"-\")","v":"-"},{"$f":"IFERROR(INDEX([4]Estimadores!$D$7:$AB$38,MATCH(E$287,[4]Estimadores!$B$7:$B$38,0),MATCH($B333,[4]Estimadores!$D$6:$AB$6,0)),\"-\")","v":"-"},{"$f":"IFERROR(INDEX([4]Estimadores!$D$7:$AB$38,MATCH(F$287,[4]Estimadores!$B$7:$B$38,0),MATCH($B333,[4]Estimadores!$D$6:$AB$6,0)),\"-\")","v":"-"},{"$f":"IFERROR(INDEX([4]Estimadores!$D$7:$AB$38,MATCH(G$287,[4]Estimadores!$B$7:$B$38,0),MATCH($B333,[4]Estimadores!$D$6:$AB$6,0)),\"-\")","v":"-"},{"$f":"IFERROR(INDEX([4]Estimadores!$D$7:$AB$38,MATCH(H$287,[4]Estimadores!$B$7:$B$38,0),MATCH($B333,[4]Estimadores!$D$6:$AB$6,0)),\"-\")","v":"-"},{"$f":"IFERROR(INDEX([4]Estimadores!$D$7:$AB$38,MATCH(I$287,[4]Estimadores!$B$7:$B$38,0),MATCH($B333,[4]Estimadores!$D$6:$AB$6,0)),\"-\")","v":"-"},{"$f":"IFERROR(INDEX([4]Estimadores!$D$7:$AB$38,MATCH(J$287,[4]Estimadores!$B$7:$B$38,0),MATCH($B333,[4]Estimadores!$D$6:$AB$6,0)),\"-\")","v":"-"},{"$f":"IFERROR(INDEX([4]Estimadores!$D$7:$AB$38,MATCH(K$287,[4]Estimadores!$B$7:$B$38,0),MATCH($B333,[4]Estimadores!$D$6:$AB$6,0)),\"-\")","v":"-"},{"$f":"IFERROR(INDEX([4]Estimadores!$D$7:$AB$38,MATCH(L$287,[4]Estimadores!$B$7:$B$38,0),MATCH($B333,[4]Estimadores!$D$6:$AB$6,0)),\"-\")","v":"-"},{"$f":"IFERROR(INDEX([4]Estimadores!$D$7:$AB$38,MATCH(M$287,[4]Estimadores!$B$7:$B$38,0),MATCH($B333,[4]Estimadores!$D$6:$AB$6,0)),\"-\")","v":"-"},{"$f":"IFERROR(INDEX([4]Estimadores!$D$7:$AB$38,MATCH(N$287,[4]Estimadores!$B$7:$B$38,0),MATCH($B333,[4]Estimadores!$D$6:$AB$6,0)),\"-\")","v":"-"},{"$f":"IFERROR(INDEX([4]Estimadores!$D$7:$AB$38,MATCH(O$287,[4]Estimadores!$B$7:$B$38,0),MATCH($B333,[4]Estimadores!$D$6:$AB$6,0)),\"-\")","v":"-"},{"$f":"IFERROR(INDEX([4]Estimadores!$D$7:$AB$38,MATCH(P$287,[4]Estimadores!$B$7:$B$38,0),MATCH($B333,[4]Estimadores!$D$6:$AB$6,0)),\"-\")","v":"-"},{"$f":"IFERROR(INDEX([4]Estimadores!$D$7:$AB$38,MATCH(Q$287,[4]Estimadores!$B$7:$B$38,0),MATCH($B333,[4]Estimadores!$D$6:$AB$6,0)),\"-\")","v":"-"},{"$f":"IFERROR(INDEX([4]Estimadores!$D$7:$AB$38,MATCH(R$287,[4]Estimadores!$B$7:$B$38,0),MATCH($B333,[4]Estimadores!$D$6:$AB$6,0)),\"-\")","v":"-"},{"$f":"IFERROR(INDEX([4]Estimadores!$D$7:$AB$38,MATCH(S$287,[4]Estimadores!$B$7:$B$38,0),MATCH($B333,[4]Estimadores!$D$6:$AB$6,0)),\"-\")","v":"-"},{"$f":"IFERROR(INDEX([4]Estimadores!$D$7:$AB$38,MATCH(T$287,[4]Estimadores!$B$7:$B$38,0),MATCH($B333,[4]Estimadores!$D$6:$AB$6,0)),\"-\")","v":"-"},{"$f":"IFERROR(INDEX([4]Estimadores!$D$7:$AB$38,MATCH(U$287,[4]Estimadores!$B$7:$B$38,0),MATCH($B333,[4]Estimadores!$D$6:$AB$6,0)),\"-\")","v":"-"},{"$f":"IFERROR(INDEX([4]Estimadores!$D$7:$AB$38,MATCH(V$287,[4]Estimadores!$B$7:$B$38,0),MATCH($B333,[4]Estimadores!$D$6:$AB$6,0)),\"-\")","v":"-"},{"$f":"IFERROR(INDEX([4]Estimadores!$D$7:$AB$38,MATCH(W$287,[4]Estimadores!$B$7:$B$38,0),MATCH($B333,[4]Estimadores!$D$6:$AB$6,0)),\"-\")","v":"-"},{"$f":"IFERROR(INDEX([4]Estimadores!$D$7:$AB$38,MATCH(X$287,[4]Estimadores!$B$7:$B$38,0),MATCH($B333,[4]Estimadores!$D$6:$AB$6,0)),\"-\")","v":"-"},{"$f":"IFERROR(INDEX([4]Estimadores!$D$7:$AB$38,MATCH(Y$287,[4]Estimadores!$B$7:$B$38,0),MATCH($B333,[4]Estimadores!$D$6:$AB$6,0)),\"-\")","v":"-"},{"$f":"IFERROR(INDEX([4]Estimadores!$D$7:$AB$38,MATCH(Z$287,[4]Estimadores!$B$7:$B$38,0),MATCH($B333,[4]Estimadores!$D$6:$AB$6,0)),\"-\")","v":"-"},{"$f":"IFERROR(INDEX([4]Estimadores!$D$7:$AB$38,MATCH(AA$287,[4]Estimadores!$B$7:$B$38,0),MATCH($B333,[4]Estimadores!$D$6:$AB$6,0)),\"-\")","v":"-"},{"$f":"IFERROR(INDEX([4]Estimadores!$D$7:$AB$38,MATCH(AB$287,[4]Estimadores!$B$7:$B$38,0),MATCH($B333,[4]Estimadores!$D$6:$AB$6,0)),\"-\")","v":"-"},{"$f":"IFERROR(INDEX([4]Estimadores!$D$7:$AB$38,MATCH(AC$287,[4]Estimadores!$B$7:$B$38,0),MATCH($B333,[4]Estimadores!$D$6:$AB$6,0)),\"-\")","v":"-"},{"$f":"IFERROR(INDEX([4]Estimadores!$D$7:$AB$38,MATCH(AD$287,[4]Estimadores!$B$7:$B$38,0),MATCH($B333,[4]Estimadores!$D$6:$AB$6,0)),\"-\")","v":"-"},{"$f":"IFERROR(INDEX([4]Estimadores!$D$7:$AB$38,MATCH(AE$287,[4]Estimadores!$B$7:$B$38,0),MATCH($B333,[4]Estimadores!$D$6:$AB$6,0)),\"-\")","v":"-"},{"$f":"IFERROR(INDEX([4]Estimadores!$D$7:$AB$38,MATCH(AF$287,[4]Estimadores!$B$7:$B$38,0),MATCH($B333,[4]Estimadores!$D$6:$AB$6,0)),\"-\")","v":"-"},{"$f":"IFERROR(INDEX([4]Estimadores!$D$7:$AB$38,MATCH(AG$287,[4]Estimadores!$B$7:$B$38,0),MATCH($B333,[4]Estimadores!$D$6:$AB$6,0)),\"-\")","v":"-"},{"$f":"IFERROR(INDEX([4]Estimadores!$D$7:$AB$38,MATCH(AH$287,[4]Estimadores!$B$7:$B$38,0),MATCH($B333,[4]Estimadores!$D$6:$AB$6,0)),\"-\")","v":"-"},{"$f":"IFERROR(INDEX([4]Estimadores!$D$7:$AB$38,MATCH(AI$287,[4]Estimadores!$B$7:$B$38,0),MATCH($B333,[4]Estimadores!$D$6:$AB$6,0)),\"-\")","v":"-"}]
[null,null,"",{"$f":"IFERROR(INDEX([4]Estimadores!$D$7:$AB$38,MATCH(D$287,[4]Estimadores!$B$7:$B$38,0),MATCH($B334,[4]Estimadores!$D$6:$AB$6,0)),\"-\")","v":"-"},{"$f":"IFERROR(INDEX([4]Estimadores!$D$7:$AB$38,MATCH(E$287,[4]Estimadores!$B$7:$B$38,0),MATCH($B334,[4]Estimadores!$D$6:$AB$6,0)),\"-\")","v":"-"},{"$f":"IFERROR(INDEX([4]Estimadores!$D$7:$AB$38,MATCH(F$287,[4]Estimadores!$B$7:$B$38,0),MATCH($B334,[4]Estimadores!$D$6:$AB$6,0)),\"-\")","v":"-"},{"$f":"IFERROR(INDEX([4]Estimadores!$D$7:$AB$38,MATCH(G$287,[4]Estimadores!$B$7:$B$38,0),MATCH($B334,[4]Estimadores!$D$6:$AB$6,0)),\"-\")","v":"-"},{"$f":"IFERROR(INDEX([4]Estimadores!$D$7:$AB$38,MATCH(H$287,[4]Estimadores!$B$7:$B$38,0),MATCH($B334,[4]Estimadores!$D$6:$AB$6,0)),\"-\")","v":"-"},{"$f":"IFERROR(INDEX([4]Estimadores!$D$7:$AB$38,MATCH(I$287,[4]Estimadores!$B$7:$B$38,0),MATCH($B334,[4]Estimadores!$D$6:$AB$6,0)),\"-\")","v":"-"},{"$f":"IFERROR(INDEX([4]Estimadores!$D$7:$AB$38,MATCH(J$287,[4]Estimadores!$B$7:$B$38,0),MATCH($B334,[4]Estimadores!$D$6:$AB$6,0)),\"-\")","v":"-"},{"$f":"IFERROR(INDEX([4]Estimadores!$D$7:$AB$38,MATCH(K$287,[4]Estimadores!$B$7:$B$38,0),MATCH($B334,[4]Estimadores!$D$6:$AB$6,0)),\"-\")","v":"-"},{"$f":"IFERROR(INDEX([4]Estimadores!$D$7:$AB$38,MATCH(L$287,[4]Estimadores!$B$7:$B$38,0),MATCH($B334,[4]Estimadores!$D$6:$AB$6,0)),\"-\")","v":"-"},{"$f":"IFERROR(INDEX([4]Estimadores!$D$7:$AB$38,MATCH(M$287,[4]Estimadores!$B$7:$B$38,0),MATCH($B334,[4]Estimadores!$D$6:$AB$6,0)),\"-\")","v":"-"},{"$f":"IFERROR(INDEX([4]Estimadores!$D$7:$AB$38,MATCH(N$287,[4]Estimadores!$B$7:$B$38,0),MATCH($B334,[4]Estimadores!$D$6:$AB$6,0)),\"-\")","v":"-"},{"$f":"IFERROR(INDEX([4]Estimadores!$D$7:$AB$38,MATCH(O$287,[4]Estimadores!$B$7:$B$38,0),MATCH($B334,[4]Estimadores!$D$6:$AB$6,0)),\"-\")","v":"-"},{"$f":"IFERROR(INDEX([4]Estimadores!$D$7:$AB$38,MATCH(P$287,[4]Estimadores!$B$7:$B$38,0),MATCH($B334,[4]Estimadores!$D$6:$AB$6,0)),\"-\")","v":"-"},{"$f":"IFERROR(INDEX([4]Estimadores!$D$7:$AB$38,MATCH(Q$287,[4]Estimadores!$B$7:$B$38,0),MATCH($B334,[4]Estimadores!$D$6:$AB$6,0)),\"-\")","v":"-"},{"$f":"IFERROR(INDEX([4]Estimadores!$D$7:$AB$38,MATCH(R$287,[4]Estimadores!$B$7:$B$38,0),MATCH($B334,[4]Estimadores!$D$6:$AB$6,0)),\"-\")","v":"-"},{"$f":"IFERROR(INDEX([4]Estimadores!$D$7:$AB$38,MATCH(S$287,[4]Estimadores!$B$7:$B$38,0),MATCH($B334,[4]Estimadores!$D$6:$AB$6,0)),\"-\")","v":"-"},{"$f":"IFERROR(INDEX([4]Estimadores!$D$7:$AB$38,MATCH(T$287,[4]Estimadores!$B$7:$B$38,0),MATCH($B334,[4]Estimadores!$D$6:$AB$6,0)),\"-\")","v":"-"},{"$f":"IFERROR(INDEX([4]Estimadores!$D$7:$AB$38,MATCH(U$287,[4]Estimadores!$B$7:$B$38,0),MATCH($B334,[4]Estimadores!$D$6:$AB$6,0)),\"-\")","v":"-"},{"$f":"IFERROR(INDEX([4]Estimadores!$D$7:$AB$38,MATCH(V$287,[4]Estimadores!$B$7:$B$38,0),MATCH($B334,[4]Estimadores!$D$6:$AB$6,0)),\"-\")","v":"-"},{"$f":"IFERROR(INDEX([4]Estimadores!$D$7:$AB$38,MATCH(W$287,[4]Estimadores!$B$7:$B$38,0),MATCH($B334,[4]Estimadores!$D$6:$AB$6,0)),\"-\")","v":"-"},{"$f":"IFERROR(INDEX([4]Estimadores!$D$7:$AB$38,MATCH(X$287,[4]Estimadores!$B$7:$B$38,0),MATCH($B334,[4]Estimadores!$D$6:$AB$6,0)),\"-\")","v":"-"},{"$f":"IFERROR(INDEX([4]Estimadores!$D$7:$AB$38,MATCH(Y$287,[4]Estimadores!$B$7:$B$38,0),MATCH($B334,[4]Estimadores!$D$6:$AB$6,0)),\"-\")","v":"-"},{"$f":"IFERROR(INDEX([4]Estimadores!$D$7:$AB$38,MATCH(Z$287,[4]Estimadores!$B$7:$B$38,0),MATCH($B334,[4]Estimadores!$D$6:$AB$6,0)),\"-\")","v":"-"},{"$f":"IFERROR(INDEX([4]Estimadores!$D$7:$AB$38,MATCH(AA$287,[4]Estimadores!$B$7:$B$38,0),MATCH($B334,[4]Estimadores!$D$6:$AB$6,0)),\"-\")","v":"-"},{"$f":"IFERROR(INDEX([4]Estimadores!$D$7:$AB$38,MATCH(AB$287,[4]Estimadores!$B$7:$B$38,0),MATCH($B334,[4]Estimadores!$D$6:$AB$6,0)),\"-\")","v":"-"},{"$f":"IFERROR(INDEX([4]Estimadores!$D$7:$AB$38,MATCH(AC$287,[4]Estimadores!$B$7:$B$38,0),MATCH($B334,[4]Estimadores!$D$6:$AB$6,0)),\"-\")","v":"-"},{"$f":"IFERROR(INDEX([4]Estimadores!$D$7:$AB$38,MATCH(AD$287,[4]Estimadores!$B$7:$B$38,0),MATCH($B334,[4]Estimadores!$D$6:$AB$6,0)),\"-\")","v":"-"},{"$f":"IFERROR(INDEX([4]Estimadores!$D$7:$AB$38,MATCH(AE$287,[4]Estimadores!$B$7:$B$38,0),MATCH($B334,[4]Estimadores!$D$6:$AB$6,0)),\"-\")","v":"-"},{"$f":"IFERROR(INDEX([4]Estimadores!$D$7:$AB$38,MATCH(AF$287,[4]Estimadores!$B$7:$B$38,0),MATCH($B334,[4]Estimadores!$D$6:$AB$6,0)),\"-\")","v":"-"},{"$f":"IFERROR(INDEX([4]Estimadores!$D$7:$AB$38,MATCH(AG$287,[4]Estimadores!$B$7:$B$38,0),MATCH($B334,[4]Estimadores!$D$6:$AB$6,0)),\"-\")","v":"-"},{"$f":"IFERROR(INDEX([4]Estimadores!$D$7:$AB$38,MATCH(AH$287,[4]Estimadores!$B$7:$B$38,0),MATCH($B334,[4]Estimadores!$D$6:$AB$6,0)),\"-\")","v":"-"},{"$f":"IFERROR(INDEX([4]Estimadores!$D$7:$AB$38,MATCH(AI$287,[4]Estimadores!$B$7:$B$38,0),MATCH($B334,[4]Estimadores!$D$6:$AB$6,0)),\"-\")","v":"-"}]
[null,null,"",{"$f":"IFERROR(INDEX([4]Estimadores!$D$7:$AB$38,MATCH(D$287,[4]Estimadores!$B$7:$B$38,0),MATCH($B335,[4]Estimadores!$D$6:$AB$6,0)),\"-\")","v":"-"},{"$f":"IFERROR(INDEX([4]Estimadores!$D$7:$AB$38,MATCH(E$287,[4]Estimadores!$B$7:$B$38,0),MATCH($B335,[4]Estimadores!$D$6:$AB$6,0)),\"-\")","v":"-"},{"$f":"IFERROR(INDEX([4]Estimadores!$D$7:$AB$38,MATCH(F$287,[4]Estimadores!$B$7:$B$38,0),MATCH($B335,[4]Estimadores!$D$6:$AB$6,0)),\"-\")","v":"-"},{"$f":"IFERROR(INDEX([4]Estimadores!$D$7:$AB$38,MATCH(G$287,[4]Estimadores!$B$7:$B$38,0),MATCH($B335,[4]Estimadores!$D$6:$AB$6,0)),\"-\")","v":"-"},{"$f":"IFERROR(INDEX([4]Estimadores!$D$7:$AB$38,MATCH(H$287,[4]Estimadores!$B$7:$B$38,0),MATCH($B335,[4]Estimadores!$D$6:$AB$6,0)),\"-\")","v":"-"},{"$f":"IFERROR(INDEX([4]Estimadores!$D$7:$AB$38,MATCH(I$287,[4]Estimadores!$B$7:$B$38,0),MATCH($B335,[4]Estimadores!$D$6:$AB$6,0)),\"-\")","v":"-"},{"$f":"IFERROR(INDEX([4]Estimadores!$D$7:$AB$38,MATCH(J$287,[4]Estimadores!$B$7:$B$38,0),MATCH($B335,[4]Estimadores!$D$6:$AB$6,0)),\"-\")","v":"-"},{"$f":"IFERROR(INDEX([4]Estimadores!$D$7:$AB$38,MATCH(K$287,[4]Estimadores!$B$7:$B$38,0),MATCH($B335,[4]Estimadores!$D$6:$AB$6,0)),\"-\")","v":"-"},{"$f":"IFERROR(INDEX([4]Estimadores!$D$7:$AB$38,MATCH(L$287,[4]Estimadores!$B$7:$B$38,0),MATCH($B335,[4]Estimadores!$D$6:$AB$6,0)),\"-\")","v":"-"},{"$f":"IFERROR(INDEX([4]Estimadores!$D$7:$AB$38,MATCH(M$287,[4]Estimadores!$B$7:$B$38,0),MATCH($B335,[4]Estimadores!$D$6:$AB$6,0)),\"-\")","v":"-"},{"$f":"IFERROR(INDEX([4]Estimadores!$D$7:$AB$38,MATCH(N$287,[4]Estimadores!$B$7:$B$38,0),MATCH($B335,[4]Estimadores!$D$6:$AB$6,0)),\"-\")","v":"-"},{"$f":"IFERROR(INDEX([4]Estimadores!$D$7:$AB$38,MATCH(O$287,[4]Estimadores!$B$7:$B$38,0),MATCH($B335,[4]Estimadores!$D$6:$AB$6,0)),\"-\")","v":"-"},{"$f":"IFERROR(INDEX([4]Estimadores!$D$7:$AB$38,MATCH(P$287,[4]Estimadores!$B$7:$B$38,0),MATCH($B335,[4]Estimadores!$D$6:$AB$6,0)),\"-\")","v":"-"},{"$f":"IFERROR(INDEX([4]Estimadores!$D$7:$AB$38,MATCH(Q$287,[4]Estimadores!$B$7:$B$38,0),MATCH($B335,[4]Estimadores!$D$6:$AB$6,0)),\"-\")","v":"-"},{"$f":"IFERROR(INDEX([4]Estimadores!$D$7:$AB$38,MATCH(R$287,[4]Estimadores!$B$7:$B$38,0),MATCH($B335,[4]Estimadores!$D$6:$AB$6,0)),\"-\")","v":"-"},{"$f":"IFERROR(INDEX([4]Estimadores!$D$7:$AB$38,MATCH(S$287,[4]Estimadores!$B$7:$B$38,0),MATCH($B335,[4]Estimadores!$D$6:$AB$6,0)),\"-\")","v":"-"},{"$f":"IFERROR(INDEX([4]Estimadores!$D$7:$AB$38,MATCH(T$287,[4]Estimadores!$B$7:$B$38,0),MATCH($B335,[4]Estimadores!$D$6:$AB$6,0)),\"-\")","v":"-"},{"$f":"IFERROR(INDEX([4]Estimadores!$D$7:$AB$38,MATCH(U$287,[4]Estimadores!$B$7:$B$38,0),MATCH($B335,[4]Estimadores!$D$6:$AB$6,0)),\"-\")","v":"-"},{"$f":"IFERROR(INDEX([4]Estimadores!$D$7:$AB$38,MATCH(V$287,[4]Estimadores!$B$7:$B$38,0),MATCH($B335,[4]Estimadores!$D$6:$AB$6,0)),\"-\")","v":"-"},{"$f":"IFERROR(INDEX([4]Estimadores!$D$7:$AB$38,MATCH(W$287,[4]Estimadores!$B$7:$B$38,0),MATCH($B335,[4]Estimadores!$D$6:$AB$6,0)),\"-\")","v":"-"},{"$f":"IFERROR(INDEX([4]Estimadores!$D$7:$AB$38,MATCH(X$287,[4]Estimadores!$B$7:$B$38,0),MATCH($B335,[4]Estimadores!$D$6:$AB$6,0)),\"-\")","v":"-"},{"$f":"IFERROR(INDEX([4]Estimadores!$D$7:$AB$38,MATCH(Y$287,[4]Estimadores!$B$7:$B$38,0),MATCH($B335,[4]Estimadores!$D$6:$AB$6,0)),\"-\")","v":"-"},{"$f":"IFERROR(INDEX([4]Estimadores!$D$7:$AB$38,MATCH(Z$287,[4]Estimadores!$B$7:$B$38,0),MATCH($B335,[4]Estimadores!$D$6:$AB$6,0)),\"-\")","v":"-"},{"$f":"IFERROR(INDEX([4]Estimadores!$D$7:$AB$38,MATCH(AA$287,[4]Estimadores!$B$7:$B$38,0),MATCH($B335,[4]Estimadores!$D$6:$AB$6,0)),\"-\")","v":"-"},{"$f":"IFERROR(INDEX([4]Estimadores!$D$7:$AB$38,MATCH(AB$287,[4]Estimadores!$B$7:$B$38,0),MATCH($B335,[4]Estimadores!$D$6:$AB$6,0)),\"-\")","v":"-"},{"$f":"IFERROR(INDEX([4]Estimadores!$D$7:$AB$38,MATCH(AC$287,[4]Estimadores!$B$7:$B$38,0),MATCH($B335,[4]Estimadores!$D$6:$AB$6,0)),\"-\")","v":"-"},{"$f":"IFERROR(INDEX([4]Estimadores!$D$7:$AB$38,MATCH(AD$287,[4]Estimadores!$B$7:$B$38,0),MATCH($B335,[4]Estimadores!$D$6:$AB$6,0)),\"-\")","v":"-"},{"$f":"IFERROR(INDEX([4]Estimadores!$D$7:$AB$38,MATCH(AE$287,[4]Estimadores!$B$7:$B$38,0),MATCH($B335,[4]Estimadores!$D$6:$AB$6,0)),\"-\")","v":"-"},{"$f":"IFERROR(INDEX([4]Estimadores!$D$7:$AB$38,MATCH(AF$287,[4]Estimadores!$B$7:$B$38,0),MATCH($B335,[4]Estimadores!$D$6:$AB$6,0)),\"-\")","v":"-"},{"$f":"IFERROR(INDEX([4]Estimadores!$D$7:$AB$38,MATCH(AG$287,[4]Estimadores!$B$7:$B$38,0),MATCH($B335,[4]Estimadores!$D$6:$AB$6,0)),\"-\")","v":"-"},{"$f":"IFERROR(INDEX([4]Estimadores!$D$7:$AB$38,MATCH(AH$287,[4]Estimadores!$B$7:$B$38,0),MATCH($B335,[4]Estimadores!$D$6:$AB$6,0)),\"-\")","v":"-"},{"$f":"IFERROR(INDEX([4]Estimadores!$D$7:$AB$38,MATCH(AI$287,[4]Estimadores!$B$7:$B$38,0),MATCH($B335,[4]Estimadores!$D$6:$AB$6,0)),\"-\")","v":"-"}]
[null,null,"",{"$f":"IFERROR(INDEX([4]Estimadores!$D$7:$AB$38,MATCH(D$287,[4]Estimadores!$B$7:$B$38,0),MATCH($B336,[4]Estimadores!$D$6:$AB$6,0)),\"-\")","v":"-"},{"$f":"IFERROR(INDEX([4]Estimadores!$D$7:$AB$38,MATCH(E$287,[4]Estimadores!$B$7:$B$38,0),MATCH($B336,[4]Estimadores!$D$6:$AB$6,0)),\"-\")","v":"-"},{"$f":"IFERROR(INDEX([4]Estimadores!$D$7:$AB$38,MATCH(F$287,[4]Estimadores!$B$7:$B$38,0),MATCH($B336,[4]Estimadores!$D$6:$AB$6,0)),\"-\")","v":"-"},{"$f":"IFERROR(INDEX([4]Estimadores!$D$7:$AB$38,MATCH(G$287,[4]Estimadores!$B$7:$B$38,0),MATCH($B336,[4]Estimadores!$D$6:$AB$6,0)),\"-\")","v":"-"},{"$f":"IFERROR(INDEX([4]Estimadores!$D$7:$AB$38,MATCH(H$287,[4]Estimadores!$B$7:$B$38,0),MATCH($B336,[4]Estimadores!$D$6:$AB$6,0)),\"-\")","v":"-"},{"$f":"IFERROR(INDEX([4]Estimadores!$D$7:$AB$38,MATCH(I$287,[4]Estimadores!$B$7:$B$38,0),MATCH($B336,[4]Estimadores!$D$6:$AB$6,0)),\"-\")","v":"-"},{"$f":"IFERROR(INDEX([4]Estimadores!$D$7:$AB$38,MATCH(J$287,[4]Estimadores!$B$7:$B$38,0),MATCH($B336,[4]Estimadores!$D$6:$AB$6,0)),\"-\")","v":"-"},{"$f":"IFERROR(INDEX([4]Estimadores!$D$7:$AB$38,MATCH(K$287,[4]Estimadores!$B$7:$B$38,0),MATCH($B336,[4]Estimadores!$D$6:$AB$6,0)),\"-\")","v":"-"},{"$f":"IFERROR(INDEX([4]Estimadores!$D$7:$AB$38,MATCH(L$287,[4]Estimadores!$B$7:$B$38,0),MATCH($B336,[4]Estimadores!$D$6:$AB$6,0)),\"-\")","v":"-"},{"$f":"IFERROR(INDEX([4]Estimadores!$D$7:$AB$38,MATCH(M$287,[4]Estimadores!$B$7:$B$38,0),MATCH($B336,[4]Estimadores!$D$6:$AB$6,0)),\"-\")","v":"-"},{"$f":"IFERROR(INDEX([4]Estimadores!$D$7:$AB$38,MATCH(N$287,[4]Estimadores!$B$7:$B$38,0),MATCH($B336,[4]Estimadores!$D$6:$AB$6,0)),\"-\")","v":"-"},{"$f":"IFERROR(INDEX([4]Estimadores!$D$7:$AB$38,MATCH(O$287,[4]Estimadores!$B$7:$B$38,0),MATCH($B336,[4]Estimadores!$D$6:$AB$6,0)),\"-\")","v":"-"},{"$f":"IFERROR(INDEX([4]Estimadores!$D$7:$AB$38,MATCH(P$287,[4]Estimadores!$B$7:$B$38,0),MATCH($B336,[4]Estimadores!$D$6:$AB$6,0)),\"-\")","v":"-"},{"$f":"IFERROR(INDEX([4]Estimadores!$D$7:$AB$38,MATCH(Q$287,[4]Estimadores!$B$7:$B$38,0),MATCH($B336,[4]Estimadores!$D$6:$AB$6,0)),\"-\")","v":"-"},{"$f":"IFERROR(INDEX([4]Estimadores!$D$7:$AB$38,MATCH(R$287,[4]Estimadores!$B$7:$B$38,0),MATCH($B336,[4]Estimadores!$D$6:$AB$6,0)),\"-\")","v":"-"},{"$f":"IFERROR(INDEX([4]Estimadores!$D$7:$AB$38,MATCH(S$287,[4]Estimadores!$B$7:$B$38,0),MATCH($B336,[4]Estimadores!$D$6:$AB$6,0)),\"-\")","v":"-"},{"$f":"IFERROR(INDEX([4]Estimadores!$D$7:$AB$38,MATCH(T$287,[4]Estimadores!$B$7:$B$38,0),MATCH($B336,[4]Estimadores!$D$6:$AB$6,0)),\"-\")","v":"-"},{"$f":"IFERROR(INDEX([4]Estimadores!$D$7:$AB$38,MATCH(U$287,[4]Estimadores!$B$7:$B$38,0),MATCH($B336,[4]Estimadores!$D$6:$AB$6,0)),\"-\")","v":"-"},{"$f":"IFERROR(INDEX([4]Estimadores!$D$7:$AB$38,MATCH(V$287,[4]Estimadores!$B$7:$B$38,0),MATCH($B336,[4]Estimadores!$D$6:$AB$6,0)),\"-\")","v":"-"},{"$f":"IFERROR(INDEX([4]Estimadores!$D$7:$AB$38,MATCH(W$287,[4]Estimadores!$B$7:$B$38,0),MATCH($B336,[4]Estimadores!$D$6:$AB$6,0)),\"-\")","v":"-"},{"$f":"IFERROR(INDEX([4]Estimadores!$D$7:$AB$38,MATCH(X$287,[4]Estimadores!$B$7:$B$38,0),MATCH($B336,[4]Estimadores!$D$6:$AB$6,0)),\"-\")","v":"-"},{"$f":"IFERROR(INDEX([4]Estimadores!$D$7:$AB$38,MATCH(Y$287,[4]Estimadores!$B$7:$B$38,0),MATCH($B336,[4]Estimadores!$D$6:$AB$6,0)),\"-\")","v":"-"},{"$f":"IFERROR(INDEX([4]Estimadores!$D$7:$AB$38,MATCH(Z$287,[4]Estimadores!$B$7:$B$38,0),MATCH($B336,[4]Estimadores!$D$6:$AB$6,0)),\"-\")","v":"-"},{"$f":"IFERROR(INDEX([4]Estimadores!$D$7:$AB$38,MATCH(AA$287,[4]Estimadores!$B$7:$B$38,0),MATCH($B336,[4]Estimadores!$D$6:$AB$6,0)),\"-\")","v":"-"},{"$f":"IFERROR(INDEX([4]Estimadores!$D$7:$AB$38,MATCH(AB$287,[4]Estimadores!$B$7:$B$38,0),MATCH($B336,[4]Estimadores!$D$6:$AB$6,0)),\"-\")","v":"-"},{"$f":"IFERROR(INDEX([4]Estimadores!$D$7:$AB$38,MATCH(AC$287,[4]Estimadores!$B$7:$B$38,0),MATCH($B336,[4]Estimadores!$D$6:$AB$6,0)),\"-\")","v":"-"},{"$f":"IFERROR(INDEX([4]Estimadores!$D$7:$AB$38,MATCH(AD$287,[4]Estimadores!$B$7:$B$38,0),MATCH($B336,[4]Estimadores!$D$6:$AB$6,0)),\"-\")","v":"-"},{"$f":"IFERROR(INDEX([4]Estimadores!$D$7:$AB$38,MATCH(AE$287,[4]Estimadores!$B$7:$B$38,0),MATCH($B336,[4]Estimadores!$D$6:$AB$6,0)),\"-\")","v":"-"},{"$f":"IFERROR(INDEX([4]Estimadores!$D$7:$AB$38,MATCH(AF$287,[4]Estimadores!$B$7:$B$38,0),MATCH($B336,[4]Estimadores!$D$6:$AB$6,0)),\"-\")","v":"-"},{"$f":"IFERROR(INDEX([4]Estimadores!$D$7:$AB$38,MATCH(AG$287,[4]Estimadores!$B$7:$B$38,0),MATCH($B336,[4]Estimadores!$D$6:$AB$6,0)),\"-\")","v":"-"},{"$f":"IFERROR(INDEX([4]Estimadores!$D$7:$AB$38,MATCH(AH$287,[4]Estimadores!$B$7:$B$38,0),MATCH($B336,[4]Estimadores!$D$6:$AB$6,0)),\"-\")","v":"-"},{"$f":"IFERROR(INDEX([4]Estimadores!$D$7:$AB$38,MATCH(AI$287,[4]Estimadores!$B$7:$B$38,0),MATCH($B336,[4]Estimadores!$D$6:$AB$6,0)),\"-\")","v":"-"}]
[null,null,"",{"$f":"IFERROR(INDEX([4]Estimadores!$D$7:$AB$38,MATCH(D$287,[4]Estimadores!$B$7:$B$38,0),MATCH($B337,[4]Estimadores!$D$6:$AB$6,0)),\"-\")","v":"-"},{"$f":"IFERROR(INDEX([4]Estimadores!$D$7:$AB$38,MATCH(E$287,[4]Estimadores!$B$7:$B$38,0),MATCH($B337,[4]Estimadores!$D$6:$AB$6,0)),\"-\")","v":"-"},{"$f":"IFERROR(INDEX([4]Estimadores!$D$7:$AB$38,MATCH(F$287,[4]Estimadores!$B$7:$B$38,0),MATCH($B337,[4]Estimadores!$D$6:$AB$6,0)),\"-\")","v":"-"},{"$f":"IFERROR(INDEX([4]Estimadores!$D$7:$AB$38,MATCH(G$287,[4]Estimadores!$B$7:$B$38,0),MATCH($B337,[4]Estimadores!$D$6:$AB$6,0)),\"-\")","v":"-"},{"$f":"IFERROR(INDEX([4]Estimadores!$D$7:$AB$38,MATCH(H$287,[4]Estimadores!$B$7:$B$38,0),MATCH($B337,[4]Estimadores!$D$6:$AB$6,0)),\"-\")","v":"-"},{"$f":"IFERROR(INDEX([4]Estimadores!$D$7:$AB$38,MATCH(I$287,[4]Estimadores!$B$7:$B$38,0),MATCH($B337,[4]Estimadores!$D$6:$AB$6,0)),\"-\")","v":"-"},{"$f":"IFERROR(INDEX([4]Estimadores!$D$7:$AB$38,MATCH(J$287,[4]Estimadores!$B$7:$B$38,0),MATCH($B337,[4]Estimadores!$D$6:$AB$6,0)),\"-\")","v":"-"},{"$f":"IFERROR(INDEX([4]Estimadores!$D$7:$AB$38,MATCH(K$287,[4]Estimadores!$B$7:$B$38,0),MATCH($B337,[4]Estimadores!$D$6:$AB$6,0)),\"-\")","v":"-"},{"$f":"IFERROR(INDEX([4]Estimadores!$D$7:$AB$38,MATCH(L$287,[4]Estimadores!$B$7:$B$38,0),MATCH($B337,[4]Estimadores!$D$6:$AB$6,0)),\"-\")","v":"-"},{"$f":"IFERROR(INDEX([4]Estimadores!$D$7:$AB$38,MATCH(M$287,[4]Estimadores!$B$7:$B$38,0),MATCH($B337,[4]Estimadores!$D$6:$AB$6,0)),\"-\")","v":"-"},{"$f":"IFERROR(INDEX([4]Estimadores!$D$7:$AB$38,MATCH(N$287,[4]Estimadores!$B$7:$B$38,0),MATCH($B337,[4]Estimadores!$D$6:$AB$6,0)),\"-\")","v":"-"},{"$f":"IFERROR(INDEX([4]Estimadores!$D$7:$AB$38,MATCH(O$287,[4]Estimadores!$B$7:$B$38,0),MATCH($B337,[4]Estimadores!$D$6:$AB$6,0)),\"-\")","v":"-"},{"$f":"IFERROR(INDEX([4]Estimadores!$D$7:$AB$38,MATCH(P$287,[4]Estimadores!$B$7:$B$38,0),MATCH($B337,[4]Estimadores!$D$6:$AB$6,0)),\"-\")","v":"-"},{"$f":"IFERROR(INDEX([4]Estimadores!$D$7:$AB$38,MATCH(Q$287,[4]Estimadores!$B$7:$B$38,0),MATCH($B337,[4]Estimadores!$D$6:$AB$6,0)),\"-\")","v":"-"},{"$f":"IFERROR(INDEX([4]Estimadores!$D$7:$AB$38,MATCH(R$287,[4]Estimadores!$B$7:$B$38,0),MATCH($B337,[4]Estimadores!$D$6:$AB$6,0)),\"-\")","v":"-"},{"$f":"IFERROR(INDEX([4]Estimadores!$D$7:$AB$38,MATCH(S$287,[4]Estimadores!$B$7:$B$38,0),MATCH($B337,[4]Estimadores!$D$6:$AB$6,0)),\"-\")","v":"-"},{"$f":"IFERROR(INDEX([4]Estimadores!$D$7:$AB$38,MATCH(T$287,[4]Estimadores!$B$7:$B$38,0),MATCH($B337,[4]Estimadores!$D$6:$AB$6,0)),\"-\")","v":"-"},{"$f":"IFERROR(INDEX([4]Estimadores!$D$7:$AB$38,MATCH(U$287,[4]Estimadores!$B$7:$B$38,0),MATCH($B337,[4]Estimadores!$D$6:$AB$6,0)),\"-\")","v":"-"},{"$f":"IFERROR(INDEX([4]Estimadores!$D$7:$AB$38,MATCH(V$287,[4]Estimadores!$B$7:$B$38,0),MATCH($B337,[4]Estimadores!$D$6:$AB$6,0)),\"-\")","v":"-"},{"$f":"IFERROR(INDEX([4]Estimadores!$D$7:$AB$38,MATCH(W$287,[4]Estimadores!$B$7:$B$38,0),MATCH($B337,[4]Estimadores!$D$6:$AB$6,0)),\"-\")","v":"-"},{"$f":"IFERROR(INDEX([4]Estimadores!$D$7:$AB$38,MATCH(X$287,[4]Estimadores!$B$7:$B$38,0),MATCH($B337,[4]Estimadores!$D$6:$AB$6,0)),\"-\")","v":"-"},{"$f":"IFERROR(INDEX([4]Estimadores!$D$7:$AB$38,MATCH(Y$287,[4]Estimadores!$B$7:$B$38,0),MATCH($B337,[4]Estimadores!$D$6:$AB$6,0)),\"-\")","v":"-"},{"$f":"IFERROR(INDEX([4]Estimadores!$D$7:$AB$38,MATCH(Z$287,[4]Estimadores!$B$7:$B$38,0),MATCH($B337,[4]Estimadores!$D$6:$AB$6,0)),\"-\")","v":"-"},{"$f":"IFERROR(INDEX([4]Estimadores!$D$7:$AB$38,MATCH(AA$287,[4]Estimadores!$B$7:$B$38,0),MATCH($B337,[4]Estimadores!$D$6:$AB$6,0)),\"-\")","v":"-"},{"$f":"IFERROR(INDEX([4]Estimadores!$D$7:$AB$38,MATCH(AB$287,[4]Estimadores!$B$7:$B$38,0),MATCH($B337,[4]Estimadores!$D$6:$AB$6,0)),\"-\")","v":"-"},{"$f":"IFERROR(INDEX([4]Estimadores!$D$7:$AB$38,MATCH(AC$287,[4]Estimadores!$B$7:$B$38,0),MATCH($B337,[4]Estimadores!$D$6:$AB$6,0)),\"-\")","v":"-"},{"$f":"IFERROR(INDEX([4]Estimadores!$D$7:$AB$38,MATCH(AD$287,[4]Estimadores!$B$7:$B$38,0),MATCH($B337,[4]Estimadores!$D$6:$AB$6,0)),\"-\")","v":"-"},{"$f":"IFERROR(INDEX([4]Estimadores!$D$7:$AB$38,MATCH(AE$287,[4]Estimadores!$B$7:$B$38,0),MATCH($B337,[4]Estimadores!$D$6:$AB$6,0)),\"-\")","v":"-"},{"$f":"IFERROR(INDEX([4]Estimadores!$D$7:$AB$38,MATCH(AF$287,[4]Estimadores!$B$7:$B$38,0),MATCH($B337,[4]Estimadores!$D$6:$AB$6,0)),\"-\")","v":"-"},{"$f":"IFERROR(INDEX([4]Estimadores!$D$7:$AB$38,MATCH(AG$287,[4]Estimadores!$B$7:$B$38,0),MATCH($B337,[4]Estimadores!$D$6:$AB$6,0)),\"-\")","v":"-"},{"$f":"IFERROR(INDEX([4]Estimadores!$D$7:$AB$38,MATCH(AH$287,[4]Estimadores!$B$7:$B$38,0),MATCH($B337,[4]Estimadores!$D$6:$AB$6,0)),\"-\")","v":"-"},{"$f":"IFERROR(INDEX([4]Estimadores!$D$7:$AB$38,MATCH(AI$287,[4]Estimadores!$B$7:$B$38,0),MATCH($B337,[4]Estimadores!$D$6:$AB$6,0)),\"-\")","v":"-"}]
[null,null,"",{"$f":"IFERROR(INDEX([4]Estimadores!$D$7:$AB$38,MATCH(D$287,[4]Estimadores!$B$7:$B$38,0),MATCH($B338,[4]Estimadores!$D$6:$AB$6,0)),\"-\")","v":"-"},{"$f":"IFERROR(INDEX([4]Estimadores!$D$7:$AB$38,MATCH(E$287,[4]Estimadores!$B$7:$B$38,0),MATCH($B338,[4]Estimadores!$D$6:$AB$6,0)),\"-\")","v":"-"},{"$f":"IFERROR(INDEX([4]Estimadores!$D$7:$AB$38,MATCH(F$287,[4]Estimadores!$B$7:$B$38,0),MATCH($B338,[4]Estimadores!$D$6:$AB$6,0)),\"-\")","v":"-"},{"$f":"IFERROR(INDEX([4]Estimadores!$D$7:$AB$38,MATCH(G$287,[4]Estimadores!$B$7:$B$38,0),MATCH($B338,[4]Estimadores!$D$6:$AB$6,0)),\"-\")","v":"-"},{"$f":"IFERROR(INDEX([4]Estimadores!$D$7:$AB$38,MATCH(H$287,[4]Estimadores!$B$7:$B$38,0),MATCH($B338,[4]Estimadores!$D$6:$AB$6,0)),\"-\")","v":"-"},{"$f":"IFERROR(INDEX([4]Estimadores!$D$7:$AB$38,MATCH(I$287,[4]Estimadores!$B$7:$B$38,0),MATCH($B338,[4]Estimadores!$D$6:$AB$6,0)),\"-\")","v":"-"},{"$f":"IFERROR(INDEX([4]Estimadores!$D$7:$AB$38,MATCH(J$287,[4]Estimadores!$B$7:$B$38,0),MATCH($B338,[4]Estimadores!$D$6:$AB$6,0)),\"-\")","v":"-"},{"$f":"IFERROR(INDEX([4]Estimadores!$D$7:$AB$38,MATCH(K$287,[4]Estimadores!$B$7:$B$38,0),MATCH($B338,[4]Estimadores!$D$6:$AB$6,0)),\"-\")","v":"-"},{"$f":"IFERROR(INDEX([4]Estimadores!$D$7:$AB$38,MATCH(L$287,[4]Estimadores!$B$7:$B$38,0),MATCH($B338,[4]Estimadores!$D$6:$AB$6,0)),\"-\")","v":"-"},{"$f":"IFERROR(INDEX([4]Estimadores!$D$7:$AB$38,MATCH(M$287,[4]Estimadores!$B$7:$B$38,0),MATCH($B338,[4]Estimadores!$D$6:$AB$6,0)),\"-\")","v":"-"},{"$f":"IFERROR(INDEX([4]Estimadores!$D$7:$AB$38,MATCH(N$287,[4]Estimadores!$B$7:$B$38,0),MATCH($B338,[4]Estimadores!$D$6:$AB$6,0)),\"-\")","v":"-"},{"$f":"IFERROR(INDEX([4]Estimadores!$D$7:$AB$38,MATCH(O$287,[4]Estimadores!$B$7:$B$38,0),MATCH($B338,[4]Estimadores!$D$6:$AB$6,0)),\"-\")","v":"-"},{"$f":"IFERROR(INDEX([4]Estimadores!$D$7:$AB$38,MATCH(P$287,[4]Estimadores!$B$7:$B$38,0),MATCH($B338,[4]Estimadores!$D$6:$AB$6,0)),\"-\")","v":"-"},{"$f":"IFERROR(INDEX([4]Estimadores!$D$7:$AB$38,MATCH(Q$287,[4]Estimadores!$B$7:$B$38,0),MATCH($B338,[4]Estimadores!$D$6:$AB$6,0)),\"-\")","v":"-"},{"$f":"IFERROR(INDEX([4]Estimadores!$D$7:$AB$38,MATCH(R$287,[4]Estimadores!$B$7:$B$38,0),MATCH($B338,[4]Estimadores!$D$6:$AB$6,0)),\"-\")","v":"-"},{"$f":"IFERROR(INDEX([4]Estimadores!$D$7:$AB$38,MATCH(S$287,[4]Estimadores!$B$7:$B$38,0),MATCH($B338,[4]Estimadores!$D$6:$AB$6,0)),\"-\")","v":"-"},{"$f":"IFERROR(INDEX([4]Estimadores!$D$7:$AB$38,MATCH(T$287,[4]Estimadores!$B$7:$B$38,0),MATCH($B338,[4]Estimadores!$D$6:$AB$6,0)),\"-\")","v":"-"},{"$f":"IFERROR(INDEX([4]Estimadores!$D$7:$AB$38,MATCH(U$287,[4]Estimadores!$B$7:$B$38,0),MATCH($B338,[4]Estimadores!$D$6:$AB$6,0)),\"-\")","v":"-"},{"$f":"IFERROR(INDEX([4]Estimadores!$D$7:$AB$38,MATCH(V$287,[4]Estimadores!$B$7:$B$38,0),MATCH($B338,[4]Estimadores!$D$6:$AB$6,0)),\"-\")","v":"-"},{"$f":"IFERROR(INDEX([4]Estimadores!$D$7:$AB$38,MATCH(W$287,[4]Estimadores!$B$7:$B$38,0),MATCH($B338,[4]Estimadores!$D$6:$AB$6,0)),\"-\")","v":"-"},{"$f":"IFERROR(INDEX([4]Estimadores!$D$7:$AB$38,MATCH(X$287,[4]Estimadores!$B$7:$B$38,0),MATCH($B338,[4]Estimadores!$D$6:$AB$6,0)),\"-\")","v":"-"},{"$f":"IFERROR(INDEX([4]Estimadores!$D$7:$AB$38,MATCH(Y$287,[4]Estimadores!$B$7:$B$38,0),MATCH($B338,[4]Estimadores!$D$6:$AB$6,0)),\"-\")","v":"-"},{"$f":"IFERROR(INDEX([4]Estimadores!$D$7:$AB$38,MATCH(Z$287,[4]Estimadores!$B$7:$B$38,0),MATCH($B338,[4]Estimadores!$D$6:$AB$6,0)),\"-\")","v":"-"},{"$f":"IFERROR(INDEX([4]Estimadores!$D$7:$AB$38,MATCH(AA$287,[4]Estimadores!$B$7:$B$38,0),MATCH($B338,[4]Estimadores!$D$6:$AB$6,0)),\"-\")","v":"-"},{"$f":"IFERROR(INDEX([4]Estimadores!$D$7:$AB$38,MATCH(AB$287,[4]Estimadores!$B$7:$B$38,0),MATCH($B338,[4]Estimadores!$D$6:$AB$6,0)),\"-\")","v":"-"},{"$f":"IFERROR(INDEX([4]Estimadores!$D$7:$AB$38,MATCH(AC$287,[4]Estimadores!$B$7:$B$38,0),MATCH($B338,[4]Estimadores!$D$6:$AB$6,0)),\"-\")","v":"-"},{"$f":"IFERROR(INDEX([4]Estimadores!$D$7:$AB$38,MATCH(AD$287,[4]Estimadores!$B$7:$B$38,0),MATCH($B338,[4]Estimadores!$D$6:$AB$6,0)),\"-\")","v":"-"},{"$f":"IFERROR(INDEX([4]Estimadores!$D$7:$AB$38,MATCH(AE$287,[4]Estimadores!$B$7:$B$38,0),MATCH($B338,[4]Estimadores!$D$6:$AB$6,0)),\"-\")","v":"-"},{"$f":"IFERROR(INDEX([4]Estimadores!$D$7:$AB$38,MATCH(AF$287,[4]Estimadores!$B$7:$B$38,0),MATCH($B338,[4]Estimadores!$D$6:$AB$6,0)),\"-\")","v":"-"},{"$f":"IFERROR(INDEX([4]Estimadores!$D$7:$AB$38,MATCH(AG$287,[4]Estimadores!$B$7:$B$38,0),MATCH($B338,[4]Estimadores!$D$6:$AB$6,0)),\"-\")","v":"-"},{"$f":"IFERROR(INDEX([4]Estimadores!$D$7:$AB$38,MATCH(AH$287,[4]Estimadores!$B$7:$B$38,0),MATCH($B338,[4]Estimadores!$D$6:$AB$6,0)),\"-\")","v":"-"},{"$f":"IFERROR(INDEX([4]Estimadores!$D$7:$AB$38,MATCH(AI$287,[4]Estimadores!$B$7:$B$38,0),MATCH($B338,[4]Estimadores!$D$6:$AB$6,0)),\"-\")","v":"-"}]
[null,"ATD","ATD",{"$f":"IFERROR(INDEX([4]Estimadores!$D$7:$AB$38,MATCH(D$287,[4]Estimadores!$B$7:$B$38,0),MATCH($B339,[4]Estimadores!$D$6:$AB$6,0)),\"-\")","v":0.23721226343071514},{"$f":"IFERROR(INDEX([4]Estimadores!$D$7:$AB$38,MATCH(E$287,[4]Estimadores!$B$7:$B$38,0),MATCH($B339,[4]Estimadores!$D$6:$AB$6,0)),\"-\")","v":0.34970359263117162},{"$f":"IFERROR(INDEX([4]Estimadores!$D$7:$AB$38,MATCH(F$287,[4]Estimadores!$B$7:$B$38,0),MATCH($B339,[4]Estimadores!$D$6:$AB$6,0)),\"-\")","v":0.41308414393811355},{"$f":"IFERROR(INDEX([4]Estimadores!$D$7:$AB$38,MATCH(G$287,[4]Estimadores!$B$7:$B$38,0),MATCH($B339,[4]Estimadores!$D$6:$AB$6,0)),\"-\")","v":0.86069214475076072},{"$f":"IFERROR(INDEX([4]Estimadores!$D$7:$AB$38,MATCH(H$287,[4]Estimadores!$B$7:$B$38,0),MATCH($B339,[4]Estimadores!$D$6:$AB$6,0)),\"-\")","v":1},{"$f":"IFERROR(INDEX([4]Estimadores!$D$7:$AB$38,MATCH(I$287,[4]Estimadores!$B$7:$B$38,0),MATCH($B339,[4]Estimadores!$D$6:$AB$6,0)),\"-\")","v":1},{"$f":"IFERROR(INDEX([4]Estimadores!$D$7:$AB$38,MATCH(J$287,[4]Estimadores!$B$7:$B$38,0),MATCH($B339,[4]Estimadores!$D$6:$AB$6,0)),\"-\")","v":1},{"$f":"IFERROR(INDEX([4]Estimadores!$D$7:$AB$38,MATCH(K$287,[4]Estimadores!$B$7:$B$38,0),MATCH($B339,[4]Estimadores!$D$6:$AB$6,0)),\"-\")","v":0.95179359426507026},{"$f":"IFERROR(INDEX([4]Estimadores!$D$7:$AB$38,MATCH(L$287,[4]Estimadores!$B$7:$B$38,0),MATCH($B339,[4]Estimadores!$D$6:$AB$6,0)),\"-\")","v":0.95179359426507026},{"$f":"IFERROR(INDEX([4]Estimadores!$D$7:$AB$38,MATCH(M$287,[4]Estimadores!$B$7:$B$38,0),MATCH($B339,[4]Estimadores!$D$6:$AB$6,0)),\"-\")","v":0.95179359426507026},{"$f":"IFERROR(INDEX([4]Estimadores!$D$7:$AB$38,MATCH(N$287,[4]Estimadores!$B$7:$B$38,0),MATCH($B339,[4]Estimadores!$D$6:$AB$6,0)),\"-\")","v":0.95676174774075162},{"$f":"IFERROR(INDEX([4]Estimadores!$D$7:$AB$38,MATCH(O$287,[4]Estimadores!$B$7:$B$38,0),MATCH($B339,[4]Estimadores!$D$6:$AB$6,0)),\"-\")","v":0.95676174774075162},{"$f":"IFERROR(INDEX([4]Estimadores!$D$7:$AB$38,MATCH(P$287,[4]Estimadores!$B$7:$B$38,0),MATCH($B339,[4]Estimadores!$D$6:$AB$6,0)),\"-\")","v":0.95676174774075162},{"$f":"IFERROR(INDEX([4]Estimadores!$D$7:$AB$38,MATCH(Q$287,[4]Estimadores!$B$7:$B$38,0),MATCH($B339,[4]Estimadores!$D$6:$AB$6,0)),\"-\")","v":0.93323259994726404},{"$f":"IFERROR(INDEX([4]Estimadores!$D$7:$AB$38,MATCH(R$287,[4]Estimadores!$B$7:$B$38,0),MATCH($B339,[4]Estimadores!$D$6:$AB$6,0)),\"-\")","v":0.90769380314224557},{"$f":"IFERROR(INDEX([4]Estimadores!$D$7:$AB$38,MATCH(S$287,[4]Estimadores!$B$7:$B$38,0),MATCH($B339,[4]Estimadores!$D$6:$AB$6,0)),\"-\")","v":0.90769380314224557},{"$f":"IFERROR(INDEX([4]Estimadores!$D$7:$AB$38,MATCH(T$287,[4]Estimadores!$B$7:$B$38,0),MATCH($B339,[4]Estimadores!$D$6:$AB$6,0)),\"-\")","v":0.95179359426507026},{"$f":"IFERROR(INDEX([4]Estimadores!$D$7:$AB$38,MATCH(U$287,[4]Estimadores!$B$7:$B$38,0),MATCH($B339,[4]Estimadores!$D$6:$AB$6,0)),\"-\")","v":0.95179359426507026},{"$f":"IFERROR(INDEX([4]Estimadores!$D$7:$AB$38,MATCH(V$287,[4]Estimadores!$B$7:$B$38,0),MATCH($B339,[4]Estimadores!$D$6:$AB$6,0)),\"-\")","v":0.95179359426507026},{"$f":"IFERROR(INDEX([4]Estimadores!$D$7:$AB$38,MATCH(W$287,[4]Estimadores!$B$7:$B$38,0),MATCH($B339,[4]Estimadores!$D$6:$AB$6,0)),\"-\")","v":"-"},{"$f":"IFERROR(INDEX([4]Estimadores!$D$7:$AB$38,MATCH(X$287,[4]Estimadores!$B$7:$B$38,0),MATCH($B339,[4]Estimadores!$D$6:$AB$6,0)),\"-\")","v":0.95179359426507026},{"$f":"IFERROR(INDEX([4]Estimadores!$D$7:$AB$38,MATCH(Y$287,[4]Estimadores!$B$7:$B$38,0),MATCH($B339,[4]Estimadores!$D$6:$AB$6,0)),\"-\")","v":0.95179359426507026},{"$f":"IFERROR(INDEX([4]Estimadores!$D$7:$AB$38,MATCH(Z$287,[4]Estimadores!$B$7:$B$38,0),MATCH($B339,[4]Estimadores!$D$6:$AB$6,0)),\"-\")","v":0.95179359426507026},{"$f":"IFERROR(INDEX([4]Estimadores!$D$7:$AB$38,MATCH(AA$287,[4]Estimadores!$B$7:$B$38,0),MATCH($B339,[4]Estimadores!$D$6:$AB$6,0)),\"-\")","v":0.93323259994726404},{"$f":"IFERROR(INDEX([4]Estimadores!$D$7:$AB$38,MATCH(AB$287,[4]Estimadores!$B$7:$B$38,0),MATCH($B339,[4]Estimadores!$D$6:$AB$6,0)),\"-\")","v":0.90769380314224557},{"$f":"IFERROR(INDEX([4]Estimadores!$D$7:$AB$38,MATCH(AC$287,[4]Estimadores!$B$7:$B$38,0),MATCH($B339,[4]Estimadores!$D$6:$AB$6,0)),\"-\")","v":0.90769380314224557},{"$f":"IFERROR(INDEX([4]Estimadores!$D$7:$AB$38,MATCH(AD$287,[4]Estimadores!$B$7:$B$38,0),MATCH($B339,[4]Estimadores!$D$6:$AB$6,0)),\"-\")","v":0.99480732430261465},{"$f":"IFERROR(INDEX([4]Estimadores!$D$7:$AB$38,MATCH(AE$287,[4]Estimadores!$B$7:$B$38,0),MATCH($B339,[4]Estimadores!$D$6:$AB$6,0)),\"-\")","v":1},{"$f":"IFERROR(INDEX([4]Estimadores!$D$7:$AB$38,MATCH(AF$287,[4]Estimadores!$B$7:$B$38,0),MATCH($B339,[4]Estimadores!$D$6:$AB$6,0)),\"-\")","v":0.86197623650314514},{"$f":"IFERROR(INDEX([4]Estimadores!$D$7:$AB$38,MATCH(AG$287,[4]Estimadores!$B$7:$B$38,0),MATCH($B339,[4]Estimadores!$D$6:$AB$6,0)),\"-\")","v":0.86168960453283239},{"$f":"IFERROR(INDEX([4]Estimadores!$D$7:$AB$38,MATCH(AH$287,[4]Estimadores!$B$7:$B$38,0),MATCH($B339,[4]Estimadores!$D$6:$AB$6,0)),\"-\")","v":1.0052197803238185},{"$f":"IFERROR(INDEX([4]Estimadores!$D$7:$AB$38,MATCH(AI$287,[4]Estimadores!$B$7:$B$38,0),MATCH($B339,[4]Estimadores!$D$6:$AB$6,0)),\"-\")","v":1}]
[null,"ATH","ATH",{"$f":"IFERROR(INDEX([4]Estimadores!$D$7:$AB$38,MATCH(D$287,[4]Estimadores!$B$7:$B$38,0),MATCH($B340,[4]Estimadores!$D$6:$AB$6,0)),\"-\")","v":0.25696827926317617},{"$f":"IFERROR(INDEX([4]Estimadores!$D$7:$AB$38,MATCH(E$287,[4]Estimadores!$B$7:$B$38,0),MATCH($B340,[4]Estimadores!$D$6:$AB$6,0)),\"-\")","v":0.34678609311062653},{"$f":"IFERROR(INDEX([4]Estimadores!$D$7:$AB$38,MATCH(F$287,[4]Estimadores!$B$7:$B$38,0),MATCH($B340,[4]Estimadores!$D$6:$AB$6,0)),\"-\")","v":0.39624562762619725},{"$f":"IFERROR(INDEX([4]Estimadores!$D$7:$AB$38,MATCH(G$287,[4]Estimadores!$B$7:$B$38,0),MATCH($B340,[4]Estimadores!$D$6:$AB$6,0)),\"-\")","v":0.85708988736625824},{"$f":"IFERROR(INDEX([4]Estimadores!$D$7:$AB$38,MATCH(H$287,[4]Estimadores!$B$7:$B$38,0),MATCH($B340,[4]Estimadores!$D$6:$AB$6,0)),\"-\")","v":0.9960604731603705},{"$f":"IFERROR(INDEX([4]Estimadores!$D$7:$AB$38,MATCH(I$287,[4]Estimadores!$B$7:$B$38,0),MATCH($B340,[4]Estimadores!$D$6:$AB$6,0)),\"-\")","v":0.99999886803975324},{"$f":"IFERROR(INDEX([4]Estimadores!$D$7:$AB$38,MATCH(J$287,[4]Estimadores!$B$7:$B$38,0),MATCH($B340,[4]Estimadores!$D$6:$AB$6,0)),\"-\")","v":0.99999151089392857},{"$f":"IFERROR(INDEX([4]Estimadores!$D$7:$AB$38,MATCH(K$287,[4]Estimadores!$B$7:$B$38,0),MATCH($B340,[4]Estimadores!$D$6:$AB$6,0)),\"-\")","v":0.94271644079321737},{"$f":"IFERROR(INDEX([4]Estimadores!$D$7:$AB$38,MATCH(L$287,[4]Estimadores!$B$7:$B$38,0),MATCH($B340,[4]Estimadores!$D$6:$AB$6,0)),\"-\")","v":0.94271644079321737},{"$f":"IFERROR(INDEX([4]Estimadores!$D$7:$AB$38,MATCH(M$287,[4]Estimadores!$B$7:$B$38,0),MATCH($B340,[4]Estimadores!$D$6:$AB$6,0)),\"-\")","v":0.94271644079321737},{"$f":"IFERROR(INDEX([4]Estimadores!$D$7:$AB$38,MATCH(N$287,[4]Estimadores!$B$7:$B$38,0),MATCH($B340,[4]Estimadores!$D$6:$AB$6,0)),\"-\")","v":0.94277566588344353},{"$f":"IFERROR(INDEX([4]Estimadores!$D$7:$AB$38,MATCH(O$287,[4]Estimadores!$B$7:$B$38,0),MATCH($B340,[4]Estimadores!$D$6:$AB$6,0)),\"-\")","v":0.94277566588344353},{"$f":"IFERROR(INDEX([4]Estimadores!$D$7:$AB$38,MATCH(P$287,[4]Estimadores!$B$7:$B$38,0),MATCH($B340,[4]Estimadores!$D$6:$AB$6,0)),\"-\")","v":0.94277566588344353},{"$f":"IFERROR(INDEX([4]Estimadores!$D$7:$AB$38,MATCH(Q$287,[4]Estimadores!$B$7:$B$38,0),MATCH($B340,[4]Estimadores!$D$6:$AB$6,0)),\"-\")","v":0.93018386710927348},{"$f":"IFERROR(INDEX([4]Estimadores!$D$7:$AB$38,MATCH(R$287,[4]Estimadores!$B$7:$B$38,0),MATCH($B340,[4]Estimadores!$D$6:$AB$6,0)),\"-\")","v":0.90193131632347279},{"$f":"IFERROR(INDEX([4]Estimadores!$D$7:$AB$38,MATCH(S$287,[4]Estimadores!$B$7:$B$38,0),MATCH($B340,[4]Estimadores!$D$6:$AB$6,0)),\"-\")","v":0.90193131632347279},{"$f":"IFERROR(INDEX([4]Estimadores!$D$7:$AB$38,MATCH(T$287,[4]Estimadores!$B$7:$B$38,0),MATCH($B340,[4]Estimadores!$D$6:$AB$6,0)),\"-\")","v":0.93900258407255244},{"$f":"IFERROR(INDEX([4]Estimadores!$D$7:$AB$38,MATCH(U$287,[4]Estimadores!$B$7:$B$38,0),MATCH($B340,[4]Estimadores!$D$6:$AB$6,0)),\"-\")","v":0.93900258407255244},{"$f":"IFERROR(INDEX([4]Estimadores!$D$7:$AB$38,MATCH(V$287,[4]Estimadores!$B$7:$B$38,0),MATCH($B340,[4]Estimadores!$D$6:$AB$6,0)),\"-\")","v":0.93900258407255244},{"$f":"IFERROR(INDEX([4]Estimadores!$D$7:$AB$38,MATCH(W$287,[4]Estimadores!$B$7:$B$38,0),MATCH($B340,[4]Estimadores!$D$6:$AB$6,0)),\"-\")","v":"-"},{"$f":"IFERROR(INDEX([4]Estimadores!$D$7:$AB$38,MATCH(X$287,[4]Estimadores!$B$7:$B$38,0),MATCH($B340,[4]Estimadores!$D$6:$AB$6,0)),\"-\")","v":0.94271644079321737},{"$f":"IFERROR(INDEX([4]Estimadores!$D$7:$AB$38,MATCH(Y$287,[4]Estimadores!$B$7:$B$38,0),MATCH($B340,[4]Estimadores!$D$6:$AB$6,0)),\"-\")","v":0.94271644079321737},{"$f":"IFERROR(INDEX([4]Estimadores!$D$7:$AB$38,MATCH(Z$287,[4]Estimadores!$B$7:$B$38,0),MATCH($B340,[4]Estimadores!$D$6:$AB$6,0)),\"-\")","v":0.94271644079321737},{"$f":"IFERROR(INDEX([4]Estimadores!$D$7:$AB$38,MATCH(AA$287,[4]Estimadores!$B$7:$B$38,0),MATCH($B340,[4]Estimadores!$D$6:$AB$6,0)),\"-\")","v":0.93018386710927348},{"$f":"IFERROR(INDEX([4]Estimadores!$D$7:$AB$38,MATCH(AB$287,[4]Estimadores!$B$7:$B$38,0),MATCH($B340,[4]Estimadores!$D$6:$AB$6,0)),\"-\")","v":0.90193131632347279},{"$f":"IFERROR(INDEX([4]Estimadores!$D$7:$AB$38,MATCH(AC$287,[4]Estimadores!$B$7:$B$38,0),MATCH($B340,[4]Estimadores!$D$6:$AB$6,0)),\"-\")","v":0.90193131632347279},{"$f":"IFERROR(INDEX([4]Estimadores!$D$7:$AB$38,MATCH(AD$287,[4]Estimadores!$B$7:$B$38,0),MATCH($B340,[4]Estimadores!$D$6:$AB$6,0)),\"-\")","v":0.99599790072290895},{"$f":"IFERROR(INDEX([4]Estimadores!$D$7:$AB$38,MATCH(AE$287,[4]Estimadores!$B$7:$B$38,0),MATCH($B340,[4]Estimadores!$D$6:$AB$6,0)),\"-\")","v":0.9960604731603705},{"$f":"IFERROR(INDEX([4]Estimadores!$D$7:$AB$38,MATCH(AF$287,[4]Estimadores!$B$7:$B$38,0),MATCH($B340,[4]Estimadores!$D$6:$AB$6,0)),\"-\")","v":0.92508675070160407},{"$f":"IFERROR(INDEX([4]Estimadores!$D$7:$AB$38,MATCH(AG$287,[4]Estimadores!$B$7:$B$38,0),MATCH($B340,[4]Estimadores!$D$6:$AB$6,0)),\"-\")","v":0.83585902815959456},{"$f":"IFERROR(INDEX([4]Estimadores!$D$7:$AB$38,MATCH(AH$287,[4]Estimadores!$B$7:$B$38,0),MATCH($B340,[4]Estimadores!$D$6:$AB$6,0)),\"-\")","v":1.0000628238648053},{"$f":"IFERROR(INDEX([4]Estimadores!$D$7:$AB$38,MATCH(AI$287,[4]Estimadores!$B$7:$B$38,0),MATCH($B340,[4]Estimadores!$D$6:$AB$6,0)),\"-\")","v":1}]
[null,null,"",{"$f":"IFERROR(INDEX([4]Estimadores!$D$7:$AB$38,MATCH(D$287,[4]Estimadores!$B$7:$B$38,0),MATCH($B341,[4]Estimadores!$D$6:$AB$6,0)),\"-\")","v":"-"},{"$f":"IFERROR(INDEX([4]Estimadores!$D$7:$AB$38,MATCH(E$287,[4]Estimadores!$B$7:$B$38,0),MATCH($B341,[4]Estimadores!$D$6:$AB$6,0)),\"-\")","v":"-"},{"$f":"IFERROR(INDEX([4]Estimadores!$D$7:$AB$38,MATCH(F$287,[4]Estimadores!$B$7:$B$38,0),MATCH($B341,[4]Estimadores!$D$6:$AB$6,0)),\"-\")","v":"-"},{"$f":"IFERROR(INDEX([4]Estimadores!$D$7:$AB$38,MATCH(G$287,[4]Estimadores!$B$7:$B$38,0),MATCH($B341,[4]Estimadores!$D$6:$AB$6,0)),\"-\")","v":"-"},{"$f":"IFERROR(INDEX([4]Estimadores!$D$7:$AB$38,MATCH(H$287,[4]Estimadores!$B$7:$B$38,0),MATCH($B341,[4]Estimadores!$D$6:$AB$6,0)),\"-\")","v":"-"},{"$f":"IFERROR(INDEX([4]Estimadores!$D$7:$AB$38,MATCH(I$287,[4]Estimadores!$B$7:$B$38,0),MATCH($B341,[4]Estimadores!$D$6:$AB$6,0)),\"-\")","v":"-"},{"$f":"IFERROR(INDEX([4]Estimadores!$D$7:$AB$38,MATCH(J$287,[4]Estimadores!$B$7:$B$38,0),MATCH($B341,[4]Estimadores!$D$6:$AB$6,0)),\"-\")","v":"-"},{"$f":"IFERROR(INDEX([4]Estimadores!$D$7:$AB$38,MATCH(K$287,[4]Estimadores!$B$7:$B$38,0),MATCH($B341,[4]Estimadores!$D$6:$AB$6,0)),\"-\")","v":"-"},{"$f":"IFERROR(INDEX([4]Estimadores!$D$7:$AB$38,MATCH(L$287,[4]Estimadores!$B$7:$B$38,0),MATCH($B341,[4]Estimadores!$D$6:$AB$6,0)),\"-\")","v":"-"},{"$f":"IFERROR(INDEX([4]Estimadores!$D$7:$AB$38,MATCH(M$287,[4]Estimadores!$B$7:$B$38,0),MATCH($B341,[4]Estimadores!$D$6:$AB$6,0)),\"-\")","v":"-"},{"$f":"IFERROR(INDEX([4]Estimadores!$D$7:$AB$38,MATCH(N$287,[4]Estimadores!$B$7:$B$38,0),MATCH($B341,[4]Estimadores!$D$6:$AB$6,0)),\"-\")","v":"-"},{"$f":"IFERROR(INDEX([4]Estimadores!$D$7:$AB$38,MATCH(O$287,[4]Estimadores!$B$7:$B$38,0),MATCH($B341,[4]Estimadores!$D$6:$AB$6,0)),\"-\")","v":"-"},{"$f":"IFERROR(INDEX([4]Estimadores!$D$7:$AB$38,MATCH(P$287,[4]Estimadores!$B$7:$B$38,0),MATCH($B341,[4]Estimadores!$D$6:$AB$6,0)),\"-\")","v":"-"},{"$f":"IFERROR(INDEX([4]Estimadores!$D$7:$AB$38,MATCH(Q$287,[4]Estimadores!$B$7:$B$38,0),MATCH($B341,[4]Estimadores!$D$6:$AB$6,0)),\"-\")","v":"-"},{"$f":"IFERROR(INDEX([4]Estimadores!$D$7:$AB$38,MATCH(R$287,[4]Estimadores!$B$7:$B$38,0),MATCH($B341,[4]Estimadores!$D$6:$AB$6,0)),\"-\")","v":"-"},{"$f":"IFERROR(INDEX([4]Estimadores!$D$7:$AB$38,MATCH(S$287,[4]Estimadores!$B$7:$B$38,0),MATCH($B341,[4]Estimadores!$D$6:$AB$6,0)),\"-\")","v":"-"},{"$f":"IFERROR(INDEX([4]Estimadores!$D$7:$AB$38,MATCH(T$287,[4]Estimadores!$B$7:$B$38,0),MATCH($B341,[4]Estimadores!$D$6:$AB$6,0)),\"-\")","v":"-"},{"$f":"IFERROR(INDEX([4]Estimadores!$D$7:$AB$38,MATCH(U$287,[4]Estimadores!$B$7:$B$38,0),MATCH($B341,[4]Estimadores!$D$6:$AB$6,0)),\"-\")","v":"-"},{"$f":"IFERROR(INDEX([4]Estimadores!$D$7:$AB$38,MATCH(V$287,[4]Estimadores!$B$7:$B$38,0),MATCH($B341,[4]Estimadores!$D$6:$AB$6,0)),\"-\")","v":"-"},{"$f":"IFERROR(INDEX([4]Estimadores!$D$7:$AB$38,MATCH(W$287,[4]Estimadores!$B$7:$B$38,0),MATCH($B341,[4]Estimadores!$D$6:$AB$6,0)),\"-\")","v":"-"},{"$f":"IFERROR(INDEX([4]Estimadores!$D$7:$AB$38,MATCH(X$287,[4]Estimadores!$B$7:$B$38,0),MATCH($B341,[4]Estimadores!$D$6:$AB$6,0)),\"-\")","v":"-"},{"$f":"IFERROR(INDEX([4]Estimadores!$D$7:$AB$38,MATCH(Y$287,[4]Estimadores!$B$7:$B$38,0),MATCH($B341,[4]Estimadores!$D$6:$AB$6,0)),\"-\")","v":"-"},{"$f":"IFERROR(INDEX([4]Estimadores!$D$7:$AB$38,MATCH(Z$287,[4]Estimadores!$B$7:$B$38,0),MATCH($B341,[4]Estimadores!$D$6:$AB$6,0)),\"-\")","v":"-"},{"$f":"IFERROR(INDEX([4]Estimadores!$D$7:$AB$38,MATCH(AA$287,[4]Estimadores!$B$7:$B$38,0),MATCH($B341,[4]Estimadores!$D$6:$AB$6,0)),\"-\")","v":"-"},{"$f":"IFERROR(INDEX([4]Estimadores!$D$7:$AB$38,MATCH(AB$287,[4]Estimadores!$B$7:$B$38,0),MATCH($B341,[4]Estimadores!$D$6:$AB$6,0)),\"-\")","v":"-"},{"$f":"IFERROR(INDEX([4]Estimadores!$D$7:$AB$38,MATCH(AC$287,[4]Estimadores!$B$7:$B$38,0),MATCH($B341,[4]Estimadores!$D$6:$AB$6,0)),\"-\")","v":"-"},{"$f":"IFERROR(INDEX([4]Estimadores!$D$7:$AB$38,MATCH(AD$287,[4]Estimadores!$B$7:$B$38,0),MATCH($B341,[4]Estimadores!$D$6:$AB$6,0)),\"-\")","v":"-"},{"$f":"IFERROR(INDEX([4]Estimadores!$D$7:$AB$38,MATCH(AE$287,[4]Estimadores!$B$7:$B$38,0),MATCH($B341,[4]Estimadores!$D$6:$AB$6,0)),\"-\")","v":"-"},{"$f":"IFERROR(INDEX([4]Estimadores!$D$7:$AB$38,MATCH(AF$287,[4]Estimadores!$B$7:$B$38,0),MATCH($B341,[4]Estimadores!$D$6:$AB$6,0)),\"-\")","v":"-"},{"$f":"IFERROR(INDEX([4]Estimadores!$D$7:$AB$38,MATCH(AG$287,[4]Estimadores!$B$7:$B$38,0),MATCH($B341,[4]Estimadores!$D$6:$AB$6,0)),\"-\")","v":"-"},{"$f":"IFERROR(INDEX([4]Estimadores!$D$7:$AB$38,MATCH(AH$287,[4]Estimadores!$B$7:$B$38,0),MATCH($B341,[4]Estimadores!$D$6:$AB$6,0)),\"-\")","v":"-"},{"$f":"IFERROR(INDEX([4]Estimadores!$D$7:$AB$38,MATCH(AI$287,[4]Estimadores!$B$7:$B$38,0),MATCH($B341,[4]Estimadores!$D$6:$AB$6,0)),\"-\")","v":"-"}]
[null,null,"",{"$f":"IFERROR(INDEX([4]Estimadores!$D$7:$AB$38,MATCH(D$287,[4]Estimadores!$B$7:$B$38,0),MATCH($B342,[4]Estimadores!$D$6:$AB$6,0)),\"-\")","v":"-"},{"$f":"IFERROR(INDEX([4]Estimadores!$D$7:$AB$38,MATCH(E$287,[4]Estimadores!$B$7:$B$38,0),MATCH($B342,[4]Estimadores!$D$6:$AB$6,0)),\"-\")","v":"-"},{"$f":"IFERROR(INDEX([4]Estimadores!$D$7:$AB$38,MATCH(F$287,[4]Estimadores!$B$7:$B$38,0),MATCH($B342,[4]Estimadores!$D$6:$AB$6,0)),\"-\")","v":"-"},{"$f":"IFERROR(INDEX([4]Estimadores!$D$7:$AB$38,MATCH(G$287,[4]Estimadores!$B$7:$B$38,0),MATCH($B342,[4]Estimadores!$D$6:$AB$6,0)),\"-\")","v":"-"},{"$f":"IFERROR(INDEX([4]Estimadores!$D$7:$AB$38,MATCH(H$287,[4]Estimadores!$B$7:$B$38,0),MATCH($B342,[4]Estimadores!$D$6:$AB$6,0)),\"-\")","v":"-"},{"$f":"IFERROR(INDEX([4]Estimadores!$D$7:$AB$38,MATCH(I$287,[4]Estimadores!$B$7:$B$38,0),MATCH($B342,[4]Estimadores!$D$6:$AB$6,0)),\"-\")","v":"-"},{"$f":"IFERROR(INDEX([4]Estimadores!$D$7:$AB$38,MATCH(J$287,[4]Estimadores!$B$7:$B$38,0),MATCH($B342,[4]Estimadores!$D$6:$AB$6,0)),\"-\")","v":"-"},{"$f":"IFERROR(INDEX([4]Estimadores!$D$7:$AB$38,MATCH(K$287,[4]Estimadores!$B$7:$B$38,0),MATCH($B342,[4]Estimadores!$D$6:$AB$6,0)),\"-\")","v":"-"},{"$f":"IFERROR(INDEX([4]Estimadores!$D$7:$AB$38,MATCH(L$287,[4]Estimadores!$B$7:$B$38,0),MATCH($B342,[4]Estimadores!$D$6:$AB$6,0)),\"-\")","v":"-"},{"$f":"IFERROR(INDEX([4]Estimadores!$D$7:$AB$38,MATCH(M$287,[4]Estimadores!$B$7:$B$38,0),MATCH($B342,[4]Estimadores!$D$6:$AB$6,0)),\"-\")","v":"-"},{"$f":"IFERROR(INDEX([4]Estimadores!$D$7:$AB$38,MATCH(N$287,[4]Estimadores!$B$7:$B$38,0),MATCH($B342,[4]Estimadores!$D$6:$AB$6,0)),\"-\")","v":"-"},{"$f":"IFERROR(INDEX([4]Estimadores!$D$7:$AB$38,MATCH(O$287,[4]Estimadores!$B$7:$B$38,0),MATCH($B342,[4]Estimadores!$D$6:$AB$6,0)),\"-\")","v":"-"},{"$f":"IFERROR(INDEX([4]Estimadores!$D$7:$AB$38,MATCH(P$287,[4]Estimadores!$B$7:$B$38,0),MATCH($B342,[4]Estimadores!$D$6:$AB$6,0)),\"-\")","v":"-"},{"$f":"IFERROR(INDEX([4]Estimadores!$D$7:$AB$38,MATCH(Q$287,[4]Estimadores!$B$7:$B$38,0),MATCH($B342,[4]Estimadores!$D$6:$AB$6,0)),\"-\")","v":"-"},{"$f":"IFERROR(INDEX([4]Estimadores!$D$7:$AB$38,MATCH(R$287,[4]Estimadores!$B$7:$B$38,0),MATCH($B342,[4]Estimadores!$D$6:$AB$6,0)),\"-\")","v":"-"},{"$f":"IFERROR(INDEX([4]Estimadores!$D$7:$AB$38,MATCH(S$287,[4]Estimadores!$B$7:$B$38,0),MATCH($B342,[4]Estimadores!$D$6:$AB$6,0)),\"-\")","v":"-"},{"$f":"IFERROR(INDEX([4]Estimadores!$D$7:$AB$38,MATCH(T$287,[4]Estimadores!$B$7:$B$38,0),MATCH($B342,[4]Estimadores!$D$6:$AB$6,0)),\"-\")","v":"-"},{"$f":"IFERROR(INDEX([4]Estimadores!$D$7:$AB$38,MATCH(U$287,[4]Estimadores!$B$7:$B$38,0),MATCH($B342,[4]Estimadores!$D$6:$AB$6,0)),\"-\")","v":"-"},{"$f":"IFERROR(INDEX([4]Estimadores!$D$7:$AB$38,MATCH(V$287,[4]Estimadores!$B$7:$B$38,0),MATCH($B342,[4]Estimadores!$D$6:$AB$6,0)),\"-\")","v":"-"},{"$f":"IFERROR(INDEX([4]Estimadores!$D$7:$AB$38,MATCH(W$287,[4]Estimadores!$B$7:$B$38,0),MATCH($B342,[4]Estimadores!$D$6:$AB$6,0)),\"-\")","v":"-"},{"$f":"IFERROR(INDEX([4]Estimadores!$D$7:$AB$38,MATCH(X$287,[4]Estimadores!$B$7:$B$38,0),MATCH($B342,[4]Estimadores!$D$6:$AB$6,0)),\"-\")","v":"-"},{"$f":"IFERROR(INDEX([4]Estimadores!$D$7:$AB$38,MATCH(Y$287,[4]Estimadores!$B$7:$B$38,0),MATCH($B342,[4]Estimadores!$D$6:$AB$6,0)),\"-\")","v":"-"},{"$f":"IFERROR(INDEX([4]Estimadores!$D$7:$AB$38,MATCH(Z$287,[4]Estimadores!$B$7:$B$38,0),MATCH($B342,[4]Estimadores!$D$6:$AB$6,0)),\"-\")","v":"-"},{"$f":"IFERROR(INDEX([4]Estimadores!$D$7:$AB$38,MATCH(AA$287,[4]Estimadores!$B$7:$B$38,0),MATCH($B342,[4]Estimadores!$D$6:$AB$6,0)),\"-\")","v":"-"},{"$f":"IFERROR(INDEX([4]Estimadores!$D$7:$AB$38,MATCH(AB$287,[4]Estimadores!$B$7:$B$38,0),MATCH($B342,[4]Estimadores!$D$6:$AB$6,0)),\"-\")","v":"-"},{"$f":"IFERROR(INDEX([4]Estimadores!$D$7:$AB$38,MATCH(AC$287,[4]Estimadores!$B$7:$B$38,0),MATCH($B342,[4]Estimadores!$D$6:$AB$6,0)),\"-\")","v":"-"},{"$f":"IFERROR(INDEX([4]Estimadores!$D$7:$AB$38,MATCH(AD$287,[4]Estimadores!$B$7:$B$38,0),MATCH($B342,[4]Estimadores!$D$6:$AB$6,0)),\"-\")","v":"-"},{"$f":"IFERROR(INDEX([4]Estimadores!$D$7:$AB$38,MATCH(AE$287,[4]Estimadores!$B$7:$B$38,0),MATCH($B342,[4]Estimadores!$D$6:$AB$6,0)),\"-\")","v":"-"},{"$f":"IFERROR(INDEX([4]Estimadores!$D$7:$AB$38,MATCH(AF$287,[4]Estimadores!$B$7:$B$38,0),MATCH($B342,[4]Estimadores!$D$6:$AB$6,0)),\"-\")","v":"-"},{"$f":"IFERROR(INDEX([4]Estimadores!$D$7:$AB$38,MATCH(AG$287,[4]Estimadores!$B$7:$B$38,0),MATCH($B342,[4]Estimadores!$D$6:$AB$6,0)),\"-\")","v":"-"},{"$f":"IFERROR(INDEX([4]Estimadores!$D$7:$AB$38,MATCH(AH$287,[4]Estimadores!$B$7:$B$38,0),MATCH($B342,[4]Estimadores!$D$6:$AB$6,0)),\"-\")","v":"-"},{"$f":"IFERROR(INDEX([4]Estimadores!$D$7:$AB$38,MATCH(AI$287,[4]Estimadores!$B$7:$B$38,0),MATCH($B342,[4]Estimadores!$D$6:$AB$6,0)),\"-\")","v":"-"}]
[null,"EDEMET","EDEMET",{"$f":"IFERROR(INDEX([4]Estimadores!$D$7:$AB$38,MATCH(D$287,[4]Estimadores!$B$7:$B$38,0),MATCH($B343,[4]Estimadores!$D$6:$AB$6,0)),\"-\")","v":0.32732844655089821},{"$f":"IFERROR(INDEX([4]Estimadores!$D$7:$AB$38,MATCH(E$287,[4]Estimadores!$B$7:$B$38,0),MATCH($B343,[4]Estimadores!$D$6:$AB$6,0)),\"-\")","v":0.3350501345375913},{"$f":"IFERROR(INDEX([4]Estimadores!$D$7:$AB$38,MATCH(F$287,[4]Estimadores!$B$7:$B$38,0),MATCH($B343,[4]Estimadores!$D$6:$AB$6,0)),\"-\")","v":0.33762141891150993},{"$f":"IFERROR(INDEX([4]Estimadores!$D$7:$AB$38,MATCH(G$287,[4]Estimadores!$B$7:$B$38,0),MATCH($B343,[4]Estimadores!$D$6:$AB$6,0)),\"-\")","v":0.66791234889846141},{"$f":"IFERROR(INDEX([4]Estimadores!$D$7:$AB$38,MATCH(H$287,[4]Estimadores!$B$7:$B$38,0),MATCH($B343,[4]Estimadores!$D$6:$AB$6,0)),\"-\")","v":1},{"$f":"IFERROR(INDEX([4]Estimadores!$D$7:$AB$38,MATCH(I$287,[4]Estimadores!$B$7:$B$38,0),MATCH($B343,[4]Estimadores!$D$6:$AB$6,0)),\"-\")","v":1},{"$f":"IFERROR(INDEX([4]Estimadores!$D$7:$AB$38,MATCH(J$287,[4]Estimadores!$B$7:$B$38,0),MATCH($B343,[4]Estimadores!$D$6:$AB$6,0)),\"-\")","v":1},{"$f":"IFERROR(INDEX([4]Estimadores!$D$7:$AB$38,MATCH(K$287,[4]Estimadores!$B$7:$B$38,0),MATCH($B343,[4]Estimadores!$D$6:$AB$6,0)),\"-\")","v":0.95845190286894322},{"$f":"IFERROR(INDEX([4]Estimadores!$D$7:$AB$38,MATCH(L$287,[4]Estimadores!$B$7:$B$38,0),MATCH($B343,[4]Estimadores!$D$6:$AB$6,0)),\"-\")","v":0.95845190286894322},{"$f":"IFERROR(INDEX([4]Estimadores!$D$7:$AB$38,MATCH(M$287,[4]Estimadores!$B$7:$B$38,0),MATCH($B343,[4]Estimadores!$D$6:$AB$6,0)),\"-\")","v":0.95845190286894322},{"$f":"IFERROR(INDEX([4]Estimadores!$D$7:$AB$38,MATCH(N$287,[4]Estimadores!$B$7:$B$38,0),MATCH($B343,[4]Estimadores!$D$6:$AB$6,0)),\"-\")","v":0.95845190286894322},{"$f":"IFERROR(INDEX([4]Estimadores!$D$7:$AB$38,MATCH(O$287,[4]Estimadores!$B$7:$B$38,0),MATCH($B343,[4]Estimadores!$D$6:$AB$6,0)),\"-\")","v":0.95845190286894322},{"$f":"IFERROR(INDEX([4]Estimadores!$D$7:$AB$38,MATCH(P$287,[4]Estimadores!$B$7:$B$38,0),MATCH($B343,[4]Estimadores!$D$6:$AB$6,0)),\"-\")","v":0.95845190286894322},{"$f":"IFERROR(INDEX([4]Estimadores!$D$7:$AB$38,MATCH(Q$287,[4]Estimadores!$B$7:$B$38,0),MATCH($B343,[4]Estimadores!$D$6:$AB$6,0)),\"-\")","v":0.6762221908281757},{"$f":"IFERROR(INDEX([4]Estimadores!$D$7:$AB$38,MATCH(R$287,[4]Estimadores!$B$7:$B$38,0),MATCH($B343,[4]Estimadores!$D$6:$AB$6,0)),\"-\")","v":0.69687648533721669},{"$f":"IFERROR(INDEX([4]Estimadores!$D$7:$AB$38,MATCH(S$287,[4]Estimadores!$B$7:$B$38,0),MATCH($B343,[4]Estimadores!$D$6:$AB$6,0)),\"-\")","v":0.69687648533721669},{"$f":"IFERROR(INDEX([4]Estimadores!$D$7:$AB$38,MATCH(T$287,[4]Estimadores!$B$7:$B$38,0),MATCH($B343,[4]Estimadores!$D$6:$AB$6,0)),\"-\")","v":0.95845190286894322},{"$f":"IFERROR(INDEX([4]Estimadores!$D$7:$AB$38,MATCH(U$287,[4]Estimadores!$B$7:$B$38,0),MATCH($B343,[4]Estimadores!$D$6:$AB$6,0)),\"-\")","v":0.95845190286894322},{"$f":"IFERROR(INDEX([4]Estimadores!$D$7:$AB$38,MATCH(V$287,[4]Estimadores!$B$7:$B$38,0),MATCH($B343,[4]Estimadores!$D$6:$AB$6,0)),\"-\")","v":0.95845190286894322},{"$f":"IFERROR(INDEX([4]Estimadores!$D$7:$AB$38,MATCH(W$287,[4]Estimadores!$B$7:$B$38,0),MATCH($B343,[4]Estimadores!$D$6:$AB$6,0)),\"-\")","v":"-"},{"$f":"IFERROR(INDEX([4]Estimadores!$D$7:$AB$38,MATCH(X$287,[4]Estimadores!$B$7:$B$38,0),MATCH($B343,[4]Estimadores!$D$6:$AB$6,0)),\"-\")","v":0.95845190286894322},{"$f":"IFERROR(INDEX([4]Estimadores!$D$7:$AB$38,MATCH(Y$287,[4]Estimadores!$B$7:$B$38,0),MATCH($B343,[4]Estimadores!$D$6:$AB$6,0)),\"-\")","v":0.95845190286894322},{"$f":"IFERROR(INDEX([4]Estimadores!$D$7:$AB$38,MATCH(Z$287,[4]Estimadores!$B$7:$B$38,0),MATCH($B343,[4]Estimadores!$D$6:$AB$6,0)),\"-\")","v":0.95845190286894322},{"$f":"IFERROR(INDEX([4]Estimadores!$D$7:$AB$38,MATCH(AA$287,[4]Estimadores!$B$7:$B$38,0),MATCH($B343,[4]Estimadores!$D$6:$AB$6,0)),\"-\")","v":0.64355230885664827},{"$f":"IFERROR(INDEX([4]Estimadores!$D$7:$AB$38,MATCH(AB$287,[4]Estimadores!$B$7:$B$38,0),MATCH($B343,[4]Estimadores!$D$6:$AB$6,0)),\"-\")","v":0.66320874589669809},{"$f":"IFERROR(INDEX([4]Estimadores!$D$7:$AB$38,MATCH(AC$287,[4]Estimadores!$B$7:$B$38,0),MATCH($B343,[4]Estimadores!$D$6:$AB$6,0)),\"-\")","v":0.66320874589669809},{"$f":"IFERROR(INDEX([4]Estimadores!$D$7:$AB$38,MATCH(AD$287,[4]Estimadores!$B$7:$B$38,0),MATCH($B343,[4]Estimadores!$D$6:$AB$6,0)),\"-\")","v":1},{"$f":"IFERROR(INDEX([4]Estimadores!$D$7:$AB$38,MATCH(AE$287,[4]Estimadores!$B$7:$B$38,0),MATCH($B343,[4]Estimadores!$D$6:$AB$6,0)),\"-\")","v":0.95168765175908188},{"$f":"IFERROR(INDEX([4]Estimadores!$D$7:$AB$38,MATCH(AF$287,[4]Estimadores!$B$7:$B$38,0),MATCH($B343,[4]Estimadores!$D$6:$AB$6,0)),\"-\")","v":0.91823218870779877},{"$f":"IFERROR(INDEX([4]Estimadores!$D$7:$AB$38,MATCH(AG$287,[4]Estimadores!$B$7:$B$38,0),MATCH($B343,[4]Estimadores!$D$6:$AB$6,0)),\"-\")","v":0.61962283304619425},{"$f":"IFERROR(INDEX([4]Estimadores!$D$7:$AB$38,MATCH(AH$287,[4]Estimadores!$B$7:$B$38,0),MATCH($B343,[4]Estimadores!$D$6:$AB$6,0)),\"-\")","v":1},{"$f":"IFERROR(INDEX([4]Estimadores!$D$7:$AB$38,MATCH(AI$287,[4]Estimadores!$B$7:$B$38,0),MATCH($B343,[4]Estimadores!$D$6:$AB$6,0)),\"-\")","v":1.0507649207716612}]
[null,null,"",{"$f":"IFERROR(INDEX([4]Estimadores!$D$7:$AB$38,MATCH(D$287,[4]Estimadores!$B$7:$B$38,0),MATCH($B344,[4]Estimadores!$D$6:$AB$6,0)),\"-\")","v":"-"},{"$f":"IFERROR(INDEX([4]Estimadores!$D$7:$AB$38,MATCH(E$287,[4]Estimadores!$B$7:$B$38,0),MATCH($B344,[4]Estimadores!$D$6:$AB$6,0)),\"-\")","v":"-"},{"$f":"IFERROR(INDEX([4]Estimadores!$D$7:$AB$38,MATCH(F$287,[4]Estimadores!$B$7:$B$38,0),MATCH($B344,[4]Estimadores!$D$6:$AB$6,0)),\"-\")","v":"-"},{"$f":"IFERROR(INDEX([4]Estimadores!$D$7:$AB$38,MATCH(G$287,[4]Estimadores!$B$7:$B$38,0),MATCH($B344,[4]Estimadores!$D$6:$AB$6,0)),\"-\")","v":"-"},{"$f":"IFERROR(INDEX([4]Estimadores!$D$7:$AB$38,MATCH(H$287,[4]Estimadores!$B$7:$B$38,0),MATCH($B344,[4]Estimadores!$D$6:$AB$6,0)),\"-\")","v":"-"},{"$f":"IFERROR(INDEX([4]Estimadores!$D$7:$AB$38,MATCH(I$287,[4]Estimadores!$B$7:$B$38,0),MATCH($B344,[4]Estimadores!$D$6:$AB$6,0)),\"-\")","v":"-"},{"$f":"IFERROR(INDEX([4]Estimadores!$D$7:$AB$38,MATCH(J$287,[4]Estimadores!$B$7:$B$38,0),MATCH($B344,[4]Estimadores!$D$6:$AB$6,0)),\"-\")","v":"-"},{"$f":"IFERROR(INDEX([4]Estimadores!$D$7:$AB$38,MATCH(K$287,[4]Estimadores!$B$7:$B$38,0),MATCH($B344,[4]Estimadores!$D$6:$AB$6,0)),\"-\")","v":"-"},{"$f":"IFERROR(INDEX([4]Estimadores!$D$7:$AB$38,MATCH(L$287,[4]Estimadores!$B$7:$B$38,0),MATCH($B344,[4]Estimadores!$D$6:$AB$6,0)),\"-\")","v":"-"},{"$f":"IFERROR(INDEX([4]Estimadores!$D$7:$AB$38,MATCH(M$287,[4]Estimadores!$B$7:$B$38,0),MATCH($B344,[4]Estimadores!$D$6:$AB$6,0)),\"-\")","v":"-"},{"$f":"IFERROR(INDEX([4]Estimadores!$D$7:$AB$38,MATCH(N$287,[4]Estimadores!$B$7:$B$38,0),MATCH($B344,[4]Estimadores!$D$6:$AB$6,0)),\"-\")","v":"-"},{"$f":"IFERROR(INDEX([4]Estimadores!$D$7:$AB$38,MATCH(O$287,[4]Estimadores!$B$7:$B$38,0),MATCH($B344,[4]Estimadores!$D$6:$AB$6,0)),\"-\")","v":"-"},{"$f":"IFERROR(INDEX([4]Estimadores!$D$7:$AB$38,MATCH(P$287,[4]Estimadores!$B$7:$B$38,0),MATCH($B344,[4]Estimadores!$D$6:$AB$6,0)),\"-\")","v":"-"},{"$f":"IFERROR(INDEX([4]Estimadores!$D$7:$AB$38,MATCH(Q$287,[4]Estimadores!$B$7:$B$38,0),MATCH($B344,[4]Estimadores!$D$6:$AB$6,0)),\"-\")","v":"-"},{"$f":"IFERROR(INDEX([4]Estimadores!$D$7:$AB$38,MATCH(R$287,[4]Estimadores!$B$7:$B$38,0),MATCH($B344,[4]Estimadores!$D$6:$AB$6,0)),\"-\")","v":"-"},{"$f":"IFERROR(INDEX([4]Estimadores!$D$7:$AB$38,MATCH(S$287,[4]Estimadores!$B$7:$B$38,0),MATCH($B344,[4]Estimadores!$D$6:$AB$6,0)),\"-\")","v":"-"},{"$f":"IFERROR(INDEX([4]Estimadores!$D$7:$AB$38,MATCH(T$287,[4]Estimadores!$B$7:$B$38,0),MATCH($B344,[4]Estimadores!$D$6:$AB$6,0)),\"-\")","v":"-"},{"$f":"IFERROR(INDEX([4]Estimadores!$D$7:$AB$38,MATCH(U$287,[4]Estimadores!$B$7:$B$38,0),MATCH($B344,[4]Estimadores!$D$6:$AB$6,0)),\"-\")","v":"-"},{"$f":"IFERROR(INDEX([4]Estimadores!$D$7:$AB$38,MATCH(V$287,[4]Estimadores!$B$7:$B$38,0),MATCH($B344,[4]Estimadores!$D$6:$AB$6,0)),\"-\")","v":"-"},{"$f":"IFERROR(INDEX([4]Estimadores!$D$7:$AB$38,MATCH(W$287,[4]Estimadores!$B$7:$B$38,0),MATCH($B344,[4]Estimadores!$D$6:$AB$6,0)),\"-\")","v":"-"},{"$f":"IFERROR(INDEX([4]Estimadores!$D$7:$AB$38,MATCH(X$287,[4]Estimadores!$B$7:$B$38,0),MATCH($B344,[4]Estimadores!$D$6:$AB$6,0)),\"-\")","v":"-"},{"$f":"IFERROR(INDEX([4]Estimadores!$D$7:$AB$38,MATCH(Y$287,[4]Estimadores!$B$7:$B$38,0),MATCH($B344,[4]Estimadores!$D$6:$AB$6,0)),\"-\")","v":"-"},{"$f":"IFERROR(INDEX([4]Estimadores!$D$7:$AB$38,MATCH(Z$287,[4]Estimadores!$B$7:$B$38,0),MATCH($B344,[4]Estimadores!$D$6:$AB$6,0)),\"-\")","v":"-"},{"$f":"IFERROR(INDEX([4]Estimadores!$D$7:$AB$38,MATCH(AA$287,[4]Estimadores!$B$7:$B$38,0),MATCH($B344,[4]Estimadores!$D$6:$AB$6,0)),\"-\")","v":"-"},{"$f":"IFERROR(INDEX([4]Estimadores!$D$7:$AB$38,MATCH(AB$287,[4]Estimadores!$B$7:$B$38,0),MATCH($B344,[4]Estimadores!$D$6:$AB$6,0)),\"-\")","v":"-"},{"$f":"IFERROR(INDEX([4]Estimadores!$D$7:$AB$38,MATCH(AC$287,[4]Estimadores!$B$7:$B$38,0),MATCH($B344,[4]Estimadores!$D$6:$AB$6,0)),\"-\")","v":"-"},{"$f":"IFERROR(INDEX([4]Estimadores!$D$7:$AB$38,MATCH(AD$287,[4]Estimadores!$B$7:$B$38,0),MATCH($B344,[4]Estimadores!$D$6:$AB$6,0)),\"-\")","v":"-"},{"$f":"IFERROR(INDEX([4]Estimadores!$D$7:$AB$38,MATCH(AE$287,[4]Estimadores!$B$7:$B$38,0),MATCH($B344,[4]Estimadores!$D$6:$AB$6,0)),\"-\")","v":"-"},{"$f":"IFERROR(INDEX([4]Estimadores!$D$7:$AB$38,MATCH(AF$287,[4]Estimadores!$B$7:$B$38,0),MATCH($B344,[4]Estimadores!$D$6:$AB$6,0)),\"-\")","v":"-"},{"$f":"IFERROR(INDEX([4]Estimadores!$D$7:$AB$38,MATCH(AG$287,[4]Estimadores!$B$7:$B$38,0),MATCH($B344,[4]Estimadores!$D$6:$AB$6,0)),\"-\")","v":"-"},{"$f":"IFERROR(INDEX([4]Estimadores!$D$7:$AB$38,MATCH(AH$287,[4]Estimadores!$B$7:$B$38,0),MATCH($B344,[4]Estimadores!$D$6:$AB$6,0)),\"-\")","v":"-"},{"$f":"IFERROR(INDEX([4]Estimadores!$D$7:$AB$38,MATCH(AI$287,[4]Estimadores!$B$7:$B$38,0),MATCH($B344,[4]Estimadores!$D$6:$AB$6,0)),\"-\")","v":"-"}]
[null,null,"",{"$f":"IFERROR(INDEX([4]Estimadores!$D$7:$AB$38,MATCH(D$287,[4]Estimadores!$B$7:$B$38,0),MATCH($B345,[4]Estimadores!$D$6:$AB$6,0)),\"-\")","v":"-"},{"$f":"IFERROR(INDEX([4]Estimadores!$D$7:$AB$38,MATCH(E$287,[4]Estimadores!$B$7:$B$38,0),MATCH($B345,[4]Estimadores!$D$6:$AB$6,0)),\"-\")","v":"-"},{"$f":"IFERROR(INDEX([4]Estimadores!$D$7:$AB$38,MATCH(F$287,[4]Estimadores!$B$7:$B$38,0),MATCH($B345,[4]Estimadores!$D$6:$AB$6,0)),\"-\")","v":"-"},{"$f":"IFERROR(INDEX([4]Estimadores!$D$7:$AB$38,MATCH(G$287,[4]Estimadores!$B$7:$B$38,0),MATCH($B345,[4]Estimadores!$D$6:$AB$6,0)),\"-\")","v":"-"},{"$f":"IFERROR(INDEX([4]Estimadores!$D$7:$AB$38,MATCH(H$287,[4]Estimadores!$B$7:$B$38,0),MATCH($B345,[4]Estimadores!$D$6:$AB$6,0)),\"-\")","v":"-"},{"$f":"IFERROR(INDEX([4]Estimadores!$D$7:$AB$38,MATCH(I$287,[4]Estimadores!$B$7:$B$38,0),MATCH($B345,[4]Estimadores!$D$6:$AB$6,0)),\"-\")","v":"-"},{"$f":"IFERROR(INDEX([4]Estimadores!$D$7:$AB$38,MATCH(J$287,[4]Estimadores!$B$7:$B$38,0),MATCH($B345,[4]Estimadores!$D$6:$AB$6,0)),\"-\")","v":"-"},{"$f":"IFERROR(INDEX([4]Estimadores!$D$7:$AB$38,MATCH(K$287,[4]Estimadores!$B$7:$B$38,0),MATCH($B345,[4]Estimadores!$D$6:$AB$6,0)),\"-\")","v":"-"},{"$f":"IFERROR(INDEX([4]Estimadores!$D$7:$AB$38,MATCH(L$287,[4]Estimadores!$B$7:$B$38,0),MATCH($B345,[4]Estimadores!$D$6:$AB$6,0)),\"-\")","v":"-"},{"$f":"IFERROR(INDEX([4]Estimadores!$D$7:$AB$38,MATCH(M$287,[4]Estimadores!$B$7:$B$38,0),MATCH($B345,[4]Estimadores!$D$6:$AB$6,0)),\"-\")","v":"-"},{"$f":"IFERROR(INDEX([4]Estimadores!$D$7:$AB$38,MATCH(N$287,[4]Estimadores!$B$7:$B$38,0),MATCH($B345,[4]Estimadores!$D$6:$AB$6,0)),\"-\")","v":"-"},{"$f":"IFERROR(INDEX([4]Estimadores!$D$7:$AB$38,MATCH(O$287,[4]Estimadores!$B$7:$B$38,0),MATCH($B345,[4]Estimadores!$D$6:$AB$6,0)),\"-\")","v":"-"},{"$f":"IFERROR(INDEX([4]Estimadores!$D$7:$AB$38,MATCH(P$287,[4]Estimadores!$B$7:$B$38,0),MATCH($B345,[4]Estimadores!$D$6:$AB$6,0)),\"-\")","v":"-"},{"$f":"IFERROR(INDEX([4]Estimadores!$D$7:$AB$38,MATCH(Q$287,[4]Estimadores!$B$7:$B$38,0),MATCH($B345,[4]Estimadores!$D$6:$AB$6,0)),\"-\")","v":"-"},{"$f":"IFERROR(INDEX([4]Estimadores!$D$7:$AB$38,MATCH(R$287,[4]Estimadores!$B$7:$B$38,0),MATCH($B345,[4]Estimadores!$D$6:$AB$6,0)),\"-\")","v":"-"},{"$f":"IFERROR(INDEX([4]Estimadores!$D$7:$AB$38,MATCH(S$287,[4]Estimadores!$B$7:$B$38,0),MATCH($B345,[4]Estimadores!$D$6:$AB$6,0)),\"-\")","v":"-"},{"$f":"IFERROR(INDEX([4]Estimadores!$D$7:$AB$38,MATCH(T$287,[4]Estimadores!$B$7:$B$38,0),MATCH($B345,[4]Estimadores!$D$6:$AB$6,0)),\"-\")","v":"-"},{"$f":"IFERROR(INDEX([4]Estimadores!$D$7:$AB$38,MATCH(U$287,[4]Estimadores!$B$7:$B$38,0),MATCH($B345,[4]Estimadores!$D$6:$AB$6,0)),\"-\")","v":"-"},{"$f":"IFERROR(INDEX([4]Estimadores!$D$7:$AB$38,MATCH(V$287,[4]Estimadores!$B$7:$B$38,0),MATCH($B345,[4]Estimadores!$D$6:$AB$6,0)),\"-\")","v":"-"},{"$f":"IFERROR(INDEX([4]Estimadores!$D$7:$AB$38,MATCH(W$287,[4]Estimadores!$B$7:$B$38,0),MATCH($B345,[4]Estimadores!$D$6:$AB$6,0)),\"-\")","v":"-"},{"$f":"IFERROR(INDEX([4]Estimadores!$D$7:$AB$38,MATCH(X$287,[4]Estimadores!$B$7:$B$38,0),MATCH($B345,[4]Estimadores!$D$6:$AB$6,0)),\"-\")","v":"-"},{"$f":"IFERROR(INDEX([4]Estimadores!$D$7:$AB$38,MATCH(Y$287,[4]Estimadores!$B$7:$B$38,0),MATCH($B345,[4]Estimadores!$D$6:$AB$6,0)),\"-\")","v":"-"},{"$f":"IFERROR(INDEX([4]Estimadores!$D$7:$AB$38,MATCH(Z$287,[4]Estimadores!$B$7:$B$38,0),MATCH($B345,[4]Estimadores!$D$6:$AB$6,0)),\"-\")","v":"-"},{"$f":"IFERROR(INDEX([4]Estimadores!$D$7:$AB$38,MATCH(AA$287,[4]Estimadores!$B$7:$B$38,0),MATCH($B345,[4]Estimadores!$D$6:$AB$6,0)),\"-\")","v":"-"},{"$f":"IFERROR(INDEX([4]Estimadores!$D$7:$AB$38,MATCH(AB$287,[4]Estimadores!$B$7:$B$38,0),MATCH($B345,[4]Estimadores!$D$6:$AB$6,0)),\"-\")","v":"-"},{"$f":"IFERROR(INDEX([4]Estimadores!$D$7:$AB$38,MATCH(AC$287,[4]Estimadores!$B$7:$B$38,0),MATCH($B345,[4]Estimadores!$D$6:$AB$6,0)),\"-\")","v":"-"},{"$f":"IFERROR(INDEX([4]Estimadores!$D$7:$AB$38,MATCH(AD$287,[4]Estimadores!$B$7:$B$38,0),MATCH($B345,[4]Estimadores!$D$6:$AB$6,0)),\"-\")","v":"-"},{"$f":"IFERROR(INDEX([4]Estimadores!$D$7:$AB$38,MATCH(AE$287,[4]Estimadores!$B$7:$B$38,0),MATCH($B345,[4]Estimadores!$D$6:$AB$6,0)),\"-\")","v":"-"},{"$f":"IFERROR(INDEX([4]Estimadores!$D$7:$AB$38,MATCH(AF$287,[4]Estimadores!$B$7:$B$38,0),MATCH($B345,[4]Estimadores!$D$6:$AB$6,0)),\"-\")","v":"-"},{"$f":"IFERROR(INDEX([4]Estimadores!$D$7:$AB$38,MATCH(AG$287,[4]Estimadores!$B$7:$B$38,0),MATCH($B345,[4]Estimadores!$D$6:$AB$6,0)),\"-\")","v":"-"},{"$f":"IFERROR(INDEX([4]Estimadores!$D$7:$AB$38,MATCH(AH$287,[4]Estimadores!$B$7:$B$38,0),MATCH($B345,[4]Estimadores!$D$6:$AB$6,0)),\"-\")","v":"-"},{"$f":"IFERROR(INDEX([4]Estimadores!$D$7:$AB$38,MATCH(AI$287,[4]Estimadores!$B$7:$B$38,0),MATCH($B345,[4]Estimadores!$D$6:$AB$6,0)),\"-\")","v":"-"}]
[null,null,"",{"$f":"IFERROR(INDEX([4]Estimadores!$D$7:$AB$38,MATCH(D$287,[4]Estimadores!$B$7:$B$38,0),MATCH($B346,[4]Estimadores!$D$6:$AB$6,0)),\"-\")","v":"-"},{"$f":"IFERROR(INDEX([4]Estimadores!$D$7:$AB$38,MATCH(E$287,[4]Estimadores!$B$7:$B$38,0),MATCH($B346,[4]Estimadores!$D$6:$AB$6,0)),\"-\")","v":"-"},{"$f":"IFERROR(INDEX([4]Estimadores!$D$7:$AB$38,MATCH(F$287,[4]Estimadores!$B$7:$B$38,0),MATCH($B346,[4]Estimadores!$D$6:$AB$6,0)),\"-\")","v":"-"},{"$f":"IFERROR(INDEX([4]Estimadores!$D$7:$AB$38,MATCH(G$287,[4]Estimadores!$B$7:$B$38,0),MATCH($B346,[4]Estimadores!$D$6:$AB$6,0)),\"-\")","v":"-"},{"$f":"IFERROR(INDEX([4]Estimadores!$D$7:$AB$38,MATCH(H$287,[4]Estimadores!$B$7:$B$38,0),MATCH($B346,[4]Estimadores!$D$6:$AB$6,0)),\"-\")","v":"-"},{"$f":"IFERROR(INDEX([4]Estimadores!$D$7:$AB$38,MATCH(I$287,[4]Estimadores!$B$7:$B$38,0),MATCH($B346,[4]Estimadores!$D$6:$AB$6,0)),\"-\")","v":"-"},{"$f":"IFERROR(INDEX([4]Estimadores!$D$7:$AB$38,MATCH(J$287,[4]Estimadores!$B$7:$B$38,0),MATCH($B346,[4]Estimadores!$D$6:$AB$6,0)),\"-\")","v":"-"},{"$f":"IFERROR(INDEX([4]Estimadores!$D$7:$AB$38,MATCH(K$287,[4]Estimadores!$B$7:$B$38,0),MATCH($B346,[4]Estimadores!$D$6:$AB$6,0)),\"-\")","v":"-"},{"$f":"IFERROR(INDEX([4]Estimadores!$D$7:$AB$38,MATCH(L$287,[4]Estimadores!$B$7:$B$38,0),MATCH($B346,[4]Estimadores!$D$6:$AB$6,0)),\"-\")","v":"-"},{"$f":"IFERROR(INDEX([4]Estimadores!$D$7:$AB$38,MATCH(M$287,[4]Estimadores!$B$7:$B$38,0),MATCH($B346,[4]Estimadores!$D$6:$AB$6,0)),\"-\")","v":"-"},{"$f":"IFERROR(INDEX([4]Estimadores!$D$7:$AB$38,MATCH(N$287,[4]Estimadores!$B$7:$B$38,0),MATCH($B346,[4]Estimadores!$D$6:$AB$6,0)),\"-\")","v":"-"},{"$f":"IFERROR(INDEX([4]Estimadores!$D$7:$AB$38,MATCH(O$287,[4]Estimadores!$B$7:$B$38,0),MATCH($B346,[4]Estimadores!$D$6:$AB$6,0)),\"-\")","v":"-"},{"$f":"IFERROR(INDEX([4]Estimadores!$D$7:$AB$38,MATCH(P$287,[4]Estimadores!$B$7:$B$38,0),MATCH($B346,[4]Estimadores!$D$6:$AB$6,0)),\"-\")","v":"-"},{"$f":"IFERROR(INDEX([4]Estimadores!$D$7:$AB$38,MATCH(Q$287,[4]Estimadores!$B$7:$B$38,0),MATCH($B346,[4]Estimadores!$D$6:$AB$6,0)),\"-\")","v":"-"},{"$f":"IFERROR(INDEX([4]Estimadores!$D$7:$AB$38,MATCH(R$287,[4]Estimadores!$B$7:$B$38,0),MATCH($B346,[4]Estimadores!$D$6:$AB$6,0)),\"-\")","v":"-"},{"$f":"IFERROR(INDEX([4]Estimadores!$D$7:$AB$38,MATCH(S$287,[4]Estimadores!$B$7:$B$38,0),MATCH($B346,[4]Estimadores!$D$6:$AB$6,0)),\"-\")","v":"-"},{"$f":"IFERROR(INDEX([4]Estimadores!$D$7:$AB$38,MATCH(T$287,[4]Estimadores!$B$7:$B$38,0),MATCH($B346,[4]Estimadores!$D$6:$AB$6,0)),\"-\")","v":"-"},{"$f":"IFERROR(INDEX([4]Estimadores!$D$7:$AB$38,MATCH(U$287,[4]Estimadores!$B$7:$B$38,0),MATCH($B346,[4]Estimadores!$D$6:$AB$6,0)),\"-\")","v":"-"},{"$f":"IFERROR(INDEX([4]Estimadores!$D$7:$AB$38,MATCH(V$287,[4]Estimadores!$B$7:$B$38,0),MATCH($B346,[4]Estimadores!$D$6:$AB$6,0)),\"-\")","v":"-"},{"$f":"IFERROR(INDEX([4]Estimadores!$D$7:$AB$38,MATCH(W$287,[4]Estimadores!$B$7:$B$38,0),MATCH($B346,[4]Estimadores!$D$6:$AB$6,0)),\"-\")","v":"-"},{"$f":"IFERROR(INDEX([4]Estimadores!$D$7:$AB$38,MATCH(X$287,[4]Estimadores!$B$7:$B$38,0),MATCH($B346,[4]Estimadores!$D$6:$AB$6,0)),\"-\")","v":"-"},{"$f":"IFERROR(INDEX([4]Estimadores!$D$7:$AB$38,MATCH(Y$287,[4]Estimadores!$B$7:$B$38,0),MATCH($B346,[4]Estimadores!$D$6:$AB$6,0)),\"-\")","v":"-"},{"$f":"IFERROR(INDEX([4]Estimadores!$D$7:$AB$38,MATCH(Z$287,[4]Estimadores!$B$7:$B$38,0),MATCH($B346,[4]Estimadores!$D$6:$AB$6,0)),\"-\")","v":"-"},{"$f":"IFERROR(INDEX([4]Estimadores!$D$7:$AB$38,MATCH(AA$287,[4]Estimadores!$B$7:$B$38,0),MATCH($B346,[4]Estimadores!$D$6:$AB$6,0)),\"-\")","v":"-"},{"$f":"IFERROR(INDEX([4]Estimadores!$D$7:$AB$38,MATCH(AB$287,[4]Estimadores!$B$7:$B$38,0),MATCH($B346,[4]Estimadores!$D$6:$AB$6,0)),\"-\")","v":"-"},{"$f":"IFERROR(INDEX([4]Estimadores!$D$7:$AB$38,MATCH(AC$287,[4]Estimadores!$B$7:$B$38,0),MATCH($B346,[4]Estimadores!$D$6:$AB$6,0)),\"-\")","v":"-"},{"$f":"IFERROR(INDEX([4]Estimadores!$D$7:$AB$38,MATCH(AD$287,[4]Estimadores!$B$7:$B$38,0),MATCH($B346,[4]Estimadores!$D$6:$AB$6,0)),\"-\")","v":"-"},{"$f":"IFERROR(INDEX([4]Estimadores!$D$7:$AB$38,MATCH(AE$287,[4]Estimadores!$B$7:$B$38,0),MATCH($B346,[4]Estimadores!$D$6:$AB$6,0)),\"-\")","v":"-"},{"$f":"IFERROR(INDEX([4]Estimadores!$D$7:$AB$38,MATCH(AF$287,[4]Estimadores!$B$7:$B$38,0),MATCH($B346,[4]Estimadores!$D$6:$AB$6,0)),\"-\")","v":"-"},{"$f":"IFERROR(INDEX([4]Estimadores!$D$7:$AB$38,MATCH(AG$287,[4]Estimadores!$B$7:$B$38,0),MATCH($B346,[4]Estimadores!$D$6:$AB$6,0)),\"-\")","v":"-"},{"$f":"IFERROR(INDEX([4]Estimadores!$D$7:$AB$38,MATCH(AH$287,[4]Estimadores!$B$7:$B$38,0),MATCH($B346,[4]Estimadores!$D$6:$AB$6,0)),\"-\")","v":"-"},{"$f":"IFERROR(INDEX([4]Estimadores!$D$7:$AB$38,MATCH(AI$287,[4]Estimadores!$B$7:$B$38,0),MATCH($B346,[4]Estimadores!$D$6:$AB$6,0)),\"-\")","v":"-"}]
[null,null,"",{"$f":"IFERROR(INDEX([4]Estimadores!$D$7:$AB$38,MATCH(D$287,[4]Estimadores!$B$7:$B$38,0),MATCH($B347,[4]Estimadores!$D$6:$AB$6,0)),\"-\")","v":"-"},{"$f":"IFERROR(INDEX([4]Estimadores!$D$7:$AB$38,MATCH(E$287,[4]Estimadores!$B$7:$B$38,0),MATCH($B347,[4]Estimadores!$D$6:$AB$6,0)),\"-\")","v":"-"},{"$f":"IFERROR(INDEX([4]Estimadores!$D$7:$AB$38,MATCH(F$287,[4]Estimadores!$B$7:$B$38,0),MATCH($B347,[4]Estimadores!$D$6:$AB$6,0)),\"-\")","v":"-"},{"$f":"IFERROR(INDEX([4]Estimadores!$D$7:$AB$38,MATCH(G$287,[4]Estimadores!$B$7:$B$38,0),MATCH($B347,[4]Estimadores!$D$6:$AB$6,0)),\"-\")","v":"-"},{"$f":"IFERROR(INDEX([4]Estimadores!$D$7:$AB$38,MATCH(H$287,[4]Estimadores!$B$7:$B$38,0),MATCH($B347,[4]Estimadores!$D$6:$AB$6,0)),\"-\")","v":"-"},{"$f":"IFERROR(INDEX([4]Estimadores!$D$7:$AB$38,MATCH(I$287,[4]Estimadores!$B$7:$B$38,0),MATCH($B347,[4]Estimadores!$D$6:$AB$6,0)),\"-\")","v":"-"},{"$f":"IFERROR(INDEX([4]Estimadores!$D$7:$AB$38,MATCH(J$287,[4]Estimadores!$B$7:$B$38,0),MATCH($B347,[4]Estimadores!$D$6:$AB$6,0)),\"-\")","v":"-"},{"$f":"IFERROR(INDEX([4]Estimadores!$D$7:$AB$38,MATCH(K$287,[4]Estimadores!$B$7:$B$38,0),MATCH($B347,[4]Estimadores!$D$6:$AB$6,0)),\"-\")","v":"-"},{"$f":"IFERROR(INDEX([4]Estimadores!$D$7:$AB$38,MATCH(L$287,[4]Estimadores!$B$7:$B$38,0),MATCH($B347,[4]Estimadores!$D$6:$AB$6,0)),\"-\")","v":"-"},{"$f":"IFERROR(INDEX([4]Estimadores!$D$7:$AB$38,MATCH(M$287,[4]Estimadores!$B$7:$B$38,0),MATCH($B347,[4]Estimadores!$D$6:$AB$6,0)),\"-\")","v":"-"},{"$f":"IFERROR(INDEX([4]Estimadores!$D$7:$AB$38,MATCH(N$287,[4]Estimadores!$B$7:$B$38,0),MATCH($B347,[4]Estimadores!$D$6:$AB$6,0)),\"-\")","v":"-"},{"$f":"IFERROR(INDEX([4]Estimadores!$D$7:$AB$38,MATCH(O$287,[4]Estimadores!$B$7:$B$38,0),MATCH($B347,[4]Estimadores!$D$6:$AB$6,0)),\"-\")","v":"-"},{"$f":"IFERROR(INDEX([4]Estimadores!$D$7:$AB$38,MATCH(P$287,[4]Estimadores!$B$7:$B$38,0),MATCH($B347,[4]Estimadores!$D$6:$AB$6,0)),\"-\")","v":"-"},{"$f":"IFERROR(INDEX([4]Estimadores!$D$7:$AB$38,MATCH(Q$287,[4]Estimadores!$B$7:$B$38,0),MATCH($B347,[4]Estimadores!$D$6:$AB$6,0)),\"-\")","v":"-"},{"$f":"IFERROR(INDEX([4]Estimadores!$D$7:$AB$38,MATCH(R$287,[4]Estimadores!$B$7:$B$38,0),MATCH($B347,[4]Estimadores!$D$6:$AB$6,0)),\"-\")","v":"-"},{"$f":"IFERROR(INDEX([4]Estimadores!$D$7:$AB$38,MATCH(S$287,[4]Estimadores!$B$7:$B$38,0),MATCH($B347,[4]Estimadores!$D$6:$AB$6,0)),\"-\")","v":"-"},{"$f":"IFERROR(INDEX([4]Estimadores!$D$7:$AB$38,MATCH(T$287,[4]Estimadores!$B$7:$B$38,0),MATCH($B347,[4]Estimadores!$D$6:$AB$6,0)),\"-\")","v":"-"},{"$f":"IFERROR(INDEX([4]Estimadores!$D$7:$AB$38,MATCH(U$287,[4]Estimadores!$B$7:$B$38,0),MATCH($B347,[4]Estimadores!$D$6:$AB$6,0)),\"-\")","v":"-"},{"$f":"IFERROR(INDEX([4]Estimadores!$D$7:$AB$38,MATCH(V$287,[4]Estimadores!$B$7:$B$38,0),MATCH($B347,[4]Estimadores!$D$6:$AB$6,0)),\"-\")","v":"-"},{"$f":"IFERROR(INDEX([4]Estimadores!$D$7:$AB$38,MATCH(W$287,[4]Estimadores!$B$7:$B$38,0),MATCH($B347,[4]Estimadores!$D$6:$AB$6,0)),\"-\")","v":"-"},{"$f":"IFERROR(INDEX([4]Estimadores!$D$7:$AB$38,MATCH(X$287,[4]Estimadores!$B$7:$B$38,0),MATCH($B347,[4]Estimadores!$D$6:$AB$6,0)),\"-\")","v":"-"},{"$f":"IFERROR(INDEX([4]Estimadores!$D$7:$AB$38,MATCH(Y$287,[4]Estimadores!$B$7:$B$38,0),MATCH($B347,[4]Estimadores!$D$6:$AB$6,0)),\"-\")","v":"-"},{"$f":"IFERROR(INDEX([4]Estimadores!$D$7:$AB$38,MATCH(Z$287,[4]Estimadores!$B$7:$B$38,0),MATCH($B347,[4]Estimadores!$D$6:$AB$6,0)),\"-\")","v":"-"},{"$f":"IFERROR(INDEX([4]Estimadores!$D$7:$AB$38,MATCH(AA$287,[4]Estimadores!$B$7:$B$38,0),MATCH($B347,[4]Estimadores!$D$6:$AB$6,0)),\"-\")","v":"-"},{"$f":"IFERROR(INDEX([4]Estimadores!$D$7:$AB$38,MATCH(AB$287,[4]Estimadores!$B$7:$B$38,0),MATCH($B347,[4]Estimadores!$D$6:$AB$6,0)),\"-\")","v":"-"},{"$f":"IFERROR(INDEX([4]Estimadores!$D$7:$AB$38,MATCH(AC$287,[4]Estimadores!$B$7:$B$38,0),MATCH($B347,[4]Estimadores!$D$6:$AB$6,0)),\"-\")","v":"-"},{"$f":"IFERROR(INDEX([4]Estimadores!$D$7:$AB$38,MATCH(AD$287,[4]Estimadores!$B$7:$B$38,0),MATCH($B347,[4]Estimadores!$D$6:$AB$6,0)),\"-\")","v":"-"},{"$f":"IFERROR(INDEX([4]Estimadores!$D$7:$AB$38,MATCH(AE$287,[4]Estimadores!$B$7:$B$38,0),MATCH($B347,[4]Estimadores!$D$6:$AB$6,0)),\"-\")","v":"-"},{"$f":"IFERROR(INDEX([4]Estimadores!$D$7:$AB$38,MATCH(AF$287,[4]Estimadores!$B$7:$B$38,0),MATCH($B347,[4]Estimadores!$D$6:$AB$6,0)),\"-\")","v":"-"},{"$f":"IFERROR(INDEX([4]Estimadores!$D$7:$AB$38,MATCH(AG$287,[4]Estimadores!$B$7:$B$38,0),MATCH($B347,[4]Estimadores!$D$6:$AB$6,0)),\"-\")","v":"-"},{"$f":"IFERROR(INDEX([4]Estimadores!$D$7:$AB$38,MATCH(AH$287,[4]Estimadores!$B$7:$B$38,0),MATCH($B347,[4]Estimadores!$D$6:$AB$6,0)),\"-\")","v":"-"},{"$f":"IFERROR(INDEX([4]Estimadores!$D$7:$AB$38,MATCH(AI$287,[4]Estimadores!$B$7:$B$38,0),MATCH($B347,[4]Estimadores!$D$6:$AB$6,0)),\"-\")","v":"-"}]
[null,null,"",{"$f":"IFERROR(INDEX([4]Estimadores!$D$7:$AB$38,MATCH(D$287,[4]Estimadores!$B$7:$B$38,0),MATCH($B348,[4]Estimadores!$D$6:$AB$6,0)),\"-\")","v":"-"},{"$f":"IFERROR(INDEX([4]Estimadores!$D$7:$AB$38,MATCH(E$287,[4]Estimadores!$B$7:$B$38,0),MATCH($B348,[4]Estimadores!$D$6:$AB$6,0)),\"-\")","v":"-"},{"$f":"IFERROR(INDEX([4]Estimadores!$D$7:$AB$38,MATCH(F$287,[4]Estimadores!$B$7:$B$38,0),MATCH($B348,[4]Estimadores!$D$6:$AB$6,0)),\"-\")","v":"-"},{"$f":"IFERROR(INDEX([4]Estimadores!$D$7:$AB$38,MATCH(G$287,[4]Estimadores!$B$7:$B$38,0),MATCH($B348,[4]Estimadores!$D$6:$AB$6,0)),\"-\")","v":"-"},{"$f":"IFERROR(INDEX([4]Estimadores!$D$7:$AB$38,MATCH(H$287,[4]Estimadores!$B$7:$B$38,0),MATCH($B348,[4]Estimadores!$D$6:$AB$6,0)),\"-\")","v":"-"},{"$f":"IFERROR(INDEX([4]Estimadores!$D$7:$AB$38,MATCH(I$287,[4]Estimadores!$B$7:$B$38,0),MATCH($B348,[4]Estimadores!$D$6:$AB$6,0)),\"-\")","v":"-"},{"$f":"IFERROR(INDEX([4]Estimadores!$D$7:$AB$38,MATCH(J$287,[4]Estimadores!$B$7:$B$38,0),MATCH($B348,[4]Estimadores!$D$6:$AB$6,0)),\"-\")","v":"-"},{"$f":"IFERROR(INDEX([4]Estimadores!$D$7:$AB$38,MATCH(K$287,[4]Estimadores!$B$7:$B$38,0),MATCH($B348,[4]Estimadores!$D$6:$AB$6,0)),\"-\")","v":"-"},{"$f":"IFERROR(INDEX([4]Estimadores!$D$7:$AB$38,MATCH(L$287,[4]Estimadores!$B$7:$B$38,0),MATCH($B348,[4]Estimadores!$D$6:$AB$6,0)),\"-\")","v":"-"},{"$f":"IFERROR(INDEX([4]Estimadores!$D$7:$AB$38,MATCH(M$287,[4]Estimadores!$B$7:$B$38,0),MATCH($B348,[4]Estimadores!$D$6:$AB$6,0)),\"-\")","v":"-"},{"$f":"IFERROR(INDEX([4]Estimadores!$D$7:$AB$38,MATCH(N$287,[4]Estimadores!$B$7:$B$38,0),MATCH($B348,[4]Estimadores!$D$6:$AB$6,0)),\"-\")","v":"-"},{"$f":"IFERROR(INDEX([4]Estimadores!$D$7:$AB$38,MATCH(O$287,[4]Estimadores!$B$7:$B$38,0),MATCH($B348,[4]Estimadores!$D$6:$AB$6,0)),\"-\")","v":"-"},{"$f":"IFERROR(INDEX([4]Estimadores!$D$7:$AB$38,MATCH(P$287,[4]Estimadores!$B$7:$B$38,0),MATCH($B348,[4]Estimadores!$D$6:$AB$6,0)),\"-\")","v":"-"},{"$f":"IFERROR(INDEX([4]Estimadores!$D$7:$AB$38,MATCH(Q$287,[4]Estimadores!$B$7:$B$38,0),MATCH($B348,[4]Estimadores!$D$6:$AB$6,0)),\"-\")","v":"-"},{"$f":"IFERROR(INDEX([4]Estimadores!$D$7:$AB$38,MATCH(R$287,[4]Estimadores!$B$7:$B$38,0),MATCH($B348,[4]Estimadores!$D$6:$AB$6,0)),\"-\")","v":"-"},{"$f":"IFERROR(INDEX([4]Estimadores!$D$7:$AB$38,MATCH(S$287,[4]Estimadores!$B$7:$B$38,0),MATCH($B348,[4]Estimadores!$D$6:$AB$6,0)),\"-\")","v":"-"},{"$f":"IFERROR(INDEX([4]Estimadores!$D$7:$AB$38,MATCH(T$287,[4]Estimadores!$B$7:$B$38,0),MATCH($B348,[4]Estimadores!$D$6:$AB$6,0)),\"-\")","v":"-"},{"$f":"IFERROR(INDEX([4]Estimadores!$D$7:$AB$38,MATCH(U$287,[4]Estimadores!$B$7:$B$38,0),MATCH($B348,[4]Estimadores!$D$6:$AB$6,0)),\"-\")","v":"-"},{"$f":"IFERROR(INDEX([4]Estimadores!$D$7:$AB$38,MATCH(V$287,[4]Estimadores!$B$7:$B$38,0),MATCH($B348,[4]Estimadores!$D$6:$AB$6,0)),\"-\")","v":"-"},{"$f":"IFERROR(INDEX([4]Estimadores!$D$7:$AB$38,MATCH(W$287,[4]Estimadores!$B$7:$B$38,0),MATCH($B348,[4]Estimadores!$D$6:$AB$6,0)),\"-\")","v":"-"},{"$f":"IFERROR(INDEX([4]Estimadores!$D$7:$AB$38,MATCH(X$287,[4]Estimadores!$B$7:$B$38,0),MATCH($B348,[4]Estimadores!$D$6:$AB$6,0)),\"-\")","v":"-"},{"$f":"IFERROR(INDEX([4]Estimadores!$D$7:$AB$38,MATCH(Y$287,[4]Estimadores!$B$7:$B$38,0),MATCH($B348,[4]Estimadores!$D$6:$AB$6,0)),\"-\")","v":"-"},{"$f":"IFERROR(INDEX([4]Estimadores!$D$7:$AB$38,MATCH(Z$287,[4]Estimadores!$B$7:$B$38,0),MATCH($B348,[4]Estimadores!$D$6:$AB$6,0)),\"-\")","v":"-"},{"$f":"IFERROR(INDEX([4]Estimadores!$D$7:$AB$38,MATCH(AA$287,[4]Estimadores!$B$7:$B$38,0),MATCH($B348,[4]Estimadores!$D$6:$AB$6,0)),\"-\")","v":"-"},{"$f":"IFERROR(INDEX([4]Estimadores!$D$7:$AB$38,MATCH(AB$287,[4]Estimadores!$B$7:$B$38,0),MATCH($B348,[4]Estimadores!$D$6:$AB$6,0)),\"-\")","v":"-"},{"$f":"IFERROR(INDEX([4]Estimadores!$D$7:$AB$38,MATCH(AC$287,[4]Estimadores!$B$7:$B$38,0),MATCH($B348,[4]Estimadores!$D$6:$AB$6,0)),\"-\")","v":"-"},{"$f":"IFERROR(INDEX([4]Estimadores!$D$7:$AB$38,MATCH(AD$287,[4]Estimadores!$B$7:$B$38,0),MATCH($B348,[4]Estimadores!$D$6:$AB$6,0)),\"-\")","v":"-"},{"$f":"IFERROR(INDEX([4]Estimadores!$D$7:$AB$38,MATCH(AE$287,[4]Estimadores!$B$7:$B$38,0),MATCH($B348,[4]Estimadores!$D$6:$AB$6,0)),\"-\")","v":"-"},{"$f":"IFERROR(INDEX([4]Estimadores!$D$7:$AB$38,MATCH(AF$287,[4]Estimadores!$B$7:$B$38,0),MATCH($B348,[4]Estimadores!$D$6:$AB$6,0)),\"-\")","v":"-"},{"$f":"IFERROR(INDEX([4]Estimadores!$D$7:$AB$38,MATCH(AG$287,[4]Estimadores!$B$7:$B$38,0),MATCH($B348,[4]Estimadores!$D$6:$AB$6,0)),\"-\")","v":"-"},{"$f":"IFERROR(INDEX([4]Estimadores!$D$7:$AB$38,MATCH(AH$287,[4]Estimadores!$B$7:$B$38,0),MATCH($B348,[4]Estimadores!$D$6:$AB$6,0)),\"-\")","v":"-"},{"$f":"IFERROR(INDEX([4]Estimadores!$D$7:$AB$38,MATCH(AI$287,[4]Estimadores!$B$7:$B$38,0),MATCH($B348,[4]Estimadores!$D$6:$AB$6,0)),\"-\")","v":"-"}]
[]
[]
[]
[null,null,null,"Variable para construir Balance en Punta"]
[null,null,{"$f":"C30","v":"BTS_R"},"Energia"]
[null,null,{"$f":"C31","v":"BTS_O"},"Energia"]
[null,null,"BTD","Energia"]
[null,null,"BTH","Energia"]
[null,null,"ABTD"]
[null,null,""]
[null,null,""]
[null,null,""]
[null,null,""]
[null,null,""]
[null,null,""]
[null,null,""]
[null,null,""]
[null,null,""]
[null,null,""]
[null,null,""]
[null,null,""]
[null,null,""]
[null,null,""]
[null,null,""]
[null,null,"AP","Energia"]
[null,null,""]
[null,null,""]
[null,null,""]
[null,null,""]
[null,null,""]
[null,null,""]
[null,null,"MTD","Energia"]
[null,null,"MTH","Energia"]
[null,null,"AMTD"]
[null,null,""]
[null,null,""]
[null,null,""]
[null,null,""]
[null,null,""]
[null,null,""]
[null,null,""]
[null,null,""]
[null,null,""]
[null,null,""]
[null,null,""]
[null,null,""]
[null,null,""]
[null,null,""]
[null,null,""]
[null,null,""]
[null,null,""]
[null,null,""]
[null,null,""]
[null,null,""]
[null,null,""]
[null,null,"ATD","Energia"]
[null,null,"ATH","Energia"]
[null,null,""]
[null,null,""]
[null,null,"EDEMET","Energia"]
[null,null,""]
[null,null,""]
[null,null,""]
[null,null,""]
[null,null,""]
[]
[]
[null,null,null,"Variable para construir Balance en Fuera de Punta"]
[null,null,{"$f":"C30","v":"BTS_R"},"Energia"]
[null,null,{"$f":"C31","v":"BTS_O"},"Energia"]
[null,null,"BTD","Energia"]
[null,null,"BTH","Energia"]
[null,null,"ABTD"]
[null,null,""]
[null,null,""]
[null,null,""]
[null,null,""]
[null,null,""]
[null,null,""]
[null,null,""]
[null,null,""]
[null,null,""]
[null,null,""]
[null,null,""]
[null,null,""]
[null,null,""]
[null,null,""]
[null,null,""]
[null,null,"AP","Energia"]
[null,null,""]
[null,null,""]
[null,null,""]
[null,null,""]
[null,null,""]
[null,null,""]
[null,null,"MTD","Energia"]
[null,null,"MTH","Energia"]
[null,null,"AMTD"]
[null,null,""]
[null,null,""]
[null,null,""]
[null,null,""]
[null,null,""]
[null,null,""]
[null,null,""]
[null,null,""]
[null,null,""]
[null,null,""]
[null,null,""]
[null,null,""]
[null,null,""]
[null,null,""]
[null,null,""]
[null,null,""]
[null,null,""]
[null,null,""]
[null,null,""]
[null,null,""]
[null,null,""]
[null,null,"ATD","Energia"]
[null,null,"ATH","Energia"]
[null,null,""]
[null,null,""]
[null,null,"EDEMET","Energia"]
[null,null,""]
[null,null,""]
[null,null,""]
[null,null,""]
[null,null,""]

{"sheet":"Balance","index":5,"n_rows":393,"n_cols":8,"rows_kept":393,"cut":false,"hidden":false,"merged":[[17,3,20,3],[21,3,23,3],[21,2,29,2],[39,3,42,3],[39,2,50,2],[24,3,26,3],[27,3,29,3],[30,3,32,3],[59,3,62,3],[63,3,66,3],[59,2,66,2],[33,3,35,3],[36,3,38,3],[30,2,38,2],[51,3,54,3],[55,3,58,3],[51,2,58,2],[43,3,46,3],[47,3,50,3],[75,3,78,3],[79,3,82,3],[75,2,82,2],[67,3,70,3],[71,3,74,3],[67,2,74,2]]}
[]
[]
[null,null,null,null,"Pérdidas Totales (%)",{"$f":"(Datos!D10-Datos!D91)/Datos!D10","v":9.974940682328913E-2}]
[]
[null,null,null,null,null,{"$f":"Datos!D4","v":"Sep 2020 - Ago 2021"}]
[null,null,null,null,"Ventas BT",{"$f":"SUM(Datos!D30:D50)","v":2498269.1267730175},null,{"$f":"Datos!D30","v":1475145.4466976146}]
[null,null,null,null,"Pérdidas NT BT",{"$f":"F16-SUM(F6,F8,F10,F11,F13,F14)","v":189369.19968584739}]
[null,null,null,null,"Pérdidas T BT",{"$f":"SUMPRODUCT(Info_Perdidas!B$10:B$36,Info_Perdidas!$I$10:$I$36)","v":61980.278442419098}]
[null,null,null,null,"Energía Ingresada BT",{"$f":"SUM(F6:F8)","v":2749618.604901284}]
[null,null,null,null,"Ventas MT",{"$f":"SUM(Datos!D51:D70)","v":844390.1889999999}]
[null,null,null,null,"Pérdidas MT",{"$f":"SUMPRODUCT(Info_Perdidas!C$10:C$36,Info_Perdidas!$I$10:$I$36)","v":155907.45621900834}]
[null,null,null,null,"Energía Ingresada MT",{"$f":"SUM(F9:F11)","v":3749916.250120292}]
[null,null,null,null,"Ventas AT",{"$f":"SUM(Datos!D71:D90)","v":640381.29300000006}]
[null,null,null,null,"Pérdidas AT",{"$f":"SUMPRODUCT(Info_Perdidas!F$10:F$36,Info_Perdidas!$I$10:$I$36)","v":34071.22593330768}]
[null,null,null,null,"Energía Ingresada AT",{"$f":"SUM(F12:F14)","v":4424368.7690535998}]
[null,null,null,null,"Energía Ingresada",{"$f":"Datos!D10","v":4424368.7690535998}]
[null,null,null,null,"para Balance de potencia campaña",{"$f":"F7/F9","v":6.8871078828274826E-2}]
[null,null,null,"Pérdidas de Energía (respecto del nivel de tensión correspondiente)","BT NT",{"$f":"F7/(H6+F7)","v":0.11376841897864653},{"$f":"F7/F9","v":6.8871078828274826E-2}]
[null,null,null,null,"BT T",{"$f":"F8/F9","v":2.2541409318345914E-2}]
[null,null,null,null,"MT",{"$f":"F11/F12","v":4.1576250193322867E-2}]
[null,null,null,null,"AT",{"$f":"F14/F15","v":7.700810604129576E-3}]
[null,null,"Factores de carga","PUNTA","BT",{"$f":"(H6+F7)/(8760*H116)","v":1.056383948329493},{"$f":"F9/(8760*F116)","v":0.84180443269004823}]
[null,null,null,null,"MT",{"$f":"F12/(8760*F165)","v":0.80787683170342572}]
[null,null,null,null,"AT",{"$f":"F15/(8760*F236)","v":0.81025567559187828}]
[null,null,null,"PUNTA","BT",{"$f":"(F9*Datos!$D$11)/(8760*(Datos!$D$6/(Datos!$D$6+Datos!$D$7))*F116)","v":{"$error":"#VALUE!"}}]
[null,null,null,null,"MT",{"$f":"(F12*Datos!$D$11)/(8760*(Datos!$D$6/(Datos!$D$6+Datos!$D$7))*F165)","v":{"$error":"#VALUE!"}}]
[null,null,null,null,"AT",{"$f":"(F15*Datos!$D$11)/(8760*(Datos!$D$6/(Datos!$D$6+Datos!$D$7))*F236)","v":{"$error":"#VALUE!"}}]
[null,null,null,"FUERA DE PUNTA","BT",{"$f":"(F9*Datos!$D$12)/(8760*(Datos!$D$7/(Datos!$D$6+Datos!$D$7))*F271)","v":{"$error":"#VALUE!"}}]
[null,null,null,null,"MT",{"$f":"(F12*Datos!$D$12)/(8760*(Datos!$D$7/(Datos!$D$6+Datos!$D$7))*F320)","v":{"$error":"#VALUE!"}}]
[null,null,null,null,"AT",{"$f":"(F15*Datos!$D$12)/(8760*(Datos!$D$7/(Datos!$D$6+Datos!$D$7))*F391)","v":{"$error":"#VALUE!"}}]
[null,null,"Factores de carga de pérdidas",null,"BT",{"$f":"0.7*F22^2+0.3*F22","v":1.098078116900594},{"$f":"0.7*F22^2+0.3*F22","v":1.098078116900594}]
[null,null,null,null,"MT",{"$f":"0.7*F23^2+0.3*F23","v":0.69922853215324343}]
[null,null,null,null,"AT",0.70263668455775918]
[null,null,null,"PUNTA","BT",{"$error":"#VALUE!"}]
[null,null,null,null,"MT",{"$error":"#VALUE!"}]
[null,null,null,null,"AT",{"$error":"#VALUE!"}]
[null,null,null,"FUERA DE PUNTA","BT",{"$error":"#VALUE!"}]
[null,null,null,null,"MT",{"$error":"#VALUE!"}]
[null,null,null,null,"AT",{"$error":"#VALUE!"}]
[null,null,"Pérdida Potencia",null,"BT NT",{"$f":"F18*F22/F31","v":0.1094486173489117},{"$f":"F18*F22/F31","v":0.1094486173489117}]
[null,null,null,null,"BT T",{"$f":"F19*F22/F31","v":2.168550908184718E-2}]
[null,null,null,null,"MT",{"$f":"F20*F23/F32","v":4.8036496990270613E-2}]
[null,null,null,null,"AT",{"$f":"F21*F24/F33","v":8.8803013503078645E-3}]
[null,null,null,"PUNTA","BT NT",{"$f":"F40","v":0.1094486173489117}]
[null,null,null,null,"BT T",{"$f":"F41","v":2.168550908184718E-2}]
[null,null,null,null,"MT",{"$f":"F42","v":4.8036496990270613E-2}]
[null,null,null,null,"AT",{"$f":"F43","v":8.8803013503078645E-3}]
[null,null,null,"FUERA DE PUNTA","BT NT",{"$f":"F40","v":0.1094486173489117}]
[null,null,null,null,"BT T",{"$f":"F41","v":2.168550908184718E-2}]
[null,null,null,null,"MT",{"$f":"F42","v":4.8036496990270613E-2}]
[null,null,null,null,"AT",{"$f":"F43","v":8.8803013503078645E-3}]
[null,null,"Pérdida Potencia","PUNTA","BT NT",0.10944861663293089]
[null,null,null,null,"BT T",2.1685508939986928E-2]
[null,null,null,null,"MT",4.8036496946771236E-2]
[null,null,null,null,"AT",8.8803013503078662E-3]
[null,null,null,"FUERA DE PUNTA","BT NT",0.1094486173489117]
[null,null,null,null,"BT T",2.168550908184718E-2]
[null,null,null,null,"MT",4.8036496990270613E-2]
[null,null,null,null,"AT",8.8803013503078645E-3]
[null,null,"Cierre","PUNTA","BT NT",{"$f":"F52-F40","v":-7.1598081630153132E-10}]
[null,null,null,null,"BT T",{"$f":"F53-F41","v":-1.4186025271145652E-10}]
[null,null,null,null,"MT",{"$f":"F54-F42","v":-4.3499377710976006E-11}]
[null,null,null,null,"AT",{"$f":"F55-F43","v":0}]
[null,null,null,"FUERA DE PUNTA","BT NT",{"$f":"F56-F40","v":0}]
[null,null,null,null,"BT T",{"$f":"F57-F41","v":0}]
[null,null,null,null,"MT",{"$f":"F58-F42","v":0}]
[null,null,null,null,"AT",{"$f":"F59-F43","v":0}]
[null,null,"Factores pérdidas Punta","PUNTA","BT NT",{"$f":"1/(1-F52)","v":1.1228998333808866}]
[null,null,null,null,"BT T",1.0221661941412015]
[null,null,null,null,"MT",1.0504604397045727]
[null,null,null,null,"AT",1.0089598676753235]
[null,null,null,"FUERA DE PUNTA","BT NT",1.1228998342836698]
[null,null,null,null,"BT T",1.0221661942894205]
[null,null,null,null,"MT",1.0504604397525727]
[null,null,null,null,"AT",1.0089598676753235]
[null,null,"Factores pérdidas Punta Acumulados","PUNTA","BT NT",{"$f":"PRODUCT(F$68:F68)","v":1.1228998333808866}]
[null,null,null,null,"BT T",{"$f":"PRODUCT(F$68:F69)","v":1.1477902490887302}]
[null,null,null,null,"MT",{"$f":"PRODUCT(F$68:F70)","v":1.2057082497463685}]
[null,null,null,null,"AT",{"$f":"PRODUCT(F$68:F71)","v":1.2165112361191419}]
[null,null,null,"FUERA DE PUNTA","BT NT",{"$f":"PRODUCT(F$72:F72)","v":1.1228998342836698}]
[null,null,null,null,"BT T",{"$f":"PRODUCT(F$72:F73)","v":1.1477902501779595}]
[null,null,null,null,"MT",{"$f":"PRODUCT(F$72:F74)","v":1.2057082509456549}]
[null,null,null,null,"AT",{"$f":"PRODUCT(F$72:F75)","v":1.2165112373291738}]
[]
[]
[null,null,null,null,"FaP",0.96134516931526126]
[null,null,null,null,"FaFP",0.98409158284690279]
[]
["BALANCE DE POTENCIA HORAS PUNTA"]
[null,null,null,null,null,{"$f":"Datos!D4","v":"Sep 2020 - Ago 2021"}]
[null,null,"Coeficientes de responsabilidad (Tipo de medición)",null,null,"Potencia coincidente con máxima BT"]
["Variable Facturación",null,"Energía","Potencia máxima","Potencia por franja horaria"]
[{"$f":"Datos!D353","v":"Energia"},{"$f":"Datos!C30","v":"BTS_R"},{"$f":"1/(Datos!$G288*8760)*Datos!$X288*$F$86","v":1.0858900677074884E-4},{"$f":"Datos!$H288*Datos!$X288*$F$86","v":0.34468994102722622},{"$f":"Datos!$I288*Datos!$N288*$F$86","v":0.46000945610413374},{"$f":"IFERROR(SUMIFS(Datos!D:D,Datos!$A:$A,$A93,Datos!$C:$C,$B93)*IF($A93=Datos!$D$24,$C93,IF($A93=Datos!$D$25,$D93,$E93)),\"-\")","v":160.18457889928661}]
[{"$f":"Datos!D354","v":"Energia"},{"$f":"Datos!C31","v":"BTS_O"},{"$f":"1/(Datos!$G289*8760)*Datos!$X289*$F$86","v":1.8520253036921128E-4},{"$f":"Datos!$H289*Datos!$X289*$F$86","v":0.54608734619627708},{"$f":"Datos!$I289*Datos!$N289*$F$86","v":0.60911298373636935},{"$f":"IFERROR(SUMIFS(Datos!D:D,Datos!$A:$A,$A94,Datos!$C:$C,$B94)*IF($A94=Datos!$D$24,$C94,IF($A94=Datos!$D$25,$D94,$E94)),\"-\")","v":55.858019414147641}]
[{"$f":"Datos!D355","v":"Energia"},{"$f":"Datos!C32","v":"BTD"},{"$f":"1/(Datos!$G290*8760)*Datos!$X290*$F$86","v":2.0292119411920777E-4},{"$f":"Datos!$H290*Datos!$X290*$F$86","v":0.7353419273356514},{"$f":"Datos!$I290*Datos!$N290*$F$86","v":0.75657113485680694},{"$f":"IFERROR(SUMIFS(Datos!D:D,Datos!$A:$A,$A95,Datos!$C:$C,$B95)*IF($A95=Datos!$D$24,$C95,IF($A95=Datos!$D$25,$D95,$E95)),\"-\")","v":127.93412765777559}]
[{"$f":"Datos!D356","v":"Energia"},{"$f":"Datos!C33","v":"BTH"},{"$f":"1/(Datos!$G291*8760)*Datos!$X291*$F$86","v":1.2837158971467188E-4},{"$f":"Datos!$H291*Datos!$X291*$F$86","v":0.55232248599892386},{"$f":"Datos!$I291*Datos!$N291*$F$86","v":0.76082004563415484},{"$f":"IFERROR(SUMIFS(Datos!D:D,Datos!$A:$A,$A96,Datos!$C:$C,$B96)*IF($A96=Datos!$D$24,$C96,IF($A96=Datos!$D$25,$D96,$E96)),\"-\")","v":1.1204887250211297}]
[{"$f":"Datos!D357","v":0},{"$f":"Datos!C34","v":"ABTD"},{"$f":"1/(Datos!$G292*8760)*Datos!$X292*$F$86","v":{"$error":"#VALUE!"}},{"$f":"Datos!$H292*Datos!$X292*$F$86","v":{"$error":"#VALUE!"}},{"$f":"Datos!$I292*Datos!$N292*$F$86","v":{"$error":"#VALUE!"}},{"$f":"IFERROR(SUMIFS(Datos!D:D,Datos!$A:$A,$A97,Datos!$C:$C,$B97)*IF($A97=Datos!$D$24,$C97,IF($A97=Datos!$D$25,$D97,$E97)),\"-\")","v":"-"}]
[{"$f":"Datos!D358","v":0},{"$f":"Datos!C35","v":""},{"$f":"1/(Datos!$G293*8760)*Datos!$X293*$F$86","v":{"$error":"#VALUE!"}},{"$f":"Datos!$H293*Datos!$X293*$F$86","v":{"$error":"#VALUE!"}},{"$f":"Datos!$I293*Datos!$N293*$F$86","v":{"$error":"#VALUE!"}},{"$f":"IFERROR(SUMIFS(Datos!D:D,Datos!$A:$A,$A98,Datos!$C:$C,$B98)*IF($A98=Datos!$D$24,$C98,IF($A98=Datos!$D$25,$D98,$E98)),\"-\")","v":"-"}]
[{"$f":"Datos!D359","v":0},{"$f":"Datos!C36","v":""},{"$f":"1/(Datos!$G294*8760)*Datos!$X294*$F$86","v":{"$error":"#VALUE!"}},{"$f":"Datos!$H294*Datos!$X294*$F$86","v":{"$error":"#VALUE!"}},{"$f":"Datos!$I294*Datos!$N294*$F$86","v":{"$error":"#VALUE!"}},{"$f":"IFERROR(SUMIFS(Datos!D:D,Datos!$A:$A,$A99,Datos!$C:$C,$B99)*IF($A99=Datos!$D$24,$C99,IF($A99=Datos!$D$25,$D99,$E99)),\"-\")","v":"-"}]
[{"$f":"Datos!D360","v":0},{"$f":"Datos!C37","v":""},{"$f":"1/(Datos!$G295*8760)*Datos!$X295*$F$86","v":{"$error":"#VALUE!"}},{"$f":"Datos!$H295*Datos!$X295*$F$86","v":{"$error":"#VALUE!"}},{"$f":"Datos!$I295*Datos!$N295*$F$86","v":{"$error":"#VALUE!"}},{"$f":"IFERROR(SUMIFS(Datos!D:D,Datos!$A:$A,$A100,Datos!$C:$C,$B100)*IF($A100=Datos!$D$24,$C100,IF($A100=Datos!$D$25,$D100,$E100)),\"-\")","v":"-"}]
[{"$f":"Datos!D361","v":0},{"$f":"Datos!C38","v":""},{"$f":"1/(Datos!$G296*8760)*Datos!$X296*$F$86","v":{"$error":"#VALUE!"}},{"$f":"Datos!$H296*Datos!$X296*$F$86","v":{"$error":"#VALUE!"}},{"$f":"Datos!$I296*Datos!$N296*$F$86","v":{"$error":"#VALUE!"}},{"$f":"IFERROR(SUMIFS(Datos!D:D,Datos!$A:$A,$A101,Datos!$C:$C,$B101)*IF($A101=Datos!$D$24,$C101,IF($A101=Datos!$D$25,$D101,$E101)),\"-\")","v":"-"}]
[{"$f":"Datos!D362","v":0},{"$f":"Datos!C39","v":""},{"$f":"1/(Datos!$G297*8760)*Datos!$X297*$F$86","v":{"$error":"#VALUE!"}},{"$f":"Datos!$H297*Datos!$X297*$F$86","v":{"$error":"#VALUE!"}},{"$f":"Datos!$I297*Datos!$N297*$F$86","v":{"$error":"#VALUE!"}},{"$f":"IFERROR(SUMIFS(Datos!D:D,Datos!$A:$A,$A102,Datos!$C:$C,$B102)*IF($A102=Datos!$D$24,$C102,IF($A102=Datos!$D$25,$D102,$E102)),\"-\")","v":"-"}]
[{"$f":"Datos!D363","v":0},{"$f":"Datos!C40","v":""},{"$f":"1/(Datos!$G298*8760)*Datos!$X298*$F$86","v":{"$error":"#VALUE!"}},{"$f":"Datos!$H298*Datos!$X298*$F$86","v":{"$error":"#VALUE!"}},{"$f":"Datos!$I298*Datos!$N298*$F$86","v":{"$error":"#VALUE!"}},{"$f":"IFERROR(SUMIFS(Datos!D:D,Datos!$A:$A,$A103,Datos!$C:$C,$B103)*IF($A103=Datos!$D$24,$C103,IF($A103=Datos!$D$25,$D103,$E103)),\"-\")","v":"-"}]
[{"$f":"Datos!D364","v":0},{"$f":"Datos!C41","v":""},{"$f":"1/(Datos!$G299*8760)*Datos!$X299*$F$86","v":{"$error":"#VALUE!"}},{"$f":"Datos!$H299*Datos!$X299*$F$86","v":{"$error":"#VALUE!"}},{"$f":"Datos!$I299*Datos!$N299*$F$86","v":{"$error":"#VALUE!"}},{"$f":"IFERROR(SUMIFS(Datos!D:D,Datos!$A:$A,$A104,Datos!$C:$C,$B104)*IF($A104=Datos!$D$24,$C104,IF($A104=Datos!$D$25,$D104,$E104)),\"-\")","v":"-"}]
[{"$f":"Datos!D365","v":0},{"$f":"Datos!C42","v":""},{"$f":"1/(Datos!$G300*8760)*Datos!$X300*$F$86","v":{"$error":"#VALUE!"}},{"$f":"Datos!$H300*Datos!$X300*$F$86","v":{"$error":"#VALUE!"}},{"$f":"Datos!$I300*Datos!$N300*$F$86","v":{"$error":"#VALUE!"}},{"$f":"IFERROR(SUMIFS(Datos!D:D,Datos!$A:$A,$A105,Datos!$C:$C,$B105)*IF($A105=Datos!$D$24,$C105,IF($A105=Datos!$D$25,$D105,$E105)),\"-\")","v":"-"}]
[{"$f":"Datos!D366","v":0},{"$f":"Datos!C43","v":""},{"$f":"1/(Datos!$G301*8760)*Datos!$X301*$F$86","v":{"$error":"#VALUE!"}},{"$f":"Datos!$H301*Datos!$X301*$F$86","v":{"$error":"#VALUE!"}},{"$f":"Datos!$I301*Datos!$N301*$F$86","v":{"$error":"#VALUE!"}},{"$f":"IFERROR(SUMIFS(Datos!D:D,Datos!$A:$A,$A106,Datos!$C:$C,$B106)*IF($A106=Datos!$D$24,$C106,IF($A106=Datos!$D$25,$D106,$E106)),\"-\")","v":"-"}]
[{"$f":"Datos!D367","v":0},{"$f":"Datos!C44","v":""},{"$f":"1/(Datos!$G302*8760)*Datos!$X302*$F$86","v":{"$error":"#VALUE!"}},{"$f":"Datos!$H302*Datos!$X302*$F$86","v":{"$error":"#VALUE!"}},{"$f":"Datos!$I302*Datos!$N302*$F$86","v":{"$error":"#VALUE!"}},{"$f":"IFERROR(SUMIFS(Datos!D:D,Datos!$A:$A,$A107,Datos!$C:$C,$B107)*IF($A107=Datos!$D$24,$C107,IF($A107=Datos!$D$25,$D107,$E107)),\"-\")","v":"-"}]
[{"$f":"Datos!D368","v":0},{"$f":"Datos!C45","v":""},{"$f":"1/(Datos!$G303*8760)*Datos!$X303*$F$86","v":{"$error":"#VALUE!"}},{"$f":"Datos!$H303*Datos!$X303*$F$86","v":{"$error":"#VALUE!"}},{"$f":"Datos!$I303*Datos!$N303*$F$86","v":{"$error":"#VALUE!"}},{"$f":"IFERROR(SUMIFS(Datos!D:D,Datos!$A:$A,$A108,Datos!$C:$C,$B108)*IF($A108=Datos!$D$24,$C108,IF($A108=Datos!$D$25,$D108,$E108)),\"-\")","v":"-"}]
[{"$f":"Datos!D369","v":0},{"$f":"Datos!C46","v":""},{"$f":"1/(Datos!$G304*8760)*Datos!$X304*$F$86","v":{"$error":"#VALUE!"}},{"$f":"Datos!$H304*Datos!$X304*$F$86","v":{"$error":"#VALUE!"}},{"$f":"Datos!$I304*Datos!$N304*$F$86","v":{"$error":"#VALUE!"}},{"$f":"IFERROR(SUMIFS(Datos!D:D,Datos!$A:$A,$A109,Datos!$C:$C,$B109)*IF($A109=Datos!$D$24,$C109,IF($A109=Datos!$D$25,$D109,$E109)),\"-\")","v":"-"}]
[{"$f":"Datos!D370","v":0},{"$f":"Datos!C47","v":""},{"$f":"1/(Datos!$G305*8760)*Datos!$X305*$F$86","v":{"$error":"#VALUE!"}},{"$f":"Datos!$H305*Datos!$X305*$F$86","v":{"$error":"#VALUE!"}},{"$f":"Datos!$I305*Datos!$N305*$F$86","v":{"$error":"#VALUE!"}},{"$f":"IFERROR(SUMIFS(Datos!D:D,Datos!$A:$A,$A110,Datos!$C:$C,$B110)*IF($A110=Datos!$D$24,$C110,IF($A110=Datos!$D$25,$D110,$E110)),\"-\")","v":"-"}]
[{"$f":"Datos!D371","v":0},{"$f":"Datos!C48","v":""},{"$f":"1/(Datos!$G306*8760)*Datos!$X306*$F$86","v":{"$error":"#VALUE!"}},{"$f":"Datos!$H306*Datos!$X306*$F$86","v":{"$error":"#VALUE!"}},{"$f":"Datos!$I306*Datos!$N306*$F$86","v":{"$error":"#VALUE!"}},{"$f":"IFERROR(SUMIFS(Datos!D:D,Datos!$A:$A,$A111,Datos!$C:$C,$B111)*IF($A111=Datos!$D$24,$C111,IF($A111=Datos!$D$25,$D111,$E111)),\"-\")","v":"-"}]
[{"$f":"Datos!D372","v":0},{"$f":"Datos!C49","v":""},{"$f":"1/(Datos!$G307*8760)*Datos!$X307*$F$86","v":{"$error":"#VALUE!"}},{"$f":"Datos!$H307*Datos!$X307*$F$86","v":{"$error":"#VALUE!"}},{"$f":"Datos!$I307*Datos!$N307*$F$86","v":{"$error":"#VALUE!"}},{"$f":"IFERROR(SUMIFS(Datos!D:D,Datos!$A:$A,$A112,Datos!$C:$C,$B112)*IF($A112=Datos!$D$24,$C112,IF($A112=Datos!$D$25,$D112,$E112)),\"-\")","v":"-"}]
[{"$f":"Datos!D373","v":"Energia"},{"$f":"Datos!C50","v":"AP"},{"$f":"1/(Datos!$G308*8760)*Datos!$X308*$F$86","v":0},{"$f":"Datos!$H308*Datos!$X308*$F$86","v":0},{"$f":"Datos!$I308*Datos!$N308*$F$86","v":0},{"$f":"IFERROR(SUMIFS(Datos!D:D,Datos!$A:$A,$A113,Datos!$C:$C,$B113)*IF($A113=Datos!$D$24,$C113,IF($A113=Datos!$D$25,$D113,$E113)),\"-\")","v":0}]
[null,"Pérdida NT BT",null,null,null,{"$f":"SUM(F93)*(F68-1)","v":19.68665805690981},{"$f":"SUM(F93:F113)*(F68-1)","v":42.412390186374836}]
[null,"Pérdida T BT",null,null,null,{"$f":"SUM(F93:F114)*(F69-1)","v":8.0858701430254509}]
[null,"Potencia Máxima BT",null,null,null,{"$f":"SUM(F93:F115)","v":372.8697428961662},null,{"$f":"F93+F114","v":179.87123695619641}]
[]
[null,null,"Coeficientes de responsabilidad (Tipo de medición)",null,null,"Potencia coincidente con máxima MT"]
[null,null,"Energía","Potencia máxima","Potencia por franja horaria"]
[{"$f":"A93","v":"Energia"},{"$f":"Datos!C30","v":"BTS_R"},{"$f":"1/(Datos!$G288*8760)*Datos!$Y288*$F$86","v":1.0858900677074884E-4},{"$f":"Datos!$H288*Datos!$Y288*$F$86","v":0.34468994102722622},{"$f":"Datos!$I288*Datos!$O288*$F$86","v":0.46000945610413374},{"$f":"IFERROR(SUMIFS(Datos!D:D,Datos!$A:$A,$A120,Datos!$C:$C,$B120)*IF($A120=Datos!$D$24,$C120,IF($A120=Datos!$D$25,$D120,$E120)),\"-\")","v":160.18457889928661}]
["Energia",{"$f":"Datos!C31","v":"BTS_O"},{"$f":"1/(Datos!$G289*8760)*Datos!$Y289*$F$86","v":1.8520253036921128E-4},{"$f":"Datos!$H289*Datos!$Y289*$F$86","v":0.54608734619627708},{"$f":"Datos!$I289*Datos!$O289*$F$86","v":0.60911298373636935},{"$f":"IFERROR(SUMIFS(Datos!D:D,Datos!$A:$A,$A121,Datos!$C:$C,$B121)*IF($A121=Datos!$D$24,$C121,IF($A121=Datos!$D$25,$D121,$E121)),\"-\")","v":55.858019414147641}]
["Energia",{"$f":"Datos!C32","v":"BTD"},{"$f":"1/(Datos!$G290*8760)*Datos!$Y290*$F$86","v":2.0292119411920777E-4},{"$f":"Datos!$H290*Datos!$Y290*$F$86","v":0.7353419273356514},{"$f":"Datos!$I290*Datos!$O290*$F$86","v":0.75657113485680694},{"$f":"IFERROR(SUMIFS(Datos!D:D,Datos!$A:$A,$A122,Datos!$C:$C,$B122)*IF($A122=Datos!$D$24,$C122,IF($A122=Datos!$D$25,$D122,$E122)),\"-\")","v":127.93412765777559}]
["Energia",{"$f":"Datos!C33","v":"BTH"},{"$f":"1/(Datos!$G291*8760)*Datos!$Y291*$F$86","v":1.2837158971467188E-4},{"$f":"Datos!$H291*Datos!$Y291*$F$86","v":0.55232248599892386},{"$f":"Datos!$I291*Datos!$O291*$F$86","v":0.76082004563415484},{"$f":"IFERROR(SUMIFS(Datos!D:D,Datos!$A:$A,$A123,Datos!$C:$C,$B123)*IF($A123=Datos!$D$24,$C123,IF($A123=Datos!$D$25,$D123,$E123)),\"-\")","v":1.1204887250211297}]
[0,{"$f":"Datos!C34","v":"ABTD"},{"$f":"1/(Datos!$G292*8760)*Datos!$Y292*$F$86","v":{"$error":"#VALUE!"}},{"$f":"Datos!$H292*Datos!$Y292*$F$86","v":{"$error":"#VALUE!"}},{"$f":"Datos!$I292*Datos!$O292*$F$86","v":{"$error":"#VALUE!"}},{"$f":"IFERROR(SUMIFS(Datos!D:D,Datos!$A:$A,$A124,Datos!$C:$C,$B124)*IF($A124=Datos!$D$24,$C124,IF($A124=Datos!$D$25,$D124,$E124)),\"-\")","v":"-"}]
[0,{"$f":"Datos!C35","v":""},{"$f":"1/(Datos!$G293*8760)*Datos!$Y293*$F$86","v":{"$error":"#VALUE!"}},{"$f":"Datos!$H293*Datos!$Y293*$F$86","v":{"$error":"#VALUE!"}},{"$f":"Datos!$I293*Datos!$O293*$F$86","v":{"$error":"#VALUE!"}},{"$f":"IFERROR(SUMIFS(Datos!D:D,Datos!$A:$A,$A125,Datos!$C:$C,$B125)*IF($A125=Datos!$D$24,$C125,IF($A125=Datos!$D$25,$D125,$E125)),\"-\")","v":"-"}]
[0,{"$f":"Datos!C36","v":""},{"$f":"1/(Datos!$G294*8760)*Datos!$Y294*$F$86","v":{"$error":"#VALUE!"}},{"$f":"Datos!$H294*Datos!$Y294*$F$86","v":{"$error":"#VALUE!"}},{"$f":"Datos!$I294*Datos!$O294*$F$86","v":{"$error":"#VALUE!"}},{"$f":"IFERROR(SUMIFS(Datos!D:D,Datos!$A:$A,$A126,Datos!$C:$C,$B126)*IF($A126=Datos!$D$24,$C126,IF($A126=Datos!$D$25,$D126,$E126)),\"-\")","v":"-"}]
[0,{"$f":"Datos!C37","v":""},{"$f":"1/(Datos!$G295*8760)*Datos!$Y295*$F$86","v":{"$error":"#VALUE!"}},{"$f":"Datos!$H295*Datos!$Y295*$F$86","v":{"$error":"#VALUE!"}},{"$f":"Datos!$I295*Datos!$O295*$F$86","v":{"$error":"#VALUE!"}},{"$f":"IFERROR(SUMIFS(Datos!D:D,Datos!$A:$A,$A127,Datos!$C:$C,$B127)*IF($A127=Datos!$D$24,$C127,IF($A127=Datos!$D$25,$D127,$E127)),\"-\")","v":"-"}]
[0,{"$f":"Datos!C38","v":""},{"$f":"1/(Datos!$G296*8760)*Datos!$Y296*$F$86","v":{"$error":"#VALUE!"}},{"$f":"Datos!$H296*Datos!$Y296*$F$86","v":{"$error":"#VALUE!"}},{"$f":"Datos!$I296*Datos!$O296*$F$86","v":{"$error":"#VALUE!"}},{"$f":"IFERROR(SUMIFS(Datos!D:D,Datos!$A:$A,$A128,Datos!$C:$C,$B128)*IF($A128=Datos!$D$24,$C128,IF($A128=Datos!$D$25,$D128,$E128)),\"-\")","v":"-"}]
[0,{"$f":"Datos!C39","v":""},{"$f":"1/(Datos!$G297*8760)*Datos!$Y297*$F$86","v":{"$error":"#VALUE!"}},{"$f":"Datos!$H297*Datos!$Y297*$F$86","v":{"$error":"#VALUE!"}},{"$f":"Datos!$I297*Datos!$O297*$F$86","v":{"$error":"#VALUE!"}},{"$f":"IFERROR(SUMIFS(Datos!D:D,Datos!$A:$A,$A129,Datos!$C:$C,$B129)*IF($A129=Datos!$D$24,$C129,IF($A129=Datos!$D$25,$D129,$E129)),\"-\")","v":"-"}]
[0,{"$f":"Datos!C40","v":""},{"$f":"1/(Datos!$G298*8760)*Datos!$Y298*$F$86","v":{"$error":"#VALUE!"}},{"$f":"Datos!$H298*Datos!$Y298*$F$86","v":{"$error":"#VALUE!"}},{"$f":"Datos!$I298*Datos!$O298*$F$86","v":{"$error":"#VALUE!"}},{"$f":"IFERROR(SUMIFS(Datos!D:D,Datos!$A:$A,$A130,Datos!$C:$C,$B130)*IF($A130=Datos!$D$24,$C130,IF($A130=Datos!$D$25,$D130,$E130)),\"-\")","v":"-"}]
[0,{"$f":"Datos!C41","v":""},{"$f":"1/(Datos!$G299*8760)*Datos!$Y299*$F$86","v":{"$error":"#VALUE!"}},{"$f":"Datos!$H299*Datos!$Y299*$F$86","v":{"$error":"#VALUE!"}},{"$f":"Datos!$I299*Datos!$O299*$F$86","v":{"$error":"#VALUE!"}},{"$f":"IFERROR(SUMIFS(Datos!D:D,Datos!$A:$A,$A131,Datos!$C:$C,$B131)*IF($A131=Datos!$D$24,$C131,IF($A131=Datos!$D$25,$D131,$E131)),\"-\")","v":"-"}]
[0,{"$f":"Datos!C42","v":""},{"$f":"1/(Datos!$G300*8760)*Datos!$Y300*$F$86","v":{"$error":"#VALUE!"}},{"$f":"Datos!$H300*Datos!$Y300*$F$86","v":{"$error":"#VALUE!"}},{"$f":"Datos!$I300*Datos!$O300*$F$86","v":{"$error":"#VALUE!"}},{"$f":"IFERROR(SUMIFS(Datos!D:D,Datos!$A:$A,$A132,Datos!$C:$C,$B132)*IF($A132=Datos!$D$24,$C132,IF($A132=Datos!$D$25,$D132,$E132)),\"-\")","v":"-"}]
[0,{"$f":"Datos!C43","v":""},{"$f":"1/(Datos!$G301*8760)*Datos!$Y301*$F$86","v":{"$error":"#VALUE!"}},{"$f":"Datos!$H301*Datos!$Y301*$F$86","v":{"$error":"#VALUE!"}},{"$f":"Datos!$I301*Datos!$O301*$F$86","v":{"$error":"#VALUE!"}},{"$f":"IFERROR(SUMIFS(Datos!D:D,Datos!$A:$A,$A133,Datos!$C:$C,$B133)*IF($A133=Datos!$D$24,$C133,IF($A133=Datos!$D$25,$D133,$E133)),\"-\")","v":"-"}]
[0,{"$f":"Datos!C44","v":""},{"$f":"1/(Datos!$G302*8760)*Datos!$Y302*$F$86","v":{"$error":"#VALUE!"}},{"$f":"Datos!$H302*Datos!$Y302*$F$86","v":{"$error":"#VALUE!"}},{"$f":"Datos!$I302*Datos!$O302*$F$86","v":{"$error":"#VALUE!"}},{"$f":"IFERROR(SUMIFS(Datos!D:D,Datos!$A:$A,$A134,Datos!$C:$C,$B134)*IF($A134=Datos!$D$24,$C134,IF($A134=Datos!$D$25,$D134,$E134)),\"-\")","v":"-"}]
[0,{"$f":"Datos!C45","v":""},{"$f":"1/(Datos!$G303*8760)*Datos!$Y303*$F$86","v":{"$error":"#VALUE!"}},{"$f":"Datos!$H303*Datos!$Y303*$F$86","v":{"$error":"#VALUE!"}},{"$f":"Datos!$I303*Datos!$O303*$F$86","v":{"$error":"#VALUE!"}},{"$f":"IFERROR(SUMIFS(Datos!D:D,Datos!$A:$A,$A135,Datos!$C:$C,$B135)*IF($A135=Datos!$D$24,$C135,IF($A135=Datos!$D$25,$D135,$E135)),\"-\")","v":"-"}]
[0,{"$f":"Datos!C46","v":""},{"$f":"1/(Datos!$G304*8760)*Datos!$Y304*$F$86","v":{"$error":"#VALUE!"}},{"$f":"Datos!$H304*Datos!$Y304*$F$86","v":{"$error":"#VALUE!"}},{"$f":"Datos!$I304*Datos!$O304*$F$86","v":{"$error":"#VALUE!"}},{"$f":"IFERROR(SUMIFS(Datos!D:D,Datos!$A:$A,$A136,Datos!$C:$C,$B136)*IF($A136=Datos!$D$24,$C136,IF($A136=Datos!$D$25,$D136,$E136)),\"-\")","v":"-"}]
[0,{"$f":"Datos!C47","v":""},{"$f":"1/(Datos!$G305*8760)*Datos!$Y305*$F$86","v":{"$error":"#VALUE!"}},{"$f":"Datos!$H305*Datos!$Y305*$F$86","v":{"$error":"#VALUE!"}},{"$f":"Datos!$I305*Datos!$O305*$F$86","v":{"$error":"#VALUE!"}},{"$f":"IFERROR(SUMIFS(Datos!D:D,Datos!$A:$A,$A137,Datos!$C:$C,$B137)*IF($A137=Datos!$D$24,$C137,IF($A137=Datos!$D$25,$D137,$E137)),\"-\")","v":"-"}]
[0,{"$f":"Datos!C48","v":""},{"$f":"1/(Datos!$G306*8760)*Datos!$Y306*$F$86","v":{"$error":"#VALUE!"}},{"$f":"Datos!$H306*Datos!$Y306*$F$86","v":{"$error":"#VALUE!"}},{"$f":"Datos!$I306*Datos!$O306*$F$86","v":{"$error":"#VALUE!"}},{"$f":"IFERROR(SUMIFS(Datos!D:D,Datos!$A:$A,$A138,Datos!$C:$C,$B138)*IF($A138=Datos!$D$24,$C138,IF($A138=Datos!$D$25,$D138,$E138)),\"-\")","v":"-"}]
[0,{"$f":"Datos!C49","v":""},{"$f":"1/(Datos!$G307*8760)*Datos!$Y307*$F$86","v":{"$error":"#VALUE!"}},{"$f":"Datos!$H307*Datos!$Y307*$F$86","v":{"$error":"#VALUE!"}},{"$f":"Datos!$I307*Datos!$O307*$F$86","v":{"$error":"#VALUE!"}},{"$f":"IFERROR(SUMIFS(Datos!D:D,Datos!$A:$A,$A139,Datos!$C:$C,$B139)*IF($A139=Datos!$D$24,$C139,IF($A139=Datos!$D$25,$D139,$E139)),\"-\")","v":"-"}]
["Energia",{"$f":"Datos!C50","v":"AP"},{"$f":"1/(Datos!$G308*8760)*Datos!$Y308*$F$86","v":0},{"$f":"Datos!$H308*Datos!$Y308*$F$86","v":0},{"$f":"Datos!$I308*Datos!$O308*$F$86","v":0},{"$f":"IFERROR(SUMIFS(Datos!D:D,Datos!$A:$A,$A140,Datos!$C:$C,$B140)*IF($A140=Datos!$D$24,$C140,IF($A140=Datos!$D$25,$D140,$E140)),\"-\")","v":0}]
[null,"Pérdida NT BT",null,null,null,{"$f":"SUM(F120:F120)*(F68-1)","v":19.68665805690981},{"$f":"SUM(F120:F140)*(F68-1)","v":42.412390186374836}]
[null,"Pérdida T BT",null,null,null,{"$f":"SUM(F120:F141)*(F69-1)","v":8.0858701430254509}]
[null,"Potencia BT coincidente con Máx MT",null,null,null,{"$f":"SUM(F120:F142)","v":372.8697428961662}]
[{"$f":"Datos!D374","v":0},{"$f":"Datos!C51","v":""},{"$f":"1/(Datos!$G309*8760)*Datos!$Y309*$F$86","v":{"$error":"#VALUE!"}},{"$f":"Datos!$H309*Datos!$Y309*$F$86","v":{"$error":"#VALUE!"}},{"$f":"Datos!$I309*Datos!$O309*$F$86","v":{"$error":"#VALUE!"}},{"$f":"IFERROR(SUMIFS(Datos!D:D,Datos!$A:$A,$A144,Datos!$C:$C,$B144)*IF($A144=Datos!$D$24,$C144,IF($A144=Datos!$D$25,$D144,$E144)),\"-\")","v":"-"}]
[{"$f":"Datos!D375","v":0},{"$f":"Datos!C52","v":""},{"$f":"1/(Datos!$G310*8760)*Datos!$Y310*$F$86","v":{"$error":"#VALUE!"}},{"$f":"Datos!$H310*Datos!$Y310*$F$86","v":{"$error":"#VALUE!"}},{"$f":"Datos!$I310*Datos!$O310*$F$86","v":{"$error":"#VALUE!"}},{"$f":"IFERROR(SUMIFS(Datos!D:D,Datos!$A:$A,$A145,Datos!$C:$C,$B145)*IF($A145=Datos!$D$24,$C145,IF($A145=Datos!$D$25,$D145,$E145)),\"-\")","v":"-"}]
[{"$f":"Datos!D376","v":0},{"$f":"Datos!C53","v":""},{"$f":"1/(Datos!$G311*8760)*Datos!$Y311*$F$86","v":{"$error":"#VALUE!"}},{"$f":"Datos!$H311*Datos!$Y311*$F$86","v":{"$error":"#VALUE!"}},{"$f":"Datos!$I311*Datos!$O311*$F$86","v":{"$error":"#VALUE!"}},{"$f":"IFERROR(SUMIFS(Datos!D:D,Datos!$A:$A,$A146,Datos!$C:$C,$B146)*IF($A146=Datos!$D$24,$C146,IF($A146=Datos!$D$25,$D146,$E146)),\"-\")","v":"-"}]
[{"$f":"Datos!D377","v":0},{"$f":"Datos!C54","v":""},{"$f":"1/(Datos!$G312*8760)*Datos!$Y312*$F$86","v":{"$error":"#VALUE!"}},{"$f":"Datos!$H312*Datos!$Y312*$F$86","v":{"$error":"#VALUE!"}},{"$f":"Datos!$I312*Datos!$O312*$F$86","v":{"$error":"#VALUE!"}},{"$f":"IFERROR(SUMIFS(Datos!D:D,Datos!$A:$A,$A147,Datos!$C:$C,$B147)*IF($A147=Datos!$D$24,$C147,IF($A147=Datos!$D$25,$D147,$E147)),\"-\")","v":"-"}]
[{"$f":"Datos!D378","v":0},{"$f":"Datos!C55","v":""},{"$f":"1/(Datos!$G313*8760)*Datos!$Y313*$F$86","v":{"$error":"#VALUE!"}},{"$f":"Datos!$H313*Datos!$Y313*$F$86","v":{"$error":"#VALUE!"}},{"$f":"Datos!$I313*Datos!$O313*$F$86","v":{"$error":"#VALUE!"}},{"$f":"IFERROR(SUMIFS(Datos!D:D,Datos!$A:$A,$A148,Datos!$C:$C,$B148)*IF($A148=Datos!$D$24,$C148,IF($A148=Datos!$D$25,$D148,$E148)),\"-\")","v":"-"}]
[{"$f":"Datos!D379","v":0},{"$f":"Datos!C56","v":""},{"$f":"1/(Datos!$G314*8760)*Datos!$Y314*$F$86","v":{"$error":"#VALUE!"}},{"$f":"Datos!$H314*Datos!$Y314*$F$86","v":{"$error":"#VALUE!"}},{"$f":"Datos!$I314*Datos!$O314*$F$86","v":{"$error":"#VALUE!"}},{"$f":"IFERROR(SUMIFS(Datos!D:D,Datos!$A:$A,$A149,Datos!$C:$C,$B149)*IF($A149=Datos!$D$24,$C149,IF($A149=Datos!$D$25,$D149,$E149)),\"-\")","v":"-"}]
[{"$f":"Datos!D380","v":"Energia"},{"$f":"Datos!C57","v":"MTD"},{"$f":"1/(Datos!$G315*8760)*Datos!$Y315*$F$86","v":1.6016281466441532E-4},{"$f":"Datos!$H315*Datos!$Y315*$F$86","v":0.793423604774807},{"$f":"Datos!$I315*Datos!$O315*$F$86","v":0.80304152646044469},{"$f":"IFERROR(SUMIFS(Datos!D:D,Datos!$A:$A,$A150,Datos!$C:$C,$B150)*IF($A150=Datos!$D$24,$C150,IF($A150=Datos!$D$25,$D150,$E150)),\"-\")","v":110.62789894857568}]
[{"$f":"Datos!D381","v":"Energia"},{"$f":"Datos!C58","v":"MTH"},{"$f":"1/(Datos!$G316*8760)*Datos!$Y316*$F$86","v":1.3615471673467387E-4},{"$f":"Datos!$H316*Datos!$Y316*$F$86","v":0.74447708407053059},{"$f":"Datos!$I316*Datos!$O316*$F$86","v":0.78796269786080331},{"$f":"IFERROR(SUMIFS(Datos!D:D,Datos!$A:$A,$A151,Datos!$C:$C,$B151)*IF($A151=Datos!$D$24,$C151,IF($A151=Datos!$D$25,$D151,$E151)),\"-\")","v":20.922717366402562}]
[{"$f":"Datos!D382","v":0},{"$f":"Datos!C59","v":"AMTD"},{"$f":"1/(Datos!$G317*8760)*Datos!$Y317*$F$86","v":{"$error":"#VALUE!"}},{"$f":"Datos!$H317*Datos!$Y317*$F$86","v":{"$error":"#VALUE!"}},{"$f":"Datos!$I317*Datos!$O317*$F$86","v":{"$error":"#VALUE!"}},{"$f":"IFERROR(SUMIFS(Datos!D:D,Datos!$A:$A,$A152,Datos!$C:$C,$B152)*IF($A152=Datos!$D$24,$C152,IF($A152=Datos!$D$25,$D152,$E152)),\"-\")","v":"-"}]
[{"$f":"Datos!D383","v":0},{"$f":"Datos!C60","v":""},{"$f":"1/(Datos!$G318*8760)*Datos!$Y318*$F$86","v":{"$error":"#VALUE!"}},{"$f":"Datos!$H318*Datos!$Y318*$F$86","v":{"$error":"#VALUE!"}},{"$f":"Datos!$I318*Datos!$O318*$F$86","v":{"$error":"#VALUE!"}},{"$f":"IFERROR(SUMIFS(Datos!D:D,Datos!$A:$A,$A153,Datos!$C:$C,$B153)*IF($A153=Datos!$D$24,$C153,IF($A153=Datos!$D$25,$D153,$E153)),\"-\")","v":"-"}]
[{"$f":"Datos!D384","v":0},{"$f":"Datos!C61","v":""},{"$f":"1/(Datos!$G319*8760)*Datos!$Y319*$F$86","v":{"$error":"#VALUE!"}},{"$f":"Datos!$H319*Datos!$Y319*$F$86","v":{"$error":"#VALUE!"}},{"$f":"Datos!$I319*Datos!$O319*$F$86","v":{"$error":"#VALUE!"}},{"$f":"IFERROR(SUMIFS(Datos!D:D,Datos!$A:$A,$A154,Datos!$C:$C,$B154)*IF($A154=Datos!$D$24,$C154,IF($A154=Datos!$D$25,$D154,$E154)),\"-\")","v":"-"}]
[{"$f":"Datos!D385","v":0},{"$f":"Datos!C62","v":""},{"$f":"1/(Datos!$G320*8760)*Datos!$Y320*$F$86","v":{"$error":"#VALUE!"}},{"$f":"Datos!$H320*Datos!$Y320*$F$86","v":{"$error":"#VALUE!"}},{"$f":"Datos!$I320*Datos!$O320*$F$86","v":{"$error":"#VALUE!"}},{"$f":"IFERROR(SUMIFS(Datos!D:D,Datos!$A:$A,$A155,Datos!$C:$C,$B155)*IF($A155=Datos!$D$24,$C155,IF($A155=Datos!$D$25,$D155,$E155)),\"-\")","v":"-"}]
[{"$f":"Datos!D386","v":0},{"$f":"Datos!C63","v":""},{"$f":"1/(Datos!$G321*8760)*Datos!$Y321*$F$86","v":{"$error":"#VALUE!"}},{"$f":"Datos!$H321*Datos!$Y321*$F$86","v":{"$error":"#VALUE!"}},{"$f":"Datos!$I321*Datos!$O321*$F$86","v":{"$error":"#VALUE!"}},{"$f":"IFERROR(SUMIFS(Datos!D:D,Datos!$A:$A,$A156,Datos!$C:$C,$B156)*IF($A156=Datos!$D$24,$C156,IF($A156=Datos!$D$25,$D156,$E156)),\"-\")","v":"-"}]
[{"$f":"Datos!D387","v":0},{"$f":"Datos!C64","v":""},{"$f":"1/(Datos!$G322*8760)*Datos!$Y322*$F$86","v":{"$error":"#VALUE!"}},{"$f":"Datos!$H322*Datos!$Y322*$F$86","v":{"$error":"#VALUE!"}},{"$f":"Datos!$I322*Datos!$O322*$F$86","v":{"$error":"#VALUE!"}},{"$f":"IFERROR(SUMIFS(Datos!D:D,Datos!$A:$A,$A157,Datos!$C:$C,$B157)*IF($A157=Datos!$D$24,$C157,IF($A157=Datos!$D$25,$D157,$E157)),\"-\")","v":"-"}]
[{"$f":"Datos!D388","v":0},{"$f":"Datos!C65","v":""},{"$f":"1/(Datos!$G323*8760)*Datos!$Y323*$F$86","v":{"$error":"#VALUE!"}},{"$f":"Datos!$H323*Datos!$Y323*$F$86","v":{"$error":"#VALUE!"}},{"$f":"Datos!$I323*Datos!$O323*$F$86","v":{"$error":"#VALUE!"}},{"$f":"IFERROR(SUMIFS(Datos!D:D,Datos!$A:$A,$A158,Datos!$C:$C,$B158)*IF($A158=Datos!$D$24,$C158,IF($A158=Datos!$D$25,$D158,$E158)),\"-\")","v":"-"}]
[{"$f":"Datos!D389","v":0},{"$f":"Datos!C66","v":""},{"$f":"1/(Datos!$G324*8760)*Datos!$Y324*$F$86","v":{"$error":"#VALUE!"}},{"$f":"Datos!$H324*Datos!$Y324*$F$86","v":{"$error":"#VALUE!"}},{"$f":"Datos!$I324*Datos!$O324*$F$86","v":{"$error":"#VALUE!"}},{"$f":"IFERROR(SUMIFS(Datos!D:D,Datos!$A:$A,$A159,Datos!$C:$C,$B159)*IF($A159=Datos!$D$24,$C159,IF($A159=Datos!$D$25,$D159,$E159)),\"-\")","v":"-"}]
[{"$f":"Datos!D390","v":0},{"$f":"Datos!C67","v":""},{"$f":"1/(Datos!$G325*8760)*Datos!$Y325*$F$86","v":{"$error":"#VALUE!"}},{"$f":"Datos!$H325*Datos!$Y325*$F$86","v":{"$error":"#VALUE!"}},{"$f":"Datos!$I325*Datos!$O325*$F$86","v":{"$error":"#VALUE!"}},{"$f":"IFERROR(SUMIFS(Datos!D:D,Datos!$A:$A,$A160,Datos!$C:$C,$B160)*IF($A160=Datos!$D$24,$C160,IF($A160=Datos!$D$25,$D160,$E160)),\"-\")","v":"-"}]
[{"$f":"Datos!D391","v":0},{"$f":"Datos!C68","v":""},{"$f":"1/(Datos!$G326*8760)*Datos!$Y326*$F$86","v":{"$error":"#VALUE!"}},{"$f":"Datos!$H326*Datos!$Y326*$F$86","v":{"$error":"#VALUE!"}},{"$f":"Datos!$I326*Datos!$O326*$F$86","v":{"$error":"#VALUE!"}},{"$f":"IFERROR(SUMIFS(Datos!D:D,Datos!$A:$A,$A161,Datos!$C:$C,$B161)*IF($A161=Datos!$D$24,$C161,IF($A161=Datos!$D$25,$D161,$E161)),\"-\")","v":"-"}]
[{"$f":"Datos!D392","v":0},{"$f":"Datos!C69","v":""},{"$f":"1/(Datos!$G327*8760)*Datos!$Y327*$F$86","v":{"$error":"#VALUE!"}},{"$f":"Datos!$H327*Datos!$Y327*$F$86","v":{"$error":"#VALUE!"}},{"$f":"Datos!$I327*Datos!$O327*$F$86","v":{"$error":"#VALUE!"}},{"$f":"IFERROR(SUMIFS(Datos!D:D,Datos!$A:$A,$A162,Datos!$C:$C,$B162)*IF($A162=Datos!$D$24,$C162,IF($A162=Datos!$D$25,$D162,$E162)),\"-\")","v":"-"}]
[{"$f":"Datos!D393","v":0},{"$f":"Datos!C70","v":""},{"$f":"1/(Datos!$G328*8760)*Datos!$Y328*$F$86","v":{"$error":"#VALUE!"}},{"$f":"Datos!$H328*Datos!$Y328*$F$86","v":{"$error":"#VALUE!"}},{"$f":"Datos!$I328*Datos!$O328*$F$86","v":{"$error":"#VALUE!"}},{"$f":"IFERROR(SUMIFS(Datos!D:D,Datos!$A:$A,$A163,Datos!$C:$C,$B163)*IF($A163=Datos!$D$24,$C163,IF($A163=Datos!$D$25,$D163,$E163)),\"-\")","v":"-"}]
[null,"Pérdida MT",null,null,null,{"$f":"SUM(F143:F163)*(F70-1)","v":25.453273121732856}]
[null,"Potencia Máxima MT",null,null,null,{"$f":"SUM(F143:F164)","v":529.87363233287726}]
[]
[null,null,"Coeficientes de responsabilidad (Tipo de medición)",null,null,"Potencia coincidente con máxima AT"]
[null,null,"Energía","Potencia máxima","Potencia por franja horaria"]
[{"$f":"A93","v":"Energia"},{"$f":"Datos!C30","v":"BTS_R"},{"$f":"1/(Datos!$G288*8760)*Datos!$Z288*$F$86","v":1.0858900677074884E-4},{"$f":"Datos!$H288*Datos!$Z288*$F$86","v":0.34468994102722622},{"$f":"Datos!$I288*Datos!$P288*$F$86","v":0.46000945610413374},{"$f":"IFERROR(SUMIFS(Datos!D:D,Datos!$A:$A,$A169,Datos!$C:$C,$B169)*IF($A169=Datos!$D$24,$C169,IF($A169=Datos!$D$25,$D169,$E169)),\"-\")","v":160.18457889928661}]
["Energia",{"$f":"Datos!C31","v":"BTS_O"},{"$f":"1/(Datos!$G289*8760)*Datos!$Z289*$F$86","v":1.8520253036921128E-4},{"$f":"Datos!$H289*Datos!$Z289*$F$86","v":0.54608734619627708},{"$f":"Datos!$I289*Datos!$P289*$F$86","v":0.60911298373636935},{"$f":"IFERROR(SUMIFS(Datos!D:D,Datos!$A:$A,$A170,Datos!$C:$C,$B170)*IF($A170=Datos!$D$24,$C170,IF($A170=Datos!$D$25,$D170,$E170)),\"-\")","v":55.858019414147641}]
["Energia",{"$f":"Datos!C32","v":"BTD"},{"$f":"1/(Datos!$G290*8760)*Datos!$Z290*$F$86","v":2.0292119411920777E-4},{"$f":"Datos!$H290*Datos!$Z290*$F$86","v":0.7353419273356514},{"$f":"Datos!$I290*Datos!$P290*$F$86","v":0.75657113485680694},{"$f":"IFERROR(SUMIFS(Datos!D:D,Datos!$A:$A,$A171,Datos!$C:$C,$B171)*IF($A171=Datos!$D$24,$C171,IF($A171=Datos!$D$25,$D171,$E171)),\"-\")","v":127.93412765777559}]
["Energia",{"$f":"Datos!C33","v":"BTH"},{"$f":"1/(Datos!$G291*8760)*Datos!$Z291*$F$86","v":1.2837158971467188E-4},{"$f":"Datos!$H291*Datos!$Z291*$F$86","v":0.55232248599892386},{"$f":"Datos!$I291*Datos!$P291*$F$86","v":0.76082004563415484},{"$f":"IFERROR(SUMIFS(Datos!D:D,Datos!$A:$A,$A172,Datos!$C:$C,$B172)*IF($A172=Datos!$D$24,$C172,IF($A172=Datos!$D$25,$D172,$E172)),\"-\")","v":1.1204887250211297}]
[0,{"$f":"Datos!C34","v":"ABTD"},{"$f":"1/(Datos!$G292*8760)*Datos!$Z292*$F$86","v":{"$error":"#VALUE!"}},{"$f":"Datos!$H292*Datos!$Z292*$F$86","v":{"$error":"#VALUE!"}},{"$f":"Datos!$I292*Datos!$P292*$F$86","v":{"$error":"#VALUE!"}},{"$f":"IFERROR(SUMIFS(Datos!D:D,Datos!$A:$A,$A173,Datos!$C:$C,$B173)*IF($A173=Datos!$D$24,$C173,IF($A173=Datos!$D$25,$D173,$E173)),\"-\")","v":"-"}]
[0,{"$f":"Datos!C35","v":""},{"$f":"1/(Datos!$G293*8760)*Datos!$Z293*$F$86","v":{"$error":"#VALUE!"}},{"$f":"Datos!$H293*Datos!$Z293*$F$86","v":{"$error":"#VALUE!"}},{"$f":"Datos!$I293*Datos!$P293*$F$86","v":{"$error":"#VALUE!"}},{"$f":"IFERROR(SUMIFS(Datos!D:D,Datos!$A:$A,$A174,Datos!$C:$C,$B174)*IF($A174=Datos!$D$24,$C174,IF($A174=Datos!$D$25,$D174,$E174)),\"-\")","v":"-"}]
[0,{"$f":"Datos!C36","v":""},{"$f":"1/(Datos!$G294*8760)*Datos!$Z294*$F$86","v":{"$error":"#VALUE!"}},{"$f":"Datos!$H294*Datos!$Z294*$F$86","v":{"$error":"#VALUE!"}},{"$f":"Datos!$I294*Datos!$P294*$F$86","v":{"$error":"#VALUE!"}},{"$f":"IFERROR(SUMIFS(Datos!D:D,Datos!$A:$A,$A175,Datos!$C:$C,$B175)*IF($A175=Datos!$D$24,$C175,IF($A175=Datos!$D$25,$D175,$E175)),\"-\")","v":"-"}]
[0,{"$f":"Datos!C37","v":""},{"$f":"1/(Datos!$G295*8760)*Datos!$Z295*$F$86","v":{"$error":"#VALUE!"}},{"$f":"Datos!$H295*Datos!$Z295*$F$86","v":{"$error":"#VALUE!"}},{"$f":"Datos!$I295*Datos!$P295*$F$86","v":{"$error":"#VALUE!"}},{"$f":"IFERROR(SUMIFS(Datos!D:D,Datos!$A:$A,$A176,Datos!$C:$C,$B176)*IF($A176=Datos!$D$24,$C176,IF($A176=Datos!$D$25,$D176,$E176)),\"-\")","v":"-"}]
[0,{"$f":"Datos!C38","v":""},{"$f":"1/(Datos!$G296*8760)*Datos!$Z296*$F$86","v":{"$error":"#VALUE!"}},{"$f":"Datos!$H296*Datos!$Z296*$F$86","v":{"$error":"#VALUE!"}},{"$f":"Datos!$I296*Datos!$P296*$F$86","v":{"$error":"#VALUE!"}},{"$f":"IFERROR(SUMIFS(Datos!D:D,Datos!$A:$A,$A177,Datos!$C:$C,$B177)*IF($A177=Datos!$D$24,$C177,IF($A177=Datos!$D$25,$D177,$E177)),\"-\")","v":"-"}]
[0,{"$f":"Datos!C39","v":""},{"$f":"1/(Datos!$G297*8760)*Datos!$Z297*$F$86","v":{"$error":"#VALUE!"}},{"$f":"Datos!$H297*Datos!$Z297*$F$86","v":{"$error":"#VALUE!"}},{"$f":"Datos!$I297*Datos!$P297*$F$86","v":{"$error":"#VALUE!"}},{"$f":"IFERROR(SUMIFS(Datos!D:D,Datos!$A:$A,$A178,Datos!$C:$C,$B178)*IF($A178=Datos!$D$24,$C178,IF($A178=Datos!$D$25,$D178,$E178)),\"-\")","v":"-"}]
[0,{"$f":"Datos!C40","v":""},{"$f":"1/(Datos!$G298*8760)*Datos!$Z298*$F$86","v":{"$error":"#VALUE!"}},{"$f":"Datos!$H298*Datos!$Z298*$F$86","v":{"$error":"#VALUE!"}},{"$f":"Datos!$I298*Datos!$P298*$F$86","v":{"$error":"#VALUE!"}},{"$f":"IFERROR(SUMIFS(Datos!D:D,Datos!$A:$A,$A179,Datos!$C:$C,$B179)*IF($A179=Datos!$D$24,$C179,IF($A179=Datos!$D$25,$D179,$E179)),\"-\")","v":"-"}]
[0,{"$f":"Datos!C41","v":""},{"$f":"1/(Datos!$G299*8760)*Datos!$Z299*$F$86","v":{"$error":"#VALUE!"}},{"$f":"Datos!$H299*Datos!$Z299*$F$86","v":{"$error":"#VALUE!"}},{"$f":"Datos!$I299*Datos!$P299*$F$86","v":{"$error":"#VALUE!"}},{"$f":"IFERROR(SUMIFS(Datos!D:D,Datos!$A:$A,$A180,Datos!$C:$C,$B180)*IF($A180=Datos!$D$24,$C180,IF($A180=Datos!$D$25,$D180,$E180)),\"-\")","v":"-"}]
[0,{"$f":"Datos!C42","v":""},{"$f":"1/(Datos!$G300*8760)*Datos!$Z300*$F$86","v":{"$error":"#VALUE!"}},{"$f":"Datos!$H300*Datos!$Z300*$F$86","v":{"$error":"#VALUE!"}},{"$f":"Datos!$I300*Datos!$P300*$F$86","v":{"$error":"#VALUE!"}},{"$f":"IFERROR(SUMIFS(Datos!D:D,Datos!$A:$A,$A181,Datos!$C:$C,$B181)*IF($A181=Datos!$D$24,$C181,IF($A181=Datos!$D$25,$D181,$E181)),\"-\")","v":"-"}]
[0,{"$f":"Datos!C43","v":""},{"$f":"1/(Datos!$G301*8760)*Datos!$Z301*$F$86","v":{"$error":"#VALUE!"}},{"$f":"Datos!$H301*Datos!$Z301*$F$86","v":{"$error":"#VALUE!"}},{"$f":"Datos!$I301*Datos!$P301*$F$86","v":{"$error":"#VALUE!"}},{"$f":"IFERROR(SUMIFS(Datos!D:D,Datos!$A:$A,$A182,Datos!$C:$C,$B182)*IF($A182=Datos!$D$24,$C182,IF($A182=Datos!$D$25,$D182,$E182)),\"-\")","v":"-"}]
[0,{"$f":"Datos!C44","v":""},{"$f":"1/(Datos!$G302*8760)*Datos!$Z302*$F$86","v":{"$error":"#VALUE!"}},{"$f":"Datos!$H302*Datos!$Z302*$F$86","v":{"$error":"#VALUE!"}},{"$f":"Datos!$I302*Datos!$P302*$F$86","v":{"$error":"#VALUE!"}},{"$f":"IFERROR(SUMIFS(Datos!D:D,Datos!$A:$A,$A183,Datos!$C:$C,$B183)*IF($A183=Datos!$D$24,$C183,IF($A183=Datos!$D$25,$D183,$E183)),\"-\")","v":"-"}]
[0,{"$f":"Datos!C45","v":""},{"$f":"1/(Datos!$G303*8760)*Datos!$Z303*$F$86","v":{"$error":"#VALUE!"}},{"$f":"Datos!$H303*Datos!$Z303*$F$86","v":{"$error":"#VALUE!"}},{"$f":"Datos!$I303*Datos!$P303*$F$86","v":{"$error":"#VALUE!"}},{"$f":"IFERROR(SUMIFS(Datos!D:D,Datos!$A:$A,$A184,Datos!$C:$C,$B184)*IF($A184=Datos!$D$24,$C184,IF($A184=Datos!$D$25,$D184,$E184)),\"-\")","v":"-"}]
[0,{"$f":"Datos!C46","v":""},{"$f":"1/(Datos!$G304*8760)*Datos!$Z304*$F$86","v":{"$error":"#VALUE!"}},{"$f":"Datos!$H304*Datos!$Z304*$F$86","v":{"$error":"#VALUE!"}},{"$f":"Datos!$I304*Datos!$P304*$F$86","v":{"$error":"#VALUE!"}},{"$f":"IFERROR(SUMIFS(Datos!D:D,Datos!$A:$A,$A185,Datos!$C:$C,$B185)*IF($A185=Datos!$D$24,$C185,IF($A185=Datos!$D$25,$D185,$E185)),\"-\")","v":"-"}]
[0,{"$f":"Datos!C47","v":""},{"$f":"1/(Datos!$G305*8760)*Datos!$Z305*$F$86","v":{"$error":"#VALUE!"}},{"$f":"Datos!$H305*Datos!$Z305*$F$86","v":{"$error":"#VALUE!"}},{"$f":"Datos!$I305*Datos!$P305*$F$86","v":{"$error":"#VALUE!"}},{"$f":"IFERROR(SUMIFS(Datos!D:D,Datos!$A:$A,$A186,Datos!$C:$C,$B186)*IF($A186=Datos!$D$24,$C186,IF($A186=Datos!$D$25,$D186,$E186)),\"-\")","v":"-"}]
[0,{"$f":"Datos!C48","v":""},{"$f":"1/(Datos!$G306*8760)*Datos!$Z306*$F$86","v":{"$error":"#VALUE!"}},{"$f":"Datos!$H306*Datos!$Z306*$F$86","v":{"$error":"#VALUE!"}},{"$f":"Datos!$I306*Datos!$P306*$F$86","v":{"$error":"#VALUE!"}},{"$f":"IFERROR(SUMIFS(Datos!D:D,Datos!$A:$A,$A187,Datos!$C:$C,$B187)*IF($A187=Datos!$D$24,$C187,IF($A187=Datos!$D$25,$D187,$E187)),\"-\")","v":"-"}]
[0,{"$f":"Datos!C49","v":""},{"$f":"1/(Datos!$G307*8760)*Datos!$Z307*$F$86","v":{"$error":"#VALUE!"}},{"$f":"Datos!$H307*Datos!$Z307*$F$86","v":{"$error":"#VALUE!"}},{"$f":"Datos!$I307*Datos!$P307*$F$86","v":{"$error":"#VALUE!"}},{"$f":"IFERROR(SUMIFS(Datos!D:D,Datos!$A:$A,$A188,Datos!$C:$C,$B188)*IF($A188=Datos!$D$24,$C188,IF($A188=Datos!$D$25,$D188,$E188)),\"-\")","v":"-"}]
["Energia",{"$f":"Datos!C50","v":"AP"},{"$f":"1/(Datos!$G308*8760)*Datos!$Z308*$F$86","v":0},{"$f":"Datos!$H308*Datos!$Z308*$F$86","v":0},{"$f":"Datos!$I308*Datos!$P308*$F$86","v":0},{"$f":"IFERROR(SUMIFS(Datos!D:D,Datos!$A:$A,$A189,Datos!$C:$C,$B189)*IF($A189=Datos!$D$24,$C189,IF($A189=Datos!$D$25,$D189,$E189)),\"-\")","v":0}]
[null,"Pérdida NT BT",null,null,null,{"$f":"SUM(F169:F169)*(F68-1)","v":19.68665805690981},{"$f":"SUM(F169:F189)*(F68-1)","v":42.412390186374836}]
[null,"Pérdida T BT",null,null,null,{"$f":"SUM(F169:F190)*(F69-1)","v":8.0858701430254509}]
[null,"Potencia BT coincidente con Máx AT",null,null,null,{"$f":"SUM(F169:F191)","v":372.8697428961662}]
[{"$f":"A144","v":0},{"$f":"Datos!C51","v":""},{"$f":"1/(Datos!$G309*8760)*Datos!$Z309*$F$86","v":{"$error":"#VALUE!"}},{"$f":"Datos!$H309*Datos!$Z309*$F$86","v":{"$error":"#VALUE!"}},{"$f":"Datos!$I309*Datos!$P309*$F$86","v":{"$error":"#VALUE!"}},{"$f":"IFERROR(SUMIFS(Datos!D:D,Datos!$A:$A,$A193,Datos!$C:$C,$B193)*IF($A193=Datos!$D$24,$C193,IF($A193=Datos!$D$25,$D193,$E193)),\"-\")","v":"-"}]
[0,{"$f":"Datos!C52","v":""},{"$f":"1/(Datos!$G310*8760)*Datos!$Z310*$F$86","v":{"$error":"#VALUE!"}},{"$f":"Datos!$H310*Datos!$Z310*$F$86","v":{"$error":"#VALUE!"}},{"$f":"Datos!$I310*Datos!$P310*$F$86","v":{"$error":"#VALUE!"}},{"$f":"IFERROR(SUMIFS(Datos!D:D,Datos!$A:$A,$A194,Datos!$C:$C,$B194)*IF($A194=Datos!$D$24,$C194,IF($A194=Datos!$D$25,$D194,$E194)),\"-\")","v":"-"}]
[0,{"$f":"Datos!C53","v":""},{"$f":"1/(Datos!$G311*8760)*Datos!$Z311*$F$86","v":{"$error":"#VALUE!"}},{"$f":"Datos!$H311*Datos!$Z311*$F$86","v":{"$error":"#VALUE!"}},{"$f":"Datos!$I311*Datos!$P311*$F$86","v":{"$error":"#VALUE!"}},{"$f":"IFERROR(SUMIFS(Datos!D:D,Datos!$A:$A,$A195,Datos!$C:$C,$B195)*IF($A195=Datos!$D$24,$C195,IF($A195=Datos!$D$25,$D195,$E195)),\"-\")","v":"-"}]
[0,{"$f":"Datos!C54","v":""},{"$f":"1/(Datos!$G312*8760)*Datos!$Z312*$F$86","v":{"$error":"#VALUE!"}},{"$f":"Datos!$H312*Datos!$Z312*$F$86","v":{"$error":"#VALUE!"}},{"$f":"Datos!$I312*Datos!$P312*$F$86","v":{"$error":"#VALUE!"}},{"$f":"IFERROR(SUMIFS(Datos!D:D,Datos!$A:$A,$A196,Datos!$C:$C,$B196)*IF($A196=Datos!$D$24,$C196,IF($A196=Datos!$D$25,$D196,$E196)),\"-\")","v":"-"}]
[0,{"$f":"Datos!C55","v":""},{"$f":"1/(Datos!$G313*8760)*Datos!$Z313*$F$86","v":{"$error":"#VALUE!"}},{"$f":"Datos!$H313*Datos!$Z313*$F$86","v":{"$error":"#VALUE!"}},{"$f":"Datos!$I313*Datos!$P313*$F$86","v":{"$error":"#VALUE!"}},{"$f":"IFERROR(SUMIFS(Datos!D:D,Datos!$A:$A,$A197,Datos!$C:$C,$B197)*IF($A197=Datos!$D$24,$C197,IF($A197=Datos!$D$25,$D197,$E197)),\"-\")","v":"-"}]
[0,{"$f":"Datos!C56","v":""},{"$f":"1/(Datos!$G314*8760)*Datos!$Z314*$F$86","v":{"$error":"#VALUE!"}},{"$f":"Datos!$H314*Datos!$Z314*$F$86","v":{"$error":"#VALUE!"}},{"$f":"Datos!$I314*Datos!$P314*$F$86","v":{"$error":"#VALUE!"}},{"$f":"IFERROR(SUMIFS(Datos!D:D,Datos!$A:$A,$A198,Datos!$C:$C,$B198)*IF($A198=Datos!$D$24,$C198,IF($A198=Datos!$D$25,$D198,$E198)),\"-\")","v":"-"}]
["Energia",{"$f":"Datos!C57","v":"MTD"},{"$f":"1/(Datos!$G315*8760)*Datos!$Z315*$F$86","v":1.6016281466441532E-4},{"$f":"Datos!$H315*Datos!$Z315*$F$86","v":0.793423604774807},{"$f":"Datos!$I315*Datos!$P315*$F$86","v":0.80304152646044469},{"$f":"IFERROR(SUMIFS(Datos!D:D,Datos!$A:$A,$A199,Datos!$C:$C,$B199)*IF($A199=Datos!$D$24,$C199,IF($A199=Datos!$D$25,$D199,$E199)),\"-\")","v":110.62789894857568}]
["Energia",{"$f":"Datos!C58","v":"MTH"},{"$f":"1/(Datos!$G316*8760)*Datos!$Z316*$F$86","v":1.3615471673467387E-4},{"$f":"Datos!$H316*Datos!$Z316*$F$86","v":0.74447708407053059},{"$f":"Datos!$I316*Datos!$P316*$F$86","v":0.78796269786080331},{"$f":"IFERROR(SUMIFS(Datos!D:D,Datos!$A:$A,$A200,Datos!$C:$C,$B200)*IF($A200=Datos!$D$24,$C200,IF($A200=Datos!$D$25,$D200,$E200)),\"-\")","v":20.922717366402562}]
[0,{"$f":"Datos!C59","v":"AMTD"},{"$f":"1/(Datos!$G317*8760)*Datos!$Z317*$F$86","v":{"$error":"#VALUE!"}},{"$f":"Datos!$H317*Datos!$Z317*$F$86","v":{"$error":"#VALUE!"}},{"$f":"Datos!$I317*Datos!$P317*$F$86","v":{"$error":"#VALUE!"}},{"$f":"IFERROR(SUMIFS(Datos!D:D,Datos!$A:$A,$A201,Datos!$C:$C,$B201)*IF($A201=Datos!$D$24,$C201,IF($A201=Datos!$D$25,$D201,$E201)),\"-\")","v":"-"}]
[0,{"$f":"Datos!C60","v":""},{"$f":"1/(Datos!$G318*8760)*Datos!$Z318*$F$86","v":{"$error":"#VALUE!"}},{"$f":"Datos!$H318*Datos!$Z318*$F$86","v":{"$error":"#VALUE!"}},{"$f":"Datos!$I318*Datos!$P318*$F$86","v":{"$error":"#VALUE!"}},{"$f":"IFERROR(SUMIFS(Datos!D:D,Datos!$A:$A,$A202,Datos!$C:$C,$B202)*IF($A202=Datos!$D$24,$C202,IF($A202=Datos!$D$25,$D202,$E202)),\"-\")","v":"-"}]
[0,{"$f":"Datos!C61","v":""},{"$f":"1/(Datos!$G319*8760)*Datos!$Z319*$F$86","v":{"$error":"#VALUE!"}},{"$f":"Datos!$H319*Datos!$Z319*$F$86","v":{"$error":"#VALUE!"}},{"$f":"Datos!$I319*Datos!$P319*$F$86","v":{"$error":"#VALUE!"}},{"$f":"IFERROR(SUMIFS(Datos!D:D,Datos!$A:$A,$A203,Datos!$C:$C,$B203)*IF($A203=Datos!$D$24,$C203,IF($A203=Datos!$D$25,$D203,$E203)),\"-\")","v":"-"}]
[0,{"$f":"Datos!C62","v":""},{"$f":"1/(Datos!$G320*8760)*Datos!$Z320*$F$86","v":{"$error":"#VALUE!"}},{"$f":"Datos!$H320*Datos!$Z320*$F$86","v":{"$error":"#VALUE!"}},{"$f":"Datos!$I320*Datos!$P320*$F$86","v":{"$error":"#VALUE!"}},{"$f":"IFERROR(SUMIFS(Datos!D:D,Datos!$A:$A,$A204,Datos!$C:$C,$B204)*IF($A204=Datos!$D$24,$C204,IF($A204=Datos!$D$25,$D204,$E204)),\"-\")","v":"-"}]
[0,{"$f":"Datos!C63","v":""},{"$f":"1/(Datos!$G321*8760)*Datos!$Z321*$F$86","v":{"$error":"#VALUE!"}},{"$f":"Datos!$H321*Datos!$Z321*$F$86","v":{"$error":"#VALUE!"}},{"$f":"Datos!$I321*Datos!$P321*$F$86","v":{"$error":"#VALUE!"}},{"$f":"IFERROR(SUMIFS(Datos!D:D,Datos!$A:$A,$A205,Datos!$C:$C,$B205)*IF($A205=Datos!$D$24,$C205,IF($A205=Datos!$D$25,$D205,$E205)),\"-\")","v":"-"}]
[0,{"$f":"Datos!C64","v":""},{"$f":"1/(Datos!$G322*8760)*Datos!$Z322*$F$86","v":{"$error":"#VALUE!"}},{"$f":"Datos!$H322*Datos!$Z322*$F$86","v":{"$error":"#VALUE!"}},{"$f":"Datos!$I322*Datos!$P322*$F$86","v":{"$error":"#VALUE!"}},{"$f":"IFERROR(SUMIFS(Datos!D:D,Datos!$A:$A,$A206,Datos!$C:$C,$B206)*IF($A206=Datos!$D$24,$C206,IF($A206=Datos!$D$25,$D206,$E206)),\"-\")","v":"-"}]
[0,{"$f":"Datos!C65","v":""},{"$f":"1/(Datos!$G323*8760)*Datos!$Z323*$F$86","v":{"$error":"#VALUE!"}},{"$f":"Datos!$H323*Datos!$Z323*$F$86","v":{"$error":"#VALUE!"}},{"$f":"Datos!$I323*Datos!$P323*$F$86","v":{"$error":"#VALUE!"}},{"$f":"IFERROR(SUMIFS(Datos!D:D,Datos!$A:$A,$A207,Datos!$C:$C,$B207)*IF($A207=Datos!$D$24,$C207,IF($A207=Datos!$D$25,$D207,$E207)),\"-\")","v":"-"}]
[0,{"$f":"Datos!C66","v":""},{"$f":"1/(Datos!$G324*8760)*Datos!$Z324*$F$86","v":{"$error":"#VALUE!"}},{"$f":"Datos!$H324*Datos!$Z324*$F$86","v":{"$error":"#VALUE!"}},{"$f":"Datos!$I324*Datos!$P324*$F$86","v":{"$error":"#VALUE!"}},{"$f":"IFERROR(SUMIFS(Datos!D:D,Datos!$A:$A,$A208,Datos!$C:$C,$B208)*IF($A208=Datos!$D$24,$C208,IF($A208=Datos!$D$25,$D208,$E208)),\"-\")","v":"-"}]
[0,{"$f":"Datos!C67","v":""},{"$f":"1/(Datos!$G325*8760)*Datos!$Z325*$F$86","v":{"$error":"#VALUE!"}},{"$f":"Datos!$H325*Datos!$Z325*$F$86","v":{"$error":"#VALUE!"}},{"$f":"Datos!$I325*Datos!$P325*$F$86","v":{"$error":"#VALUE!"}},{"$f":"IFERROR(SUMIFS(Datos!D:D,Datos!$A:$A,$A209,Datos!$C:$C,$B209)*IF($A209=Datos!$D$24,$C209,IF($A209=Datos!$D$25,$D209,$E209)),\"-\")","v":"-"}]
[0,{"$f":"Datos!C68","v":""},{"$f":"1/(Datos!$G326*8760)*Datos!$Z326*$F$86","v":{"$error":"#VALUE!"}},{"$f":"Datos!$H326*Datos!$Z326*$F$86","v":{"$error":"#VALUE!"}},{"$f":"Datos!$I326*Datos!$P326*$F$86","v":{"$error":"#VALUE!"}},{"$f":"IFERROR(SUMIFS(Datos!D:D,Datos!$A:$A,$A210,Datos!$C:$C,$B210)*IF($A210=Datos!$D$24,$C210,IF($A210=Datos!$D$25,$D210,$E210)),\"-\")","v":"-"}]
[0,{"$f":"Datos!C69","v":""},{"$f":"1/(Datos!$G327*8760)*Datos!$Z327*$F$86","v":{"$error":"#VALUE!"}},{"$f":"Datos!$H327*Datos!$Z327*$F$86","v":{"$error":"#VALUE!"}},{"$f":"Datos!$I327*Datos!$P327*$F$86","v":{"$error":"#VALUE!"}},{"$f":"IFERROR(SUMIFS(Datos!D:D,Datos!$A:$A,$A211,Datos!$C:$C,$B211)*IF($A211=Datos!$D$24,$C211,IF($A211=Datos!$D$25,$D211,$E211)),\"-\")","v":"-"}]
[0,{"$f":"Datos!C70","v":""},{"$f":"1/(Datos!$G328*8760)*Datos!$Z328*$F$86","v":{"$error":"#VALUE!"}},{"$f":"Datos!$H328*Datos!$Z328*$F$86","v":{"$error":"#VALUE!"}},{"$f":"Datos!$I328*Datos!$P328*$F$86","v":{"$error":"#VALUE!"}},{"$f":"IFERROR(SUMIFS(Datos!D:D,Datos!$A:$A,$A212,Datos!$C:$C,$B212)*IF($A212=Datos!$D$24,$C212,IF($A212=Datos!$D$25,$D212,$E212)),\"-\")","v":"-"}]
[null,"Pérdida MT",null,null,null,{"$f":"SUM(F192:F212)*(F70-1)","v":25.453273121732856}]
[null,"Potencia MT coincidente con Máx AT",null,null,null,{"$f":"SUM(F192:F213)","v":529.87363233287726}]
[{"$f":"Datos!D394","v":0},{"$f":"Datos!C71","v":""},{"$f":"1/(Datos!$G329*8760)*Datos!$Z329*$F$86","v":{"$error":"#VALUE!"}},{"$f":"Datos!$H329*Datos!$Z329*$F$86","v":{"$error":"#VALUE!"}},{"$f":"Datos!$I329*Datos!$P329*$F$86","v":{"$error":"#VALUE!"}},{"$f":"IFERROR(SUMIFS(Datos!D:D,Datos!$A:$A,$A215,Datos!$C:$C,$B215)*IF($A215=Datos!$D$24,$C215,IF($A215=Datos!$D$25,$D215,$E215)),\"-\")","v":"-"}]
[{"$f":"Datos!D395","v":0},{"$f":"Datos!C72","v":""},{"$f":"1/(Datos!$G330*8760)*Datos!$Z330*$F$86","v":{"$error":"#VALUE!"}},{"$f":"Datos!$H330*Datos!$Z330*$F$86","v":{"$error":"#VALUE!"}},{"$f":"Datos!$I330*Datos!$P330*$F$86","v":{"$error":"#VALUE!"}},{"$f":"IFERROR(SUMIFS(Datos!D:D,Datos!$A:$A,$A216,Datos!$C:$C,$B216)*IF($A216=Datos!$D$24,$C216,IF($A216=Datos!$D$25,$D216,$E216)),\"-\")","v":"-"}]
[{"$f":"Datos!D396","v":0},{"$f":"Datos!C73","v":""},{"$f":"1/(Datos!$G331*8760)*Datos!$Z331*$F$86","v":{"$error":"#VALUE!"}},{"$f":"Datos!$H331*Datos!$Z331*$F$86","v":{"$error":"#VALUE!"}},{"$f":"Datos!$I331*Datos!$P331*$F$86","v":{"$error":"#VALUE!"}},{"$f":"IFERROR(SUMIFS(Datos!D:D,Datos!$A:$A,$A217,Datos!$C:$C,$B217)*IF($A217=Datos!$D$24,$C217,IF($A217=Datos!$D$25,$D217,$E217)),\"-\")","v":"-"}]
[{"$f":"Datos!D397","v":0},{"$f":"Datos!C74","v":""},{"$f":"1/(Datos!$G332*8760)*Datos!$Z332*$F$86","v":{"$error":"#VALUE!"}},{"$f":"Datos!$H332*Datos!$Z332*$F$86","v":{"$error":"#VALUE!"}},{"$f":"Datos!$I332*Datos!$P332*$F$86","v":{"$error":"#VALUE!"}},{"$f":"IFERROR(SUMIFS(Datos!D:D,Datos!$A:$A,$A218,Datos!$C:$C,$B218)*IF($A218=Datos!$D$24,$C218,IF($A218=Datos!$D$25,$D218,$E218)),\"-\")","v":"-"}]
[{"$f":"Datos!D398","v":0},{"$f":"Datos!C75","v":""},{"$f":"1/(Datos!$G333*8760)*Datos!$Z333*$F$86","v":{"$error":"#VALUE!"}},{"$f":"Datos!$H333*Datos!$Z333*$F$86","v":{"$error":"#VALUE!"}},{"$f":"Datos!$I333*Datos!$P333*$F$86","v":{"$error":"#VALUE!"}},{"$f":"IFERROR(SUMIFS(Datos!D:D,Datos!$A:$A,$A219,Datos!$C:$C,$B219)*IF($A219=Datos!$D$24,$C219,IF($A219=Datos!$D$25,$D219,$E219)),\"-\")","v":"-"}]
[{"$f":"Datos!D399","v":0},{"$f":"Datos!C76","v":""},{"$f":"1/(Datos!$G334*8760)*Datos!$Z334*$F$86","v":{"$error":"#VALUE!"}},{"$f":"Datos!$H334*Datos!$Z334*$F$86","v":{"$error":"#VALUE!"}},{"$f":"Datos!$I334*Datos!$P334*$F$86","v":{"$error":"#VALUE!"}},{"$f":"IFERROR(SUMIFS(Datos!D:D,Datos!$A:$A,$A220,Datos!$C:$C,$B220)*IF($A220=Datos!$D$24,$C220,IF($A220=Datos!$D$25,$D220,$E220)),\"-\")","v":"-"}]
[{"$f":"Datos!D400","v":0},{"$f":"Datos!C77","v":""},{"$f":"1/(Datos!$G335*8760)*Datos!$Z335*$F$86","v":{"$error":"#VALUE!"}},{"$f":"Datos!$H335*Datos!$Z335*$F$86","v":{"$error":"#VALUE!"}},{"$f":"Datos!$I335*Datos!$P335*$F$86","v":{"$error":"#VALUE!"}},{"$f":"IFERROR(SUMIFS(Datos!D:D,Datos!$A:$A,$A221,Datos!$C:$C,$B221)*IF($A221=Datos!$D$24,$C221,IF($A221=Datos!$D$25,$D221,$E221)),\"-\")","v":"-"}]
[{"$f":"Datos!D401","v":0},{"$f":"Datos!C78","v":""},{"$f":"1/(Datos!$G336*8760)*Datos!$Z336*$F$86","v":{"$error":"#VALUE!"}},{"$f":"Datos!$H336*Datos!$Z336*$F$86","v":{"$error":"#VALUE!"}},{"$f":"Datos!$I336*Datos!$P336*$F$86","v":{"$error":"#VALUE!"}},{"$f":"IFERROR(SUMIFS(Datos!D:D,Datos!$A:$A,$A222,Datos!$C:$C,$B222)*IF($A222=Datos!$D$24,$C222,IF($A222=Datos!$D$25,$D222,$E222)),\"-\")","v":"-"}]
[{"$f":"Datos!D402","v":0},{"$f":"Datos!C79","v":""},{"$f":"1/(Datos!$G337*8760)*Datos!$Z337*$F$86","v":{"$error":"#VALUE!"}},{"$f":"Datos!$H337*Datos!$Z337*$F$86","v":{"$error":"#VALUE!"}},{"$f":"Datos!$I337*Datos!$P337*$F$86","v":{"$error":"#VALUE!"}},{"$f":"IFERROR(SUMIFS(Datos!D:D,Datos!$A:$A,$A223,Datos!$C:$C,$B223)*IF($A223=Datos!$D$24,$C223,IF($A223=Datos!$D$25,$D223,$E223)),\"-\")","v":"-"}]
[{"$f":"Datos!D403","v":0},{"$f":"Datos!C80","v":""},{"$f":"1/(Datos!$G338*8760)*Datos!$Z338*$F$86","v":{"$error":"#VALUE!"}},{"$f":"Datos!$H338*Datos!$Z338*$F$86","v":{"$error":"#VALUE!"}},{"$f":"Datos!$I338*Datos!$P338*$F$86","v":{"$error":"#VALUE!"}},{"$f":"IFERROR(SUMIFS(Datos!D:D,Datos!$A:$A,$A224,Datos!$C:$C,$B224)*IF($A224=Datos!$D$24,$C224,IF($A224=Datos!$D$25,$D224,$E224)),\"-\")","v":"-"}]
[{"$f":"Datos!D404","v":"Energia"},{"$f":"Datos!C81","v":"ATD"},{"$f":"1/(Datos!$G339*8760)*Datos!$Z339*$F$86","v":1.2135849456593958E-4},{"$f":"Datos!$H339*Datos!$Z339*$F$86","v":0.91500217403193507},{"$f":"Datos!$I339*Datos!$P339*$F$86","v":0.91977828437619813},{"$f":"IFERROR(SUMIFS(Datos!D:D,Datos!$A:$A,$A225,Datos!$C:$C,$B225)*IF($A225=Datos!$D$24,$C225,IF($A225=Datos!$D$25,$D225,$E225)),\"-\")","v":9.6463048184646176}]
[{"$f":"Datos!D405","v":"Energia"},{"$f":"Datos!C82","v":"ATH"},{"$f":"1/(Datos!$G340*8760)*Datos!$Z340*$F$86","v":1.2070630406563064E-4},{"$f":"Datos!$H340*Datos!$Z340*$F$86","v":0.9027055981726958},{"$f":"Datos!$I340*Datos!$P340*$F$86","v":0.90633180621229092},{"$f":"IFERROR(SUMIFS(Datos!D:D,Datos!$A:$A,$A226,Datos!$C:$C,$B226)*IF($A226=Datos!$D$24,$C226,IF($A226=Datos!$D$25,$D226,$E226)),\"-\")","v":32.971968168105889}]
[{"$f":"Datos!D406","v":0},{"$f":"Datos!C83","v":""},{"$f":"1/(Datos!$G341*8760)*Datos!$Z341*$F$86","v":{"$error":"#VALUE!"}},{"$f":"Datos!$H341*Datos!$Z341*$F$86","v":{"$error":"#VALUE!"}},{"$f":"Datos!$I341*Datos!$P341*$F$86","v":{"$error":"#VALUE!"}},{"$f":"IFERROR(SUMIFS(Datos!D:D,Datos!$A:$A,$A227,Datos!$C:$C,$B227)*IF($A227=Datos!$D$24,$C227,IF($A227=Datos!$D$25,$D227,$E227)),\"-\")","v":"-"}]
[{"$f":"Datos!D407","v":0},{"$f":"Datos!C84","v":""},{"$f":"1/(Datos!$G342*8760)*Datos!$Z342*$F$86","v":{"$error":"#VALUE!"}},{"$f":"Datos!$H342*Datos!$Z342*$F$86","v":{"$error":"#VALUE!"}},{"$f":"Datos!$I342*Datos!$P342*$F$86","v":{"$error":"#VALUE!"}},{"$f":"IFERROR(SUMIFS(Datos!D:D,Datos!$A:$A,$A228,Datos!$C:$C,$B228)*IF($A228=Datos!$D$24,$C228,IF($A228=Datos!$D$25,$D228,$E228)),\"-\")","v":"-"}]
[{"$f":"Datos!D408","v":"Energia"},{"$f":"Datos!C85","v":"EDEMET"},{"$f":"1/(Datos!$G343*8760)*Datos!$Z343*$F$86","v":1.5748024907439291E-4},{"$f":"Datos!$H343*Datos!$Z343*$F$86","v":0.92140310684407856},{"$f":"Datos!$I343*Datos!$P343*$F$86","v":0.92140310684407856},{"$f":"IFERROR(SUMIFS(Datos!D:D,Datos!$A:$A,$A229,Datos!$C:$C,$B229)*IF($A229=Datos!$D$24,$C229,IF($A229=Datos!$D$25,$D229,$E229)),\"-\")","v":45.312837420068426}]
[{"$f":"Datos!D409","v":0},{"$f":"Datos!C86","v":""},{"$f":"1/(Datos!$G344*8760)*Datos!$Z344*$F$86","v":{"$error":"#VALUE!"}},{"$f":"Datos!$H344*Datos!$Z344*$F$86","v":{"$error":"#VALUE!"}},{"$f":"Datos!$I344*Datos!$P344*$F$86","v":{"$error":"#VALUE!"}},{"$f":"IFERROR(SUMIFS(Datos!D:D,Datos!$A:$A,$A230,Datos!$C:$C,$B230)*IF($A230=Datos!$D$24,$C230,IF($A230=Datos!$D$25,$D230,$E230)),\"-\")","v":"-"}]
[{"$f":"Datos!D410","v":0},{"$f":"Datos!C87","v":""},{"$f":"1/(Datos!$G345*8760)*Datos!$Z345*$F$86","v":{"$error":"#VALUE!"}},{"$f":"Datos!$H345*Datos!$Z345*$F$86","v":{"$error":"#VALUE!"}},{"$f":"Datos!$I345*Datos!$P345*$F$86","v":{"$error":"#VALUE!"}},{"$f":"IFERROR(SUMIFS(Datos!D:D,Datos!$A:$A,$A231,Datos!$C:$C,$B231)*IF($A231=Datos!$D$24,$C231,IF($A231=Datos!$D$25,$D231,$E231)),\"-\")","v":"-"}]
[{"$f":"Datos!D411","v":0},{"$f":"Datos!C88","v":""},{"$f":"1/(Datos!$G346*8760)*Datos!$Z346*$F$86","v":{"$error":"#VALUE!"}},{"$f":"Datos!$H346*Datos!$Z346*$F$86","v":{"$error":"#VALUE!"}},{"$f":"Datos!$I346*Datos!$P346*$F$86","v":{"$error":"#VALUE!"}},{"$f":"IFERROR(SUMIFS(Datos!D:D,Datos!$A:$A,$A232,Datos!$C:$C,$B232)*IF($A232=Datos!$D$24,$C232,IF($A232=Datos!$D$25,$D232,$E232)),\"-\")","v":"-"}]
[{"$f":"Datos!D412","v":0},{"$f":"Datos!C89","v":""},{"$f":"1/(Datos!$G347*8760)*Datos!$Z347*$F$86","v":{"$error":"#VALUE!"}},{"$f":"Datos!$H347*Datos!$Z347*$F$86","v":{"$error":"#VALUE!"}},{"$f":"Datos!$I347*Datos!$P347*$F$86","v":{"$error":"#VALUE!"}},{"$f":"IFERROR(SUMIFS(Datos!D:D,Datos!$A:$A,$A233,Datos!$C:$C,$B233)*IF($A233=Datos!$D$24,$C233,IF($A233=Datos!$D$25,$D233,$E233)),\"-\")","v":"-"}]
[{"$f":"Datos!D413","v":0},{"$f":"Datos!C90","v":""},{"$f":"1/(Datos!$G348*8760)*Datos!$Z348*$F$86","v":{"$error":"#VALUE!"}},{"$f":"Datos!$H348*Datos!$Z348*$F$86","v":{"$error":"#VALUE!"}},{"$f":"Datos!$I348*Datos!$P348*$F$86","v":{"$error":"#VALUE!"}},{"$f":"IFERROR(SUMIFS(Datos!D:D,Datos!$A:$A,$A234,Datos!$C:$C,$B234)*IF($A234=Datos!$D$24,$C234,IF($A234=Datos!$D$25,$D234,$E234)),\"-\")","v":"-"}]
[null,"Pérdida AT",null,null,null,{"$f":"SUM(F214:F234)*(F71-1)","v":5.53544874413336}]
[null,"Potencia Máxima AT",null,null,null,{"$f":"SUM(F214:F235)","v":623.34019148364951}]
[null,"Potencia Máxima AT objetivo",null,null,null,{"$f":"Datos!D15","v":623.34019148364962}]
[null,"Diferencia",null,null,null,{"$f":"F236-F237","v":0}]
[]
[]
[]
[]
[]
["BALANCE DE POTENCIA HORAS FUERA DE PUNTA"]
[null,null,null,null,null,{"$f":"Datos!D4","v":"Sep 2020 - Ago 2021"}]
[null,null,"Coeficientes de responsabilidad (Tipo de medición)",null,null,"Potencia coincidente con máxima BT"]
["Variable Facturación",null,"Energía","Potencia máxima","Potencia por franja horaria"]
[{"$f":"Datos!D417","v":"Energia"},{"$f":"Datos!C30","v":"BTS_R"},{"$f":"1/(Datos!$G288*8760)*Datos!$AA288*$F$87","v":1.4822109690371062E-4},{"$f":"Datos!$H288*Datos!$AA288*$F$87","v":0.47049257259154942},{"$f":"Datos!$J288*Datos!$Q288*$F$87","v":0.48660549552013721},{"$f":"IFERROR(SUMIFS(Datos!D:D,Datos!$A:$A,$A248,Datos!$C:$C,$B248)*IF($A248=Datos!$D$24,$C248,IF($A248=Datos!$D$25,$D248,$E248)),\"-\")","v":218.64767620203463}]
[{"$f":"Datos!D418","v":"Energia"},{"$f":"Datos!C31","v":"BTS_O"},{"$f":"1/(Datos!$G289*8760)*Datos!$AA289*$F$87","v":9.0842254679399255E-5},{"$f":"Datos!$H289*Datos!$AA289*$F$87","v":0.26785706265170145},{"$f":"Datos!$J289*Datos!$Q289*$F$87","v":0.2905368375173068},{"$f":"IFERROR(SUMIFS(Datos!D:D,Datos!$A:$A,$A249,Datos!$C:$C,$B249)*IF($A249=Datos!$D$24,$C249,IF($A249=Datos!$D$25,$D249,$E249)),\"-\")","v":27.398483246373573}]
[{"$f":"Datos!D419","v":"Energia"},{"$f":"Datos!C32","v":"BTD"},{"$f":"1/(Datos!$G290*8760)*Datos!$AA290*$F$87","v":9.0911006798786886E-5},{"$f":"Datos!$H290*Datos!$AA290*$F$87","v":0.32944156102379557},{"$f":"Datos!$J290*Datos!$Q290*$F$87","v":0.35136748154776931},{"$f":"IFERROR(SUMIFS(Datos!D:D,Datos!$A:$A,$A250,Datos!$C:$C,$B250)*IF($A250=Datos!$D$24,$C250,IF($A250=Datos!$D$25,$D250,$E250)),\"-\")","v":57.315946714074627}]
[{"$f":"Datos!D420","v":"Energia"},{"$f":"Datos!C33","v":"BTH"},{"$f":"1/(Datos!$G291*8760)*Datos!$AA291*$F$87","v":1.3678331452164269E-4},{"$f":"Datos!$H291*Datos!$AA291*$F$87","v":0.58851417582103671},{"$f":"Datos!$J291*Datos!$Q291*$F$87","v":0.60295833366294549},{"$f":"IFERROR(SUMIFS(Datos!D:D,Datos!$A:$A,$A251,Datos!$C:$C,$B251)*IF($A251=Datos!$D$24,$C251,IF($A251=Datos!$D$25,$D251,$E251)),\"-\")","v":1.1939102883525534}]
[{"$f":"Datos!D421","v":0},{"$f":"Datos!C34","v":"ABTD"},{"$f":"1/(Datos!$G292*8760)*Datos!$AA292*$F$87","v":{"$error":"#VALUE!"}},{"$f":"Datos!$H292*Datos!$AA292*$F$87","v":{"$error":"#VALUE!"}},{"$f":"Datos!$J292*Datos!$Q292*$F$87","v":{"$error":"#VALUE!"}},{"$f":"IFERROR(SUMIFS(Datos!D:D,Datos!$A:$A,$A252,Datos!$C:$C,$B252)*IF($A252=Datos!$D$24,$C252,IF($A252=Datos!$D$25,$D252,$E252)),\"-\")","v":"-"}]
[{"$f":"Datos!D422","v":0},{"$f":"Datos!C35","v":""},{"$f":"1/(Datos!$G293*8760)*Datos!$AA293*$F$87","v":{"$error":"#VALUE!"}},{"$f":"Datos!$H293*Datos!$AA293*$F$87","v":{"$error":"#VALUE!"}},{"$f":"Datos!$J293*Datos!$Q293*$F$87","v":{"$error":"#VALUE!"}},{"$f":"IFERROR(SUMIFS(Datos!D:D,Datos!$A:$A,$A253,Datos!$C:$C,$B253)*IF($A253=Datos!$D$24,$C253,IF($A253=Datos!$D$25,$D253,$E253)),\"-\")","v":"-"}]
[{"$f":"Datos!D423","v":0},{"$f":"Datos!C36","v":""},{"$f":"1/(Datos!$G294*8760)*Datos!$AA294*$F$87","v":{"$error":"#VALUE!"}},{"$f":"Datos!$H294*Datos!$AA294*$F$87","v":{"$error":"#VALUE!"}},{"$f":"Datos!$J294*Datos!$Q294*$F$87","v":{"$error":"#VALUE!"}},{"$f":"IFERROR(SUMIFS(Datos!D:D,Datos!$A:$A,$A254,Datos!$C:$C,$B254)*IF($A254=Datos!$D$24,$C254,IF($A254=Datos!$D$25,$D254,$E254)),\"-\")","v":"-"}]
[{"$f":"Datos!D424","v":0},{"$f":"Datos!C37","v":""},{"$f":"1/(Datos!$G295*8760)*Datos!$AA295*$F$87","v":{"$error":"#VALUE!"}},{"$f":"Datos!$H295*Datos!$AA295*$F$87","v":{"$error":"#VALUE!"}},{"$f":"Datos!$J295*Datos!$Q295*$F$87","v":{"$error":"#VALUE!"}},{"$f":"IFERROR(SUMIFS(Datos!D:D,Datos!$A:$A,$A255,Datos!$C:$C,$B255)*IF($A255=Datos!$D$24,$C255,IF($A255=Datos!$D$25,$D255,$E255)),\"-\")","v":"-"}]
[{"$f":"Datos!D425","v":0},{"$f":"Datos!C38","v":""},{"$f":"1/(Datos!$G296*8760)*Datos!$AA296*$F$87","v":{"$error":"#VALUE!"}},{"$f":"Datos!$H296*Datos!$AA296*$F$87","v":{"$error":"#VALUE!"}},{"$f":"Datos!$J296*Datos!$Q296*$F$87","v":{"$error":"#VALUE!"}},{"$f":"IFERROR(SUMIFS(Datos!D:D,Datos!$A:$A,$A256,Datos!$C:$C,$B256)*IF($A256=Datos!$D$24,$C256,IF($A256=Datos!$D$25,$D256,$E256)),\"-\")","v":"-"}]
[{"$f":"Datos!D426","v":0},{"$f":"Datos!C39","v":""},{"$f":"1/(Datos!$G297*8760)*Datos!$AA297*$F$87","v":{"$error":"#VALUE!"}},{"$f":"Datos!$H297*Datos!$AA297*$F$87","v":{"$error":"#VALUE!"}},{"$f":"Datos!$J297*Datos!$Q297*$F$87","v":{"$error":"#VALUE!"}},{"$f":"IFERROR(SUMIFS(Datos!D:D,Datos!$A:$A,$A257,Datos!$C:$C,$B257)*IF($A257=Datos!$D$24,$C257,IF($A257=Datos!$D$25,$D257,$E257)),\"-\")","v":"-"}]
[{"$f":"Datos!D427","v":0},{"$f":"Datos!C40","v":""},{"$f":"1/(Datos!$G298*8760)*Datos!$AA298*$F$87","v":{"$error":"#VALUE!"}},{"$f":"Datos!$H298*Datos!$AA298*$F$87","v":{"$error":"#VALUE!"}},{"$f":"Datos!$J298*Datos!$Q298*$F$87","v":{"$error":"#VALUE!"}},{"$f":"IFERROR(SUMIFS(Datos!D:D,Datos!$A:$A,$A258,Datos!$C:$C,$B258)*IF($A258=Datos!$D$24,$C258,IF($A258=Datos!$D$25,$D258,$E258)),\"-\")","v":"-"}]
[{"$f":"Datos!D428","v":0},{"$f":"Datos!C41","v":""},{"$f":"1/(Datos!$G299*8760)*Datos!$AA299*$F$87","v":{"$error":"#VALUE!"}},{"$f":"Datos!$H299*Datos!$AA299*$F$87","v":{"$error":"#VALUE!"}},{"$f":"Datos!$J299*Datos!$Q299*$F$87","v":{"$error":"#VALUE!"}},{"$f":"IFERROR(SUMIFS(Datos!D:D,Datos!$A:$A,$A259,Datos!$C:$C,$B259)*IF($A259=Datos!$D$24,$C259,IF($A259=Datos!$D$25,$D259,$E259)),\"-\")","v":"-"}]
[{"$f":"Datos!D429","v":0},{"$f":"Datos!C42","v":""},{"$f":"1/(Datos!$G300*8760)*Datos!$AA300*$F$87","v":{"$error":"#VALUE!"}},{"$f":"Datos!$H300*Datos!$AA300*$F$87","v":{"$error":"#VALUE!"}},{"$f":"Datos!$J300*Datos!$Q300*$F$87","v":{"$error":"#VALUE!"}},{"$f":"IFERROR(SUMIFS(Datos!D:D,Datos!$A:$A,$A260,Datos!$C:$C,$B260)*IF($A260=Datos!$D$24,$C260,IF($A260=Datos!$D$25,$D260,$E260)),\"-\")","v":"-"}]
[{"$f":"Datos!D430","v":0},{"$f":"Datos!C43","v":""},{"$f":"1/(Datos!$G301*8760)*Datos!$AA301*$F$87","v":{"$error":"#VALUE!"}},{"$f":"Datos!$H301*Datos!$AA301*$F$87","v":{"$error":"#VALUE!"}},{"$f":"Datos!$J301*Datos!$Q301*$F$87","v":{"$error":"#VALUE!"}},{"$f":"IFERROR(SUMIFS(Datos!D:D,Datos!$A:$A,$A261,Datos!$C:$C,$B261)*IF($A261=Datos!$D$24,$C261,IF($A261=Datos!$D$25,$D261,$E261)),\"-\")","v":"-"}]
[{"$f":"Datos!D431","v":0},{"$f":"Datos!C44","v":""},{"$f":"1/(Datos!$G302*8760)*Datos!$AA302*$F$87","v":{"$error":"#VALUE!"}},{"$f":"Datos!$H302*Datos!$AA302*$F$87","v":{"$error":"#VALUE!"}},{"$f":"Datos!$J302*Datos!$Q302*$F$87","v":{"$error":"#VALUE!"}},{"$f":"IFERROR(SUMIFS(Datos!D:D,Datos!$A:$A,$A262,Datos!$C:$C,$B262)*IF($A262=Datos!$D$24,$C262,IF($A262=Datos!$D$25,$D262,$E262)),\"-\")","v":"-"}]
[{"$f":"Datos!D432","v":0},{"$f":"Datos!C45","v":""},{"$f":"1/(Datos!$G303*8760)*Datos!$AA303*$F$87","v":{"$error":"#VALUE!"}},{"$f":"Datos!$H303*Datos!$AA303*$F$87","v":{"$error":"#VALUE!"}},{"$f":"Datos!$J303*Datos!$Q303*$F$87","v":{"$error":"#VALUE!"}},{"$f":"IFERROR(SUMIFS(Datos!D:D,Datos!$A:$A,$A263,Datos!$C:$C,$B263)*IF($A263=Datos!$D$24,$C263,IF($A263=Datos!$D$25,$D263,$E263)),\"-\")","v":"-"}]
[{"$f":"Datos!D433","v":0},{"$f":"Datos!C46","v":""},{"$f":"1/(Datos!$G304*8760)*Datos!$AA304*$F$87","v":{"$error":"#VALUE!"}},{"$f":"Datos!$H304*Datos!$AA304*$F$87","v":{"$error":"#VALUE!"}},{"$f":"Datos!$J304*Datos!$Q304*$F$87","v":{"$error":"#VALUE!"}},{"$f":"IFERROR(SUMIFS(Datos!D:D,Datos!$A:$A,$A264,Datos!$C:$C,$B264)*IF($A264=Datos!$D$24,$C264,IF($A264=Datos!$D$25,$D264,$E264)),\"-\")","v":"-"}]
[{"$f":"Datos!D434","v":0},{"$f":"Datos!C47","v":""},{"$f":"1/(Datos!$G305*8760)*Datos!$AA305*$F$87","v":{"$error":"#VALUE!"}},{"$f":"Datos!$H305*Datos!$AA305*$F$87","v":{"$error":"#VALUE!"}},{"$f":"Datos!$J305*Datos!$Q305*$F$87","v":{"$error":"#VALUE!"}},{"$f":"IFERROR(SUMIFS(Datos!D:D,Datos!$A:$A,$A265,Datos!$C:$C,$B265)*IF($A265=Datos!$D$24,$C265,IF($A265=Datos!$D$25,$D265,$E265)),\"-\")","v":"-"}]
[{"$f":"Datos!D435","v":0},{"$f":"Datos!C48","v":""},{"$f":"1/(Datos!$G306*8760)*Datos!$AA306*$F$87","v":{"$error":"#VALUE!"}},{"$f":"Datos!$H306*Datos!$AA306*$F$87","v":{"$error":"#VALUE!"}},{"$f":"Datos!$J306*Datos!$Q306*$F$87","v":{"$error":"#VALUE!"}},{"$f":"IFERROR(SUMIFS(Datos!D:D,Datos!$A:$A,$A266,Datos!$C:$C,$B266)*IF($A266=Datos!$D$24,$C266,IF($A266=Datos!$D$25,$D266,$E266)),\"-\")","v":"-"}]
[{"$f":"Datos!D436","v":0},{"$f":"Datos!C49","v":""},{"$f":"1/(Datos!$G307*8760)*Datos!$AA307*$F$87","v":{"$error":"#VALUE!"}},{"$f":"Datos!$H307*Datos!$AA307*$F$87","v":{"$error":"#VALUE!"}},{"$f":"Datos!$J307*Datos!$Q307*$F$87","v":{"$error":"#VALUE!"}},{"$f":"IFERROR(SUMIFS(Datos!D:D,Datos!$A:$A,$A267,Datos!$C:$C,$B267)*IF($A267=Datos!$D$24,$C267,IF($A267=Datos!$D$25,$D267,$E267)),\"-\")","v":"-"}]
[{"$f":"Datos!D437","v":"Energia"},{"$f":"Datos!C50","v":"AP"},{"$f":"1/(Datos!$G308*8760)*Datos!$AA308*$F$87","v":2.2467844357235177E-4},{"$f":"Datos!$H308*Datos!$AA308*$F$87","v":0.98409158284690279},{"$f":"Datos!$J308*Datos!$Q308*$F$87","v":0.98409158284690279},{"$f":"IFERROR(SUMIFS(Datos!D:D,Datos!$A:$A,$A268,Datos!$C:$C,$B268)*IF($A268=Datos!$D$24,$C268,IF($A268=Datos!$D$25,$D268,$E268)),\"-\")","v":18.497331120316989}]
[null,"Pérdida NT BT",null,null,null,{"$f":"SUM(F248:F248)*(Balance!F72-1)","v":26.871763171739548},{"$f":"SUM(F248:F268)*(Balance!F72-1)","v":39.703202881279402}]
[null,"Pérdida T BT",null,null,null,{"$f":"SUM(F248:F269)*(Balance!F73-1)","v":7.7565079914739119}]
[null,"Potencia Máxima BT",null,null,null,{"$f":"SUM(F248:F270)","v":357.68161873436583}]
[]
[null,null,"Coeficientes de responsabilidad (Tipo de medición)",null,null,"Potencia coincidente con máxima MT"]
[null,null,"Energía","Potencia máxima","Potencia por franja horaria"]
[{"$f":"A248","v":"Energia"},{"$f":"Datos!C30","v":"BTS_R"},{"$f":"1/(Datos!$G288*8760)*Datos!$AB288*$F$87","v":1.3337949128190411E-4},{"$f":"Datos!$H288*Datos!$AB288*$F$87","v":0.42338143014109753},{"$f":"Datos!$J288*Datos!$R288*$F$87","v":0.43788094139944228},{"$f":"IFERROR(SUMIFS(Datos!D:D,Datos!$A:$A,$A275,Datos!$C:$C,$B275)*IF($A275=Datos!$D$24,$C275,IF($A275=Datos!$D$25,$D275,$E275)),\"-\")","v":196.75414924734503}]
["Energia",{"$f":"Datos!C31","v":"BTS_O"},{"$f":"1/(Datos!$G289*8760)*Datos!$AB289*$F$87","v":1.2166497581414713E-4},{"$f":"Datos!$H289*Datos!$AB289*$F$87","v":0.35874079924788654},{"$f":"Datos!$J289*Datos!$R289*$F$87","v":0.38911580777483729},{"$f":"IFERROR(SUMIFS(Datos!D:D,Datos!$A:$A,$A276,Datos!$C:$C,$B276)*IF($A276=Datos!$D$24,$C276,IF($A276=Datos!$D$25,$D276,$E276)),\"-\")","v":36.694771758789201}]
["Energia",{"$f":"Datos!C32","v":"BTD"},{"$f":"1/(Datos!$G290*8760)*Datos!$AB290*$F$87","v":1.1091735117699017E-4},{"$f":"Datos!$H290*Datos!$AB290*$F$87","v":0.40194016767681179},{"$f":"Datos!$J290*Datos!$R290*$F$87","v":0.42869121919710829},{"$f":"IFERROR(SUMIFS(Datos!D:D,Datos!$A:$A,$A277,Datos!$C:$C,$B277)*IF($A277=Datos!$D$24,$C277,IF($A277=Datos!$D$25,$D277,$E277)),\"-\")","v":69.929189144251154}]
["Energia",{"$f":"Datos!C33","v":"BTH"},{"$f":"1/(Datos!$G291*8760)*Datos!$AB291*$F$87","v":1.4695972655557547E-4},{"$f":"Datos!$H291*Datos!$AB291*$F$87","v":0.63229848359212537},{"$f":"Datos!$J291*Datos!$R291*$F$87","v":0.64781725862836426},{"$f":"IFERROR(SUMIFS(Datos!D:D,Datos!$A:$A,$A278,Datos!$C:$C,$B278)*IF($A278=Datos!$D$24,$C278,IF($A278=Datos!$D$25,$D278,$E278)),\"-\")","v":1.2827348870860831}]
[0,{"$f":"Datos!C34","v":"ABTD"},{"$f":"1/(Datos!$G292*8760)*Datos!$AB292*$F$87","v":{"$error":"#VALUE!"}},{"$f":"Datos!$H292*Datos!$AB292*$F$87","v":{"$error":"#VALUE!"}},{"$f":"Datos!$J292*Datos!$R292*$F$87","v":{"$error":"#VALUE!"}},{"$f":"IFERROR(SUMIFS(Datos!D:D,Datos!$A:$A,$A279,Datos!$C:$C,$B279)*IF($A279=Datos!$D$24,$C279,IF($A279=Datos!$D$25,$D279,$E279)),\"-\")","v":"-"}]
[0,{"$f":"Datos!C35","v":""},{"$f":"1/(Datos!$G293*8760)*Datos!$AB293*$F$87","v":{"$error":"#VALUE!"}},{"$f":"Datos!$H293*Datos!$AB293*$F$87","v":{"$error":"#VALUE!"}},{"$f":"Datos!$J293*Datos!$R293*$F$87","v":{"$error":"#VALUE!"}},{"$f":"IFERROR(SUMIFS(Datos!D:D,Datos!$A:$A,$A280,Datos!$C:$C,$B280)*IF($A280=Datos!$D$24,$C280,IF($A280=Datos!$D$25,$D280,$E280)),\"-\")","v":"-"}]
[0,{"$f":"Datos!C36","v":""},{"$f":"1/(Datos!$G294*8760)*Datos!$AB294*$F$87","v":{"$error":"#VALUE!"}},{"$f":"Datos!$H294*Datos!$AB294*$F$87","v":{"$error":"#VALUE!"}},{"$f":"Datos!$J294*Datos!$R294*$F$87","v":{"$error":"#VALUE!"}},{"$f":"IFERROR(SUMIFS(Datos!D:D,Datos!$A:$A,$A281,Datos!$C:$C,$B281)*IF($A281=Datos!$D$24,$C281,IF($A281=Datos!$D$25,$D281,$E281)),\"-\")","v":"-"}]
[0,{"$f":"Datos!C37","v":""},{"$f":"1/(Datos!$G295*8760)*Datos!$AB295*$F$87","v":{"$error":"#VALUE!"}},{"$f":"Datos!$H295*Datos!$AB295*$F$87","v":{"$error":"#VALUE!"}},{"$f":"Datos!$J295*Datos!$R295*$F$87","v":{"$error":"#VALUE!"}},{"$f":"IFERROR(SUMIFS(Datos!D:D,Datos!$A:$A,$A282,Datos!$C:$C,$B282)*IF($A282=Datos!$D$24,$C282,IF($A282=Datos!$D$25,$D282,$E282)),\"-\")","v":"-"}]
[0,{"$f":"Datos!C38","v":""},{"$f":"1/(Datos!$G296*8760)*Datos!$AB296*$F$87","v":{"$error":"#VALUE!"}},{"$f":"Datos!$H296*Datos!$AB296*$F$87","v":{"$error":"#VALUE!"}},{"$f":"Datos!$J296*Datos!$R296*$F$87","v":{"$error":"#VALUE!"}},{"$f":"IFERROR(SUMIFS(Datos!D:D,Datos!$A:$A,$A283,Datos!$C:$C,$B283)*IF($A283=Datos!$D$24,$C283,IF($A283=Datos!$D$25,$D283,$E283)),\"-\")","v":"-"}]
[0,{"$f":"Datos!C39","v":""},{"$f":"1/(Datos!$G297*8760)*Datos!$AB297*$F$87","v":{"$error":"#VALUE!"}},{"$f":"Datos!$H297*Datos!$AB297*$F$87","v":{"$error":"#VALUE!"}},{"$f":"Datos!$J297*Datos!$R297*$F$87","v":{"$error":"#VALUE!"}},{"$f":"IFERROR(SUMIFS(Datos!D:D,Datos!$A:$A,$A284,Datos!$C:$C,$B284)*IF($A284=Datos!$D$24,$C284,IF($A284=Datos!$D$25,$D284,$E284)),\"-\")","v":"-"}]
[0,{"$f":"Datos!C40","v":""},{"$f":"1/(Datos!$G298*8760)*Datos!$AB298*$F$87","v":{"$error":"#VALUE!"}},{"$f":"Datos!$H298*Datos!$AB298*$F$87","v":{"$error":"#VALUE!"}},{"$f":"Datos!$J298*Datos!$R298*$F$87","v":{"$error":"#VALUE!"}},{"$f":"IFERROR(SUMIFS(Datos!D:D,Datos!$A:$A,$A285,Datos!$C:$C,$B285)*IF($A285=Datos!$D$24,$C285,IF($A285=Datos!$D$25,$D285,$E285)),\"-\")","v":"-"}]
[0,{"$f":"Datos!C41","v":""},{"$f":"1/(Datos!$G299*8760)*Datos!$AB299*$F$87","v":{"$error":"#VALUE!"}},{"$f":"Datos!$H299*Datos!$AB299*$F$87","v":{"$error":"#VALUE!"}},{"$f":"Datos!$J299*Datos!$R299*$F$87","v":{"$error":"#VALUE!"}},{"$f":"IFERROR(SUMIFS(Datos!D:D,Datos!$A:$A,$A286,Datos!$C:$C,$B286)*IF($A286=Datos!$D$24,$C286,IF($A286=Datos!$D$25,$D286,$E286)),\"-\")","v":"-"}]
[0,{"$f":"Datos!C42","v":""},{"$f":"1/(Datos!$G300*8760)*Datos!$AB300*$F$87","v":{"$error":"#VALUE!"}},{"$f":"Datos!$H300*Datos!$AB300*$F$87","v":{"$error":"#VALUE!"}},{"$f":"Datos!$J300*Datos!$R300*$F$87","v":{"$error":"#VALUE!"}},{"$f":"IFERROR(SUMIFS(Datos!D:D,Datos!$A:$A,$A287,Datos!$C:$C,$B287)*IF($A287=Datos!$D$24,$C287,IF($A287=Datos!$D$25,$D287,$E287)),\"-\")","v":"-"}]
[0,{"$f":"Datos!C43","v":""},{"$f":"1/(Datos!$G301*8760)*Datos!$AB301*$F$87","v":{"$error":"#VALUE!"}},{"$f":"Datos!$H301*Datos!$AB301*$F$87","v":{"$error":"#VALUE!"}},{"$f":"Datos!$J301*Datos!$R301*$F$87","v":{"$error":"#VALUE!"}},{"$f":"IFERROR(SUMIFS(Datos!D:D,Datos!$A:$A,$A288,Datos!$C:$C,$B288)*IF($A288=Datos!$D$24,$C288,IF($A288=Datos!$D$25,$D288,$E288)),\"-\")","v":"-"}]
[0,{"$f":"Datos!C44","v":""},{"$f":"1/(Datos!$G302*8760)*Datos!$AB302*$F$87","v":{"$error":"#VALUE!"}},{"$f":"Datos!$H302*Datos!$AB302*$F$87","v":{"$error":"#VALUE!"}},{"$f":"Datos!$J302*Datos!$R302*$F$87","v":{"$error":"#VALUE!"}},{"$f":"IFERROR(SUMIFS(Datos!D:D,Datos!$A:$A,$A289,Datos!$C:$C,$B289)*IF($A289=Datos!$D$24,$C289,IF($A289=Datos!$D$25,$D289,$E289)),\"-\")","v":"-"}]
[0,{"$f":"Datos!C45","v":""},{"$f":"1/(Datos!$G303*8760)*Datos!$AB303*$F$87","v":{"$error":"#VALUE!"}},{"$f":"Datos!$H303*Datos!$AB303*$F$87","v":{"$error":"#VALUE!"}},{"$f":"Datos!$J303*Datos!$R303*$F$87","v":{"$error":"#VALUE!"}},{"$f":"IFERROR(SUMIFS(Datos!D:D,Datos!$A:$A,$A290,Datos!$C:$C,$B290)*IF($A290=Datos!$D$24,$C290,IF($A290=Datos!$D$25,$D290,$E290)),\"-\")","v":"-"}]
[0,{"$f":"Datos!C46","v":""},{"$f":"1/(Datos!$G304*8760)*Datos!$AB304*$F$87","v":{"$error":"#VALUE!"}},{"$f":"Datos!$H304*Datos!$AB304*$F$87","v":{"$error":"#VALUE!"}},{"$f":"Datos!$J304*Datos!$R304*$F$87","v":{"$error":"#VALUE!"}},{"$f":"IFERROR(SUMIFS(Datos!D:D,Datos!$A:$A,$A291,Datos!$C:$C,$B291)*IF($A291=Datos!$D$24,$C291,IF($A291=Datos!$D$25,$D291,$E291)),\"-\")","v":"-"}]
[0,{"$f":"Datos!C47","v":""},{"$f":"1/(Datos!$G305*8760)*Datos!$AB305*$F$87","v":{"$error":"#VALUE!"}},{"$f":"Datos!$H305*Datos!$AB305*$F$87","v":{"$error":"#VALUE!"}},{"$f":"Datos!$J305*Datos!$R305*$F$87","v":{"$error":"#VALUE!"}},{"$f":"IFERROR(SUMIFS(Datos!D:D,Datos!$A:$A,$A292,Datos!$C:$C,$B292)*IF($A292=Datos!$D$24,$C292,IF($A292=Datos!$D$25,$D292,$E292)),\"-\")","v":"-"}]
[0,{"$f":"Datos!C48","v":""},{"$f":"1/(Datos!$G306*8760)*Datos!$AB306*$F$87","v":{"$error":"#VALUE!"}},{"$f":"Datos!$H306*Datos!$AB306*$F$87","v":{"$error":"#VALUE!"}},{"$f":"Datos!$J306*Datos!$R306*$F$87","v":{"$error":"#VALUE!"}},{"$f":"IFERROR(SUMIFS(Datos!D:D,Datos!$A:$A,$A293,Datos!$C:$C,$B293)*IF($A293=Datos!$D$24,$C293,IF($A293=Datos!$D$25,$D293,$E293)),\"-\")","v":"-"}]
[0,{"$f":"Datos!C49","v":""},{"$f":"1/(Datos!$G307*8760)*Datos!$AB307*$F$87","v":{"$error":"#VALUE!"}},{"$f":"Datos!$H307*Datos!$AB307*$F$87","v":{"$error":"#VALUE!"}},{"$f":"Datos!$J307*Datos!$R307*$F$87","v":{"$error":"#VALUE!"}},{"$f":"IFERROR(SUMIFS(Datos!D:D,Datos!$A:$A,$A294,Datos!$C:$C,$B294)*IF($A294=Datos!$D$24,$C294,IF($A294=Datos!$D$25,$D294,$E294)),\"-\")","v":"-"}]
["Energia",{"$f":"Datos!C50","v":"AP"},{"$f":"1/(Datos!$G308*8760)*Datos!$AB308*$F$87","v":2.2467844357235177E-4},{"$f":"Datos!$H308*Datos!$AB308*$F$87","v":0.98409158284690279},{"$f":"Datos!$J308*Datos!$R308*$F$87","v":0.98409158284690279},{"$f":"IFERROR(SUMIFS(Datos!D:D,Datos!$A:$A,$A295,Datos!$C:$C,$B295)*IF($A295=Datos!$D$24,$C295,IF($A295=Datos!$D$25,$D295,$E295)),\"-\")","v":18.497331120316989}]
[null,"Pérdida NT BT",null,null,null,{"$f":"SUM(F275:F275)*(Balance!F72-1)","v":24.181052337123138},{"$f":"SUM(F275:F295)*(Balance!F72-1)","v":39.716086297205173}]
[null,"Pérdida T BT",null,null,null,{"$f":"SUM(F275:F296)*(Balance!F73-1)","v":7.6991888231556178}]
[null,"Potencia BT coincidente con Máx MT",null,null,null,{"$f":"SUM(F275:F297)","v":355.03841731806722}]
[{"$f":"Datos!D438","v":0},{"$f":"Datos!C51","v":""},{"$f":"1/(Datos!$G309*8760)*Datos!$AB309*$F$87","v":{"$error":"#VALUE!"}},{"$f":"Datos!$H309*Datos!$AB309*$F$87","v":{"$error":"#VALUE!"}},{"$f":"Datos!$J309*Datos!$R309*$F$87","v":{"$error":"#VALUE!"}},{"$f":"IFERROR(SUMIFS(Datos!D:D,Datos!$A:$A,$A299,Datos!$C:$C,$B299)*IF($A299=Datos!$D$24,$C299,IF($A299=Datos!$D$25,$D299,$E299)),\"-\")","v":"-"}]
[{"$f":"Datos!D439","v":0},{"$f":"Datos!C52","v":""},{"$f":"1/(Datos!$G310*8760)*Datos!$AB310*$F$87","v":{"$error":"#VALUE!"}},{"$f":"Datos!$H310*Datos!$AB310*$F$87","v":{"$error":"#VALUE!"}},{"$f":"Datos!$J310*Datos!$R310*$F$87","v":{"$error":"#VALUE!"}},{"$f":"IFERROR(SUMIFS(Datos!D:D,Datos!$A:$A,$A300,Datos!$C:$C,$B300)*IF($A300=Datos!$D$24,$C300,IF($A300=Datos!$D$25,$D300,$E300)),\"-\")","v":"-"}]
[{"$f":"Datos!D440","v":0},{"$f":"Datos!C53","v":""},{"$f":"1/(Datos!$G311*8760)*Datos!$AB311*$F$87","v":{"$error":"#VALUE!"}},{"$f":"Datos!$H311*Datos!$AB311*$F$87","v":{"$error":"#VALUE!"}},{"$f":"Datos!$J311*Datos!$R311*$F$87","v":{"$error":"#VALUE!"}},{"$f":"IFERROR(SUMIFS(Datos!D:D,Datos!$A:$A,$A301,Datos!$C:$C,$B301)*IF($A301=Datos!$D$24,$C301,IF($A301=Datos!$D$25,$D301,$E301)),\"-\")","v":"-"}]
[{"$f":"Datos!D441","v":0},{"$f":"Datos!C54","v":""},{"$f":"1/(Datos!$G312*8760)*Datos!$AB312*$F$87","v":{"$error":"#VALUE!"}},{"$f":"Datos!$H312*Datos!$AB312*$F$87","v":{"$error":"#VALUE!"}},{"$f":"Datos!$J312*Datos!$R312*$F$87","v":{"$error":"#VALUE!"}},{"$f":"IFERROR(SUMIFS(Datos!D:D,Datos!$A:$A,$A302,Datos!$C:$C,$B302)*IF($A302=Datos!$D$24,$C302,IF($A302=Datos!$D$25,$D302,$E302)),\"-\")","v":"-"}]
[{"$f":"Datos!D442","v":0},{"$f":"Datos!C55","v":""},{"$f":"1/(Datos!$G313*8760)*Datos!$AB313*$F$87","v":{"$error":"#VALUE!"}},{"$f":"Datos!$H313*Datos!$AB313*$F$87","v":{"$error":"#VALUE!"}},{"$f":"Datos!$J313*Datos!$R313*$F$87","v":{"$error":"#VALUE!"}},{"$f":"IFERROR(SUMIFS(Datos!D:D,Datos!$A:$A,$A303,Datos!$C:$C,$B303)*IF($A303=Datos!$D$24,$C303,IF($A303=Datos!$D$25,$D303,$E303)),\"-\")","v":"-"}]
[{"$f":"Datos!D443","v":0},{"$f":"Datos!C56","v":""},{"$f":"1/(Datos!$G314*8760)*Datos!$AB314*$F$87","v":{"$error":"#VALUE!"}},{"$f":"Datos!$H314*Datos!$AB314*$F$87","v":{"$error":"#VALUE!"}},{"$f":"Datos!$J314*Datos!$R314*$F$87","v":{"$error":"#VALUE!"}},{"$f":"IFERROR(SUMIFS(Datos!D:D,Datos!$A:$A,$A304,Datos!$C:$C,$B304)*IF($A304=Datos!$D$24,$C304,IF($A304=Datos!$D$25,$D304,$E304)),\"-\")","v":"-"}]
[{"$f":"Datos!D444","v":"Energia"},{"$f":"Datos!C57","v":"MTD"},{"$f":"1/(Datos!$G315*8760)*Datos!$AB315*$F$87","v":1.2006264376726839E-4},{"$f":"Datos!$H315*Datos!$AB315*$F$87","v":0.59477311145047207},{"$f":"Datos!$J315*Datos!$R315*$F$87","v":0.63167277898976848},{"$f":"IFERROR(SUMIFS(Datos!D:D,Datos!$A:$A,$A305,Datos!$C:$C,$B305)*IF($A305=Datos!$D$24,$C305,IF($A305=Datos!$D$25,$D305,$E305)),\"-\")","v":82.929848916642698}]
[{"$f":"Datos!D445","v":"Energia"},{"$f":"Datos!C58","v":"MTH"},{"$f":"1/(Datos!$G316*8760)*Datos!$AB316*$F$87","v":1.531529441488247E-4},{"$f":"Datos!$H316*Datos!$AB316*$F$87","v":0.8374212808133823},{"$f":"Datos!$J316*Datos!$R316*$F$87","v":0.85912617739879882},{"$f":"IFERROR(SUMIFS(Datos!D:D,Datos!$A:$A,$A306,Datos!$C:$C,$B306)*IF($A306=Datos!$D$24,$C306,IF($A306=Datos!$D$25,$D306,$E306)),\"-\")","v":23.534812756451888}]
[{"$f":"Datos!D446","v":0},{"$f":"Datos!C59","v":"AMTD"},{"$f":"1/(Datos!$G317*8760)*Datos!$AB317*$F$87","v":{"$error":"#VALUE!"}},{"$f":"Datos!$H317*Datos!$AB317*$F$87","v":{"$error":"#VALUE!"}},{"$f":"Datos!$J317*Datos!$R317*$F$87","v":{"$error":"#VALUE!"}},{"$f":"IFERROR(SUMIFS(Datos!D:D,Datos!$A:$A,$A307,Datos!$C:$C,$B307)*IF($A307=Datos!$D$24,$C307,IF($A307=Datos!$D$25,$D307,$E307)),\"-\")","v":"-"}]
[{"$f":"Datos!D447","v":0},{"$f":"Datos!C60","v":""},{"$f":"1/(Datos!$G318*8760)*Datos!$AB318*$F$87","v":{"$error":"#VALUE!"}},{"$f":"Datos!$H318*Datos!$AB318*$F$87","v":{"$error":"#VALUE!"}},{"$f":"Datos!$J318*Datos!$R318*$F$87","v":{"$error":"#VALUE!"}},{"$f":"IFERROR(SUMIFS(Datos!D:D,Datos!$A:$A,$A308,Datos!$C:$C,$B308)*IF($A308=Datos!$D$24,$C308,IF($A308=Datos!$D$25,$D308,$E308)),\"-\")","v":"-"}]
[{"$f":"Datos!D448","v":0},{"$f":"Datos!C61","v":""},{"$f":"1/(Datos!$G319*8760)*Datos!$AB319*$F$87","v":{"$error":"#VALUE!"}},{"$f":"Datos!$H319*Datos!$AB319*$F$87","v":{"$error":"#VALUE!"}},{"$f":"Datos!$J319*Datos!$R319*$F$87","v":{"$error":"#VALUE!"}},{"$f":"IFERROR(SUMIFS(Datos!D:D,Datos!$A:$A,$A309,Datos!$C:$C,$B309)*IF($A309=Datos!$D$24,$C309,IF($A309=Datos!$D$25,$D309,$E309)),\"-\")","v":"-"}]
[{"$f":"Datos!D449","v":0},{"$f":"Datos!C62","v":""},{"$f":"1/(Datos!$G320*8760)*Datos!$AB320*$F$87","v":{"$error":"#VALUE!"}},{"$f":"Datos!$H320*Datos!$AB320*$F$87","v":{"$error":"#VALUE!"}},{"$f":"Datos!$J320*Datos!$R320*$F$87","v":{"$error":"#VALUE!"}},{"$f":"IFERROR(SUMIFS(Datos!D:D,Datos!$A:$A,$A310,Datos!$C:$C,$B310)*IF($A310=Datos!$D$24,$C310,IF($A310=Datos!$D$25,$D310,$E310)),\"-\")","v":"-"}]
[{"$f":"Datos!D450","v":0},{"$f":"Datos!C63","v":""},{"$f":"1/(Datos!$G321*8760)*Datos!$AB321*$F$87","v":{"$error":"#VALUE!"}},{"$f":"Datos!$H321*Datos!$AB321*$F$87","v":{"$error":"#VALUE!"}},{"$f":"Datos!$J321*Datos!$R321*$F$87","v":{"$error":"#VALUE!"}},{"$f":"IFERROR(SUMIFS(Datos!D:D,Datos!$A:$A,$A311,Datos!$C:$C,$B311)*IF($A311=Datos!$D$24,$C311,IF($A311=Datos!$D$25,$D311,$E311)),\"-\")","v":"-"}]
[{"$f":"Datos!D451","v":0},{"$f":"Datos!C64","v":""},{"$f":"1/(Datos!$G322*8760)*Datos!$AB322*$F$87","v":{"$error":"#VALUE!"}},{"$f":"Datos!$H322*Datos!$AB322*$F$87","v":{"$error":"#VALUE!"}},{"$f":"Datos!$J322*Datos!$R322*$F$87","v":{"$error":"#VALUE!"}},{"$f":"IFERROR(SUMIFS(Datos!D:D,Datos!$A:$A,$A312,Datos!$C:$C,$B312)*IF($A312=Datos!$D$24,$C312,IF($A312=Datos!$D$25,$D312,$E312)),\"-\")","v":"-"}]
[{"$f":"Datos!D452","v":0},{"$f":"Datos!C65","v":""},{"$f":"1/(Datos!$G323*8760)*Datos!$AB323*$F$87","v":{"$error":"#VALUE!"}},{"$f":"Datos!$H323*Datos!$AB323*$F$87","v":{"$error":"#VALUE!"}},{"$f":"Datos!$J323*Datos!$R323*$F$87","v":{"$error":"#VALUE!"}},{"$f":"IFERROR(SUMIFS(Datos!D:D,Datos!$A:$A,$A313,Datos!$C:$C,$B313)*IF($A313=Datos!$D$24,$C313,IF($A313=Datos!$D$25,$D313,$E313)),\"-\")","v":"-"}]
[{"$f":"Datos!D453","v":0},{"$f":"Datos!C66","v":""},{"$f":"1/(Datos!$G324*8760)*Datos!$AB324*$F$87","v":{"$error":"#VALUE!"}},{"$f":"Datos!$H324*Datos!$AB324*$F$87","v":{"$error":"#VALUE!"}},{"$f":"Datos!$J324*Datos!$R324*$F$87","v":{"$error":"#VALUE!"}},{"$f":"IFERROR(SUMIFS(Datos!D:D,Datos!$A:$A,$A314,Datos!$C:$C,$B314)*IF($A314=Datos!$D$24,$C314,IF($A314=Datos!$D$25,$D314,$E314)),\"-\")","v":"-"}]
[{"$f":"Datos!D454","v":0},{"$f":"Datos!C67","v":""},{"$f":"1/(Datos!$G325*8760)*Datos!$AB325*$F$87","v":{"$error":"#VALUE!"}},{"$f":"Datos!$H325*Datos!$AB325*$F$87","v":{"$error":"#VALUE!"}},{"$f":"Datos!$J325*Datos!$R325*$F$87","v":{"$error":"#VALUE!"}},{"$f":"IFERROR(SUMIFS(Datos!D:D,Datos!$A:$A,$A315,Datos!$C:$C,$B315)*IF($A315=Datos!$D$24,$C315,IF($A315=Datos!$D$25,$D315,$E315)),\"-\")","v":"-"}]
[{"$f":"Datos!D455","v":0},{"$f":"Datos!C68","v":""},{"$f":"1/(Datos!$G326*8760)*Datos!$AB326*$F$87","v":{"$error":"#VALUE!"}},{"$f":"Datos!$H326*Datos!$AB326*$F$87","v":{"$error":"#VALUE!"}},{"$f":"Datos!$J326*Datos!$R326*$F$87","v":{"$error":"#VALUE!"}},{"$f":"IFERROR(SUMIFS(Datos!D:D,Datos!$A:$A,$A316,Datos!$C:$C,$B316)*IF($A316=Datos!$D$24,$C316,IF($A316=Datos!$D$25,$D316,$E316)),\"-\")","v":"-"}]
[{"$f":"Datos!D456","v":0},{"$f":"Datos!C69","v":""},{"$f":"1/(Datos!$G327*8760)*Datos!$AB327*$F$87","v":{"$error":"#VALUE!"}},{"$f":"Datos!$H327*Datos!$AB327*$F$87","v":{"$error":"#VALUE!"}},{"$f":"Datos!$J327*Datos!$R327*$F$87","v":{"$error":"#VALUE!"}},{"$f":"IFERROR(SUMIFS(Datos!D:D,Datos!$A:$A,$A317,Datos!$C:$C,$B317)*IF($A317=Datos!$D$24,$C317,IF($A317=Datos!$D$25,$D317,$E317)),\"-\")","v":"-"}]
[{"$f":"Datos!D457","v":0},{"$f":"Datos!C70","v":""},{"$f":"1/(Datos!$G328*8760)*Datos!$AB328*$F$87","v":{"$error":"#VALUE!"}},{"$f":"Datos!$H328*Datos!$AB328*$F$87","v":{"$error":"#VALUE!"}},{"$f":"Datos!$J328*Datos!$R328*$F$87","v":{"$error":"#VALUE!"}},{"$f":"IFERROR(SUMIFS(Datos!D:D,Datos!$A:$A,$A318,Datos!$C:$C,$B318)*IF($A318=Datos!$D$24,$C318,IF($A318=Datos!$D$25,$D318,$E318)),\"-\")","v":"-"}]
[null,"Pérdida MT",null,null,null,{"$f":"SUM(F298:F318)*(Balance!F74-1)","v":23.287648313060345}]
[null,"Potencia Máxima MT",null,null,null,{"$f":"SUM(F298:F319)","v":484.79072730422217}]
[]
[null,null,"Coeficientes de responsabilidad (Tipo de medición)",null,null,"Potencia coincidente con máxima AT"]
[null,null,"Energía","Potencia máxima","Potencia por franja horaria"]
[{"$f":"A248","v":"Energia"},{"$f":"Datos!C30","v":"BTS_R"},{"$f":"1/(Datos!$G288*8760)*Datos!$AC288*$F$87","v":1.3337949128190411E-4},{"$f":"Datos!$H288*Datos!$AC288*$F$87","v":0.42338143014109753},{"$f":"Datos!$J288*Datos!$S288*$F$87","v":0.43788094139944228},{"$f":"IFERROR(SUMIFS(Datos!D:D,Datos!$A:$A,$A324,Datos!$C:$C,$B324)*IF($A324=Datos!$D$24,$C324,IF($A324=Datos!$D$25,$D324,$E324)),\"-\")","v":196.75414924734503}]
["Energia",{"$f":"Datos!C31","v":"BTS_O"},{"$f":"1/(Datos!$G289*8760)*Datos!$AC289*$F$87","v":1.2166497581414713E-4},{"$f":"Datos!$H289*Datos!$AC289*$F$87","v":0.35874079924788654},{"$f":"Datos!$J289*Datos!$S289*$F$87","v":0.38911580777483729},{"$f":"IFERROR(SUMIFS(Datos!D:D,Datos!$A:$A,$A325,Datos!$C:$C,$B325)*IF($A325=Datos!$D$24,$C325,IF($A325=Datos!$D$25,$D325,$E325)),\"-\")","v":36.694771758789201}]
["Energia",{"$f":"Datos!C32","v":"BTD"},{"$f":"1/(Datos!$G290*8760)*Datos!$AC290*$F$87","v":1.1091735117699017E-4},{"$f":"Datos!$H290*Datos!$AC290*$F$87","v":0.40194016767681179},{"$f":"Datos!$J290*Datos!$S290*$F$87","v":0.42869121919710829},{"$f":"IFERROR(SUMIFS(Datos!D:D,Datos!$A:$A,$A326,Datos!$C:$C,$B326)*IF($A326=Datos!$D$24,$C326,IF($A326=Datos!$D$25,$D326,$E326)),\"-\")","v":69.929189144251154}]
["Energia",{"$f":"Datos!C33","v":"BTH"},{"$f":"1/(Datos!$G291*8760)*Datos!$AC291*$F$87","v":1.4695972655557547E-4},{"$f":"Datos!$H291*Datos!$AC291*$F$87","v":0.63229848359212537},{"$f":"Datos!$J291*Datos!$S291*$F$87","v":0.64781725862836426},{"$f":"IFERROR(SUMIFS(Datos!D:D,Datos!$A:$A,$A327,Datos!$C:$C,$B327)*IF($A327=Datos!$D$24,$C327,IF($A327=Datos!$D$25,$D327,$E327)),\"-\")","v":1.2827348870860831}]
[0,{"$f":"Datos!C34","v":"ABTD"},{"$f":"1/(Datos!$G292*8760)*Datos!$AC292*$F$87","v":{"$error":"#VALUE!"}},{"$f":"Datos!$H292*Datos!$AC292*$F$87","v":{"$error":"#VALUE!"}},{"$f":"Datos!$J292*Datos!$S292*$F$87","v":{"$error":"#VALUE!"}},{"$f":"IFERROR(SUMIFS(Datos!D:D,Datos!$A:$A,$A328,Datos!$C:$C,$B328)*IF($A328=Datos!$D$24,$C328,IF($A328=Datos!$D$25,$D328,$E328)),\"-\")","v":"-"}]
[0,{"$f":"Datos!C35","v":""},{"$f":"1/(Datos!$G293*8760)*Datos!$AC293*$F$87","v":{"$error":"#VALUE!"}},{"$f":"Datos!$H293*Datos!$AC293*$F$87","v":{"$error":"#VALUE!"}},{"$f":"Datos!$J293*Datos!$S293*$F$87","v":{"$error":"#VALUE!"}},{"$f":"IFERROR(SUMIFS(Datos!D:D,Datos!$A:$A,$A329,Datos!$C:$C,$B329)*IF($A329=Datos!$D$24,$C329,IF($A329=Datos!$D$25,$D329,$E329)),\"-\")","v":"-"}]
[0,{"$f":"Datos!C36","v":""},{"$f":"1/(Datos!$G294*8760)*Datos!$AC294*$F$87","v":{"$error":"#VALUE!"}},{"$f":"Datos!$H294*Datos!$AC294*$F$87","v":{"$error":"#VALUE!"}},{"$f":"Datos!$J294*Datos!$S294*$F$87","v":{"$error":"#VALUE!"}},{"$f":"IFERROR(SUMIFS(Datos!D:D,Datos!$A:$A,$A330,Datos!$C:$C,$B330)*IF($A330=Datos!$D$24,$C330,IF($A330=Datos!$D$25,$D330,$E330)),\"-\")","v":"-"}]
[0,{"$f":"Datos!C37","v":""},{"$f":"1/(Datos!$G295*8760)*Datos!$AC295*$F$87","v":{"$error":"#VALUE!"}},{"$f":"Datos!$H295*Datos!$AC295*$F$87","v":{"$error":"#VALUE!"}},{"$f":"Datos!$J295*Datos!$S295*$F$87","v":{"$error":"#VALUE!"}},{"$f":"IFERROR(SUMIFS(Datos!D:D,Datos!$A:$A,$A331,Datos!$C:$C,$B331)*IF($A331=Datos!$D$24,$C331,IF($A331=Datos!$D$25,$D331,$E331)),\"-\")","v":"-"}]
[0,{"$f":"Datos!C38","v":""},{"$f":"1/(Datos!$G296*8760)*Datos!$AC296*$F$87","v":{"$error":"#VALUE!"}},{"$f":"Datos!$H296*Datos!$AC296*$F$87","v":{"$error":"#VALUE!"}},{"$f":"Datos!$J296*Datos!$S296*$F$87","v":{"$error":"#VALUE!"}},{"$f":"IFERROR(SUMIFS(Datos!D:D,Datos!$A:$A,$A332,Datos!$C:$C,$B332)*IF($A332=Datos!$D$24,$C332,IF($A332=Datos!$D$25,$D332,$E332)),\"-\")","v":"-"}]
[0,{"$f":"Datos!C39","v":""},{"$f":"1/(Datos!$G297*8760)*Datos!$AC297*$F$87","v":{"$error":"#VALUE!"}},{"$f":"Datos!$H297*Datos!$AC297*$F$87","v":{"$error":"#VALUE!"}},{"$f":"Datos!$J297*Datos!$S297*$F$87","v":{"$error":"#VALUE!"}},{"$f":"IFERROR(SUMIFS(Datos!D:D,Datos!$A:$A,$A333,Datos!$C:$C,$B333)*IF($A333=Datos!$D$24,$C333,IF($A333=Datos!$D$25,$D333,$E333)),\"-\")","v":"-"}]
[0,{"$f":"Datos!C40","v":""},{"$f":"1/(Datos!$G298*8760)*Datos!$AC298*$F$87","v":{"$error":"#VALUE!"}},{"$f":"Datos!$H298*Datos!$AC298*$F$87","v":{"$error":"#VALUE!"}},{"$f":"Datos!$J298*Datos!$S298*$F$87","v":{"$error":"#VALUE!"}},{"$f":"IFERROR(SUMIFS(Datos!D:D,Datos!$A:$A,$A334,Datos!$C:$C,$B334)*IF($A334=Datos!$D$24,$C334,IF($A334=Datos!$D$25,$D334,$E334)),\"-\")","v":"-"}]
[0,{"$f":"Datos!C41","v":""},{"$f":"1/(Datos!$G299*8760)*Datos!$AC299*$F$87","v":{"$error":"#VALUE!"}},{"$f":"Datos!$H299*Datos!$AC299*$F$87","v":{"$error":"#VALUE!"}},{"$f":"Datos!$J299*Datos!$S299*$F$87","v":{"$error":"#VALUE!"}},{"$f":"IFERROR(SUMIFS(Datos!D:D,Datos!$A:$A,$A335,Datos!$C:$C,$B335)*IF($A335=Datos!$D$24,$C335,IF($A335=Datos!$D$25,$D335,$E335)),\"-\")","v":"-"}]
[0,{"$f":"Datos!C42","v":""},{"$f":"1/(Datos!$G300*8760)*Datos!$AC300*$F$87","v":{"$error":"#VALUE!"}},{"$f":"Datos!$H300*Datos!$AC300*$F$87","v":{"$error":"#VALUE!"}},{"$f":"Datos!$J300*Datos!$S300*$F$87","v":{"$error":"#VALUE!"}},{"$f":"IFERROR(SUMIFS(Datos!D:D,Datos!$A:$A,$A336,Datos!$C:$C,$B336)*IF($A336=Datos!$D$24,$C336,IF($A336=Datos!$D$25,$D336,$E336)),\"-\")","v":"-"}]
[0,{"$f":"Datos!C43","v":""},{"$f":"1/(Datos!$G301*8760)*Datos!$AC301*$F$87","v":{"$error":"#VALUE!"}},{"$f":"Datos!$H301*Datos!$AC301*$F$87","v":{"$error":"#VALUE!"}},{"$f":"Datos!$J301*Datos!$S301*$F$87","v":{"$error":"#VALUE!"}},{"$f":"IFERROR(SUMIFS(Datos!D:D,Datos!$A:$A,$A337,Datos!$C:$C,$B337)*IF($A337=Datos!$D$24,$C337,IF($A337=Datos!$D$25,$D337,$E337)),\"-\")","v":"-"}]
[0,{"$f":"Datos!C44","v":""},{"$f":"1/(Datos!$G302*8760)*Datos!$AC302*$F$87","v":{"$error":"#VALUE!"}},{"$f":"Datos!$H302*Datos!$AC302*$F$87","v":{"$error":"#VALUE!"}},{"$f":"Datos!$J302*Datos!$S302*$F$87","v":{"$error":"#VALUE!"}},{"$f":"IFERROR(SUMIFS(Datos!D:D,Datos!$A:$A,$A338,Datos!$C:$C,$B338)*IF($A338=Datos!$D$24,$C338,IF($A338=Datos!$D$25,$D338,$E338)),\"-\")","v":"-"}]
[0,{"$f":"Datos!C45","v":""},{"$f":"1/(Datos!$G303*8760)*Datos!$AC303*$F$87","v":{"$error":"#VALUE!"}},{"$f":"Datos!$H303*Datos!$AC303*$F$87","v":{"$error":"#VALUE!"}},{"$f":"Datos!$J303*Datos!$S303*$F$87","v":{"$error":"#VALUE!"}},{"$f":"IFERROR(SUMIFS(Datos!D:D,Datos!$A:$A,$A339,Datos!$C:$C,$B339)*IF($A339=Datos!$D$24,$C339,IF($A339=Datos!$D$25,$D339,$E339)),\"-\")","v":"-"}]
[0,{"$f":"Datos!C46","v":""},{"$f":"1/(Datos!$G304*8760)*Datos!$AC304*$F$87","v":{"$error":"#VALUE!"}},{"$f":"Datos!$H304*Datos!$AC304*$F$87","v":{"$error":"#VALUE!"}},{"$f":"Datos!$J304*Datos!$S304*$F$87","v":{"$error":"#VALUE!"}},{"$f":"IFERROR(SUMIFS(Datos!D:D,Datos!$A:$A,$A340,Datos!$C:$C,$B340)*IF($A340=Datos!$D$24,$C340,IF($A340=Datos!$D$25,$D340,$E340)),\"-\")","v":"-"}]
[0,{"$f":"Datos!C47","v":""},{"$f":"1/(Datos!$G305*8760)*Datos!$AC305*$F$87","v":{"$error":"#VALUE!"}},{"$f":"Datos!$H305*Datos!$AC305*$F$87","v":{"$error":"#VALUE!"}},{"$f":"Datos!$J305*Datos!$S305*$F$87","v":{"$error":"#VALUE!"}},{"$f":"IFERROR(SUMIFS(Datos!D:D,Datos!$A:$A,$A341,Datos!$C:$C,$B341)*IF($A341=Datos!$D$24,$C341,IF($A341=Datos!$D$25,$D341,$E341)),\"-\")","v":"-"}]
[0,{"$f":"Datos!C48","v":""},{"$f":"1/(Datos!$G306*8760)*Datos!$AC306*$F$87","v":{"$error":"#VALUE!"}},{"$f":"Datos!$H306*Datos!$AC306*$F$87","v":{"$error":"#VALUE!"}},{"$f":"Datos!$J306*Datos!$S306*$F$87","v":{"$error":"#VALUE!"}},{"$f":"IFERROR(SUMIFS(Datos!D:D,Datos!$A:$A,$A342,Datos!$C:$C,$B342)*IF($A342=Datos!$D$24,$C342,IF($A342=Datos!$D$25,$D342,$E342)),\"-\")","v":"-"}]
[0,{"$f":"Datos!C49","v":""},{"$f":"1/(Datos!$G307*8760)*Datos!$AC307*$F$87","v":{"$error":"#VALUE!"}},{"$f":"Datos!$H307*Datos!$AC307*$F$87","v":{"$error":"#VALUE!"}},{"$f":"Datos!$J307*Datos!$S307*$F$87","v":{"$error":"#VALUE!"}},{"$f":"IFERROR(SUMIFS(Datos!D:D,Datos!$A:$A,$A343,Datos!$C:$C,$B343)*IF($A343=Datos!$D$24,$C343,IF($A343=Datos!$D$25,$D343,$E343)),\"-\")","v":"-"}]
["Energia",{"$f":"Datos!C50","v":"AP"},{"$f":"1/(Datos!$G308*8760)*Datos!$AC308*$F$87","v":2.2467844357235177E-4},{"$f":"Datos!$H308*Datos!$AC308*$F$87","v":0.98409158284690279},{"$f":"Datos!$J308*Datos!$S308*$F$87","v":0.98409158284690279},{"$f":"IFERROR(SUMIFS(Datos!D:D,Datos!$A:$A,$A344,Datos!$C:$C,$B344)*IF($A344=Datos!$D$24,$C344,IF($A344=Datos!$D$25,$D344,$E344)),\"-\")","v":18.497331120316989}]
[null,"Pérdida NT BT",null,null,null,{"$f":"SUM(F324:F324)*(Balance!F72-1)","v":24.181052337123138},{"$f":"SUM(F324:F344)*(Balance!F72-1)","v":39.716086297205173}]
[null,"Pérdida T BT",null,null,null,{"$f":"SUM(F324:F345)*(Balance!F73-1)","v":7.6991888231556178}]
[null,"Potencia BT coincidente con Máx AT",null,null,null,{"$f":"SUM(F324:F346)","v":355.03841731806722}]
[{"$f":"A299","v":0},{"$f":"Datos!C51","v":""},{"$f":"1/(Datos!$G309*8760)*Datos!$AC309*$F$87","v":{"$error":"#VALUE!"}},{"$f":"Datos!$H309*Datos!$AC309*$F$87","v":{"$error":"#VALUE!"}},{"$f":"Datos!$J309*Datos!$S309*$F$87","v":{"$error":"#VALUE!"}},{"$f":"IFERROR(SUMIFS(Datos!D:D,Datos!$A:$A,$A348,Datos!$C:$C,$B348)*IF($A348=Datos!$D$24,$C348,IF($A348=Datos!$D$25,$D348,$E348)),\"-\")","v":"-"}]
[0,{"$f":"Datos!C52","v":""},{"$f":"1/(Datos!$G310*8760)*Datos!$AC310*$F$87","v":{"$error":"#VALUE!"}},{"$f":"Datos!$H310*Datos!$AC310*$F$87","v":{"$error":"#VALUE!"}},{"$f":"Datos!$J310*Datos!$S310*$F$87","v":{"$error":"#VALUE!"}},{"$f":"IFERROR(SUMIFS(Datos!D:D,Datos!$A:$A,$A349,Datos!$C:$C,$B349)*IF($A349=Datos!$D$24,$C349,IF($A349=Datos!$D$25,$D349,$E349)),\"-\")","v":"-"}]
[0,{"$f":"Datos!C53","v":""},{"$f":"1/(Datos!$G311*8760)*Datos!$AC311*$F$87","v":{"$error":"#VALUE!"}},{"$f":"Datos!$H311*Datos!$AC311*$F$87","v":{"$error":"#VALUE!"}},{"$f":"Datos!$J311*Datos!$S311*$F$87","v":{"$error":"#VALUE!"}},{"$f":"IFERROR(SUMIFS(Datos!D:D,Datos!$A:$A,$A350,Datos!$C:$C,$B350)*IF($A350=Datos!$D$24,$C350,IF($A350=Datos!$D$25,$D350,$E350)),\"-\")","v":"-"}]
[0,{"$f":"Datos!C54","v":""},{"$f":"1/(Datos!$G312*8760)*Datos!$AC312*$F$87","v":{"$error":"#VALUE!"}},{"$f":"Datos!$H312*Datos!$AC312*$F$87","v":{"$error":"#VALUE!"}},{"$f":"Datos!$J312*Datos!$S312*$F$87","v":{"$error":"#VALUE!"}},{"$f":"IFERROR(SUMIFS(Datos!D:D,Datos!$A:$A,$A351,Datos!$C:$C,$B351)*IF($A351=Datos!$D$24,$C351,IF($A351=Datos!$D$25,$D351,$E351)),\"-\")","v":"-"}]
[0,{"$f":"Datos!C55","v":""},{"$f":"1/(Datos!$G313*8760)*Datos!$AC313*$F$87","v":{"$error":"#VALUE!"}},{"$f":"Datos!$H313*Datos!$AC313*$F$87","v":{"$error":"#VALUE!"}},{"$f":"Datos!$J313*Datos!$S313*$F$87","v":{"$error":"#VALUE!"}},{"$f":"IFERROR(SUMIFS(Datos!D:D,Datos!$A:$A,$A352,Datos!$C:$C,$B352)*IF($A352=Datos!$D$24,$C352,IF($A352=Datos!$D$25,$D352,$E352)),\"-\")","v":"-"}]
[0,{"$f":"Datos!C56","v":""},{"$f":"1/(Datos!$G314*8760)*Datos!$AC314*$F$87","v":{"$error":"#VALUE!"}},{"$f":"Datos!$H314*Datos!$AC314*$F$87","v":{"$error":"#VALUE!"}},{"$f":"Datos!$J314*Datos!$S314*$F$87","v":{"$error":"#VALUE!"}},{"$f":"IFERROR(SUMIFS(Datos!D:D,Datos!$A:$A,$A353,Datos!$C:$C,$B353)*IF($A353=Datos!$D$24,$C353,IF($A353=Datos!$D$25,$D353,$E353)),\"-\")","v":"-"}]
["Energia",{"$f":"Datos!C57","v":"MTD"},{"$f":"1/(Datos!$G315*8760)*Datos!$AC315*$F$87","v":1.2006264376726839E-4},{"$f":"Datos!$H315*Datos!$AC315*$F$87","v":0.59477311145047207},{"$f":"Datos!$J315*Datos!$S315*$F$87","v":0.63167277898976848},{"$f":"IFERROR(SUMIFS(Datos!D:D,Datos!$A:$A,$A354,Datos!$C:$C,$B354)*IF($A354=Datos!$D$24,$C354,IF($A354=Datos!$D$25,$D354,$E354)),\"-\")","v":82.929848916642698}]
["Energia",{"$f":"Datos!C58","v":"MTH"},{"$f":"1/(Datos!$G316*8760)*Datos!$AC316*$F$87","v":1.531529441488247E-4},{"$f":"Datos!$H316*Datos!$AC316*$F$87","v":0.8374212808133823},{"$f":"Datos!$J316*Datos!$S316*$F$87","v":0.85912617739879882},{"$f":"IFERROR(SUMIFS(Datos!D:D,Datos!$A:$A,$A355,Datos!$C:$C,$B355)*IF($A355=Datos!$D$24,$C355,IF($A355=Datos!$D$25,$D355,$E355)),\"-\")","v":23.534812756451888}]
[0,{"$f":"Datos!C59","v":"AMTD"},{"$f":"1/(Datos!$G317*8760)*Datos!$AC317*$F$87","v":{"$error":"#VALUE!"}},{"$f":"Datos!$H317*Datos!$AC317*$F$87","v":{"$error":"#VALUE!"}},{"$f":"Datos!$J317*Datos!$S317*$F$87","v":{"$error":"#VALUE!"}},{"$f":"IFERROR(SUMIFS(Datos!D:D,Datos!$A:$A,$A356,Datos!$C:$C,$B356)*IF($A356=Datos!$D$24,$C356,IF($A356=Datos!$D$25,$D356,$E356)),\"-\")","v":"-"}]
[0,{"$f":"Datos!C60","v":""},{"$f":"1/(Datos!$G318*8760)*Datos!$AC318*$F$87","v":{"$error":"#VALUE!"}},{"$f":"Datos!$H318*Datos!$AC318*$F$87","v":{"$error":"#VALUE!"}},{"$f":"Datos!$J318*Datos!$S318*$F$87","v":{"$error":"#VALUE!"}},{"$f":"IFERROR(SUMIFS(Datos!D:D,Datos!$A:$A,$A357,Datos!$C:$C,$B357)*IF($A357=Datos!$D$24,$C357,IF($A357=Datos!$D$25,$D357,$E357)),\"-\")","v":"-"}]
[0,{"$f":"Datos!C61","v":""},{"$f":"1/(Datos!$G319*8760)*Datos!$AC319*$F$87","v":{"$error":"#VALUE!"}},{"$f":"Datos!$H319*Datos!$AC319*$F$87","v":{"$error":"#VALUE!"}},{"$f":"Datos!$J319*Datos!$S319*$F$87","v":{"$error":"#VALUE!"}},{"$f":"IFERROR(SUMIFS(Datos!D:D,Datos!$A:$A,$A358,Datos!$C:$C,$B358)*IF($A358=Datos!$D$24,$C358,IF($A358=Datos!$D$25,$D358,$E358)),\"-\")","v":"-"}]
[0,{"$f":"Datos!C62","v":""},{"$f":"1/(Datos!$G320*8760)*Datos!$AC320*$F$87","v":{"$error":"#VALUE!"}},{"$f":"Datos!$H320*Datos!$AC320*$F$87","v":{"$error":"#VALUE!"}},{"$f":"Datos!$J320*Datos!$S320*$F$87","v":{"$error":"#VALUE!"}},{"$f":"IFERROR(SUMIFS(Datos!D:D,Datos!$A:$A,$A359,Datos!$C:$C,$B359)*IF($A359=Datos!$D$24,$C359,IF($A359=Datos!$D$25,$D359,$E359)),\"-\")","v":"-"}]
[0,{"$f":"Datos!C63","v":""},{"$f":"1/(Datos!$G321*8760)*Datos!$AC321*$F$87","v":{"$error":"#VALUE!"}},{"$f":"Datos!$H321*Datos!$AC321*$F$87","v":{"$error":"#VALUE!"}},{"$f":"Datos!$J321*Datos!$S321*$F$87","v":{"$error":"#VALUE!"}},{"$f":"IFERROR(SUMIFS(Datos!D:D,Datos!$A:$A,$A360,Datos!$C:$C,$B360)*IF($A360=Datos!$D$24,$C360,IF($A360=Datos!$D$25,$D360,$E360)),\"-\")","v":"-"}]
[0,{"$f":"Datos!C64","v":""},{"$f":"1/(Datos!$G322*8760)*Datos!$AC322*$F$87","v":{"$error":"#VALUE!"}},{"$f":"Datos!$H322*Datos!$AC322*$F$87","v":{"$error":"#VALUE!"}},{"$f":"Datos!$J322*Datos!$S322*$F$87","v":{"$error":"#VALUE!"}},{"$f":"IFERROR(SUMIFS(Datos!D:D,Datos!$A:$A,$A361,Datos!$C:$C,$B361)*IF($A361=Datos!$D$24,$C361,IF($A361=Datos!$D$25,$D361,$E361)),\"-\")","v":"-"}]
[0,{"$f":"Datos!C65","v":""},{"$f":"1/(Datos!$G323*8760)*Datos!$AC323*$F$87","v":{"$error":"#VALUE!"}},{"$f":"Datos!$H323*Datos!$AC323*$F$87","v":{"$error":"#VALUE!"}},{"$f":"Datos!$J323*Datos!$S323*$F$87","v":{"$error":"#VALUE!"}},{"$f":"IFERROR(SUMIFS(Datos!D:D,Datos!$A:$A,$A362,Datos!$C:$C,$B362)*IF($A362=Datos!$D$24,$C362,IF($A362=Datos!$D$25,$D362,$E362)),\"-\")","v":"-"}]
[0,{"$f":"Datos!C66","v":""},{"$f":"1/(Datos!$G324*8760)*Datos!$AC324*$F$87","v":{"$error":"#VALUE!"}},{"$f":"Datos!$H324*Datos!$AC324*$F$87","v":{"$error":"#VALUE!"}},{"$f":"Datos!$J324*Datos!$S324*$F$87","v":{"$error":"#VALUE!"}},{"$f":"IFERROR(SUMIFS(Datos!D:D,Datos!$A:$A,$A363,Datos!$C:$C,$B363)*IF($A363=Datos!$D$24,$C363,IF($A363=Datos!$D$25,$D363,$E363)),\"-\")","v":"-"}]
[0,{"$f":"Datos!C67","v":""},{"$f":"1/(Datos!$G325*8760)*Datos!$AC325*$F$87","v":{"$error":"#VALUE!"}},{"$f":"Datos!$H325*Datos!$AC325*$F$87","v":{"$error":"#VALUE!"}},{"$f":"Datos!$J325*Datos!$S325*$F$87","v":{"$error":"#VALUE!"}},{"$f":"IFERROR(SUMIFS(Datos!D:D,Datos!$A:$A,$A364,Datos!$C:$C,$B364)*IF($A364=Datos!$D$24,$C364,IF($A364=Datos!$D$25,$D364,$E364)),\"-\")","v":"-"}]
[0,{"$f":"Datos!C68","v":""},{"$f":"1/(Datos!$G326*8760)*Datos!$AC326*$F$87","v":{"$error":"#VALUE!"}},{"$f":"Datos!$H326*Datos!$AC326*$F$87","v":{"$error":"#VALUE!"}},{"$f":"Datos!$J326*Datos!$S326*$F$87","v":{"$error":"#VALUE!"}},{"$f":"IFERROR(SUMIFS(Datos!D:D,Datos!$A:$A,$A365,Datos!$C:$C,$B365)*IF($A365=Datos!$D$24,$C365,IF($A365=Datos!$D$25,$D365,$E365)),\"-\")","v":"-"}]
[0,{"$f":"Datos!C69","v":""},{"$f":"1/(Datos!$G327*8760)*Datos!$AC327*$F$87","v":{"$error":"#VALUE!"}},{"$f":"Datos!$H327*Datos!$AC327*$F$87","v":{"$error":"#VALUE!"}},{"$f":"Datos!$J327*Datos!$S327*$F$87","v":{"$error":"#VALUE!"}},{"$f":"IFERROR(SUMIFS(Datos!D:D,Datos!$A:$A,$A366,Datos!$C:$C,$B366)*IF($A366=Datos!$D$24,$C366,IF($A366=Datos!$D$25,$D366,$E366)),\"-\")","v":"-"}]
[0,{"$f":"Datos!C70","v":""},{"$f":"1/(Datos!$G328*8760)*Datos!$AC328*$F$87","v":{"$error":"#VALUE!"}},{"$f":"Datos!$H328*Datos!$AC328*$F$87","v":{"$error":"#VALUE!"}},{"$f":"Datos!$J328*Datos!$S328*$F$87","v":{"$error":"#VALUE!"}},{"$f":"IFERROR(SUMIFS(Datos!D:D,Datos!$A:$A,$A367,Datos!$C:$C,$B367)*IF($A367=Datos!$D$24,$C367,IF($A367=Datos!$D$25,$D367,$E367)),\"-\")","v":"-"}]
[null,"Pérdida MT",null,null,null,{"$f":"SUM(F347:F367)*(Balance!F74-1)","v":23.287648313060345}]
[null,"Potencia MT coincidente con Máx AT",null,null,null,{"$f":"SUM(F347:F368)","v":484.79072730422217}]
[{"$f":"Datos!D458","v":0},{"$f":"Datos!C71","v":""},{"$f":"1/(Datos!$G329*8760)*Datos!$AC329*$F$87","v":{"$error":"#VALUE!"}},{"$f":"Datos!$H329*Datos!$AC329*$F$87","v":{"$error":"#VALUE!"}},{"$f":"Datos!$J329*Datos!$S329*$F$87","v":{"$error":"#VALUE!"}},{"$f":"IFERROR(SUMIFS(Datos!D:D,Datos!$A:$A,$A370,Datos!$C:$C,$B370)*IF($A370=Datos!$D$24,$C370,IF($A370=Datos!$D$25,$D370,$E370)),\"-\")","v":"-"}]
[{"$f":"Datos!D459","v":0},{"$f":"Datos!C72","v":""},{"$f":"1/(Datos!$G330*8760)*Datos!$AC330*$F$87","v":{"$error":"#VALUE!"}},{"$f":"Datos!$H330*Datos!$AC330*$F$87","v":{"$error":"#VALUE!"}},{"$f":"Datos!$J330*Datos!$S330*$F$87","v":{"$error":"#VALUE!"}},{"$f":"IFERROR(SUMIFS(Datos!D:D,Datos!$A:$A,$A371,Datos!$C:$C,$B371)*IF($A371=Datos!$D$24,$C371,IF($A371=Datos!$D$25,$D371,$E371)),\"-\")","v":"-"}]
[{"$f":"Datos!D460","v":0},{"$f":"Datos!C73","v":""},{"$f":"1/(Datos!$G331*8760)*Datos!$AC331*$F$87","v":{"$error":"#VALUE!"}},{"$f":"Datos!$H331*Datos!$AC331*$F$87","v":{"$error":"#VALUE!"}},{"$f":"Datos!$J331*Datos!$S331*$F$87","v":{"$error":"#VALUE!"}},{"$f":"IFERROR(SUMIFS(Datos!D:D,Datos!$A:$A,$A372,Datos!$C:$C,$B372)*IF($A372=Datos!$D$24,$C372,IF($A372=Datos!$D$25,$D372,$E372)),\"-\")","v":"-"}]
[{"$f":"Datos!D461","v":0},{"$f":"Datos!C74","v":""},{"$f":"1/(Datos!$G332*8760)*Datos!$AC332*$F$87","v":{"$error":"#VALUE!"}},{"$f":"Datos!$H332*Datos!$AC332*$F$87","v":{"$error":"#VALUE!"}},{"$f":"Datos!$J332*Datos!$S332*$F$87","v":{"$error":"#VALUE!"}},{"$f":"IFERROR(SUMIFS(Datos!D:D,Datos!$A:$A,$A373,Datos!$C:$C,$B373)*IF($A373=Datos!$D$24,$C373,IF($A373=Datos!$D$25,$D373,$E373)),\"-\")","v":"-"}]
[{"$f":"Datos!D462","v":0},{"$f":"Datos!C75","v":""},{"$f":"1/(Datos!$G333*8760)*Datos!$AC333*$F$87","v":{"$error":"#VALUE!"}},{"$f":"Datos!$H333*Datos!$AC333*$F$87","v":{"$error":"#VALUE!"}},{"$f":"Datos!$J333*Datos!$S333*$F$87","v":{"$error":"#VALUE!"}},{"$f":"IFERROR(SUMIFS(Datos!D:D,Datos!$A:$A,$A374,Datos!$C:$C,$B374)*IF($A374=Datos!$D$24,$C374,IF($A374=Datos!$D$25,$D374,$E374)),\"-\")","v":"-"}]
[{"$f":"Datos!D463","v":0},{"$f":"Datos!C76","v":""},{"$f":"1/(Datos!$G334*8760)*Datos!$AC334*$F$87","v":{"$error":"#VALUE!"}},{"$f":"Datos!$H334*Datos!$AC334*$F$87","v":{"$error":"#VALUE!"}},{"$f":"Datos!$J334*Datos!$S334*$F$87","v":{"$error":"#VALUE!"}},{"$f":"IFERROR(SUMIFS(Datos!D:D,Datos!$A:$A,$A375,Datos!$C:$C,$B375)*IF($A375=Datos!$D$24,$C375,IF($A375=Datos!$D$25,$D375,$E375)),\"-\")","v":"-"}]
[{"$f":"Datos!D464","v":0},{"$f":"Datos!C77","v":""},{"$f":"1/(Datos!$G335*8760)*Datos!$AC335*$F$87","v":{"$error":"#VALUE!"}},{"$f":"Datos!$H335*Datos!$AC335*$F$87","v":{"$error":"#VALUE!"}},{"$f":"Datos!$J335*Datos!$S335*$F$87","v":{"$error":"#VALUE!"}},{"$f":"IFERROR(SUMIFS(Datos!D:D,Datos!$A:$A,$A376,Datos!$C:$C,$B376)*IF($A376=Datos!$D$24,$C376,IF($A376=Datos!$D$25,$D376,$E376)),\"-\")","v":"-"}]
[{"$f":"Datos!D465","v":0},{"$f":"Datos!C78","v":""},{"$f":"1/(Datos!$G336*8760)*Datos!$AC336*$F$87","v":{"$error":"#VALUE!"}},{"$f":"Datos!$H336*Datos!$AC336*$F$87","v":{"$error":"#VALUE!"}},{"$f":"Datos!$J336*Datos!$S336*$F$87","v":{"$error":"#VALUE!"}},{"$f":"IFERROR(SUMIFS(Datos!D:D,Datos!$A:$A,$A377,Datos!$C:$C,$B377)*IF($A377=Datos!$D$24,$C377,IF($A377=Datos!$D$25,$D377,$E377)),\"-\")","v":"-"}]
[{"$f":"Datos!D466","v":0},{"$f":"Datos!C79","v":""},{"$f":"1/(Datos!$G337*8760)*Datos!$AC337*$F$87","v":{"$error":"#VALUE!"}},{"$f":"Datos!$H337*Datos!$AC337*$F$87","v":{"$error":"#VALUE!"}},{"$f":"Datos!$J337*Datos!$S337*$F$87","v":{"$error":"#VALUE!"}},{"$f":"IFERROR(SUMIFS(Datos!D:D,Datos!$A:$A,$A378,Datos!$C:$C,$B378)*IF($A378=Datos!$D$24,$C378,IF($A378=Datos!$D$25,$D378,$E378)),\"-\")","v":"-"}]
[{"$f":"Datos!D467","v":0},{"$f":"Datos!C80","v":""},{"$f":"1/(Datos!$G338*8760)*Datos!$AC338*$F$87","v":{"$error":"#VALUE!"}},{"$f":"Datos!$H338*Datos!$AC338*$F$87","v":{"$error":"#VALUE!"}},{"$f":"Datos!$J338*Datos!$S338*$F$87","v":{"$error":"#VALUE!"}},{"$f":"IFERROR(SUMIFS(Datos!D:D,Datos!$A:$A,$A379,Datos!$C:$C,$B379)*IF($A379=Datos!$D$24,$C379,IF($A379=Datos!$D$25,$D379,$E379)),\"-\")","v":"-"}]
[{"$f":"Datos!D468","v":"Energia"},{"$f":"Datos!C81","v":"ATD"},{"$f":"1/(Datos!$G339*8760)*Datos!$AC339*$F$87","v":1.1847397014952747E-4},{"$f":"Datos!$H339*Datos!$AC339*$F$87","v":0.89325383147457738},{"$f":"Datos!$J339*Datos!$S339*$F$87","v":0.89325383147457738},{"$f":"IFERROR(SUMIFS(Datos!D:D,Datos!$A:$A,$A380,Datos!$C:$C,$B380)*IF($A380=Datos!$D$24,$C380,IF($A380=Datos!$D$25,$D380,$E380)),\"-\")","v":9.4170254270504756}]
[{"$f":"Datos!D469","v":"Energia"},{"$f":"Datos!C82","v":"ATH"},{"$f":"1/(Datos!$G340*8760)*Datos!$AC340*$F$87","v":1.1821661143583483E-4},{"$f":"Datos!$H340*Datos!$AC340*$F$87","v":0.88408635958326809},{"$f":"Datos!$J340*Datos!$S340*$F$87","v":0.88757548191358093},{"$f":"IFERROR(SUMIFS(Datos!D:D,Datos!$A:$A,$A381,Datos!$C:$C,$B381)*IF($A381=Datos!$D$24,$C381,IF($A381=Datos!$D$25,$D381,$E381)),\"-\")","v":32.291887150188536}]
[{"$f":"Datos!D470","v":0},{"$f":"Datos!C83","v":""},{"$f":"1/(Datos!$G341*8760)*Datos!$AC341*$F$87","v":{"$error":"#VALUE!"}},{"$f":"Datos!$H341*Datos!$AC341*$F$87","v":{"$error":"#VALUE!"}},{"$f":"Datos!$J341*Datos!$S341*$F$87","v":{"$error":"#VALUE!"}},{"$f":"IFERROR(SUMIFS(Datos!D:D,Datos!$A:$A,$A382,Datos!$C:$C,$B382)*IF($A382=Datos!$D$24,$C382,IF($A382=Datos!$D$25,$D382,$E382)),\"-\")","v":"-"}]
[{"$f":"Datos!D471","v":0},{"$f":"Datos!C84","v":""},{"$f":"1/(Datos!$G342*8760)*Datos!$AC342*$F$87","v":{"$error":"#VALUE!"}},{"$f":"Datos!$H342*Datos!$AC342*$F$87","v":{"$error":"#VALUE!"}},{"$f":"Datos!$J342*Datos!$S342*$F$87","v":{"$error":"#VALUE!"}},{"$f":"IFERROR(SUMIFS(Datos!D:D,Datos!$A:$A,$A383,Datos!$C:$C,$B383)*IF($A383=Datos!$D$24,$C383,IF($A383=Datos!$D$25,$D383,$E383)),\"-\")","v":"-"}]
[{"$f":"Datos!D472","v":"Energia"},{"$f":"Datos!C85","v":"EDEMET"},{"$f":"1/(Datos!$G343*8760)*Datos!$AC343*$F$87","v":1.1154810136194581E-4},{"$f":"Datos!$H343*Datos!$AC343*$F$87","v":0.65265814450739101},{"$f":"Datos!$J343*Datos!$S343*$F$87","v":0.68579028350428806},{"$f":"IFERROR(SUMIFS(Datos!D:D,Datos!$A:$A,$A384,Datos!$C:$C,$B384)*IF($A384=Datos!$D$24,$C384,IF($A384=Datos!$D$25,$D384,$E384)),\"-\")","v":32.096475661169507}]
[{"$f":"Datos!D473","v":0},{"$f":"Datos!C86","v":""},{"$f":"1/(Datos!$G344*8760)*Datos!$AC344*$F$87","v":{"$error":"#VALUE!"}},{"$f":"Datos!$H344*Datos!$AC344*$F$87","v":{"$error":"#VALUE!"}},{"$f":"Datos!$J344*Datos!$S344*$F$87","v":{"$error":"#VALUE!"}},{"$f":"IFERROR(SUMIFS(Datos!D:D,Datos!$A:$A,$A385,Datos!$C:$C,$B385)*IF($A385=Datos!$D$24,$C385,IF($A385=Datos!$D$25,$D385,$E385)),\"-\")","v":"-"}]
[{"$f":"Datos!D474","v":0},{"$f":"Datos!C87","v":""},{"$f":"1/(Datos!$G345*8760)*Datos!$AC345*$F$87","v":{"$error":"#VALUE!"}},{"$f":"Datos!$H345*Datos!$AC345*$F$87","v":{"$error":"#VALUE!"}},{"$f":"Datos!$J345*Datos!$S345*$F$87","v":{"$error":"#VALUE!"}},{"$f":"IFERROR(SUMIFS(Datos!D:D,Datos!$A:$A,$A386,Datos!$C:$C,$B386)*IF($A386=Datos!$D$24,$C386,IF($A386=Datos!$D$25,$D386,$E386)),\"-\")","v":"-"}]
[{"$f":"Datos!D475","v":0},{"$f":"Datos!C88","v":""},{"$f":"1/(Datos!$G346*8760)*Datos!$AC346*$F$87","v":{"$error":"#VALUE!"}},{"$f":"Datos!$H346*Datos!$AC346*$F$87","v":{"$error":"#VALUE!"}},{"$f":"Datos!$J346*Datos!$S346*$F$87","v":{"$error":"#VALUE!"}},{"$f":"IFERROR(SUMIFS(Datos!D:D,Datos!$A:$A,$A387,Datos!$C:$C,$B387)*IF($A387=Datos!$D$24,$C387,IF($A387=Datos!$D$25,$D387,$E387)),\"-\")","v":"-"}]
[{"$f":"Datos!D476","v":0},{"$f":"Datos!C89","v":""},{"$f":"1/(Datos!$G347*8760)*Datos!$AC347*$F$87","v":{"$error":"#VALUE!"}},{"$f":"Datos!$H347*Datos!$AC347*$F$87","v":{"$error":"#VALUE!"}},{"$f":"Datos!$J347*Datos!$S347*$F$87","v":{"$error":"#VALUE!"}},{"$f":"IFERROR(SUMIFS(Datos!D:D,Datos!$A:$A,$A388,Datos!$C:$C,$B388)*IF($A388=Datos!$D$24,$C388,IF($A388=Datos!$D$25,$D388,$E388)),\"-\")","v":"-"}]
[{"$f":"Datos!D477","v":0},{"$f":"Datos!C90","v":""},{"$f":"1/(Datos!$G348*8760)*Datos!$AC348*$F$87","v":{"$error":"#VALUE!"}},{"$f":"Datos!$H348*Datos!$AC348*$F$87","v":{"$error":"#VALUE!"}},{"$f":"Datos!$J348*Datos!$S348*$F$87","v":{"$error":"#VALUE!"}},{"$f":"IFERROR(SUMIFS(Datos!D:D,Datos!$A:$A,$A389,Datos!$C:$C,$B389)*IF($A389=Datos!$D$24,$C389,IF($A389=Datos!$D$25,$D389,$E389)),\"-\")","v":"-"}]
[null,"Pérdida AT",null,null,null,{"$f":"SUM(F369:F389)*(Balance!F75-1)","v":5.0049472792117049}]
[null,"Potencia Máxima AT",null,null,null,{"$f":"SUM(F369:F390)","v":563.60106282184245}]
[null,"Potencia Máxima AT objetivo",null,null,null,{"$f":"Datos!D16","v":563.60106282184233}]
[null,"Diferencia",null,null,null,{"$f":"F391-F392","v":0}]